{"text_format":"1","workbook":"xlsx","n_sheets":7,"sheets":["Toelichting & Leeswijzer","Schema","CSVoutput"," Verbandscontrole","Openstaande punten","Updates","Functielijst"],"not_rendered":{"charts":0,"images":2,"macros":1,"external_links":0,"defined_names":1,"comments":0,"pivot_tables":0},"unopened":[],"bounds":{"document_bytes":16777216,"sheet_cells":100000,"rows_first":2000,"rows_last":500,"rows_between":2000,"halvings":0,"cell_chars":16384,"cell_head_chars":4096},"cells_cut":0,"cells_raw":0,"read":"whole","date_system":"1900"}

{"sheet":"Toelichting & Leeswijzer","index":0,"n_rows":40,"n_cols":4,"rows_kept":40,"cut":false,"hidden":false,"merged":[]}
[null,"                           AFD Definitie"]
[null,"Toelichting"]
[null,"Leest u eerst de Instructie specificatie AFD-definitie voor u gebruik maakt van deze XLSM. U vindt de instructie op https://suiv.nl/instructies-en-templates/"]
[]
[null,"Deze XLS ondersteunt u bij het vaststellen van de specificaties voor de AFD-definitie. Hieronder staat uitgelegd hoe de XLSM is opgebouwd. "]
[]
[null,"De opbouw van deze XLSM"]
[null,"Deze XLSM bestaat uit 5 tabbladen:"]
[null,"1: Toelichting & Leeswijzer"]
[null,null,"U vindt hier in het kort informatie over het gebruik van deze XLSM en verwijzingen naar de Instructie specificatie AFD-definitie. "]
[null,"2: Schema"]
[null,null,"In het tabblad Schema meldt u de meta-gegevens voor de AFD-definitie en legt u de specificaties van de AFD-definitie vast. "]
[null,null,"Zie paragraven 3.1, 4.4 en 5.5 in Instructie specificatie AFD-definitie voor meer informatie. "]
[null,"3: Verbandscontroles"]
[null,null,"In het tabblad Verbandscontrole kunt u validatieregels opnemen. Deze verbandscontroles zorgen voor een snellere en betere kwaliteit van invoer door volmacht. "]
[null,null,"Zie paragraaf 3.2 in Instructie specificatie AFD-definitie voor meer informatie. "]
[null,"4: Openstaande punten"]
[null,null,"De tab Openstaande punten is opgenomen voor ondersteuning in interne communicatie over de specificaties van de AFD-definitie. "]
[null,"5: Updates"]
[null,null,"De tab Updates biedt u de optie om beheer te houden over versies in de geleverde AFD-definities."]
[]
[null,"Omzetten naar CSV voor importeren in de Online Samenstellen Tool"]
[null,"In de Online Samenstellen Tool is het mogelijk de benodigde entiteiten en attributen eenvoudig te importeren middels een CSV bestand. "]
[null,"Met onderstaande werkwijze kan dit XLSM omgezet worden naar een CSV bestand. "]
[null,"Verdere toelichting rond de import functie is te vinden in de documentatie van Online Samenstellen."]
[]
[null,null,"Optie 1: Automatisch (Let op, macro's moeten ingeschakeld zijn)"]
[null,null,"1. Druk op de knop 'CSV bestand'."]
[null,null,null,"(Een CSV bestand wordt automatisch opgeslagen in dezelfde map als dit XLSM.)"]
[null,null,"2. Open het CSV bestand."]
[null,null,"3. Gebruik de Excel functie 'Tekst naar kolommen' en kies de optie 'gescheiden' en selecter 'komma's'. Deze excelfunctie is te vinden onder het tabblad gegevens. "]
[null,null,"4. Het CSV vult automatisch de vijf functiekolommen. Is een functie ongebruikt? Verwijder dat kolom."]
[null,null,"5. Bestand is klaar voor importeren."]
[]
[null,null,"Optie 2: Handmatig (Indien macro's niet mogelijk zijn)"]
[null,null,"1. In dit XLS is een tabblad 'CSVoutput' verborgen. Klik met de rechtermuisknop op een bladwijzer en selecteer 'zichtbaar maken'. Kies vervolgens het tabblad 'CSVoutput'"]
[null,null,"2. Kopieer van tabblad 'CSVoutput' kolom I t/m O en plak de waarden in een nieuw Excel bestand."]
[null,null,"3. Sla dit bestand op als 'door komma gescheiden (* .csv)'."]
[null,null,"4. Is een functie ongebruikt? Verwijder dat kolom."]
[null,null,"5. Bestand is klaar voor importeren."]

{"sheet":"Schema","index":1,"n_rows":694,"n_cols":18,"rows_kept":694,"cut":false,"hidden":false,"merged":[[11,8,11,9]]}
["Inventarisatie noodzakelijke attributen "]
["Verzekeraar:"]
["Branche:"]
["POR maatschappij aanduiding:"]
["AFD Definitie naam:"]
["AFD Definitie versie nummer:"]
["Commerciele productnaam:"]
["Bronnen:"]
["Contactpersoon:"]
["E-mail / Telefoon:"]
["Datum:",null,"24-8-2021",null,null,null,null,null,"Let op: Actuele versie NVGA Protocol"]
[null,null,null,null,null,null,null,null,"NVGA Protocol ",null,"AFD-definitie","AFD-definitie","AFD-definitie","AFD-definitie",null,"AFD-definitie"]
["Entiteit","Attribuut /\n subentiteit","Attribuut/ \nsubentiteit","Attribuut/ \nsubentiteit","Attribuut/ \nsubentiteit","Attribuut","Codelijst","Omschrijving","NVGA Protocol altijd opnemen","NVGA Protocol te beoordelen","premieBerekening_aanroep","premieBerekening_resultaat","Acceptatie_aanroep","Acceptatie_resultaat","Polis\nInformatie","kunnenAanleveren","Toegestane herhaling/ Waardebeperking","Bevindingen"]
["AL",null,null,null,null,null,"","BERICHT ALGEMEEN","V",null,null,null,null,null,null,{"$f":"IF(LEFT(I14,1)=\"X\",\"X\",IF(LEFT(I14,1)=\"V\",\"V\",IF(J14=\"V\",\"V\",IF(K14=\"V\",\"V\",IF(L14=\"V\",\"O\",IF(M14=\"V\",\"O\",IF(N14=\"V\",\"O\",IF(O14=\"V\",\"O\",IF(LEFT(I14,1)=\"O\",\"O\",IF(LEFT(J14,1)=\"O\",\"O\",IF(K14=\"O\",\"O\",IF(L14=\"O\",\"O\",IF(M14=\"O\",\"O\",IF(N14=\"O\",\"O\",IF(O14=\"O\",\"O\",\"LEEG\")))))))))))))))","v":"V"}]
[null,"ADATMSG",null,null,null,null,"","Datum aanmaak bericht","V",null,null,null,null,null,null,{"$f":"IF(LEFT(I15,1)=\"X\",\"X\",IF(LEFT(I15,1)=\"V\",\"V\",IF(J15=\"V\",\"V\",IF(K15=\"V\",\"V\",IF(L15=\"V\",\"O\",IF(M15=\"V\",\"O\",IF(N15=\"V\",\"O\",IF(O15=\"V\",\"O\",IF(LEFT(I15,1)=\"O\",\"O\",IF(LEFT(J15,1)=\"O\",\"O\",IF(K15=\"O\",\"O\",IF(L15=\"O\",\"O\",IF(M15=\"O\",\"O\",IF(N15=\"O\",\"O\",IF(O15=\"O\",\"O\",\"LEEG\")))))))))))))))","v":"V"}]
[null,"APPLNM",null,null,null,null,"","Naam verzendende applicatie","O",null,null,null,null,null,null,"O"]
[null,"APPLVS",null,null,null,null,"","Versie verzendende applicatie","O",null,null,null,null,null,null,"O"]
[null,"CPREF",null,null,null,null,"","Referentie zender","V",null,null,null,null,null,null,"V"]
[null,"DATACAT",null,null,null,null,"ADNAFM","Versie datacatalogus",null,null,null,null,null,null,null,"LEEG"]
[null,"ENTITEI",null,null,null,null,"ADNENT","Entiteitscode",null,null,null,null,null,null,null,"LEEG"]
[null,"FUNCTIE",null,null,null,null,"ADNFUN","Berichtfunctie, code",null,null,null,null,null,null,null,"LEEG"]
[null,"INCLGP",null,null,null,null,"ADNLOG","Inclusief geroyeerde polissen J/N","V",null,null,null,null,null,null,"V"]
[null,"INCLOP",null,null,null,null,"ADNLOG","Inclusief opgeschorte polissen J/N","V",null,null,null,null,null,null,"V"]
[null,"INCLPP",null,null,null,null,"ADNLOG","Inclusief premievrij polissen J/N","V",null,null,null,null,null,null,"V"]
[null,"MNDGP",null,null,null,null,"","Max. aantal mnd. geroyeerde polissen","O",null,null,null,null,null,null,"O"]
[null,"VERSIEV",null,null,null,null,"ADNVER","Versienummer view, code","V",null,null,null,null,null,null,"V"]
[null,"VIEWCOD",null,null,null,null,"ADNVIE","Soort view, code",null,null,null,null,null,null,null,"LEEG"]
[null,"VRWRKCD",null,null,null,null,"ADNVRC","Verwerkingscode entiteit",null,null,null,null,null,null,null,"LEEG"]
["PK",null,null,null,null,null,"","CONTRACT PAKKET","O",null,null,null,null,null,null,"O"]
[null,"NUMMER",null,null,null,null,"","Contractnummer","V",null,null,null,null,null,null,"V"]
["RC",null,null,null,null,null,"","CONTRACT RAAMCONTRACT","O",null,null,null,null,null,null,"O"]
[null,"NUMMER",null,null,null,null,"","Contractnummer","V",null,null,null,null,null,null,"V"]
["PP",null,null,null,null,null,"","CONTRACT POLIS/ONDERDEEL","V",null,null,null,null,null,null,"V"]
[null,"AANTVOC",null,null,null,null,null,"Aantal verzek. objecten op contract",null,null,null,null,null,null,null,"LEEG"]
[null,"ADEFVRS",null,null,null,null,"","AFD definitieversienummer","V",null,null,null,null,null,null,"V"]
[null,"AFDDEFN",null,null,null,null,"","AFD definitienaam","V",null,null,null,null,null,null,"V"]
[null,"BETTERM",null,null,null,null,"","Betaaltermijn in maanden","O",null,null,null,null,null,null,"O"]
[null,"BRANCHE",null,null,null,null,"ADNBRA","ADN branchecode","V",null,null,null,null,null,null,"V"]
[null,"BTP",null,null,null,null,null,"Termijnbedrag bruto premie",null,null,null,null,null,null,null,"LEEG"]
[null,"CDUUMND",null,null,null,null,"","Contractduur in maanden","O",null,null,null,null,null,null,"O"]
[null,"COASSJN",null,null,null,null,"ADNLOG","Polis ond. van verdeling/coass J/N","V",null,null,null,null,null,null,"V"]
[null,"ENDDATC",null,null,null,null,"","Beëindigingsdatum","O",null,null,null,null,null,null,"O"]
[null,"ENTITEI",null,null,null,null,"ADNENT","Entiteitscode",null,null,null,null,null,null,null,"LEEG"]
[null,"EXTERN",null,null,null,null,null,"Extern indicatief",null,null,null,null,null,null,null,"LEEG"]
[null,"FACTORS",null,null,null,null,null,"Rekenfactoren",null,null,null,null,null,null,null,"LEEG"]
[null,"GABRA",null,null,null,null,"","Volmacht branchecode","V",null,null,null,null,null,null,"V"]
[null,"GABRAO",null,null,null,null,"","Volmacht branchecode, omschr.","V",null,null,null,null,null,null,"V"]
[null,"GASBRA",null,null,null,null,"","Volmacht subbranchecode","V",null,null,null,null,null,null,"V"]
[null,"GASBRAO",null,null,null,null,"","Volmacht subbranchecode, omschr.","V",null,null,null,null,null,null,"V"]
[null,"HANDACC",null,null,null,null,"ADNLOG","Handmatige acceptatie J/N",null,null,null,null,null,null,null,"LEEG"]
[null,"HVVDAT",null,null,null,null,"","Hoofdvervaldatum","O",null,null,null,null,null,null,"O"]
[null,"INCWIJZ",null,null,null,null,"ADNINC","Incassowijze, code",null,null,null,null,null,null,null,"LEEG"]
[null,"INDEX",null,null,null,null,"ADNLOG","Geindexeerd J/N",null,null,null,null,null,null,null,"LEEG"]
[null,"INGDAT",null,null,null,null,"","Ingangsdatum","V",null,null,null,null,null,null,"V"]
[null,"INGDTW",null,null,null,null,null,"Ingangsdatum van de wijziging",null,null,null,null,null,null,null,"LEEG"]
[null,"INTKEY",null,null,null,null,"","Interne sleutel","O",null,null,null,null,null,null,"O"]
[null,"LWYZDAT",null,null,null,null,"","Datum laatste wijziging","O",null,null,null,null,null,null,"O"]
[null,"MYAAND",null,null,null,null,"PORMAA","POR Maatschappij aanduiding, code","V",null,null,null,null,null,null,"V"]
[null,"NJP",null,null,null,null,"","Netto jaarpremie","O",null,null,null,null,null,null,"O"]
[null,"NUMMER",null,null,null,null,"","Contractnummer","V",null,null,null,null,null,null,"V"]
[null,"POLPKJN",null,null,null,null,"ADNLOG","Polis onderdeel van een pakket J/N","V",null,null,null,null,null,null,"V"]
[null,"PPRC",null,null,null,null,null,"Percentage prolongatieprovisie",null,null,null,null,null,null,null,"LEEG"]
[null,"PRDTOMZ",null,null,null,null,"ADNLOG","Productomzetting/vervanging J/N",null,null,null,null,null,null,null,"LEEG"]
[null,"PRODUCT",null,null,null,null,null,"Produktcode maatschappij",null,null,null,null,null,null,null,"LEEG"]
[null,"REFNR",null,null,null,null,null,"Referentienummer",null,null,null,null,null,null,"O","O"]
[null,"SPECLIM",null,null,null,null,"ADNLOG","Special limit J/N","V",null,null,null,null,null,null,"V"]
[null,"STATUS",null,null,null,null,"ADNSTS","Status, code","V",null,null,null,null,null,null,"V"]
[null,"STPRV",null,null,null,null,"ADNLOG","Standaard provisie J/N",null,null,null,null,null,null,null,"LEEG"]
[null,"TARDAT",null,null,null,null,null,"Tariefdatum",null,null,null,null,null,null,null,"LEEG"]
[null,"TJRPO",null,null,null,null,"","Tekenjaar pool","O",null,null,null,null,null,null,"O"]
[null,"TJRPP",null,null,null,null,"","Tekenjaar polis","V",null,null,null,null,null,null,"V"]
[null,"TTOT",null,null,null,null,null,"Termijnbedrag totaal",null,null,null,null,null,null,null,{"$f":"IF(LEFT(I72,1)=\"X\",\"X\",IF(LEFT(I72,1)=\"V\",\"V\",IF(J72=\"V\",\"V\",IF(K72=\"V\",\"V\",IF(L72=\"V\",\"O\",IF(M72=\"V\",\"O\",IF(N72=\"V\",\"O\",IF(O72=\"V\",\"O\",IF(LEFT(I72,1)=\"O\",\"O\",IF(LEFT(J72,1)=\"O\",\"O\",IF(K72=\"O\",\"O\",IF(L72=\"O\",\"O\",IF(M72=\"O\",\"O\",IF(N72=\"O\",\"O\",IF(O72=\"O\",\"O\",\"LEEG\")))))))))))))))","v":"LEEG"}]
[null,"VGCODE",null,null,null,null,"","Volmachtgever code","V",null,null,null,null,null,null,"V"]
[null,"VOLGNUM",null,null,null,null,null,"Volgnummer",null,null,null,null,null,null,null,"LEEG"]
[null,"VRWRKCD",null,null,null,null,"ADNVRC","Verwerkingscode entiteit",null,null,null,null,null,null,null,"LEEG"]
[null,"BA",null,null,null,null,null,"OBJECT OPSTAL",null,"O:XO",null,null,null,null,null,"O","maxOccurs 1"]
[null,null,"AANTBE",null,null,null,null,"Aantal bedrijfseenheden",null,null,null,null,null,null,null,"LEEG"]
[null,null,"AANTET",null,null,null,null,"Aantal etages in gebouw",null,null,null,null,null,null,null,"LEEG"]
[null,null,"AANTWNE",null,null,null,null,"Aantal wooneenheden",null,null,null,null,null,null,null,"LEEG"]
[null,null,"AANTZON",null,null,null,null,"Aantal zonnepanelen",null,null,null,null,null,null,null,"LEEG"]
[null,null,"AARDBW",null,null,null,"ADNBMU","Bouwaard muren, code",null,"O:XO",null,null,null,null,null,"O"]
[null,null,"AARDDAK",null,null,null,"ADNBDA","Bouwaard dak, code",null,"O:XO",null,null,null,null,null,"O"]
[null,null,"AARDOBJ",null,null,null,"ADNBMU","Bouwaard object, code",null,"O:XO",null,null,null,null,null,"O"]
[null,null,"AARDVLR",null,null,null,"ADNBVL","Bouwaard (verdiepings)vloeren, code",null,"O:XO",null,null,null,null,null,{"$f":"IF(LEFT(I84,1)=\"X\",\"X\",IF(LEFT(I84,1)=\"V\",\"V\",IF(J84=\"V\",\"V\",IF(K84=\"V\",\"V\",IF(L84=\"V\",\"O\",IF(M84=\"V\",\"O\",IF(N84=\"V\",\"O\",IF(O84=\"V\",\"O\",IF(LEFT(I84,1)=\"O\",\"O\",IF(LEFT(J84,1)=\"O\",\"O\",IF(K84=\"O\",\"O\",IF(L84=\"O\",\"O\",IF(M84=\"O\",\"O\",IF(N84=\"O\",\"O\",IF(O84=\"O\",\"O\",\"LEEG\")))))))))))))))","v":"O"}]
[null,null,"ASBEST",null,null,null,"ADNLOG","Asbest aanwezig J/N",null,null,null,null,null,null,null,"LEEG"]
[null,null,"BDRFBEL",null,null,null,"ADNSBE","Soort belendend gebouw, code",null,null,null,null,null,null,null,"LEEG"]
[null,null,"BESTEMO",null,null,null,null,"Bestemming, omschr",null,"O:XO",null,null,null,null,null,"O"]
[null,null,"BOUWJR",null,null,null,null,"Bouwjaar",null,"O:XO",null,null,null,null,null,"O"]
[null,null,"BRNDBEV",null,null,null,"ADNLOG","Brandbeveiliging aanwezig J/N",null,null,null,null,null,null,null,"LEEG"]
[null,null,"BRNDBLS",null,null,null,"ADNLOG","Schuim-, poederblussers e/o haspels",null,null,null,null,null,null,null,"LEEG"]
[null,null,"BRNDMLD",null,null,null,"ADNLOG","Brandmeldinstallatie aanwezig J/N",null,null,null,null,null,null,null,"LEEG"]
[null,null,"BRNDSPR",null,null,null,"ADNLOG","Sprinklerinstallatie aanwezig J/N",null,null,null,null,null,null,null,"LEEG"]
[null,null,"BTWCD",null,null,null,"ADNIEB","Bedragen zijn incl./excl. BTW, code",null,"O:XO",null,null,null,null,null,"O"]
[null,null,"DATTAX",null,null,null,null,"Datum taxatie",null,null,null,null,null,null,null,"LEEG"]
[null,null,"DKISOL",null,null,null,"ADNBBO","Materiaal dakisolatie, code",null,null,null,null,null,null,null,"LEEG"]
[null,null,"DKPLBW",null,null,null,"ADNLOG","Dakbeplating brandwerend J/N",null,null,null,null,null,null,null,"LEEG"]
[null,null,"DRGCONS",null,null,null,"ADNBMU","Bouwaard dragende constructie, code",null,null,null,null,null,null,null,"LEEG"]
[null,null,"FYCOBEV",null,null,null,"ADNLOG","Fysieke collectieve beveiliging J/N",null,null,null,null,null,null,null,"LEEG"]
[null,null,"GEBOPST",null,null,null,"ADNSBE","Zakelijk gebruik opstal, code",null,null,null,null,null,null,null,"LEEG"]
[null,null,"GVWCENT",null,null,null,"ADNLOG","Gevestigd in winkelcentrum J/N",null,null,null,null,null,null,null,"LEEG"]
[null,null,"HERBVST",null,null,null,"ADNHRB","Vaststelling herbouwwaarde, code",null,null,null,null,null,null,null,"LEEG"]
[null,null,"HORECA",null,null,null,"ADNLOG","Horeca in pand aanwezig J/N",null,null,null,null,null,null,null,"LEEG"]
[null,null,"HOUTVRF",null,null,null,"ADNLOG","Werkplaats houtbew. of verfspuit J/N",null,null,null,null,null,null,null,"LEEG"]
[null,null,"HRBWINC",null,null,null,"ADNLOG","Herbouwwrde inclusief fundering J/N",null,null,null,null,null,null,null,"LEEG"]
[null,null,"HUISNR",null,null,null,null,"Huisnummer","O:XO",null,null,null,null,null,null,"O"]
[null,null,"KELDER",null,null,null,"ADNLOG","Opslag goederen ondergr. ruimten J/N",null,null,null,null,null,null,null,"LEEG"]
[null,null,"KEURMLB",null,null,null,"KLBKLB","Keurmerk leegstandbeheer, code",null,null,null,null,null,null,null,"LEEG"]
[null,null,"KVOJN",null,null,null,"ADNLOG","Keurmerk Veilig Ondernemen (KVO) J/N",null,null,null,null,null,null,null,"LEEG"]
[null,null,"LAND",null,null,null,"ISOLAN","Land, code",null,null,null,null,null,null,null,"LEEG"]
[null,null,"LEEGPER",null,null,null,"ADNDGC","Verwachte periode leegstand, code",null,null,null,null,null,null,null,"LEEG"]
[null,null,"LEEGSTA",null,null,null,"ADNLOG","Leegstand/onbewoond J/N",null,null,null,null,null,null,null,"LEEG"]
[null,null,"OBJSPL",null,null,null,"ADNLOG","Gebouw gedeeld J/N",null,null,null,null,null,null,null,"LEEG"]
[null,null,"ONDELEK",null,null,null,"ADNLOG","Ondh.contr.elektr.techn.insp.bdr.J/N",null,null,null,null,null,null,null,"LEEG"]
[null,null,"ONDHDAK",null,null,null,"ADNLOG","Onderhoudscontract dak J/N",null,null,null,null,null,null,null,"LEEG"]
[null,null,"ONDHGAS",null,null,null,"ADNLOG","Onderhoudscontract gas J/N",null,null,null,null,null,null,null,"LEEG"]
[null,null,"ONDSTT",null,null,null,null,"Toel. staat van onderhoud",null,"O:XO",null,null,null,null,null,"O"]
[null,null,"PCEHOVG",null,null,null,null,"Percentage eenh. overig",null,null,null,null,null,null,null,"LEEG"]
[null,null,"PCODE",null,null,null,null,"Postcode","O:XO",null,null,null,null,null,null,"O"]
[null,null,"PERMBEW",null,null,null,"ADNLOG","Permanent bewoond J/N",null,null,null,null,null,null,null,"LEEG"]
[null,null,"PRCHOUT",null,null,null,null,"Percentage hout",null,null,null,null,null,null,null,"LEEG"]
[null,null,"RISKLSI",null,null,null,"ADNMSR","Risicoklasse inbraak, code",null,null,null,null,null,null,null,"LEEG"]
[null,null,"RTRJN",null,null,null,"ADNLOG","Op beveiligd terrein (RTR) J/N",null,null,null,null,null,null,null,"LEEG"]
[null,null,"SLOOP",null,null,null,"ADNLOG","Slooppand J/N",null,null,null,null,null,null,null,"LEEG"]
[null,null,"SPRGRAD",null,null,null,"ADNSPG","Sprinkler gradatie",null,null,null,null,null,null,null,"LEEG"]
[null,null,"SRTISO",null,null,null,"ADNBBO","Soort isolatiemateriaal, code",null,null,null,null,null,null,null,"LEEG"]
[null,null,"SRTRDAK",null,null,null,"ADNSRD","Soort rieten dak, code",null,null,null,null,null,null,null,"LEEG"]
[null,null,"STALL",null,null,null,"ADNLOG","Stalling J/N",null,null,null,null,null,null,null,"LEEG"]
[null,null,"STRAAT",null,null,null,null,"Straat",null,null,null,null,null,null,null,"LEEG"]
[null,null,"TOEGEBR",null,null,null,null,"Gebruik, toelichting",null,"O:XO",null,null,null,null,null,"O"]
[null,null,"TOEVOEG",null,null,null,null,"Huisnummertoevoeging","O:XO",null,null,null,null,null,null,"O"]
[null,null,"TYPEPND",null,null,null,"ADNTPE","Soort bedrijfspand, code",null,null,null,null,null,null,null,"LEEG"]
[null,null,"VERHUUR",null,null,null,"ADNVRH","Soort woningverhuur, code",null,null,null,null,null,null,null,"LEEG"]
[null,null,"VERWARM",null,null,null,"ADNSVW","Soort verwarming, code",null,null,null,null,null,null,null,"LEEG"]
[null,null,"VOLGNUM",null,null,null,null,"Volgnummer","O:XO",null,null,null,null,null,null,"O"]
[null,null,"VRWRKCD",null,null,null,"ADNVRC","Verwerkingscode entiteit",null,null,null,null,null,null,null,"LEEG"]
[null,null,"WONING",null,null,null,"ADNWON","Gebruik pand, code",null,null,null,null,null,null,null,"LEEG"]
[null,null,"WOONOMG",null,null,null,"ADNWOG","Woon-/Vestigingsomgeving, code",null,null,null,null,null,null,null,"LEEG"]
[null,"GL",null,null,null,null,null,"OBJECT GLAS",null,"O:XO",null,null,null,null,null,"O","maxOccurs 1"]
[null,null,"AANTBWR",null,null,null,null,"Aantal gebogen/bewerkte ruiten",null,null,null,null,null,null,null,"LEEG"]
[null,null,"AANTGRD",null,null,null,null,"Aantal ruiten dubbel glas",null,null,null,null,null,null,null,"LEEG"]
[null,null,"AANTGRE",null,null,null,null,"Aantal ruiten enkel glas",null,null,null,null,null,null,null,"LEEG"]
[null,null,"AANTHGD",null,null,null,null,"Aantal hardglazen deuren",null,null,null,null,null,null,null,"LEEG"]
[null,null,"AANTRUI",null,null,null,null,"Aantal ruiten",null,null,null,null,null,null,null,"LEEG"]
[null,null,"AANTVIT",null,null,null,null,"Aantal vitrines",null,null,null,null,null,null,null,"LEEG"]
[null,null,"AANTWBT",null,null,null,null,"Aantal windscherm/balkon/terr.afsch.",null,null,null,null,null,null,null,"LEEG"]
[null,null,"VOLGNUM",null,null,null,null,"Volgnummer","O:XO",null,null,null,null,null,null,"O"]
[null,null,"VRWRKCD",null,null,null,"ADNVRC","Verwerkingscode entiteit",null,null,null,null,null,null,null,"LEEG"]
[null,null,"WINDSCH",null,null,null,"ADNLOG","Glas in windschermen J/N",null,null,null,null,null,null,null,{"$f":"IF(LEFT(I148,1)=\"X\",\"X\",IF(LEFT(I148,1)=\"V\",\"V\",IF(J148=\"V\",\"V\",IF(K148=\"V\",\"V\",IF(L148=\"V\",\"O\",IF(M148=\"V\",\"O\",IF(N148=\"V\",\"O\",IF(O148=\"V\",\"O\",IF(LEFT(I148,1)=\"O\",\"O\",IF(LEFT(J148,1)=\"O\",\"O\",IF(K148=\"O\",\"O\",IF(L148=\"O\",\"O\",IF(M148=\"O\",\"O\",IF(N148=\"O\",\"O\",IF(O148=\"O\",\"O\",\"LEEG\")))))))))))))))","v":"LEEG"}]
[null,"MU",null,null,null,null,null,"OBJECT MILIEURISICO",null,"O:XO",null,null,null,null,null,"O","maxOccurs 1"]
[null,null,"ASBM2",null,null,null,null,"Opp. aanwezige asbest in M2",null,null,null,null,null,null,null,"LEEG"]
[null,null,"GEVEMB",null,null,null,null,"Max.opslag gev.stoff. emball. kg/ltr",null,null,null,null,null,null,null,"LEEG"]
[null,null,"HSTOFGV",null,null,null,null,"Gev. stoffen in lit. p. jr in tanks",null,null,null,null,null,null,null,"LEEG"]
[null,null,"LOCINGE",null,null,null,"ADNLOG","Locatie in gebruik J/N?",null,null,null,null,null,null,null,"LEEG"]
[null,null,"VOLGNUM",null,null,null,null,"Volgnummer","O:XO",null,null,null,null,null,null,"O"]
[null,null,"VRWRKCD",null,null,null,"ADNVRC","Verwerkingscode entiteit",null,null,null,null,null,null,null,"LEEG"]
[null,"OZ",null,null,null,null,null,"OBJECT OVERIG ZAKELIJK",null,"O:XO",null,null,null,null,null,"O","maxOccurs 1"]
[null,null,"DAGWRDE",null,null,null,null,"Bedrag dagwaarde",null,"O:XO",null,null,null,null,null,"O"]
[null,null,"ONDSTT",null,null,null,null,"Toel. staat van onderhoud",null,"O:XO",null,null,null,null,null,"O"]
[null,null,"SRTWCEN",null,null,null,"ADNWCE","Soort winkelcentrum, code",null,null,null,null,null,null,null,"LEEG"]
[null,null,"VOLGNUM",null,null,null,null,"Volgnummer","O:XO",null,null,null,null,null,null,"O"]
[null,null,"VRWRKCD",null,null,null,"ADNVRC","Verwerkingscode entiteit",null,null,null,null,null,null,null,"LEEG"]
[null,"VC",null,null,null,null,null,"OBJECT VVE-COMPLEX",null,null,null,null,null,null,"O","O","maxOccurs 1"]
[null,null,"AANTAOC",null,null,null,null,"Aantal adresseerb. obj. w/g-complex",null,null,null,null,null,null,"V","O"]
[null,null,"AANTBDC",null,null,null,null,"Aantal bedrijfsm. obj. w/g-complex",null,null,null,null,null,null,null,"LEEG"]
[null,null,"AANTEGB",null,null,null,null,"Aantal externe gebouwen w/g-complex",null,null,null,null,null,null,null,"LEEG"]
[null,null,"AANTGWI",null,null,null,null,"Aantal glazenwasinstallaties",null,null,null,null,null,null,null,"LEEG"]
[null,null,"AANTLFT",null,null,null,null,"Aantal liften",null,null,null,null,null,null,null,"LEEG"]
[null,null,"AANTPNC",null,null,null,null,"Aantal panden w/g-complex",null,null,null,null,null,null,null,"LEEG"]
[null,null,"AANTTRH",null,null,null,null,"Aantal trappenhuizen",null,null,null,null,null,null,null,"LEEG"]
[null,null,"AANTVAC",null,null,null,null,"Aantal verzek. adressen w/g-complex",null,null,null,null,null,null,"V","O"]
[null,null,"AANTVVE",null,null,null,null,"Aantal ver. van eigenaren (VVE)",null,null,null,null,null,null,null,"LEEG"]
[null,null,"AANTWC",null,null,null,null,"Aantal woningen w/g-complex",null,null,null,null,null,null,null,"LEEG"]
[null,null,"AANTZON",null,null,null,null,"Aantal zonnepanelen",null,null,null,null,null,null,null,"LEEG"]
[null,null,"ASBEST",null,null,null,"ADNLOG","Asbest aanwezig J/N",null,null,null,null,null,null,null,"LEEG"]
[null,null,"BRNDZKN",null,null,null,"ADNLOG","Brandgevaarlijke zaken inpandig J/N",null,null,null,null,null,null,null,"LEEG"]
[null,null,"EKLVVEC",null,null,null,"ADNEKW","Energielabel VvE-complex",null,null,null,null,null,null,null,"LEEG"]
[null,null,"ENTITEI",null,null,null,"ADNENT","Entiteitscode",null,null,null,null,null,null,null,"LEEG"]
[null,null,"ENTREF",null,null,null,null,"Entiteitsreferentie",null,null,null,null,null,null,null,"LEEG"]
[null,null,"HELLING",null,null,null,"ADNLOG","Helingbaan aanwezig J/N",null,null,null,null,null,null,null,"LEEG"]
[null,null,"INDHWWG",null,null,null,null,"Indicatie hrbw. woon/gebouwencomplex",null,null,null,null,null,null,null,"LEEG"]
[null,null,"INPBERG",null,null,null,null,"Aantal inpandige bergingen",null,null,null,null,null,null,null,"LEEG"]
[null,null,"INPPKPL",null,null,null,null,"Aantal inpandige parkeerplaatsen",null,null,null,null,null,null,null,"LEEG"]
[null,null,"MONAAND",null,null,null,"ADNLOG","Monumentaanduiding J/N",null,null,null,null,null,null,null,"LEEG"]
[null,null,"MUTKENV",null,null,null,null,"Mutatiekenmerk VvE",null,null,null,null,null,null,null,"LEEG"]
[null,null,"NOODTRP",null,null,null,"ADNLOG","Noodtrap aanwezig J/N",null,null,null,null,null,null,null,"LEEG"]
[null,null,"ONDPKPL",null,null,null,"ADNLOG","Ondergrondse parkeerplaatsen J/N",null,null,null,null,null,null,null,"LEEG"]
[null,null,"OPBZVVE",null,null,null,null,"Opbrengst zonnepanelen in kWh",null,null,null,null,null,null,null,"LEEG"]
[null,null,"SRTVVE",null,null,null,"ADNSVE","Soort Vereniging van Eigenaren, code",null,null,null,null,null,null,null,"LEEG"]
[null,null,"VOLGNUM",null,null,null,null,"Volgnummer","O:XO",null,null,null,null,null,null,"O"]
[null,null,"VRWRKCD",null,null,null,null,"Verwerkingscode entiteit",null,null,null,null,null,null,null,"LEEG"]
[null,null,"VVEADRS",null,null,null,null,"VVE adressen, omschr.",null,null,null,null,null,null,"O","O"]
[null,null,"VVECTOE",null,null,null,null,"VvE-complex toelichting",null,null,null,null,null,null,null,"LEEG"]
[null,null,"ZONNPAN",null,null,null,"ADNLOG","Zonnepanelen aanwezig J/N",null,null,null,null,null,null,null,"LEEG"]
[null,null,"BA",null,null,null,null,"OBJECT OPSTAL",null,"O:XO",null,null,null,null,null,"O","maxOccurs 1"]
[null,null,null,"AARDBW",null,null,"ADNBMU","Bouwaard muren, code",null,"O:XO",null,null,null,null,null,"O"]
[null,null,null,"AARDDAK",null,null,"ADNBDA","Bouwaard dak, code",null,"O:XO",null,null,null,null,null,"O"]
[null,null,null,"AARDOBJ",null,null,"ADNBMU","Bouwaard object, code",null,"O:XO",null,null,null,null,null,"O"]
[null,null,null,"AARDVLR",null,null,"ADNBVL","Bouwaard (verdiepings)vloeren, code",null,"O:XO",null,null,null,null,null,"O"]
[null,null,null,"BESTEMO",null,null,null,"Bestemming, omschr",null,"O:XO",null,null,null,null,null,"O"]
[null,null,null,"BOUWJR",null,null,null,"Bouwjaar",null,"O:XO",null,null,null,null,null,"O"]
[null,null,null,"BDRVVEL",null,null,null,"Bedrag V.V.E. lidmaatschap per maand",null,null,null,null,null,null,null,"LEEG"]
[null,null,null,"BTWCD",null,null,"ADNIEB","Bedragen zijn incl./excl. BTW, code",null,"O:XO",null,null,null,null,null,"O"]
[null,null,null,"EIGBELT",null,null,null,"Eigenaarsbelang, toelichting",null,null,null,null,null,null,null,"LEEG"]
[null,null,null,"ENTITEI",null,null,"ADNENT","Entiteitscode",null,null,null,null,null,null,null,"LEEG"]
[null,null,null,"EKLVVEO",null,null,null,"Energielabel VvE-object",null,null,null,null,null,null,null,"LEEG"]
[null,null,null,"GBRFVBO",null,null,"ADNOST","Gebruiksfunctie VBO, code",null,null,null,null,null,null,"O","O"]
[null,null,null,"HNRTM",null,null,null,"Huisnummer van/tm omschrijving",null,null,null,null,null,null,null,"LEEG"]
[null,null,null,"HUISEIG",null,null,"ADNLOG","Aktieve ver. van huiseigenaren J/N",null,null,null,null,null,null,null,"LEEG"]
[null,null,null,"HUISNR",null,null,null,"Huisnummer","O:XO",null,null,null,null,null,"V","O"]
[null,null,null,"ONDSTT",null,null,null,"Toel. staat van onderhoud",null,"O:XO",null,null,null,null,null,"O"]
[null,null,null,"PCODE",null,null,null,"Postcode","O:XO",null,null,null,null,null,"V","O"]
[null,null,null,"PLAATS",null,null,null,"Plaats",null,null,null,null,null,null,"V","O"]
[null,null,null,"STRAAT",null,null,null,"Straat",null,null,null,null,null,null,"V","O"]
[null,null,null,"TLT",null,null,null,"Toelichting",null,null,null,null,null,null,null,"LEEG"]
[null,null,null,"TOEGEBR",null,null,null,"Gebruik, toelichting",null,"O:XO",null,null,null,null,null,"O"]
[null,null,null,"TOEVOEG",null,null,null,"Huisnummertoevoeging","O:XO",null,null,null,null,null,"O","O"]
[null,null,null,"VBOID",null,null,null,"Verblijfsobject identificatie nummer",null,null,null,null,null,null,"V","O"]
[null,null,null,"VOLGNUM",null,null,null,"Volgnummer","O:XO",null,null,null,null,null,null,"O"]
[null,null,null,"VRWRKCD",null,null,null,"Verwerkingscode entiteit",null,null,null,null,null,null,null,"LEEG"]
[null,null,null,"VVEAANW",null,null,"ADNLOG","Vereniging v. eigenaren aanwezig J/N",null,null,null,null,null,null,null,"LEEG"]
[null,null,null,"OP",null,null,null,"DEKKING OPSTAL",null,"O:XD",null,null,null,null,null,"O","maxOccurs 1"]
[null,null,null,null,"BAFWST",null,null,"Bedrag afwijk. op standaard tarief",null,"O:XD",null,null,null,null,null,"O"]
[null,null,null,null,"BTP",null,null,"Termijbedrag bruto premie",null,null,null,null,null,null,null,"LEEG"]
[null,null,null,null,"CODE",null,null,"Dekkingscode","O:XD",null,null,null,null,null,null,"O"]
[null,null,null,null,"ENTITEI",null,null,"Entiteitscode",null,null,null,null,null,null,null,"LEEG"]
[null,null,null,null,"GADEKCD",null,null,"Volmacht dekkingscode","V:XD",null,null,null,null,null,null,"V"]
[null,null,null,null,"GADEKCO",null,null,"Volmacht dekkingscode omschr. ","V:XD",null,null,null,null,null,null,"V"]
[null,null,null,null,"HUURBEL",null,null,"Verz. bedrag huurdersbelang",null,null,null,null,null,null,null,"LEEG"]
[null,null,null,null,"MVZGLAS",null,null,"Mvz. Glas J/N",null,null,null,null,null,null,null,"LEEG"]
[null,null,null,null,"NJP",null,null,"Netto jaarpremie","O:XD",null,null,null,null,null,null,"O"]
[null,null,null,null,"PAFWST",null,null,"Percentage afw. op standaard tarief","O:XD",null,null,null,null,null,null,"O"]
[null,null,null,null,"PRCTEKC",null,null,"Percentage Volmachtbeloning","O:XD",null,null,null,null,null,null,"O"]
[null,null,null,null,"PRMPROM",null,null,"Premiepromillage",null,"O:XD",null,null,null,null,null,"O"]
[null,null,null,null,"RELVRH",null,"ADNENT","Relatie verhouding tot, code","O:XD",null,null,null,null,null,null,"O"]
[null,null,null,null,"RELVVNR",null,null,"Relatie verhouding tot, volgnummer","O:XD",null,null,null,null,null,null,"O"]
[null,null,null,null,"RJRCOR",null,null,"Resterende jaren voor correctie","O:XD",null,null,null,null,null,null,"O"]
[null,null,null,null,"TCORBDR",null,null,"Toegepast correctiebedrag","O:XD",null,null,null,null,null,null,"O"]
[null,null,null,null,"VERZSOM",null,null,"Verzekerde som",null,"O:XD",null,null,null,null,null,"O"]
[null,null,null,null,"VGBRA",null,null,"Volmachtgever branchecode","O:XD",null,null,null,null,null,null,"O"]
[null,null,null,null,"VOLGNUM",null,null,"Volgnummer",null,null,null,null,null,null,null,"LEEG"]
[null,null,null,null,"VRWRKCD",null,null,"Verwerkingscode entiteit",null,null,null,null,null,null,null,"LEEG"]
[null,null,null,null,"WPREMBP",null,"ADNPBP","Wijze premieberekening prol., code","O:XD",null,null,null,null,null,null,"O"]
[null,null,null,null,"MP",null,null,"POOLAANDEEL","O",null,null,null,null,null,null,"O"]
[null,null,null,null,null,"MYAAND","PORMAA","POR Maatschappij aanduiding, code","O",null,null,null,null,null,null,"O"]
[null,null,null,null,null,"POOLNUM",null,"Poolnummer","V",null,null,null,null,null,null,"V"]
[null,null,null,null,null,"PLLEAD","ADNLOG","Poolleader J/N","O",null,null,null,null,null,null,"O"]
[null,null,null,null,null,"POOLPRC",null,"Percentage poolaandeel","V",null,null,null,null,null,null,"V"]
[null,null,"OP",null,null,null,null,"DEKKING OPSTAL",null,"O:XD",null,null,null,null,null,"O","maxOccurs 1"]
[null,null,null,"APPAV",null,null,"ADNLOG","Alleen aang. veranderingen verz. J/N",null,null,null,null,null,null,null,"LEEG"]
[null,null,null,"BAFWST",null,null,null,"Bedrag afwijk. op standaard tarief","O:XD",null,null,null,null,null,null,"O"]
[null,null,null,"BTP",null,null,null,"Termijnbedrag bruto premie",null,null,null,null,null,null,null,"LEEG"]
[null,null,null,"CODE",null,null,"ADNDEK","Dekkingscode","O:XD",null,null,null,null,null,null,"O"]
[null,null,null,"ENTITEI",null,null,"ADNENT","Entiteitscode",null,null,null,null,null,null,null,"LEEG"]
[null,null,null,"ERB",null,null,null,"Bedrag eigen risico",null,"O:XD",null,null,null,null,null,"O"]
[null,null,null,"GADEKCD",null,null,null,"Volmacht dekkingscode","V:XD",null,null,null,null,null,null,"V"]
[null,null,null,"GADEKCO",null,null,null,"Volmacht dekkingscode, omschr.","V:XD",null,null,null,null,null,null,"V"]
[null,null,null,"HUURBEL",null,null,null,"Verz. bedrag huurdersbelang",null,null,null,null,null,null,null,"LEEG"]
[null,null,null,"MVZGLAS",null,null,"ADNLOG","Mvz. glas J/N",null,null,null,null,null,null,null,"LEEG"]
[null,null,null,"MYCODE",null,null,"ADNMCD","Dekkingscode maatschappij, code",null,"O:XD",null,null,null,null,null,"O"]
[null,null,null,"NJP",null,null,null,"Netto jaarpremie","O:XD",null,null,null,null,null,null,"O"]
[null,null,null,"PAFWST",null,null,null,"Percentage afw. op standaard tarief","O:XD",null,null,null,null,null,null,"O"]
[null,null,null,"PPRC",null,null,null,"Percentage prolongatieprovisie","O:XD",null,null,null,null,null,null,"O"]
[null,null,null,"PRCTEKC",null,null,null,"Percentage Volmachtbeloning","O:XD",null,null,null,null,null,null,"O"]
[null,null,null,"PRMPROM",null,null,null,"Premiepromillage",null,"O:XD",null,null,null,null,null,"O"]
[null,null,null,"RELVRH",null,null,"ADNENT","Relatie verhouding tot, code","O:XD",null,null,null,null,null,null,"O"]
[null,null,null,"RELVVNR",null,null,null,"Relatie verhouding tot, volgnummer","O:XD",null,null,null,null,null,null,"O"]
[null,null,null,"RJRCOR",null,null,null,"Resterende jaren voor correctie","O:XD",null,null,null,null,null,null,"O"]
[null,null,null,"TCORBDR",null,null,null,"Toegepast correctiebedrag","O:XD",null,null,null,null,null,null,"O"]
[null,null,null,"TTOT",null,null,null,"Termijbedrag totaal",null,null,null,null,null,null,null,"LEEG"]
[null,null,null,"VERZSOM",null,null,null,"Verzekerde som",null,"O:XD",null,null,null,null,null,"O"]
[null,null,null,"VGBRA",null,null,null,"Volmachtgever branchecode","O:XD",null,null,null,null,null,null,"O"]
[null,null,null,"VOLGNUM",null,null,null,"Volgnummer",null,null,null,null,null,null,null,"LEEG"]
[null,null,null,"VRWRKCD",null,null,"ADNVRC","Verwerkingscode entiteit",null,null,null,null,null,null,null,"LEEG"]
[null,null,null,"WPREMBP",null,null,"ADNPBP","Wijze premieberekening prol., code","O:XD",null,null,null,null,null,null,"O"]
[null,null,null,"MP",null,null,null,"POOLAANDEEL","O",null,null,null,null,null,null,"O"]
[null,null,null,null,"MYAAND",null,"PORMAA","POR Maatschappij aanduiding, code","O",null,null,null,null,null,null,"O"]
[null,null,null,null,"POOLNUM",null,null,"Poolnummer","V",null,null,null,null,null,null,"V"]
[null,null,null,null,"PLLEAD",null,"ADNLOG","Poolleader J/N","O",null,null,null,null,null,null,"O"]
[null,null,null,null,"POOLPRC",null,null,"Percentage poolaandeel","V",null,null,null,null,null,null,"V"]
[null,"FV",null,null,null,null,null,"DEKKING RB FISCAAL & VERMOGEN",null,null,null,null,null,null,null,"LEEG","maxOccurs 1"]
[null,null,"BAFWST",null,null,null,null,"Bedrag afwijk. op standaard tarief","O:XD",null,null,null,null,null,null,"O"]
[null,null,"BTP",null,null,null,null,"Termijnbedrag bruto premie",null,null,null,null,null,null,null,"LEEG"]
[null,null,"CODE",null,null,null,"ADNDEK","Dekkingscode","O:XD",null,null,null,null,null,null,"O"]
[null,null,"COLFACT",null,null,null,null,"Perc. collectiviteitfactor","O:XD_PRCCOLK",null,null,null,null,null,null,"O"]
[null,null,"ERB",null,null,null,null,"Bedrag eigen risico",null,"O:XD",null,null,null,null,null,"O"]
[null,null,"GADEKCD",null,null,null,null,"Volmacht dekkingscode","V:XD",null,null,null,null,null,null,"V"]
[null,null,"GADEKCO",null,null,null,null,"Volmacht dekkingscode, omschr.","V:XD",null,null,null,null,null,null,"V"]
[null,null,"MYCODE",null,null,null,"ADNMCD","Dekkingscode maatschappij, code",null,"O:XD",null,null,null,null,null,"O"]
[null,null,"NJP",null,null,null,null,"Netto jaarpremie","O:XD",null,null,null,null,null,null,"O"]
[null,null,"PAFWST",null,null,null,null,"Percentage afw. op standaard tarief","O:XD",null,null,null,null,null,null,"O"]
[null,null,"PPRC",null,null,null,null,"Percentage prolongatieprovisie","O:XD",null,null,null,null,null,null,"O"]
[null,null,"PRCPKKT",null,null,null,null,"Percentage pakketkorting","O:XD",null,null,null,null,null,null,"O"]
[null,null,"PRCTEKC",null,null,null,null,"Percentage Volmachtbeloning","O:XD",null,null,null,null,null,null,"O"]
[null,null,"RELVRH",null,null,null,"ADNENT","Relatie verhouding tot, code","O:XD",null,null,null,null,null,null,"O"]
[null,null,"RELVVNR",null,null,null,null,"Relatie verhouding tot, volgnummer","O:XD",null,null,null,null,null,null,"O"]
[null,null,"RJRCOR",null,null,null,null,"Resterende jaren voor correctie","O:XD",null,null,null,null,null,null,"O"]
[null,null,"TCORBDR",null,null,null,null,"Toegepast correctiebedrag","O:XD",null,null,null,null,null,null,"O"]
[null,null,"VERZSOM",null,null,null,null,"Verzekerde som",null,"O:XD",null,null,null,null,null,"O"]
[null,null,"VGBRA",null,null,null,null,"Volmachtgever branchecode","O:XD",null,null,null,null,null,null,"O"]
[null,null,"VOLGNUM",null,null,null,null,"Volgnummer",null,null,null,null,null,null,null,"LEEG"]
[null,null,"VRWRKCD",null,null,null,"ADNVRC","Verwerkingscode entiteit",null,null,null,null,null,null,null,"LEEG"]
[null,null,"WPREMBP",null,null,null,"ADNPBP","Wijze premieberekening prol., code","O:XD",null,null,null,null,null,null,"O"]
[null,null,"MP",null,null,null,null,"POOLAANDEEL","O",null,null,null,null,null,null,"O"]
[null,null,null,"MYAAND",null,null,"PORMAA","POR Maatschappij aanduiding, code","O",null,null,null,null,null,null,"O"]
[null,null,null,"POOLNUM",null,null,null,"Poolnummer","V",null,null,null,null,null,null,"V"]
[null,null,null,"PLLEAD",null,null,"ADNLOG","Poolleader J/N","O",null,null,null,null,null,null,"O"]
[null,null,null,"POOLPRC",null,null,null,"Percentage poolaandeel","V",null,null,null,null,null,null,"V"]
[null,"GP",null,null,null,null,null,"DEKKING GLAS",null,"O:XD",null,null,null,null,null,"O","maxOccurs 1"]
[null,null,"BAFWST",null,null,null,null,"Bedrag afwijk. op standaard tarief","O:XD",null,null,null,null,null,null,"O"]
[null,null,"BTP",null,null,null,null,"Termijnbedrag bruto premie",null,null,null,null,null,null,null,"LEEG"]
[null,null,"CODE",null,null,null,"ADNDEK","Dekkingscode","O:XD",null,null,null,null,null,null,"O"]
[null,null,"COLFACT",null,null,null,null,"Perc. collectiviteitfactor","O:XD_PRCCOLK",null,null,null,null,null,null,"O"]
[null,null,"ERB",null,null,null,null,"Bedrag eigen risico",null,"O:XD",null,null,null,null,null,"O"]
[null,null,"GADEKCD",null,null,null,null,"Volmacht dekkingscode","V:XD",null,null,null,null,null,null,"V"]
[null,null,"GADEKCO",null,null,null,null,"Volmacht dekkingscode, omschr.","V:XD",null,null,null,null,null,null,"V"]
[null,null,"MYCODE",null,null,null,"ADNMCD","Dekkingscode maatschappij, code",null,"O:XD",null,null,null,null,null,"O"]
[null,null,"NJP",null,null,null,null,"Netto jaarpremie","O:XD",null,null,null,null,null,null,"O"]
[null,null,"PAFWST",null,null,null,null,"Percentage afw. op standaard tarief","O:XD",null,null,null,null,null,null,"O"]
[null,null,"PPRC",null,null,null,null,"Percentage prolongatieprovisie","O:XD",null,null,null,null,null,null,"O"]
[null,null,"PRCPKKT",null,null,null,null,"Percentage pakketkorting","O:XD",null,null,null,null,null,null,"O"]
[null,null,"PRCTEKC",null,null,null,null,"Percentage Volmachtbeloning","O:XD",null,null,null,null,null,null,"O"]
[null,null,"RELVRH",null,null,null,"ADNENT","Relatie verhouding tot, code","O:XD",null,null,null,null,null,null,"O"]
[null,null,"RELVVNR",null,null,null,null,"Relatie verhouding tot, volgnummer","O:XD",null,null,null,null,null,null,"O"]
[null,null,"RJRCOR",null,null,null,null,"Resterende jaren voor correctie","O:XD",null,null,null,null,null,null,"O"]
[null,null,"TCORBDR",null,null,null,null,"Toegepast correctiebedrag","O:XD",null,null,null,null,null,null,"O"]
[null,null,"VBGBRSG",null,null,null,null,"Verz. bedrag gebrandschilderd glas",null,null,null,null,null,null,null,"LEEG"]
[null,null,"VBGEBOG",null,null,null,null,"Verz. bedrag gebogen glas",null,null,null,null,null,null,null,"LEEG"]
[null,null,"VBGLOOD",null,null,null,null,"Verz. bedrag glas in lood",null,null,null,null,null,null,null,"LEEG"]
[null,null,"VBZANDG",null,null,null,null,"Verz. bedrag geëtste gezandstr.ruit.",null,null,null,null,null,null,null,"LEEG"]
[null,null,"VERZSOM",null,null,null,null,"Verzekerde som",null,"O:XD",null,null,null,null,null,{"$f":"IF(LEFT(I330,1)=\"X\",\"X\",IF(LEFT(I330,1)=\"V\",\"V\",IF(J330=\"V\",\"V\",IF(K330=\"V\",\"V\",IF(L330=\"V\",\"O\",IF(M330=\"V\",\"O\",IF(N330=\"V\",\"O\",IF(O330=\"V\",\"O\",IF(LEFT(I330,1)=\"O\",\"O\",IF(LEFT(J330,1)=\"O\",\"O\",IF(K330=\"O\",\"O\",IF(L330=\"O\",\"O\",IF(M330=\"O\",\"O\",IF(N330=\"O\",\"O\",IF(O330=\"O\",\"O\",\"LEEG\")))))))))))))))","v":"O"}]
[null,null,"VGBRA",null,null,null,null,"Volmachtgever branchecode","O:XD",null,null,null,null,null,null,"O"]
[null,null,"VOLGNUM",null,null,null,null,"Volgnummer",null,null,null,null,null,null,null,"LEEG"]
[null,null,"VRWRKCD",null,null,null,"ADNVRC","Verwerkingscode entiteit",null,null,null,null,null,null,null,"LEEG"]
[null,null,"VZBBEL",null,null,null,null,"Verz. bedrag belettering",null,null,null,null,null,null,null,"LEEG"]
[null,null,"WPREMBP",null,null,null,"ADNPBP","Wijze premieberekening prol., code","O:XD",null,null,null,null,null,null,"O"]
[null,null,"MP",null,null,null,null,"POOLAANDEEL","O",null,null,null,null,null,null,"O"]
[null,null,null,"MYAAND",null,null,"PORMAA","POR Maatschappij aanduiding, code","O",null,null,null,null,null,null,"O"]
[null,null,null,"POOLNUM",null,null,null,"Poolnummer","V",null,null,null,null,null,null,"V"]
[null,null,null,"PLLEAD",null,null,"ADNLOG","Poolleader J/N","O",null,null,null,null,null,null,"O"]
[null,null,null,"POOLPRC",null,null,null,"Percentage poolaandeel","V",null,null,null,null,null,null,"V"]
[null,"HU",null,null,null,null,null,"DEKKING HUURDERSBELANG",null,"O:XD",null,null,null,null,null,"O","maxOccurs 1"]
[null,null,"BAFWST",null,null,null,null,"Bedrag afwijk. op standaard tarief","O:XD",null,null,null,null,null,null,"O"]
[null,null,"BTP",null,null,null,null,"Termijnbedrag bruto premie",null,null,null,null,null,null,null,"LEEG"]
[null,null,"CODE",null,null,null,"ADNDEK","Dekkingscode","O:XD",null,null,null,null,null,null,"O"]
[null,null,"COLFACT",null,null,null,null,"Perc. collectiviteitfactor","O:XD_PRCCOLK",null,null,null,null,null,null,"O"]
[null,null,"ERB",null,null,null,null,"Bedrag eigen risico",null,"O:XD",null,null,null,null,null,"O"]
[null,null,"GADEKCD",null,null,null,null,"Volmacht dekkingscode","V:XD",null,null,null,null,null,null,"V"]
[null,null,"GADEKCO",null,null,null,null,"Volmacht dekkingscode, omschr.","V:XD",null,null,null,null,null,null,"V"]
[null,null,"MYCODE",null,null,null,"ADNMCD","Dekkingscode maatschappij, code",null,"O:XD",null,null,null,null,null,"O"]
[null,null,"NJP",null,null,null,null,"Netto jaarpremie","O:XD",null,null,null,null,null,null,"O"]
[null,null,"PAFWST",null,null,null,null,"Percentage afw. op standaard tarief","O:XD",null,null,null,null,null,null,"O"]
[null,null,"PPRC",null,null,null,null,"Percentage prolongatieprovisie","O:XD",null,null,null,null,null,null,"O"]
[null,null,"PRCPKKT",null,null,null,null,"Percentage pakketkorting","O:XD",null,null,null,null,null,null,"O"]
[null,null,"PRCTEKC",null,null,null,null,"Percentage Volmachtbeloning","O:XD",null,null,null,null,null,null,"O"]
[null,null,"PRMPROM",null,null,null,null,"Premiepromillage",null,"O:XD",null,null,null,null,null,"O"]
[null,null,"RELVRH",null,null,null,"ADNENT","Relatie verhouding tot, code","O:XD",null,null,null,null,null,null,"O"]
[null,null,"RELVVNR",null,null,null,null,"Relatie verhouding tot, volgnummer","O:XD",null,null,null,null,null,null,"O"]
[null,null,"RJRCOR",null,null,null,null,"Resterende jaren voor correctie","O:XD",null,null,null,null,null,null,"O"]
[null,null,"TCORBDR",null,null,null,null,"Toegepast correctiebedrag","O:XD",null,null,null,null,null,null,"O"]
[null,null,"VERZSOM",null,null,null,null,"Verzekerde som",null,"O:XD",null,null,null,null,null,"O"]
[null,null,"VGBRA",null,null,null,null,"Volmachtgever branchecode","O:XD",null,null,null,null,null,null,"O"]
[null,null,"VOLGNUM",null,null,null,null,"Volgnummer",null,null,null,null,null,null,null,{"$f":"IF(LEFT(I362,1)=\"X\",\"X\",IF(LEFT(I362,1)=\"V\",\"V\",IF(J362=\"V\",\"V\",IF(K362=\"V\",\"V\",IF(L362=\"V\",\"O\",IF(M362=\"V\",\"O\",IF(N362=\"V\",\"O\",IF(O362=\"V\",\"O\",IF(LEFT(I362,1)=\"O\",\"O\",IF(LEFT(J362,1)=\"O\",\"O\",IF(K362=\"O\",\"O\",IF(L362=\"O\",\"O\",IF(M362=\"O\",\"O\",IF(N362=\"O\",\"O\",IF(O362=\"O\",\"O\",\"LEEG\")))))))))))))))","v":"LEEG"}]
[null,null,"VRWRKCD",null,null,null,"ADNVRC","Verwerkingscode entiteit",null,null,null,null,null,null,null,"LEEG"]
[null,null,"WPREMBP",null,null,null,"ADNPBP","Wijze premieberekening prol., code","O:XD",null,null,null,null,null,null,"O"]
[null,null,"MP",null,null,null,null,"POOLAANDEEL","O",null,null,null,null,null,null,"O"]
[null,null,null,"MYAAND",null,null,"PORMAA","POR Maatschappij aanduiding, code","O",null,null,null,null,null,null,"O"]
[null,null,null,"POOLNUM",null,null,null,"Poolnummer","V",null,null,null,null,null,null,"V"]
[null,null,null,"PLLEAD",null,null,"ADNLOG","Poolleader J/N","O",null,null,null,null,null,null,"O"]
[null,null,null,"POOLPRC",null,null,null,"Percentage poolaandeel","V",null,null,null,null,null,null,"V"]
[null,"IN",null,null,null,null,null,"DEKKING RB INKOMEN",null,"O:XD",null,null,null,null,null,"O","maxOccurs 1"]
[null,null,"BAFWST",null,null,null,null,"Bedrag afwijk. op standaard tarief","O:XD",null,null,null,null,null,null,"O"]
[null,null,"BTP",null,null,null,null,"Termijnbedrag bruto premie",null,null,null,null,null,null,null,"LEEG"]
[null,null,"CODE",null,null,null,"ADNDEK","Dekkingscode","O:XD",null,null,null,null,null,null,"O"]
[null,null,"COLFACT",null,null,null,null,"Perc. collectiviteitfactor","O:XD_PRCCOLK",null,null,null,null,null,null,"O"]
[null,null,"ERB",null,null,null,null,"Bedrag eigen risico",null,"O:XD",null,null,null,null,null,"O"]
[null,null,"GADEKCD",null,null,null,null,"Volmacht dekkingscode","V:XD",null,null,null,null,null,null,"V"]
[null,null,"GADEKCO",null,null,null,null,"Volmacht dekkingscode, omschr.","V:XD",null,null,null,null,null,null,"V"]
[null,null,"MYCODE",null,null,null,"ADNMCD","Dekkingscode maatschappij, code",null,"O:XD",null,null,null,null,null,"O"]
[null,null,"NJP",null,null,null,null,"Netto jaarpremie","O:XD",null,null,null,null,null,null,"O"]
[null,null,"PAFWST",null,null,null,null,"Percentage afw. op standaard tarief","O:XD",null,null,null,null,null,null,"O"]
[null,null,"PPRC",null,null,null,null,"Percentage prolongatieprovisie","O:XD",null,null,null,null,null,null,"O"]
[null,null,"PRCPKKT",null,null,null,null,"Percentage pakketkorting","O:XD",null,null,null,null,null,null,"O"]
[null,null,"PRCTEKC",null,null,null,null,"Percentage Volmachtbeloning","O:XD",null,null,null,null,null,null,"O"]
[null,null,"RELVRH",null,null,null,"ADNENT","Relatie verhouding tot, code","O:XD",null,null,null,null,null,null,"O"]
[null,null,"RELVVNR",null,null,null,null,"Relatie verhouding tot, volgnummer","O:XD",null,null,null,null,null,null,"O"]
[null,null,"RJRCOR",null,null,null,null,"Resterende jaren voor correctie","O:XD",null,null,null,null,null,null,"O"]
[null,null,"TCORBDR",null,null,null,null,"Toegepast correctiebedrag","O:XD",null,null,null,null,null,null,"O"]
[null,null,"VERZSOM",null,null,null,null,"Verzekerde som",null,"O:XD",null,null,null,null,null,"O"]
[null,null,"VGBRA",null,null,null,null,"Volmachtgever branchecode","O:XD",null,null,null,null,null,null,"O"]
[null,null,"VOLGNUM",null,null,null,null,"Volgnummer",null,null,null,null,null,null,null,{"$f":"IF(LEFT(I390,1)=\"X\",\"X\",IF(LEFT(I390,1)=\"V\",\"V\",IF(J390=\"V\",\"V\",IF(K390=\"V\",\"V\",IF(L390=\"V\",\"O\",IF(M390=\"V\",\"O\",IF(N390=\"V\",\"O\",IF(O390=\"V\",\"O\",IF(LEFT(I390,1)=\"O\",\"O\",IF(LEFT(J390,1)=\"O\",\"O\",IF(K390=\"O\",\"O\",IF(L390=\"O\",\"O\",IF(M390=\"O\",\"O\",IF(N390=\"O\",\"O\",IF(O390=\"O\",\"O\",\"LEEG\")))))))))))))))","v":"LEEG"}]
[null,null,"VRWRKCD",null,null,null,"ADNVRC","Verwerkingscode entiteit",null,null,null,null,null,null,null,"LEEG"]
[null,null,"WPREMBP",null,null,null,"ADNPBP","Wijze premieberekening prol., code","O:XD",null,null,null,null,null,null,"O"]
[null,null,"MP",null,null,null,null,"POOLAANDEEL","O",null,null,null,null,null,null,"O"]
[null,null,null,"MYAAND",null,null,"PORMAA","POR Maatschappij aanduiding, code","O",null,null,null,null,null,null,"O"]
[null,null,null,"POOLNUM",null,null,null,"Poolnummer","V",null,null,null,null,null,null,"V"]
[null,null,null,"PLLEAD",null,null,"ADNLOG","Poolleader J/N","O",null,null,null,null,null,null,"O"]
[null,null,null,"POOLPRC",null,null,null,"Percentage poolaandeel","V",null,null,null,null,null,null,"V"]
[null,"MS",null,null,null,null,null,"DEKKING MILIEU",null,"O:XD",null,null,null,null,null,"O","maxOccurs 1"]
[null,null,"BAFWST",null,null,null,null,"Bedrag afwijk. op standaard tarief","O:XD",null,null,null,null,null,null,"O"]
[null,null,"BTP",null,null,null,null,"Termijnbedrag bruto premie",null,null,null,null,null,null,null,"LEEG"]
[null,null,"CODE",null,null,null,"ADNDEK","Dekkingscode","O:XD",null,null,null,null,null,null,"O"]
[null,null,"COLFACT",null,null,null,null,"Perc. collectiviteitfactor","O:XD_PRCCOLK",null,null,null,null,null,null,"O"]
[null,null,"ERB",null,null,null,null,"Bedrag eigen risico",null,"O:XD",null,null,null,null,null,"O"]
[null,null,"GADEKCD",null,null,null,null,"Volmacht dekkingscode","V:XD",null,null,null,null,null,null,"V"]
[null,null,"GADEKCO",null,null,null,null,"Volmacht dekkingscode, omschr.","V:XD",null,null,null,null,null,null,"V"]
[null,null,"MVZVRH",null,null,null,"ADNLOG","Mvz. verhuur J/N",null,null,null,null,null,null,null,"LEEG"]
[null,null,"MYCODE",null,null,null,"ADNMCD","Dekkingscode maatschappij, code",null,"O:XD",null,null,null,null,null,"O"]
[null,null,"NJP",null,null,null,null,"Netto jaarpremie","O:XD",null,null,null,null,null,null,"O"]
[null,null,"PAFWST",null,null,null,null,"Percentage afw. op standaard tarief","O:XD",null,null,null,null,null,null,"O"]
[null,null,"PPRC",null,null,null,null,"Percentage prolongatieprovisie","O:XD",null,null,null,null,null,null,"O"]
[null,null,"PRCPKKT",null,null,null,null,"Percentage pakketkorting","O:XD",null,null,null,null,null,null,"O"]
[null,null,"PRCTEKC",null,null,null,null,"Percentage Volmachtbeloning","O:XD",null,null,null,null,null,null,"O"]
[null,null,"PRMPROM",null,null,null,null,"Premiepromillage",null,"O:XD",null,null,null,null,null,"O"]
[null,null,"RELVRH",null,null,null,"ADNENT","Relatie verhouding tot, code","O:XD",null,null,null,null,null,null,"O"]
[null,null,"RELVVNR",null,null,null,null,"Relatie verhouding tot, volgnummer","O:XD",null,null,null,null,null,null,"O"]
[null,null,"RJRCOR",null,null,null,null,"Resterende jaren voor correctie","O:XD",null,null,null,null,null,null,"O"]
[null,null,"TCORBDR",null,null,null,null,"Toegepast correctiebedrag","O:XD",null,null,null,null,null,null,"O"]
[null,null,"VERZSOM",null,null,null,null,"Verzekerde som",null,"O:XD",null,null,null,null,null,"O"]
[null,null,"VGBRA",null,null,null,null,"Volmachtgever branchecode","O:XD",null,null,null,null,null,null,"O"]
[null,null,"VOLGNUM",null,null,null,null,"Volgnummer",null,null,null,null,null,null,null,"LEEG"]
[null,null,"VOMZET",null,null,null,null,"Verzekerde omzet",null,"O:XD",null,null,null,null,null,"O"]
[null,null,"VRWRKCD",null,null,null,"ADNVRC","Verwerkingscode entiteit",null,null,null,null,null,null,null,"LEEG"]
[null,null,"WPREMBP",null,null,null,"ADNPBP","Wijze premieberekening prol., code","O:XD",null,null,null,null,null,null,"O"]
[null,null,"MP",null,null,null,null,"POOLAANDEEL","O",null,null,null,null,null,null,"O"]
[null,null,null,"MYAAND",null,null,"PORMAA","POR Maatschappij aanduiding, code","O",null,null,null,null,null,null,{"$f":"IF(LEFT(I425,1)=\"X\",\"X\",IF(LEFT(I425,1)=\"V\",\"V\",IF(J425=\"V\",\"V\",IF(K425=\"V\",\"V\",IF(L425=\"V\",\"O\",IF(M425=\"V\",\"O\",IF(N425=\"V\",\"O\",IF(O425=\"V\",\"O\",IF(LEFT(I425,1)=\"O\",\"O\",IF(LEFT(J425,1)=\"O\",\"O\",IF(K425=\"O\",\"O\",IF(L425=\"O\",\"O\",IF(M425=\"O\",\"O\",IF(N425=\"O\",\"O\",IF(O425=\"O\",\"O\",\"LEEG\")))))))))))))))","v":"O"}]
[null,null,null,"POOLNUM",null,null,null,"Poolnummer","V",null,null,null,null,null,null,"V"]
[null,null,null,"PLLEAD",null,null,"ADNLOG","Poolleader J/N","O",null,null,null,null,null,null,"O"]
[null,null,null,"POOLPRC",null,null,null,"Percentage poolaandeel","V",null,null,null,null,null,null,"V"]
[null,"OD",null,null,null,null,null,"DEKKING ONGEVALLEN",null,"O:XD",null,null,null,null,null,"O","maxOccurs 1"]
[null,null,"BAFWST",null,null,null,null,"Bedrag afwijk. op standaard tarief","O:XD",null,null,null,null,null,null,"O"]
[null,null,"BTP",null,null,null,null,"Termijnbedrag bruto premie",null,null,null,null,null,null,null,{"$f":"IF(LEFT(I431,1)=\"X\",\"X\",IF(LEFT(I431,1)=\"V\",\"V\",IF(J431=\"V\",\"V\",IF(K431=\"V\",\"V\",IF(L431=\"V\",\"O\",IF(M431=\"V\",\"O\",IF(N431=\"V\",\"O\",IF(O431=\"V\",\"O\",IF(LEFT(I431,1)=\"O\",\"O\",IF(LEFT(J431,1)=\"O\",\"O\",IF(K431=\"O\",\"O\",IF(L431=\"O\",\"O\",IF(M431=\"O\",\"O\",IF(N431=\"O\",\"O\",IF(O431=\"O\",\"O\",\"LEEG\")))))))))))))))","v":"LEEG"}]
[null,null,"CODE",null,null,null,"ADNDEK","Dekkingscode","O:XD",null,null,null,null,null,null,"O"]
[null,null,"COLFACT",null,null,null,null,"Perc. collectiviteitfactor","O:XD_PRCCOLK",null,null,null,null,null,null,"O"]
[null,null,"ERB",null,null,null,null,"Bedrag eigen risico",null,"O:XD",null,null,null,null,null,"O"]
[null,null,"GADEKCD",null,null,null,null,"Volmacht dekkingscode","V:XD",null,null,null,null,null,null,"V"]
[null,null,"GADEKCO",null,null,null,null,"Volmacht dekkingscode, omschr.","V:XD",null,null,null,null,null,null,"V"]
[null,null,"MYCODE",null,null,null,"ADNMCD","Dekkingscode maatschappij, code",null,"O:XD",null,null,null,null,null,"O"]
[null,null,"NJP",null,null,null,null,"Netto jaarpremie","O:XD",null,null,null,null,null,null,"O"]
[null,null,"PAFWST",null,null,null,null,"Percentage afw. op standaard tarief","O:XD",null,null,null,null,null,null,"O"]
[null,null,"PPRC",null,null,null,null,"Percentage prolongatieprovisie","O:XD",null,null,null,null,null,null,"O"]
[null,null,"PRCPKKT",null,null,null,null,"Percentage pakketkorting","O:XD",null,null,null,null,null,null,"O"]
[null,null,"PRCTEKC",null,null,null,null,"Percentage Volmachtbeloning","O:XD",null,null,null,null,null,null,"O"]
[null,null,"PRMPROM",null,null,null,null,"Premiepromillage",null,"O:XD",null,null,null,null,null,"O"]
[null,null,"RELVRH",null,null,null,"ADNENT","Relatie verhouding tot, code","O:XD",null,null,null,null,null,null,"O"]
[null,null,"RELVVNR",null,null,null,null,"Relatie verhouding tot, volgnummer","O:XD",null,null,null,null,null,null,"O"]
[null,null,"RJRCOR",null,null,null,null,"Resterende jaren voor correctie","O:XD",null,null,null,null,null,null,"O"]
[null,null,"TCORBDR",null,null,null,null,"Toegepast correctiebedrag","O:XD",null,null,null,null,null,null,"O"]
[null,null,"VERZSOM",null,null,null,null,"Verzekerde som",null,"O:XD",null,null,null,null,null,"O"]
[null,null,"VGBRA",null,null,null,null,"Volmachtgever branchecode","O:XD",null,null,null,null,null,null,"O"]
[null,null,"VOLGNUM",null,null,null,null,"Volgnummer",null,null,null,null,null,null,null,{"$f":"IF(LEFT(I450,1)=\"X\",\"X\",IF(LEFT(I450,1)=\"V\",\"V\",IF(J450=\"V\",\"V\",IF(K450=\"V\",\"V\",IF(L450=\"V\",\"O\",IF(M450=\"V\",\"O\",IF(N450=\"V\",\"O\",IF(O450=\"V\",\"O\",IF(LEFT(I450,1)=\"O\",\"O\",IF(LEFT(J450,1)=\"O\",\"O\",IF(K450=\"O\",\"O\",IF(L450=\"O\",\"O\",IF(M450=\"O\",\"O\",IF(N450=\"O\",\"O\",IF(O450=\"O\",\"O\",\"LEEG\")))))))))))))))","v":"LEEG"}]
[null,null,"VRWRKCD",null,null,null,"ADNVRC","Verwerkingscode entiteit",null,null,null,null,null,null,null,"LEEG"]
[null,null,"WACHTTY",null,null,null,null,"Wachttijd in dagen",null,"O:XD",null,null,null,null,null,"O"]
[null,null,"WPREMBP",null,null,null,"ADNPBP","Wijze premieberekening prol., code","O:XD",null,null,null,null,null,null,"O"]
[null,null,"MP",null,null,null,null,"POOLAANDEEL","O",null,null,null,null,null,null,{"$f":"IF(LEFT(I454,1)=\"X\",\"X\",IF(LEFT(I454,1)=\"V\",\"V\",IF(J454=\"V\",\"V\",IF(K454=\"V\",\"V\",IF(L454=\"V\",\"O\",IF(M454=\"V\",\"O\",IF(N454=\"V\",\"O\",IF(O454=\"V\",\"O\",IF(LEFT(I454,1)=\"O\",\"O\",IF(LEFT(J454,1)=\"O\",\"O\",IF(K454=\"O\",\"O\",IF(L454=\"O\",\"O\",IF(M454=\"O\",\"O\",IF(N454=\"O\",\"O\",IF(O454=\"O\",\"O\",\"LEEG\")))))))))))))))","v":"O"}]
[null,null,null,"MYAAND",null,null,"PORMAA","POR Maatschappij aanduiding, code","O",null,null,null,null,null,null,"O"]
[null,null,null,"POOLNUM",null,null,null,"Poolnummer","V",null,null,null,null,null,null,"V"]
[null,null,null,"PLLEAD",null,null,"ADNLOG","Poolleader J/N","O",null,null,null,null,null,null,"O"]
[null,null,null,"POOLPRC",null,null,null,"Percentage poolaandeel","V",null,null,null,null,null,null,"V"]
[null,"OP",null,null,null,null,null,"DEKKING OPSTAL",null,"O:XD",null,null,null,null,null,"O","maxOccurs 1"]
[null,null,"AANVDEK",null,null,null,"ADNLOG","Mvz. aanvullende dekking J/N",null,null,null,null,null,null,null,"LEEG"]
[null,null,"AFKSER",null,null,null,"ADNLOG","Afkoop eigen risico J/N",null,null,null,null,null,null,null,"LEEG"]
[null,null,"BAFWST",null,null,null,null,"Bedrag afwijk. op standaard tarief","O:XD",null,null,null,null,null,null,"O"]
[null,null,"BTP",null,null,null,null,"Termijnbedrag bruto premie",null,null,null,null,null,null,null,"LEEG"]
[null,null,"CODE",null,null,null,"ADNDEK","Dekkingscode","O:XD",null,null,null,null,null,null,"O"]
[null,null,"COLFACT",null,null,null,null,"Perc. collectiviteitfactor","O:XD_PRCCOLK",null,null,null,null,null,null,"O"]
[null,null,"ERB",null,null,null,null,"Bedrag eigen risico",null,"O:XD",null,null,null,null,null,"O"]
[null,null,"FUNDAME",null,null,null,"ADNLOG","Mvz. fundamenten J/N",null,null,null,null,null,null,null,"LEEG"]
[null,null,"GADEKCD",null,null,null,null,"Volmacht dekkingscode","V:XD",null,null,null,null,null,null,"V"]
[null,null,"GADEKCO",null,null,null,null,"Volmacht dekkingscode, omschr.","V:XD",null,null,null,null,null,null,"V"]
[null,null,"GARINB",null,null,null,"ADNGTO","Garantie tegen onderverz., code",null,null,null,null,null,null,null,"LEEG"]
[null,null,"MVZEIGB",null,null,null,"ADNLOG","Mvz. eigenaarbelang J/N",null,null,null,null,null,null,null,"LEEG"]
[null,null,"MVZGLAS",null,null,null,"ADNLOG","Mvz. glas J/N",null,null,null,null,null,null,null,"LEEG"]
[null,null,"MVZSZS",null,null,null,"ADNLOG","Mvz. schroeien, zengen, smelten J/N",null,null,null,null,null,null,null,"LEEG"]
[null,null,"MVZVKH",null,null,null,"ADNLOG","Mvz. vrije keus herst. na schade J/N",null,null,null,null,null,null,null,"LEEG"]
[null,null,"MVZVSUI",null,null,null,"ADNLOG","Mvz. verhoogde schade uitkering J/N",null,null,null,null,null,null,null,"LEEG"]
[null,null,"MYCODE",null,null,null,"ADNMCD","Dekkingscode maatschappij, code",null,"O:XD",null,null,null,null,null,"O"]
[null,null,"NJP",null,null,null,null,"Netto jaarpremie","O:XD",null,null,null,null,null,null,"O"]
[null,null,"PAFWST",null,null,null,null,"Percentage afw. op standaard tarief","O:XD",null,null,null,null,null,null,"O"]
[null,null,"PPRC",null,null,null,null,"Percentage prolongatieprovisie","O:XD",null,null,null,null,null,null,"O"]
[null,null,"PRCPKKT",null,null,null,null,"Percentage pakketkorting","O:XD",null,null,null,null,null,null,"O"]
[null,null,"PRCTEKC",null,null,null,null,"Percentage Volmachtbeloning","O:XD",null,null,null,null,null,null,"O"]
[null,null,"PRMPROM",null,null,null,null,"Premiepromillage",null,"O:XD",null,null,null,null,null,"O"]
[null,null,"RELVRH",null,null,null,"ADNENT","Relatie verhouding tot, code","O:XD",null,null,null,null,null,null,"O"]
[null,null,"RELVVNR",null,null,null,null,"Relatie verhouding tot, volgnummer","O:XD",null,null,null,null,null,null,"O"]
[null,null,"RJRCOR",null,null,null,null,"Resterende jaren voor correctie","O:XD",null,null,null,null,null,null,"O"]
[null,null,"TCORBDR",null,null,null,null,"Toegepast correctiebedrag","O:XD",null,null,null,null,null,null,"O"]
[null,null,"VEERB",null,null,null,null,"Bedrag vrijwillig extra eigen risico",null,null,null,null,null,null,null,"LEEG"]
[null,null,"VERZSOM",null,null,null,null,"Verzekerde som",null,"O:XD",null,null,null,null,null,"O"]
[null,null,"VGBRA",null,null,null,null,"Volmachtgever branchecode","O:XD",null,null,null,null,null,null,"O"]
[null,null,"VOLGNUM",null,null,null,null,"Volgnummer",null,null,null,null,null,null,null,"LEEG"]
[null,null,"VRWRKCD",null,null,null,"ADNVRC","Verwerkingscode entiteit",null,null,null,null,null,null,null,"LEEG"]
[null,null,"VZBEIGB",null,null,null,null,"Verzekerd bedrag eigenaarbelang",null,null,null,null,null,null,null,"LEEG"]
[null,null,"VZSHBWO",null,null,null,null,"Verz. bedrag herbouwwaarde",null,null,null,null,null,null,null,"LEEG"]
[null,null,"WPREMBP",null,null,null,"ADNPBP","Wijze premieberekening prol., code","O:XD",null,null,null,null,null,null,"O"]
[null,null,"MP",null,null,null,null,"POOLAANDEEL","O",null,null,null,null,null,null,{"$f":"IF(LEFT(I495,1)=\"X\",\"X\",IF(LEFT(I495,1)=\"V\",\"V\",IF(J495=\"V\",\"V\",IF(K495=\"V\",\"V\",IF(L495=\"V\",\"O\",IF(M495=\"V\",\"O\",IF(N495=\"V\",\"O\",IF(O495=\"V\",\"O\",IF(LEFT(I495,1)=\"O\",\"O\",IF(LEFT(J495,1)=\"O\",\"O\",IF(K495=\"O\",\"O\",IF(L495=\"O\",\"O\",IF(M495=\"O\",\"O\",IF(N495=\"O\",\"O\",IF(O495=\"O\",\"O\",\"LEEG\")))))))))))))))","v":"O"}]
[null,null,null,"MYAAND",null,null,"PORMAA","POR Maatschappij aanduiding, code","O",null,null,null,null,null,null,"O"]
[null,null,null,"POOLNUM",null,null,null,"Poolnummer","V",null,null,null,null,null,null,"V"]
[null,null,null,"PLLEAD",null,null,"ADNLOG","Poolleader J/N","O",null,null,null,null,null,null,"O"]
[null,null,null,"POOLPRC",null,null,null,"Percentage poolaandeel","V",null,null,null,null,null,null,"V"]
[null,"RP",null,null,null,null,null,"DEKKING RECHTSBIJSTAND",null,"O:XD",null,null,null,null,null,"O","maxOccurs 1"]
[null,null,"BAFWST",null,null,null,null,"Bedrag afwijk. op standaard tarief","O:XD",null,null,null,null,null,null,"O"]
[null,null,"BTP",null,null,null,null,"Termijnbedrag bruto premie",null,null,null,null,null,null,null,{"$f":"IF(LEFT(I502,1)=\"X\",\"X\",IF(LEFT(I502,1)=\"V\",\"V\",IF(J502=\"V\",\"V\",IF(K502=\"V\",\"V\",IF(L502=\"V\",\"O\",IF(M502=\"V\",\"O\",IF(N502=\"V\",\"O\",IF(O502=\"V\",\"O\",IF(LEFT(I502,1)=\"O\",\"O\",IF(LEFT(J502,1)=\"O\",\"O\",IF(K502=\"O\",\"O\",IF(L502=\"O\",\"O\",IF(M502=\"O\",\"O\",IF(N502=\"O\",\"O\",IF(O502=\"O\",\"O\",\"LEEG\")))))))))))))))","v":"LEEG"}]
[null,null,"CODE",null,null,null,"ADNDEK","Dekkingscode","O:XD",null,null,null,null,null,null,"O"]
[null,null,"COLFACT",null,null,null,null,"Perc. collectiviteitfactor","O:XD_PRCCOLK",null,null,null,null,null,null,"O"]
[null,null,"ERB",null,null,null,null,"Bedrag eigen risico",null,"O:XD",null,null,null,null,null,"O"]
[null,null,"GADEKCD",null,null,null,null,"Volmacht dekkingscode","V:XD",null,null,null,null,null,null,"V"]
[null,null,"GADEKCO",null,null,null,null,"Volmacht dekkingscode, omschr.","V:XD",null,null,null,null,null,null,"V"]
[null,null,"GSS",null,null,null,"ADNGEZ","Verzekerde gezinssamenstelling, code",null,null,null,null,null,null,null,"LEEG"]
[null,null,"MVZMDAN",null,null,null,"ADNLOG","Mvz. mediation J/N",null,null,null,null,null,null,null,"LEEG"]
[null,null,"MYCODE",null,null,null,"ADNMCD","Dekkingscode maatschappij, code",null,"O:XD",null,null,null,null,null,"O"]
[null,null,"NJP",null,null,null,null,"Netto jaarpremie","O:XD",null,null,null,null,null,null,"O"]
[null,null,"PAFWST",null,null,null,null,"Percentage afw. op standaard tarief","O:XD",null,null,null,null,null,null,"O"]
[null,null,"PPRC",null,null,null,null,"Percentage prolongatieprovisie","O:XD",null,null,null,null,null,null,"O"]
[null,null,"PRCPKKT",null,null,null,null,"Percentage pakketkorting","O:XD",null,null,null,null,null,null,"O"]
[null,null,"PRCTEKC",null,null,null,null,"Percentage Volmachtbeloning","O:XD",null,null,null,null,null,null,"O"]
[null,null,"RELVRH",null,null,null,"ADNENT","Relatie verhouding tot, code","O:XD",null,null,null,null,null,null,"O"]
[null,null,"RELVVNR",null,null,null,null,"Relatie verhouding tot, volgnummer","O:XD",null,null,null,null,null,null,"O"]
[null,null,"RJRCOR",null,null,null,null,"Resterende jaren voor correctie","O:XD",null,null,null,null,null,null,"O"]
[null,null,"TCORBDR",null,null,null,null,"Toegepast correctiebedrag","O:XD",null,null,null,null,null,null,"O"]
[null,null,"VERZSOM",null,null,null,null,"Verzekerde som",null,"O:XD",null,null,null,null,null,"O"]
[null,null,"VGBRA",null,null,null,null,"Volmachtgever branchecode","O:XD",null,null,null,null,null,null,"O"]
[null,null,"VOLGNUM",null,null,null,null,"Volgnummer",null,null,null,null,null,null,null,"LEEG"]
[null,null,"VRWRKCD",null,null,null,"ADNVRC","Verwerkingscode entiteit",null,null,null,null,null,null,null,"LEEG"]
[null,null,"VZBFRNS",null,null,null,null,"Verz. bedrag franchise",null,null,null,null,null,null,null,"LEEG"]
[null,null,"WPREMBP",null,null,null,"ADNPBP","Wijze premieberekening prol., code","O:XD",null,null,null,null,null,null,"O"]
[null,null,"MP",null,null,null,null,"POOLAANDEEL","O",null,null,null,null,null,null,"O"]
[null,null,null,"MYAAND",null,null,"PORMAA","POR Maatschappij aanduiding, code","O",null,null,null,null,null,null,"O"]
[null,null,null,"POOLNUM",null,null,null,"Poolnummer","V",null,null,null,null,null,null,"V"]
[null,null,null,"PLLEAD",null,null,"ADNLOG","Poolleader J/N","O",null,null,null,null,null,null,"O"]
[null,null,null,"POOLPRC",null,null,null,"Percentage poolaandeel","V",null,null,null,null,null,null,"V"]
[null,"WC",null,null,null,null,null,"DEKKING RB CONSUMENT & WONEN",null,"O:XD",null,null,null,null,null,"O","maxOccurs 1"]
[null,null,"BAFWST",null,null,null,null,"Bedrag afwijk. op standaard tarief","O:XD",null,null,null,null,null,null,"O"]
[null,null,"BTP",null,null,null,null,"Termijnbedrag bruto premie",null,null,null,null,null,null,null,"LEEG"]
[null,null,"CODE",null,null,null,"ADNDEK","Dekkingscode","O:XD",null,null,null,null,null,null,"O"]
[null,null,"COLFACT",null,null,null,null,"Perc. collectiviteitfactor","O:XD_PRCCOLK",null,null,null,null,null,null,"O"]
[null,null,"ERB",null,null,null,null,"Bedrag eigen risico",null,"O:XD",null,null,null,null,null,"O"]
[null,null,"GADEKCD",null,null,null,null,"Volmacht dekkingscode","V:XD",null,null,null,null,null,null,"V"]
[null,null,"GADEKCO",null,null,null,null,"Volmacht dekkingscode, omschr.","V:XD",null,null,null,null,null,null,"V"]
[null,null,"MYCODE",null,null,null,"ADNMCD","Dekkingscode maatschappij, code",null,"O:XD",null,null,null,null,null,"O"]
[null,null,"NJP",null,null,null,null,"Netto jaarpremie","O:XD",null,null,null,null,null,null,"O"]
[null,null,"PAFWST",null,null,null,null,"Percentage afw. op standaard tarief","O:XD",null,null,null,null,null,null,"O"]
[null,null,"PPRC",null,null,null,null,"Percentage prolongatieprovisie","O:XD",null,null,null,null,null,null,"O"]
[null,null,"PRCPKKT",null,null,null,null,"Percentage pakketkorting","O:XD",null,null,null,null,null,null,"O"]
[null,null,"PRCTEKC",null,null,null,null,"Percentage Volmachtbeloning","O:XD",null,null,null,null,null,null,"O"]
[null,null,"RELVRH",null,null,null,"ADNENT","Relatie verhouding tot, code","O:XD",null,null,null,null,null,null,"O"]
[null,null,"RELVVNR",null,null,null,null,"Relatie verhouding tot, volgnummer","O:XD",null,null,null,null,null,null,"O"]
[null,null,"RJRCOR",null,null,null,null,"Resterende jaren voor correctie","O:XD",null,null,null,null,null,null,"O"]
[null,null,"TCORBDR",null,null,null,null,"Toegepast correctiebedrag","O:XD",null,null,null,null,null,null,"O"]
[null,null,"VERZSOM",null,null,null,null,"Verzekerde som",null,"O:XD",null,null,null,null,null,"O"]
[null,null,"VGBRA",null,null,null,null,"Volmachtgever branchecode","O:XD",null,null,null,null,null,null,"O"]
[null,null,"VOLGNUM",null,null,null,null,"Volgnummer",null,null,null,null,null,null,null,"LEEG"]
[null,null,"VRWRKCD",null,null,null,"ADNVRC","Verwerkingscode entiteit",null,null,null,null,null,null,null,"LEEG"]
[null,null,"WPREMBP",null,null,null,"ADNPBP","Wijze premieberekening prol., code","O:XD",null,null,null,null,null,null,"O"]
[null,null,"MP",null,null,null,null,"POOLAANDEEL","O",null,null,null,null,null,null,"O"]
[null,null,null,"MYAAND",null,null,"PORMAA","POR Maatschappij aanduiding, code","O",null,null,null,null,null,null,"O"]
[null,null,null,"POOLNUM",null,null,null,"Poolnummer","V",null,null,null,null,null,null,"V"]
[null,null,null,"PLLEAD",null,null,"ADNLOG","Poolleader J/N","O",null,null,null,null,null,null,"O"]
[null,null,null,"POOLPRC",null,null,null,"Percentage poolaandeel","V",null,null,null,null,null,null,"V"]
[null,"CL",null,null,null,null,null,"CLAUSULE",null,null,null,null,null,null,null,"LEEG","maxOccurs 1"]
[null,null,"CLAUSNR",null,null,null,null,"Clausule nummers",null,null,null,null,null,null,null,{"$f":"IF(LEFT(I560,1)=\"X\",\"X\",IF(LEFT(I560,1)=\"V\",\"V\",IF(J560=\"V\",\"V\",IF(K560=\"V\",\"V\",IF(L560=\"V\",\"O\",IF(M560=\"V\",\"O\",IF(N560=\"V\",\"O\",IF(O560=\"V\",\"O\",IF(LEFT(I560,1)=\"O\",\"O\",IF(LEFT(J560,1)=\"O\",\"O\",IF(K560=\"O\",\"O\",IF(L560=\"O\",\"O\",IF(M560=\"O\",\"O\",IF(N560=\"O\",\"O\",IF(O560=\"O\",\"O\",\"LEEG\")))))))))))))))","v":"LEEG"}]
[null,null,"CLAUSOM",null,null,null,null,"Clausuletekst",null,null,null,null,null,null,null,"LEEG"]
[null,null,"CLAUTXT",null,null,null,null,"Clausule tekst",null,null,null,null,null,null,null,"LEEG"]
[null,null,"VERSIEC",null,null,null,null,"Clausule versienummer",null,null,null,null,null,null,null,"LEEG"]
[null,null,"VOLGNUM",null,null,null,null,"Volgnummer",null,null,null,null,null,null,null,"LEEG"]
[null,null,"VRWRKCD",null,null,null,"ADNVRC","Verwerkingscode entiteit",null,null,null,null,null,null,null,"LEEG"]
[null,"VW",null,null,null,null,null,"VOORWAARDE",null,null,null,null,null,null,null,"LEEG","maxOccurs 1"]
[null,null,"VOLGNUM",null,null,null,null,"Volgnummer",null,null,null,null,null,null,null,"LEEG"]
[null,null,"VRWNR",null,null,null,null,"Voorwaarden nummers",null,null,null,null,null,null,null,"LEEG"]
[null,null,"VRWOM",null,null,null,null,"Voorwaardentekst",null,null,null,null,null,null,null,"LEEG"]
[null,null,"VRWRKCD",null,null,null,"ADNVRC","Verwerkingscode entiteit",null,null,null,null,null,null,null,"LEEG"]
[null,null,"VRWVERS",null,null,null,null,"Voorwaarde versie",null,null,null,null,null,null,null,"LEEG"]
[null,"LV",null,null,null,null,null,"PARTIJ LEVERANCIER",null,null,null,null,null,null,null,"LEEG","maxOccurs 1"]
[null,null,"ANAAM",null,null,null,null,"Naam",null,null,null,null,null,null,null,"LEEG"]
[null,null,"ENTITEI",null,null,null,"ADNENT","Entiteitscode",null,null,null,null,null,null,null,"LEEG"]
[null,null,"VRWRKCD",null,null,null,null,"Verwerkingscode entiteit",null,null,null,null,null,null,null,"LEEG"]
[null,null,"KP",null,null,null,null,"PARTIJ CONTACTPERSOON",null,null,null,null,null,null,null,"LEEG","maxOccurs 1"]
[null,null,null,"ANAAM",null,null,null,"Naam",null,null,null,null,null,null,null,"LEEG"]
[null,null,null,"EMAIL",null,null,null,"E-mailadres",null,null,null,null,null,null,null,"LEEG"]
[null,null,null,"ENTITEI",null,null,"ADNENT","Entiteitscode",null,null,null,null,null,null,null,"LEEG"]
[null,null,null,"VRWRKCD",null,null,null,"Verwerkingscode entiteit",null,null,null,null,null,null,null,"LEEG"]
[null,"OG",null,null,null,null,"","(VERZEKERD) BEDRIJF","O",null,null,null,null,null,null,"O","maxOccurs 1"]
[null,null,"AANTHUU",null,null,null,null,"Aantal huurders",null,null,null,null,null,null,null,"LEEG"]
[null,null,"AANTLED",null,null,null,null,"Aantal leden",null,null,null,null,null,null,null,"LEEG"]
[null,null,"AANTPL",null,null,null,null,"Aantal personeelsleden (totaal)",null,null,null,null,null,null,null,{"$f":"IF(LEFT(I584,1)=\"X\",\"X\",IF(LEFT(I584,1)=\"V\",\"V\",IF(J584=\"V\",\"V\",IF(K584=\"V\",\"V\",IF(L584=\"V\",\"O\",IF(M584=\"V\",\"O\",IF(N584=\"V\",\"O\",IF(O584=\"V\",\"O\",IF(LEFT(I584,1)=\"O\",\"O\",IF(LEFT(J584,1)=\"O\",\"O\",IF(K584=\"O\",\"O\",IF(L584=\"O\",\"O\",IF(M584=\"O\",\"O\",IF(N584=\"O\",\"O\",IF(O584=\"O\",\"O\",\"LEEG\")))))))))))))))","v":"LEEG"}]
[null,null,"AFVHHE",null,null,null,"ADNSTA","Afval en huishouding eisen, code",null,null,null,null,null,null,null,"LEEG"]
[null,null,"BRNDWE",null,null,null,"ADNSTA","Brandgevaarlijke wzh eisen, code",null,null,null,null,null,null,null,"LEEG"]
[null,null,"CEACODE",null,null,null,null,"CEA code","O",null,null,null,null,null,null,"O"]
[null,null,"ELINSE",null,null,null,"ADNSTA","Elektrische installatie eisen, code",null,null,null,null,null,null,null,"LEEG"]
[null,null,"EXINBTW",null,null,null,null,"Bedrag exploitatiekosten incl. BTW",null,null,null,null,null,null,null,"LEEG"]
[null,null,"HWTBG",null,null,null,null,"Herbouww. totale bezit van gebouwen",null,null,null,null,null,null,null,"LEEG"]
[null,null,"NRHNDRG",null,null,null,null,"Nummer handelsregister",null,null,null,null,null,null,null,"LEEG"]
[null,null,"OMEXBTW",null,null,null,null,"Bedrag omzet exclusief BTW",null,null,null,null,null,null,null,"LEEG"]
[null,null,"OMZET",null,null,null,null,"Geschatte jaaromzet dit jaar, bedrag",null,null,null,null,null,null,null,"LEEG"]
[null,null,"ORENNHE",null,null,null,"ADNSTA","Orde en netheid eisen, code",null,null,null,null,null,null,null,"LEEG"]
[null,null,"PCODE",null,null,null,null,"Postcode",null,null,null,null,null,null,null,"LEEG"]
[null,null,"SBINVSC",null,null,null,"ADNABS","Nevenactiviteiten specificatie, code","O",null,null,null,null,null,null,"O"]
[null,null,"SBISPCC",null,null,null,"ADNABS","Aard bedrijf specificatie, code","O",null,null,null,null,null,null,"O"]
[null,null,"TERMAFV",null,null,null,"ADNDGC","Term. voldoen afval eisen, code",null,null,null,null,null,null,null,"LEEG"]
[null,null,"TERMBRD",null,null,null,"ADNDGC","Term. voldoen brand eisen, code",null,null,null,null,null,null,null,"LEEG"]
[null,null,"TERMELE",null,null,null,"ADNDGC","Term. voldoen elek. eisen, code",null,null,null,null,null,null,null,"LEEG"]
[null,null,"TERMORD",null,null,null,"ADNDGC","Term. voldoen orde eisen, code",null,null,null,null,null,null,null,"LEEG"]
[null,null,"VOLGNUM",null,null,null,null,"Volgnummer",null,null,null,null,null,null,null,"LEEG"]
[null,null,"VRWRKCD",null,null,null,"ADNVRC","Verwerkingscode entiteit",null,null,null,null,null,null,null,"LEEG"]
[null,null,"WRKBRG",null,null,null,"ADNLOG","Brandgevaarlijke werkzaamheden J/N",null,null,null,null,null,null,null,"LEEG"]
[null,null,"WH",null,null,null,null,"WERKZAAMHEDEN","O",null,null,null,null,null,null,{"$f":"IF(LEFT(I605,1)=\"X\",\"X\",IF(LEFT(I605,1)=\"V\",\"V\",IF(J605=\"V\",\"V\",IF(K605=\"V\",\"V\",IF(L605=\"V\",\"O\",IF(M605=\"V\",\"O\",IF(N605=\"V\",\"O\",IF(O605=\"V\",\"O\",IF(LEFT(I605,1)=\"O\",\"O\",IF(LEFT(J605,1)=\"O\",\"O\",IF(K605=\"O\",\"O\",IF(L605=\"O\",\"O\",IF(M605=\"O\",\"O\",IF(N605=\"O\",\"O\",IF(O605=\"O\",\"O\",\"LEEG\")))))))))))))))","v":"O"},"maxOccurs 1"]
[null,null,null,"BIKCOD",null,null,null,"BIKcode bedrijf","O",null,null,null,null,null,null,{"$f":"IF(LEFT(I606,1)=\"X\",\"X\",IF(LEFT(I606,1)=\"V\",\"V\",IF(J606=\"V\",\"V\",IF(K606=\"V\",\"V\",IF(L606=\"V\",\"O\",IF(M606=\"V\",\"O\",IF(N606=\"V\",\"O\",IF(O606=\"V\",\"O\",IF(LEFT(I606,1)=\"O\",\"O\",IF(LEFT(J606,1)=\"O\",\"O\",IF(K606=\"O\",\"O\",IF(L606=\"O\",\"O\",IF(M606=\"O\",\"O\",IF(N606=\"O\",\"O\",IF(O606=\"O\",\"O\",\"LEEG\")))))))))))))))","v":"O"}]
[null,null,null,"GHOMAX",null,null,"ADNLOG","Goed. hoger max.meters gestapeld J/N",null,null,null,null,null,null,null,"LEEG"]
[null,null,null,"KRIMPVE",null,null,"ADNLOG","Krimpfolie bij verpakkingswerkz. J/N",null,null,null,null,null,null,null,"LEEG"]
[null,null,null,"MACHINA",null,null,"ADNLOG","Machinale houtbewerking J/N",null,null,null,null,null,null,null,"LEEG"]
[null,null,null,"OMZNVS",null,null,null,"Bedrag omzet nevenactiviteit",null,null,null,null,null,null,null,"LEEG"]
[null,null,null,"OMZNVS2",null,null,null,"Bedrag omzet 2e nevenactiviteit",null,null,null,null,null,null,null,"LEEG"]
[null,null,null,"OMZWRKZ",null,null,null,"Bedrag omzet werkzaamheden",null,null,null,null,null,null,null,"LEEG"]
[null,null,null,"PERCNV2",null,null,null,"Prc.werkzaamh.tweede nevenactiviteit",null,null,null,null,null,null,null,"LEEG"]
[null,null,null,"PERCNVA",null,null,null,"Prc.werkzaamheden nevenactiviteiten",null,null,null,null,null,null,null,"LEEG"]
[null,null,null,"PRODBEW",null,null,"ADNLOG","Product bewerking J/N",null,null,null,null,null,null,null,"LEEG"]
[null,null,null,"SBIBEDR",null,null,"","Aard bedrijf (SBI-code)","O",null,null,null,null,null,null,"O"]
[null,null,null,"SBINVSC",null,null,"ADNABS","Nevenactiviteiten specificatie, code","O",null,null,null,null,null,null,"O"]
[null,null,null,"SBISPCC",null,null,"ADNABS","Aard bedrijf specificatie, code","O",null,null,null,null,null,null,"O"]
[null,null,null,"SRTHBW",null,null,"ADNHBW","Soort houtbewerking, code",null,null,null,null,null,null,null,"LEEG"]
[null,null,null,"SRTSPW",null,null,"ADNSSW","Locatie spuitwerkzaamheden, code",null,null,null,null,null,null,null,"LEEG"]
[null,null,null,"SRTVPK",null,null,"ADNVPK","Verpakkingswijze, code",null,null,null,null,null,null,null,"LEEG"]
[null,null,null,"VOLGNUM",null,null,null,"Volgnummer",null,null,null,null,null,null,null,"LEEG"]
[null,null,null,"VRWRKCD",null,null,"ADNVRC","Verwerkingscode entiteit",null,null,null,null,null,null,null,"LEEG"]
[null,null,null,"WRKSPSP",null,null,"ADNLOG","Sproei-/spuit werkzaamheden J/N",null,null,null,null,null,null,null,"LEEG"]
[null,"EB",null,null,null,null,null,"PARTIJ EIGENAAR BEDRIJF",null,null,null,null,null,null,null,{"$f":"IF(LEFT(I625,1)=\"X\",\"X\",IF(LEFT(I625,1)=\"V\",\"V\",IF(J625=\"V\",\"V\",IF(K625=\"V\",\"V\",IF(L625=\"V\",\"O\",IF(M625=\"V\",\"O\",IF(N625=\"V\",\"O\",IF(O625=\"V\",\"O\",IF(LEFT(I625,1)=\"O\",\"O\",IF(LEFT(J625,1)=\"O\",\"O\",IF(K625=\"O\",\"O\",IF(L625=\"O\",\"O\",IF(M625=\"O\",\"O\",IF(N625=\"O\",\"O\",IF(O625=\"O\",\"O\",\"LEEG\")))))))))))))))","v":"LEEG"},"maxOccurs 1"]
[null,null,"HUISNR",null,null,null,null,"Huisnummer",null,null,null,null,null,null,null,"LEEG"]
[null,null,"PCODE",null,null,null,null,"Postcode",null,null,null,null,null,null,null,"LEEG"]
[null,null,"TOEVOEG",null,null,null,null,"Huisnummertoevoeging",null,null,null,null,null,null,null,"LEEG"]
[null,null,"VOLGNUM",null,null,null,null,"Volgnummer",null,null,null,null,null,null,null,"LEEG"]
[null,null,"VRWRKCD",null,null,null,"ADNVRC","Verwerkingscode entiteit",null,null,null,null,null,null,null,"LEEG"]
[null,null,"ZZP",null,null,null,"ADNLOG","Bent u zelfst. zonder pers.(ZZP) J/N",null,null,null,null,null,null,null,"LEEG"]
[null,null,"IK",null,null,null,null,"BEROEP/INKOMEN PERSONEN",null,null,null,null,null,null,null,"LEEG","maxOccurs 1"]
[null,null,null,"MACHINA",null,null,"ADNLOG","Machinale houtbewerking J/N",null,null,null,null,null,null,null,"LEEG"]
[null,null,null,"URENHB",null,null,null,"Aantal uren p.w. houtbew.mach.",null,null,null,null,null,null,null,"LEEG"]
[null,null,null,"VOLGNUM",null,null,null,"Volgnummer",null,null,null,null,null,null,null,"LEEG"]
[null,null,null,"VRWRKCD",null,null,"ADNVRC","Verwerkingscode entiteit",null,null,null,null,null,null,null,"LEEG"]
[null,"HR",null,null,null,null,null,"PARTIJ HUURDER",null,null,null,null,null,null,null,{"$f":"IF(LEFT(I637,1)=\"X\",\"X\",IF(LEFT(I637,1)=\"V\",\"V\",IF(J637=\"V\",\"V\",IF(K637=\"V\",\"V\",IF(L637=\"V\",\"O\",IF(M637=\"V\",\"O\",IF(N637=\"V\",\"O\",IF(O637=\"V\",\"O\",IF(LEFT(I637,1)=\"O\",\"O\",IF(LEFT(J637,1)=\"O\",\"O\",IF(K637=\"O\",\"O\",IF(L637=\"O\",\"O\",IF(M637=\"O\",\"O\",IF(N637=\"O\",\"O\",IF(O637=\"O\",\"O\",\"LEEG\")))))))))))))))","v":"LEEG"},"maxOccurs 1"]
[null,null,"LIDHUAC",null,null,null,"ADNLOG","Lid groep huurdersactiviteiten J/N",null,null,null,null,null,null,null,"LEEG"]
[null,null,"SBISPCC",null,null,null,"ADNABS","Aard bedrijf specificatie, code",null,null,null,null,null,null,null,"LEEG"]
[null,null,"VOLGNUM",null,null,null,null,"Volgnummer",null,null,null,null,null,null,null,"LEEG"]
[null,null,"VRWRKCD",null,null,null,"ADNVRC","Verwerkingscode entiteit",null,null,null,null,null,null,null,"LEEG"]
[null,"TP",null,null,null,null,"","PARTIJ TUSSENPERSOON","O",null,null,null,null,null,null,"O","maxOccurs 1"]
[null,null,"AFMVRGN",null,null,null,"","AFM vergunningnummer","O",null,null,null,null,null,null,{"$f":"IF(LEFT(I643,1)=\"X\",\"X\",IF(LEFT(I643,1)=\"V\",\"V\",IF(J643=\"V\",\"V\",IF(K643=\"V\",\"V\",IF(L643=\"V\",\"O\",IF(M643=\"V\",\"O\",IF(N643=\"V\",\"O\",IF(O643=\"V\",\"O\",IF(LEFT(I643,1)=\"O\",\"O\",IF(LEFT(J643,1)=\"O\",\"O\",IF(K643=\"O\",\"O\",IF(L643=\"O\",\"O\",IF(M643=\"O\",\"O\",IF(N643=\"O\",\"O\",IF(O643=\"O\",\"O\",\"LEEG\")))))))))))))))","v":"O"}]
[null,null,"ANAAM",null,null,null,null,"Naam",null,null,null,null,null,null,null,{"$f":"IF(LEFT(I644,1)=\"X\",\"X\",IF(LEFT(I644,1)=\"V\",\"V\",IF(J644=\"V\",\"V\",IF(K644=\"V\",\"V\",IF(L644=\"V\",\"O\",IF(M644=\"V\",\"O\",IF(N644=\"V\",\"O\",IF(O644=\"V\",\"O\",IF(LEFT(I644,1)=\"O\",\"O\",IF(LEFT(J644,1)=\"O\",\"O\",IF(K644=\"O\",\"O\",IF(L644=\"O\",\"O\",IF(M644=\"O\",\"O\",IF(N644=\"O\",\"O\",IF(O644=\"O\",\"O\",\"LEEG\")))))))))))))))","v":"LEEG"}]
[null,null,"ENTITEI",null,null,null,"ADNENT","Entiteitscode",null,null,null,null,null,null,null,{"$f":"IF(LEFT(I645,1)=\"X\",\"X\",IF(LEFT(I645,1)=\"V\",\"V\",IF(J645=\"V\",\"V\",IF(K645=\"V\",\"V\",IF(L645=\"V\",\"O\",IF(M645=\"V\",\"O\",IF(N645=\"V\",\"O\",IF(O645=\"V\",\"O\",IF(LEFT(I645,1)=\"O\",\"O\",IF(LEFT(J645,1)=\"O\",\"O\",IF(K645=\"O\",\"O\",IF(L645=\"O\",\"O\",IF(M645=\"O\",\"O\",IF(N645=\"O\",\"O\",IF(O645=\"O\",\"O\",\"LEEG\")))))))))))))))","v":"LEEG"}]
[null,null,"IDNR",null,null,null,"","Identificatienummer","O",null,null,null,null,null,null,{"$f":"IF(LEFT(I646,1)=\"X\",\"X\",IF(LEFT(I646,1)=\"V\",\"V\",IF(J646=\"V\",\"V\",IF(K646=\"V\",\"V\",IF(L646=\"V\",\"O\",IF(M646=\"V\",\"O\",IF(N646=\"V\",\"O\",IF(O646=\"V\",\"O\",IF(LEFT(I646,1)=\"O\",\"O\",IF(LEFT(J646,1)=\"O\",\"O\",IF(K646=\"O\",\"O\",IF(L646=\"O\",\"O\",IF(M646=\"O\",\"O\",IF(N646=\"O\",\"O\",IF(O646=\"O\",\"O\",\"LEEG\")))))))))))))))","v":"O"}]
[null,null,"VRWRKCD",null,null,null,null,"Verwerkingscode entiteit",null,null,null,null,null,null,null,{"$f":"IF(LEFT(I647,1)=\"X\",\"X\",IF(LEFT(I647,1)=\"V\",\"V\",IF(J647=\"V\",\"V\",IF(K647=\"V\",\"V\",IF(L647=\"V\",\"O\",IF(M647=\"V\",\"O\",IF(N647=\"V\",\"O\",IF(O647=\"V\",\"O\",IF(LEFT(I647,1)=\"O\",\"O\",IF(LEFT(J647,1)=\"O\",\"O\",IF(K647=\"O\",\"O\",IF(L647=\"O\",\"O\",IF(M647=\"O\",\"O\",IF(N647=\"O\",\"O\",IF(O647=\"O\",\"O\",\"LEEG\")))))))))))))))","v":"LEEG"}]
[null,"VE",null,null,null,null,"","PARTIJ VOLMACHTNEMER","V",null,null,null,null,null,null,"V","maxOccurs 1"]
[null,null,"ANAAM",null,null,null,"","Naam","V",null,null,null,null,null,null,"V"]
[null,null,"ENTITEI",null,null,null,"ADNENT","Entiteitscode"," ",null,null,null,null,null,null,"LEEG"]
[null,null,"IDNR",null,null,null,"","Identificatie nummer","O",null,null,null,null,null,null,{"$f":"IF(LEFT(I651,1)=\"X\",\"X\",IF(LEFT(I651,1)=\"V\",\"V\",IF(J651=\"V\",\"V\",IF(K651=\"V\",\"V\",IF(L651=\"V\",\"O\",IF(M651=\"V\",\"O\",IF(N651=\"V\",\"O\",IF(O651=\"V\",\"O\",IF(LEFT(I651,1)=\"O\",\"O\",IF(LEFT(J651,1)=\"O\",\"O\",IF(K651=\"O\",\"O\",IF(L651=\"O\",\"O\",IF(M651=\"O\",\"O\",IF(N651=\"O\",\"O\",IF(O651=\"O\",\"O\",\"LEEG\")))))))))))))))","v":"O"}]
[null,null,"MYAAND",null,null,null,"PORMAA","POR Maatschappij aanduiding, code","O",null,null,null,null,null,"V","O"]
[null,null,"TELNUM",null,null,null,"","Telefoonnummer","V",null,null,null,null,null,null,"V"]
[null,null,"TWEEDED",null,null,null,"","Tweede deel naam","O",null,null,null,null,null,null,"O"]
[null,null,"VOLGNUM",null,null,null,null,"Volgnummer",null,null,null,null,null,null,null,{"$f":"IF(LEFT(I655,1)=\"X\",\"X\",IF(LEFT(I655,1)=\"V\",\"V\",IF(J655=\"V\",\"V\",IF(K655=\"V\",\"V\",IF(L655=\"V\",\"O\",IF(M655=\"V\",\"O\",IF(N655=\"V\",\"O\",IF(O655=\"V\",\"O\",IF(LEFT(I655,1)=\"O\",\"O\",IF(LEFT(J655,1)=\"O\",\"O\",IF(K655=\"O\",\"O\",IF(L655=\"O\",\"O\",IF(M655=\"O\",\"O\",IF(N655=\"O\",\"O\",IF(O655=\"O\",\"O\",\"LEEG\")))))))))))))))","v":"LEEG"}]
[null,null,"VRWRKCD",null,null,null,"ADNVRC","Verwerkingscode entiteit",null,null,null,null,null,null,null,"LEEG"]
[null,null,"KP",null,null,null,null,"PARTIJ CONTACTPERSOON",null,null,null,null,null,null,null,"LEEG","maxOccurs 1"]
[null,null,null,"ANAAM",null,null,null,"Naam",null,null,null,null,null,null,null,"LEEG"]
[null,null,null,"ENTITEI",null,null,"ADNENT","Entiteitscode",null,null,null,null,null,null,null,"LEEG"]
[null,null,null,"EMAIL",null,null,null,"E-mailadres",null,null,null,null,null,null,null,"LEEG"]
[null,null,null,"VRWRKCD",null,null,null,"Verwerkingscode entiteit",null,null,null,null,null,null,null,"LEEG"]
[null,"VL",null,null,null,null,"","PARTIJ VOLMACHTGEVER","V",null,null,null,null,null,null,"V","maxOccurs 1"]
[null,null,"ANAAM",null,null,null,"","Naam","V",null,null,null,null,null,null,"V"]
[null,null,"EMAIL",null,null,null,"","E-mail adres","O",null,null,null,null,null,null,"O"]
[null,null,"MYAAND",null,null,null,"PORMAA","POR Maatschappij aanduiding, code","V",null,null,null,null,null,null,"V"]
[null,null,"TELNUM",null,null,null,"","Telefoonnummer","O",null,null,null,null,null,null,"O"]
[null,null,"TWEEDED",null,null,null,"","Tweede deel naam","O",null,null,null,null,null,null,"O"]
[null,null,"VEIDNR",null,null,null,null,"Volmachtnemer identificatie","O",null,null,null,null,null,null,{"$f":"IF(LEFT(I668,1)=\"X\",\"X\",IF(LEFT(I668,1)=\"V\",\"V\",IF(J668=\"V\",\"V\",IF(K668=\"V\",\"V\",IF(L668=\"V\",\"O\",IF(M668=\"V\",\"O\",IF(N668=\"V\",\"O\",IF(O668=\"V\",\"O\",IF(LEFT(I668,1)=\"O\",\"O\",IF(LEFT(J668,1)=\"O\",\"O\",IF(K668=\"O\",\"O\",IF(L668=\"O\",\"O\",IF(M668=\"O\",\"O\",IF(N668=\"O\",\"O\",IF(O668=\"O\",\"O\",\"LEEG\")))))))))))))))","v":"O"}]
[null,null,"VOLGNUM",null,null,null,null,"Volgnummer",null,null,null,null,null,null,null,"LEEG"]
[null,null,"VRWRKCD",null,null,null,"ADNVRC","Verwerkingscode entiteit",null,null,null,null,null,null,null,"LEEG"]
[null,"VS",null,null,null,null,null,"PARTIJ VERENIGING VAN EIGENAREN",null,null,null,null,null,null,null,{"$f":"IF(LEFT(I671,1)=\"X\",\"X\",IF(LEFT(I671,1)=\"V\",\"V\",IF(J671=\"V\",\"V\",IF(K671=\"V\",\"V\",IF(L671=\"V\",\"V\",IF(M671=\"V\",\"V\",IF(N671=\"V\",\"V\",IF(O671=\"V\",\"V\",IF(LEFT(I671,1)=\"O\",\"O\",IF(LEFT(J671,1)=\"O\",\"O\",IF(K671=\"O\",\"O\",IF(L671=\"O\",\"O\",IF(M671=\"O\",\"O\",IF(N671=\"O\",\"O\",IF(O671=\"O\",\"O\",\"LEEG\")))))))))))))))","v":"LEEG"}]
[null,null,"BYZVVE",null,null,null,"ADNLOG","Bijzondere bepalingen VVE J/N",null,null,null,null,null,null,null,"LEEG"]
[null,null,"BYZVVET",null,null,null,"ADNLOG","Toel. bijzondere bepalingen VVE",null,null,null,null,null,null,null,"LEEG"]
[null,null,"EIMAVVE",null,null,null,"ADNLOG","Eigenaar m.meer app. binnen VVE J/N",null,null,null,null,null,null,null,"LEEG"]
[null,null,"ENTITEI",null,null,null,"ADNENT","Entiteitscode",null,null,null,null,null,null,null,"LEEG"]
[null,null,"ENTREF",null,null,null,null,"Entiteitsreferentie",null,null,null,null,null,null,null,"LEEG"]
[null,null,"HFDVVE",null,null,null,"ADNLOG","VVE maakt deel uit v hoofd VVE J/N",null,null,null,null,null,null,null,"LEEG"]
[null,null,"HNDORG",null,null,null,null,"Handelsnaam organisatie",null,null,null,null,null,null,"V","V"]
[null,null,"KADAAND",null,null,null,null,"Kadastrale aanduiding",null,null,null,null,null,null,null,"LEEG"]
[null,null,"NRHNDRG",null,null,null,null,"Nummer handelsregister",null,null,null,null,null,null,"O","O"]
[null,null,"VRWRKCD",null,null,null,null,"Verwerkingscode entiteit",null,null,null,null,null,null,null,"LEEG"]
[null,null,"VVEBEST",null,null,null,"ADNLOG","VVE bestuur(der) benoemd J/N",null,null,null,null,null,null,null,"LEEG"]
[null,null,"VVECVF",null,null,null,"ADNLOG","VVE Coop.Ver. van Flateigenaren J/N",null,null,null,null,null,null,null,"LEEG"]
[null,null,"VVEFON",null,null,null,"ADNLOG","Reservefonds VvE J/N",null,null,null,null,null,null,null,"LEEG"]
[null,null,"VVEIDEN",null,null,null,null,"VVE Identificatie",null,null,null,null,null,null,"V","V"]
[null,null,"VVETYP",null,null,null,"ADNVTP","Type VvE, code",null,null,null,null,null,null,"O","O"]
["XG",null,null,null,null,null,null,"TRANSACTIE PROCES",null,null,null,null,null,null,null,{"$f":"IF(LEFT(I687,1)=\"X\",\"X\",IF(LEFT(I687,1)=\"V\",\"V\",IF(J687=\"V\",\"V\",IF(K687=\"V\",\"V\",IF(L687=\"V\",\"O\",IF(M687=\"V\",\"O\",IF(N687=\"V\",\"O\",IF(O687=\"V\",\"O\",IF(LEFT(I687,1)=\"O\",\"O\",IF(LEFT(J687,1)=\"O\",\"O\",IF(K687=\"O\",\"O\",IF(L687=\"O\",\"O\",IF(M687=\"O\",\"O\",IF(N687=\"O\",\"O\",IF(O687=\"O\",\"O\",\"LEEG\")))))))))))))))","v":"LEEG"}]
[null,"STATUS",null,null,null,null,"ADNSTS","Status, code",null,null,null,null,null,null,null,"LEEG"]
[null,"STATUST",null,null,null,null,null,"Status, toelichting",null,null,null,null,null,null,null,"LEEG"]
[null,"VRWRKCD",null,null,null,null,"ADNVRC","Verwerkingscode entiteit",null,null,null,null,null,null,null,"LEEG"]
[null,"XM",null,null,null,null,null,"STATUS MELDING",null,null,null,null,null,null,null,"LEEG","maxOccurs 1"]
[null,null,"STATTXT",null,null,null,null,"Status, tekst",null,null,null,null,null,null,null,"LEEG"]
[null,null,"VOLGNUM",null,null,null,null,"Volgnummer",null,null,null,null,null,null,null,"LEEG"]
[null,null,"VRWRKCD",null,null,null,"ADNVRC","Verwerkingscode entiteit",null,null,null,null,null,null,null,"LEEG"]

{"sheet":"CSVoutput","index":2,"n_rows":682,"n_cols":17,"rows_kept":682,"cut":false,"hidden":true,"merged":[]}
["Entiteit/Attribuut","Entiteit","I1","I2","I3","Pad1","Pad2","Pad3","Pad 4","Pad 5","Pad","Attribuut",{"$f":"Schema!K13","v":"premieBerekening_aanroep"},{"$f":"Schema!L13","v":"premieBerekening_resultaat"},{"$f":"Schema!M13","v":"Acceptatie_aanroep"},{"$f":"Schema!N13","v":"Acceptatie_resultaat"},{"$f":"Schema!P13","v":"kunnenAanleveren"}]
[{"$f":"Schema!A14&Schema!B14&Schema!C14&Schema!D14&Schema!E14&Schema!F14","v":"AL"},{"$f":"IF(LEN(A2)=2,A2,IF(A2=\"\",\"Leeg\",B1))","v":"AL"},{"$f":"IF(A2=\"\",\"\",IF(LEN(Schema!A14)=2,1,IF(LEN(Schema!B14)=2,10,IF(LEN(Schema!C14)=2,100,IF(LEN(Schema!D14)=2,1000,IF(LEN(Schema!E14)=2,10000,0))))))","v":1},{"$f":"IF(C2=0,D1,C2)","v":1},{"$f":"IF(A2=\"\",\"\",SUM(Tabel2[[#This Row],[I1]:[I2]]))","v":2},{"$f":"IF(A2=\"\",\"\",IF(C2=1,B2,F1))","v":"AL"},{"$f":"IF(C2=10,A2,IF(OR(C2=0,C2=100,C2=1000,C2=10000),G1,\"\"))","v":""},{"$f":"IF(E2=200,B2,IF(OR(C2=0,C2=100,C2=1000,C2=10000),H1,\"\"))","v":""},{"$f":"IF(E2=2000,B2,IF(OR(C2=0,C2=10000),I1,\"\"))","v":""},{"$f":"IF(E2=20000,B2,IF(OR(C2=0,,C2=10000),J1,\"\"))","v":""},{"$f":"IF(C2=\"\",\"\",IF(OR(E2=1,E2=10,E2=100,E2=1000,E2=10000),K1,IF(E2=2,F2,IF(E2=20,F2&\"/\"&G2,IF(E2=200,F2&\"/\"&G2&\"/\"&H2,IF(E2=2000,F2&\"/\"&G2&\"/\"&H2&\"/\"&I2,IF(E2=20000,F2&\"/\"&G2&\"/\"&H2&\"/\"&I2&\"/\"&J2)))))))","v":"AL"},{"$f":"IF(C2=\"\",\"\",IF(LEN(Tabel2[[#This Row],[Entiteit of attribuut]])=2,\"\",Tabel2[[#This Row],[Entiteit]]&\"_\"&Tabel2[[#This Row],[Entiteit of attribuut]]))","v":""},{"$f":"IF(Schema!K14=\"\",\"\",Schema!K14)","v":""},{"$f":"IF(Schema!L14=\"\",\"\",Schema!L14)","v":""},{"$f":"IF(Schema!M14=\"\",\"\",Schema!M14)","v":""},{"$f":"IF(Schema!N14=\"\",\"\",Schema!N14)","v":""},{"$f":"IF(Schema!P14=\"\",\"\",Schema!P14)","v":"V"}]
[{"$f":"Schema!A15&Schema!B15&Schema!C15&Schema!D15&Schema!E15&Schema!F15","v":"ADATMSG"},{"$f":"IF(LEN(A3)=2,A3,IF(A3=\"\",\"Leeg\",B2))","v":"AL"},{"$f":"IF(A3=\"\",\"\",IF(LEN(Schema!A15)=2,1,IF(LEN(Schema!B15)=2,10,IF(LEN(Schema!C15)=2,100,IF(LEN(Schema!D15)=2,1000,IF(LEN(Schema!E15)=2,10000,0))))))","v":0},{"$f":"IF(C3=0,D2,C3)","v":1},{"$f":"IF(A3=\"\",\"\",SUM(Tabel2[[#This Row],[I1]:[I2]]))","v":1},{"$f":"IF(A3=\"\",\"\",IF(C3=1,B3,F2))","v":"AL"},{"$f":"IF(C3=10,A3,IF(OR(C3=0,C3=100,C3=1000,C3=10000),G2,\"\"))","v":""},{"$f":"IF(E3=200,B3,IF(OR(C3=0,C3=100,C3=1000,C3=10000),H2,\"\"))","v":""},{"$f":"IF(E3=2000,B3,IF(OR(C3=0,C3=10000),I2,\"\"))","v":""},{"$f":"IF(E3=20000,B3,IF(OR(C3=0,,C3=10000),J2,\"\"))","v":""},{"$f":"IF(C3=\"\",\"\",IF(OR(E3=1,E3=10,E3=100,E3=1000,E3=10000),K2,IF(E3=2,F3,IF(E3=20,F3&\"/\"&G3,IF(E3=200,F3&\"/\"&G3&\"/\"&H3,IF(E3=2000,F3&\"/\"&G3&\"/\"&H3&\"/\"&I3,IF(E3=20000,F3&\"/\"&G3&\"/\"&H3&\"/\"&I3&\"/\"&J3)))))))","v":"AL"},{"$f":"IF(C3=\"\",\"\",IF(LEN(Tabel2[[#This Row],[Entiteit of attribuut]])=2,\"\",Tabel2[[#This Row],[Entiteit]]&\"_\"&Tabel2[[#This Row],[Entiteit of attribuut]]))","v":"AL_ADATMSG"},{"$f":"IF(Schema!K15=\"\",\"\",Schema!K15)","v":""},{"$f":"IF(Schema!L15=\"\",\"\",Schema!L15)","v":""},{"$f":"IF(Schema!M15=\"\",\"\",Schema!M15)","v":""},{"$f":"IF(Schema!N15=\"\",\"\",Schema!N15)","v":""},{"$f":"IF(Schema!P15=\"\",\"\",Schema!P15)","v":"V"}]
[{"$f":"Schema!A16&Schema!B16&Schema!C16&Schema!D16&Schema!E16&Schema!F16","v":"APPLNM"},"AL",{"$f":"IF(A4=\"\",\"\",IF(LEN(Schema!A16)=2,1,IF(LEN(Schema!B16)=2,10,IF(LEN(Schema!C16)=2,100,IF(LEN(Schema!D16)=2,1000,IF(LEN(Schema!E16)=2,10000,0))))))","v":0},1,{"$f":"IF(A4=\"\",\"\",SUM(Tabel2[[#This Row],[I1]:[I2]]))","v":1},"AL","","","","","AL",{"$f":"IF(C4=\"\",\"\",IF(LEN(Tabel2[[#This Row],[Entiteit of attribuut]])=2,\"\",Tabel2[[#This Row],[Entiteit]]&\"_\"&Tabel2[[#This Row],[Entiteit of attribuut]]))","v":"AL_APPLNM"},{"$f":"IF(Schema!K16=\"\",\"\",Schema!K16)","v":""},{"$f":"IF(Schema!L16=\"\",\"\",Schema!L16)","v":""},{"$f":"IF(Schema!M16=\"\",\"\",Schema!M16)","v":""},{"$f":"IF(Schema!N16=\"\",\"\",Schema!N16)","v":""},{"$f":"IF(Schema!P16=\"\",\"\",Schema!P16)","v":"O"}]
[{"$f":"Schema!A17&Schema!B17&Schema!C17&Schema!D17&Schema!E17&Schema!F17","v":"APPLVS"},"AL",{"$f":"IF(A5=\"\",\"\",IF(LEN(Schema!A17)=2,1,IF(LEN(Schema!B17)=2,10,IF(LEN(Schema!C17)=2,100,IF(LEN(Schema!D17)=2,1000,IF(LEN(Schema!E17)=2,10000,0))))))","v":0},1,{"$f":"IF(A5=\"\",\"\",SUM(Tabel2[[#This Row],[I1]:[I2]]))","v":1},"AL","","","","","AL",{"$f":"IF(C5=\"\",\"\",IF(LEN(Tabel2[[#This Row],[Entiteit of attribuut]])=2,\"\",Tabel2[[#This Row],[Entiteit]]&\"_\"&Tabel2[[#This Row],[Entiteit of attribuut]]))","v":"AL_APPLVS"},{"$f":"IF(Schema!K17=\"\",\"\",Schema!K17)","v":""},{"$f":"IF(Schema!L17=\"\",\"\",Schema!L17)","v":""},{"$f":"IF(Schema!M17=\"\",\"\",Schema!M17)","v":""},{"$f":"IF(Schema!N17=\"\",\"\",Schema!N17)","v":""},{"$f":"IF(Schema!P17=\"\",\"\",Schema!P17)","v":"O"}]
[{"$f":"Schema!A18&Schema!B18&Schema!C18&Schema!D18&Schema!E18&Schema!F18","v":"CPREF"},"AL",{"$f":"IF(A6=\"\",\"\",IF(LEN(Schema!A18)=2,1,IF(LEN(Schema!B18)=2,10,IF(LEN(Schema!C18)=2,100,IF(LEN(Schema!D18)=2,1000,IF(LEN(Schema!E18)=2,10000,0))))))","v":0},1,{"$f":"IF(A6=\"\",\"\",SUM(Tabel2[[#This Row],[I1]:[I2]]))","v":1},"AL","","","","","AL",{"$f":"IF(C6=\"\",\"\",IF(LEN(Tabel2[[#This Row],[Entiteit of attribuut]])=2,\"\",Tabel2[[#This Row],[Entiteit]]&\"_\"&Tabel2[[#This Row],[Entiteit of attribuut]]))","v":"AL_CPREF"},{"$f":"IF(Schema!K18=\"\",\"\",Schema!K18)","v":""},{"$f":"IF(Schema!L18=\"\",\"\",Schema!L18)","v":""},{"$f":"IF(Schema!M18=\"\",\"\",Schema!M18)","v":""},{"$f":"IF(Schema!N18=\"\",\"\",Schema!N18)","v":""},{"$f":"IF(Schema!P18=\"\",\"\",Schema!P18)","v":"V"}]
[{"$f":"Schema!A19&Schema!B19&Schema!C19&Schema!D19&Schema!E19&Schema!F19","v":"DATACAT"},"AL",{"$f":"IF(A7=\"\",\"\",IF(LEN(Schema!A19)=2,1,IF(LEN(Schema!B19)=2,10,IF(LEN(Schema!C19)=2,100,IF(LEN(Schema!D19)=2,1000,IF(LEN(Schema!E19)=2,10000,0))))))","v":0},1,{"$f":"IF(A7=\"\",\"\",SUM(Tabel2[[#This Row],[I1]:[I2]]))","v":1},"AL","","","","","AL",{"$f":"IF(C7=\"\",\"\",IF(LEN(Tabel2[[#This Row],[Entiteit of attribuut]])=2,\"\",Tabel2[[#This Row],[Entiteit]]&\"_\"&Tabel2[[#This Row],[Entiteit of attribuut]]))","v":"AL_DATACAT"},{"$f":"IF(Schema!K19=\"\",\"\",Schema!K19)","v":""},{"$f":"IF(Schema!L19=\"\",\"\",Schema!L19)","v":""},{"$f":"IF(Schema!M19=\"\",\"\",Schema!M19)","v":""},{"$f":"IF(Schema!N19=\"\",\"\",Schema!N19)","v":""},{"$f":"IF(Schema!P19=\"\",\"\",Schema!P19)","v":"LEEG"}]
[{"$f":"Schema!A20&Schema!B20&Schema!C20&Schema!D20&Schema!E20&Schema!F20","v":"ENTITEI"},"AL",{"$f":"IF(A8=\"\",\"\",IF(LEN(Schema!A20)=2,1,IF(LEN(Schema!B20)=2,10,IF(LEN(Schema!C20)=2,100,IF(LEN(Schema!D20)=2,1000,IF(LEN(Schema!E20)=2,10000,0))))))","v":0},1,{"$f":"IF(A8=\"\",\"\",SUM(Tabel2[[#This Row],[I1]:[I2]]))","v":1},"AL","","","","","AL",{"$f":"IF(C8=\"\",\"\",IF(LEN(Tabel2[[#This Row],[Entiteit of attribuut]])=2,\"\",Tabel2[[#This Row],[Entiteit]]&\"_\"&Tabel2[[#This Row],[Entiteit of attribuut]]))","v":"AL_ENTITEI"},{"$f":"IF(Schema!K20=\"\",\"\",Schema!K20)","v":""},{"$f":"IF(Schema!L20=\"\",\"\",Schema!L20)","v":""},{"$f":"IF(Schema!M20=\"\",\"\",Schema!M20)","v":""},{"$f":"IF(Schema!N20=\"\",\"\",Schema!N20)","v":""},{"$f":"IF(Schema!P20=\"\",\"\",Schema!P20)","v":"LEEG"}]
[{"$f":"Schema!A21&Schema!B21&Schema!C21&Schema!D21&Schema!E21&Schema!F21","v":"FUNCTIE"},"AL",{"$f":"IF(A9=\"\",\"\",IF(LEN(Schema!A21)=2,1,IF(LEN(Schema!B21)=2,10,IF(LEN(Schema!C21)=2,100,IF(LEN(Schema!D21)=2,1000,IF(LEN(Schema!E21)=2,10000,0))))))","v":0},1,{"$f":"IF(A9=\"\",\"\",SUM(Tabel2[[#This Row],[I1]:[I2]]))","v":1},"AL","","","","","AL",{"$f":"IF(C9=\"\",\"\",IF(LEN(Tabel2[[#This Row],[Entiteit of attribuut]])=2,\"\",Tabel2[[#This Row],[Entiteit]]&\"_\"&Tabel2[[#This Row],[Entiteit of attribuut]]))","v":"AL_FUNCTIE"},{"$f":"IF(Schema!K21=\"\",\"\",Schema!K21)","v":""},{"$f":"IF(Schema!L21=\"\",\"\",Schema!L21)","v":""},{"$f":"IF(Schema!M21=\"\",\"\",Schema!M21)","v":""},{"$f":"IF(Schema!N21=\"\",\"\",Schema!N21)","v":""},{"$f":"IF(Schema!P21=\"\",\"\",Schema!P21)","v":"LEEG"}]
[{"$f":"Schema!A22&Schema!B22&Schema!C22&Schema!D22&Schema!E22&Schema!F22","v":"INCLGP"},"AL",{"$f":"IF(A10=\"\",\"\",IF(LEN(Schema!A22)=2,1,IF(LEN(Schema!B22)=2,10,IF(LEN(Schema!C22)=2,100,IF(LEN(Schema!D22)=2,1000,IF(LEN(Schema!E22)=2,10000,0))))))","v":0},1,{"$f":"IF(A10=\"\",\"\",SUM(Tabel2[[#This Row],[I1]:[I2]]))","v":1},"AL","","","","","AL",{"$f":"IF(C10=\"\",\"\",IF(LEN(Tabel2[[#This Row],[Entiteit of attribuut]])=2,\"\",Tabel2[[#This Row],[Entiteit]]&\"_\"&Tabel2[[#This Row],[Entiteit of attribuut]]))","v":"AL_INCLGP"},{"$f":"IF(Schema!K22=\"\",\"\",Schema!K22)","v":""},{"$f":"IF(Schema!L22=\"\",\"\",Schema!L22)","v":""},{"$f":"IF(Schema!M22=\"\",\"\",Schema!M22)","v":""},{"$f":"IF(Schema!N22=\"\",\"\",Schema!N22)","v":""},{"$f":"IF(Schema!P22=\"\",\"\",Schema!P22)","v":"V"}]
[{"$f":"Schema!A23&Schema!B23&Schema!C23&Schema!D23&Schema!E23&Schema!F23","v":"INCLOP"},"AL",{"$f":"IF(A11=\"\",\"\",IF(LEN(Schema!A23)=2,1,IF(LEN(Schema!B23)=2,10,IF(LEN(Schema!C23)=2,100,IF(LEN(Schema!D23)=2,1000,IF(LEN(Schema!E23)=2,10000,0))))))","v":0},1,{"$f":"IF(A11=\"\",\"\",SUM(Tabel2[[#This Row],[I1]:[I2]]))","v":1},"AL","","","","","AL",{"$f":"IF(C11=\"\",\"\",IF(LEN(Tabel2[[#This Row],[Entiteit of attribuut]])=2,\"\",Tabel2[[#This Row],[Entiteit]]&\"_\"&Tabel2[[#This Row],[Entiteit of attribuut]]))","v":"AL_INCLOP"},{"$f":"IF(Schema!K23=\"\",\"\",Schema!K23)","v":""},{"$f":"IF(Schema!L23=\"\",\"\",Schema!L23)","v":""},{"$f":"IF(Schema!M23=\"\",\"\",Schema!M23)","v":""},{"$f":"IF(Schema!N23=\"\",\"\",Schema!N23)","v":""},{"$f":"IF(Schema!P23=\"\",\"\",Schema!P23)","v":"V"}]
[{"$f":"Schema!A24&Schema!B24&Schema!C24&Schema!D24&Schema!E24&Schema!F24","v":"INCLPP"},"AL",{"$f":"IF(A12=\"\",\"\",IF(LEN(Schema!A24)=2,1,IF(LEN(Schema!B24)=2,10,IF(LEN(Schema!C24)=2,100,IF(LEN(Schema!D24)=2,1000,IF(LEN(Schema!E24)=2,10000,0))))))","v":0},1,{"$f":"IF(A12=\"\",\"\",SUM(Tabel2[[#This Row],[I1]:[I2]]))","v":1},"AL","","","","","AL",{"$f":"IF(C12=\"\",\"\",IF(LEN(Tabel2[[#This Row],[Entiteit of attribuut]])=2,\"\",Tabel2[[#This Row],[Entiteit]]&\"_\"&Tabel2[[#This Row],[Entiteit of attribuut]]))","v":"AL_INCLPP"},{"$f":"IF(Schema!K24=\"\",\"\",Schema!K24)","v":""},{"$f":"IF(Schema!L24=\"\",\"\",Schema!L24)","v":""},{"$f":"IF(Schema!M24=\"\",\"\",Schema!M24)","v":""},{"$f":"IF(Schema!N24=\"\",\"\",Schema!N24)","v":""},{"$f":"IF(Schema!P24=\"\",\"\",Schema!P24)","v":"V"}]
[{"$f":"Schema!A25&Schema!B25&Schema!C25&Schema!D25&Schema!E25&Schema!F25","v":"MNDGP"},"AL",{"$f":"IF(A13=\"\",\"\",IF(LEN(Schema!A25)=2,1,IF(LEN(Schema!B25)=2,10,IF(LEN(Schema!C25)=2,100,IF(LEN(Schema!D25)=2,1000,IF(LEN(Schema!E25)=2,10000,0))))))","v":0},1,{"$f":"IF(A13=\"\",\"\",SUM(Tabel2[[#This Row],[I1]:[I2]]))","v":1},"AL","","","","","AL",{"$f":"IF(C13=\"\",\"\",IF(LEN(Tabel2[[#This Row],[Entiteit of attribuut]])=2,\"\",Tabel2[[#This Row],[Entiteit]]&\"_\"&Tabel2[[#This Row],[Entiteit of attribuut]]))","v":"AL_MNDGP"},{"$f":"IF(Schema!K25=\"\",\"\",Schema!K25)","v":""},{"$f":"IF(Schema!L25=\"\",\"\",Schema!L25)","v":""},{"$f":"IF(Schema!M25=\"\",\"\",Schema!M25)","v":""},{"$f":"IF(Schema!N25=\"\",\"\",Schema!N25)","v":""},{"$f":"IF(Schema!P25=\"\",\"\",Schema!P25)","v":"O"}]
[{"$f":"Schema!A26&Schema!B26&Schema!C26&Schema!D26&Schema!E26&Schema!F26","v":"VERSIEV"},"AL",{"$f":"IF(A14=\"\",\"\",IF(LEN(Schema!A26)=2,1,IF(LEN(Schema!B26)=2,10,IF(LEN(Schema!C26)=2,100,IF(LEN(Schema!D26)=2,1000,IF(LEN(Schema!E26)=2,10000,0))))))","v":0},1,{"$f":"IF(A14=\"\",\"\",SUM(Tabel2[[#This Row],[I1]:[I2]]))","v":1},"AL","","","","","AL",{"$f":"IF(C14=\"\",\"\",IF(LEN(Tabel2[[#This Row],[Entiteit of attribuut]])=2,\"\",Tabel2[[#This Row],[Entiteit]]&\"_\"&Tabel2[[#This Row],[Entiteit of attribuut]]))","v":"AL_VERSIEV"},{"$f":"IF(Schema!K26=\"\",\"\",Schema!K26)","v":""},{"$f":"IF(Schema!L26=\"\",\"\",Schema!L26)","v":""},{"$f":"IF(Schema!M26=\"\",\"\",Schema!M26)","v":""},{"$f":"IF(Schema!N26=\"\",\"\",Schema!N26)","v":""},{"$f":"IF(Schema!P26=\"\",\"\",Schema!P26)","v":"V"}]
[{"$f":"Schema!A27&Schema!B27&Schema!C27&Schema!D27&Schema!E27&Schema!F27","v":"VIEWCOD"},"AL",{"$f":"IF(A15=\"\",\"\",IF(LEN(Schema!A27)=2,1,IF(LEN(Schema!B27)=2,10,IF(LEN(Schema!C27)=2,100,IF(LEN(Schema!D27)=2,1000,IF(LEN(Schema!E27)=2,10000,0))))))","v":0},1,{"$f":"IF(A15=\"\",\"\",SUM(Tabel2[[#This Row],[I1]:[I2]]))","v":1},"AL","","","","","AL",{"$f":"IF(C15=\"\",\"\",IF(LEN(Tabel2[[#This Row],[Entiteit of attribuut]])=2,\"\",Tabel2[[#This Row],[Entiteit]]&\"_\"&Tabel2[[#This Row],[Entiteit of attribuut]]))","v":"AL_VIEWCOD"},{"$f":"IF(Schema!K27=\"\",\"\",Schema!K27)","v":""},{"$f":"IF(Schema!L27=\"\",\"\",Schema!L27)","v":""},{"$f":"IF(Schema!M27=\"\",\"\",Schema!M27)","v":""},{"$f":"IF(Schema!N27=\"\",\"\",Schema!N27)","v":""},{"$f":"IF(Schema!P27=\"\",\"\",Schema!P27)","v":"LEEG"}]
[{"$f":"Schema!A28&Schema!B28&Schema!C28&Schema!D28&Schema!E28&Schema!F28","v":"VRWRKCD"},"AL",{"$f":"IF(A16=\"\",\"\",IF(LEN(Schema!A28)=2,1,IF(LEN(Schema!B28)=2,10,IF(LEN(Schema!C28)=2,100,IF(LEN(Schema!D28)=2,1000,IF(LEN(Schema!E28)=2,10000,0))))))","v":0},1,{"$f":"IF(A16=\"\",\"\",SUM(Tabel2[[#This Row],[I1]:[I2]]))","v":1},"AL","","","","","AL",{"$f":"IF(C16=\"\",\"\",IF(LEN(Tabel2[[#This Row],[Entiteit of attribuut]])=2,\"\",Tabel2[[#This Row],[Entiteit]]&\"_\"&Tabel2[[#This Row],[Entiteit of attribuut]]))","v":"AL_VRWRKCD"},{"$f":"IF(Schema!K28=\"\",\"\",Schema!K28)","v":""},{"$f":"IF(Schema!L28=\"\",\"\",Schema!L28)","v":""},{"$f":"IF(Schema!M28=\"\",\"\",Schema!M28)","v":""},{"$f":"IF(Schema!N28=\"\",\"\",Schema!N28)","v":""},{"$f":"IF(Schema!P28=\"\",\"\",Schema!P28)","v":"LEEG"}]
[{"$f":"Schema!A29&Schema!B29&Schema!C29&Schema!D29&Schema!E29&Schema!F29","v":"PK"},"PK",{"$f":"IF(A17=\"\",\"\",IF(LEN(Schema!A29)=2,1,IF(LEN(Schema!B29)=2,10,IF(LEN(Schema!C29)=2,100,IF(LEN(Schema!D29)=2,1000,IF(LEN(Schema!E29)=2,10000,0))))))","v":1},1,{"$f":"IF(A17=\"\",\"\",SUM(Tabel2[[#This Row],[I1]:[I2]]))","v":2},"PK","","","","","PK",{"$f":"IF(C17=\"\",\"\",IF(LEN(Tabel2[[#This Row],[Entiteit of attribuut]])=2,\"\",Tabel2[[#This Row],[Entiteit]]&\"_\"&Tabel2[[#This Row],[Entiteit of attribuut]]))","v":""},{"$f":"IF(Schema!K29=\"\",\"\",Schema!K29)","v":""},{"$f":"IF(Schema!L29=\"\",\"\",Schema!L29)","v":""},{"$f":"IF(Schema!M29=\"\",\"\",Schema!M29)","v":""},{"$f":"IF(Schema!N29=\"\",\"\",Schema!N29)","v":""},{"$f":"IF(Schema!P29=\"\",\"\",Schema!P29)","v":"O"}]
[{"$f":"Schema!A30&Schema!B30&Schema!C30&Schema!D30&Schema!E30&Schema!F30","v":"NUMMER"},"PK",{"$f":"IF(A18=\"\",\"\",IF(LEN(Schema!A30)=2,1,IF(LEN(Schema!B30)=2,10,IF(LEN(Schema!C30)=2,100,IF(LEN(Schema!D30)=2,1000,IF(LEN(Schema!E30)=2,10000,0))))))","v":0},1,{"$f":"IF(A18=\"\",\"\",SUM(Tabel2[[#This Row],[I1]:[I2]]))","v":1},"PK","","","","","PK",{"$f":"IF(C18=\"\",\"\",IF(LEN(Tabel2[[#This Row],[Entiteit of attribuut]])=2,\"\",Tabel2[[#This Row],[Entiteit]]&\"_\"&Tabel2[[#This Row],[Entiteit of attribuut]]))","v":"PK_NUMMER"},{"$f":"IF(Schema!K30=\"\",\"\",Schema!K30)","v":""},{"$f":"IF(Schema!L30=\"\",\"\",Schema!L30)","v":""},{"$f":"IF(Schema!M30=\"\",\"\",Schema!M30)","v":""},{"$f":"IF(Schema!N30=\"\",\"\",Schema!N30)","v":""},{"$f":"IF(Schema!P30=\"\",\"\",Schema!P30)","v":"V"}]
[{"$f":"Schema!A31&Schema!B31&Schema!C31&Schema!D31&Schema!E31&Schema!F31","v":"RC"},"RC",{"$f":"IF(A19=\"\",\"\",IF(LEN(Schema!A31)=2,1,IF(LEN(Schema!B31)=2,10,IF(LEN(Schema!C31)=2,100,IF(LEN(Schema!D31)=2,1000,IF(LEN(Schema!E31)=2,10000,0))))))","v":1},1,{"$f":"IF(A19=\"\",\"\",SUM(Tabel2[[#This Row],[I1]:[I2]]))","v":2},"RC","","","","","RC",{"$f":"IF(C19=\"\",\"\",IF(LEN(Tabel2[[#This Row],[Entiteit of attribuut]])=2,\"\",Tabel2[[#This Row],[Entiteit]]&\"_\"&Tabel2[[#This Row],[Entiteit of attribuut]]))","v":""},{"$f":"IF(Schema!K31=\"\",\"\",Schema!K31)","v":""},{"$f":"IF(Schema!L31=\"\",\"\",Schema!L31)","v":""},{"$f":"IF(Schema!M31=\"\",\"\",Schema!M31)","v":""},{"$f":"IF(Schema!N31=\"\",\"\",Schema!N31)","v":""},{"$f":"IF(Schema!P31=\"\",\"\",Schema!P31)","v":"O"}]
[{"$f":"Schema!A32&Schema!B32&Schema!C32&Schema!D32&Schema!E32&Schema!F32","v":"NUMMER"},"RC",{"$f":"IF(A20=\"\",\"\",IF(LEN(Schema!A32)=2,1,IF(LEN(Schema!B32)=2,10,IF(LEN(Schema!C32)=2,100,IF(LEN(Schema!D32)=2,1000,IF(LEN(Schema!E32)=2,10000,0))))))","v":0},1,{"$f":"IF(A20=\"\",\"\",SUM(Tabel2[[#This Row],[I1]:[I2]]))","v":1},"RC","","","","","RC",{"$f":"IF(C20=\"\",\"\",IF(LEN(Tabel2[[#This Row],[Entiteit of attribuut]])=2,\"\",Tabel2[[#This Row],[Entiteit]]&\"_\"&Tabel2[[#This Row],[Entiteit of attribuut]]))","v":"RC_NUMMER"},{"$f":"IF(Schema!K32=\"\",\"\",Schema!K32)","v":""},{"$f":"IF(Schema!L32=\"\",\"\",Schema!L32)","v":""},{"$f":"IF(Schema!M32=\"\",\"\",Schema!M32)","v":""},{"$f":"IF(Schema!N32=\"\",\"\",Schema!N32)","v":""},{"$f":"IF(Schema!P32=\"\",\"\",Schema!P32)","v":"V"}]
[{"$f":"Schema!A33&Schema!B33&Schema!C33&Schema!D33&Schema!E33&Schema!F33","v":"PP"},"PP",{"$f":"IF(A21=\"\",\"\",IF(LEN(Schema!A33)=2,1,IF(LEN(Schema!B33)=2,10,IF(LEN(Schema!C33)=2,100,IF(LEN(Schema!D33)=2,1000,IF(LEN(Schema!E33)=2,10000,0))))))","v":1},1,{"$f":"IF(A21=\"\",\"\",SUM(Tabel2[[#This Row],[I1]:[I2]]))","v":2},"PP","","","","","PP",{"$f":"IF(C21=\"\",\"\",IF(LEN(Tabel2[[#This Row],[Entiteit of attribuut]])=2,\"\",Tabel2[[#This Row],[Entiteit]]&\"_\"&Tabel2[[#This Row],[Entiteit of attribuut]]))","v":""},{"$f":"IF(Schema!K33=\"\",\"\",Schema!K33)","v":""},{"$f":"IF(Schema!L33=\"\",\"\",Schema!L33)","v":""},{"$f":"IF(Schema!M33=\"\",\"\",Schema!M33)","v":""},{"$f":"IF(Schema!N33=\"\",\"\",Schema!N33)","v":""},{"$f":"IF(Schema!P33=\"\",\"\",Schema!P33)","v":"V"}]
[{"$f":"Schema!A34&Schema!B34&Schema!C34&Schema!D34&Schema!E34&Schema!F34","v":"AANTVOC"},"PP",{"$f":"IF(A22=\"\",\"\",IF(LEN(Schema!A34)=2,1,IF(LEN(Schema!B34)=2,10,IF(LEN(Schema!C34)=2,100,IF(LEN(Schema!D34)=2,1000,IF(LEN(Schema!E34)=2,10000,0))))))","v":0},1,{"$f":"IF(A22=\"\",\"\",SUM(Tabel2[[#This Row],[I1]:[I2]]))","v":1},"PP","","","","","PP",{"$f":"IF(C22=\"\",\"\",IF(LEN(Tabel2[[#This Row],[Entiteit of attribuut]])=2,\"\",Tabel2[[#This Row],[Entiteit]]&\"_\"&Tabel2[[#This Row],[Entiteit of attribuut]]))","v":"PP_AANTVOC"},{"$f":"IF(Schema!K34=\"\",\"\",Schema!K34)","v":""},{"$f":"IF(Schema!L34=\"\",\"\",Schema!L34)","v":""},{"$f":"IF(Schema!M34=\"\",\"\",Schema!M34)","v":""},{"$f":"IF(Schema!N34=\"\",\"\",Schema!N34)","v":""},{"$f":"IF(Schema!P34=\"\",\"\",Schema!P34)","v":"LEEG"}]
[{"$f":"Schema!A35&Schema!B35&Schema!C35&Schema!D35&Schema!E35&Schema!F35","v":"ADEFVRS"},"PP",{"$f":"IF(A23=\"\",\"\",IF(LEN(Schema!A35)=2,1,IF(LEN(Schema!B35)=2,10,IF(LEN(Schema!C35)=2,100,IF(LEN(Schema!D35)=2,1000,IF(LEN(Schema!E35)=2,10000,0))))))","v":0},1,{"$f":"IF(A23=\"\",\"\",SUM(Tabel2[[#This Row],[I1]:[I2]]))","v":1},"PP","","","","","PP",{"$f":"IF(C23=\"\",\"\",IF(LEN(Tabel2[[#This Row],[Entiteit of attribuut]])=2,\"\",Tabel2[[#This Row],[Entiteit]]&\"_\"&Tabel2[[#This Row],[Entiteit of attribuut]]))","v":"PP_ADEFVRS"},{"$f":"IF(Schema!K35=\"\",\"\",Schema!K35)","v":""},{"$f":"IF(Schema!L35=\"\",\"\",Schema!L35)","v":""},{"$f":"IF(Schema!M35=\"\",\"\",Schema!M35)","v":""},{"$f":"IF(Schema!N35=\"\",\"\",Schema!N35)","v":""},{"$f":"IF(Schema!P35=\"\",\"\",Schema!P35)","v":"V"}]
[{"$f":"Schema!A36&Schema!B36&Schema!C36&Schema!D36&Schema!E36&Schema!F36","v":"AFDDEFN"},"PP",{"$f":"IF(A24=\"\",\"\",IF(LEN(Schema!A36)=2,1,IF(LEN(Schema!B36)=2,10,IF(LEN(Schema!C36)=2,100,IF(LEN(Schema!D36)=2,1000,IF(LEN(Schema!E36)=2,10000,0))))))","v":0},1,{"$f":"IF(A24=\"\",\"\",SUM(Tabel2[[#This Row],[I1]:[I2]]))","v":1},"PP","","","","","PP",{"$f":"IF(C24=\"\",\"\",IF(LEN(Tabel2[[#This Row],[Entiteit of attribuut]])=2,\"\",Tabel2[[#This Row],[Entiteit]]&\"_\"&Tabel2[[#This Row],[Entiteit of attribuut]]))","v":"PP_AFDDEFN"},{"$f":"IF(Schema!K36=\"\",\"\",Schema!K36)","v":""},{"$f":"IF(Schema!L36=\"\",\"\",Schema!L36)","v":""},{"$f":"IF(Schema!M36=\"\",\"\",Schema!M36)","v":""},{"$f":"IF(Schema!N36=\"\",\"\",Schema!N36)","v":""},{"$f":"IF(Schema!P36=\"\",\"\",Schema!P36)","v":"V"}]
[{"$f":"Schema!A37&Schema!B37&Schema!C37&Schema!D37&Schema!E37&Schema!F37","v":"BETTERM"},"PP",{"$f":"IF(A25=\"\",\"\",IF(LEN(Schema!A37)=2,1,IF(LEN(Schema!B37)=2,10,IF(LEN(Schema!C37)=2,100,IF(LEN(Schema!D37)=2,1000,IF(LEN(Schema!E37)=2,10000,0))))))","v":0},1,{"$f":"IF(A25=\"\",\"\",SUM(Tabel2[[#This Row],[I1]:[I2]]))","v":1},"PP","","","","","PP",{"$f":"IF(C25=\"\",\"\",IF(LEN(Tabel2[[#This Row],[Entiteit of attribuut]])=2,\"\",Tabel2[[#This Row],[Entiteit]]&\"_\"&Tabel2[[#This Row],[Entiteit of attribuut]]))","v":"PP_BETTERM"},{"$f":"IF(Schema!K37=\"\",\"\",Schema!K37)","v":""},{"$f":"IF(Schema!L37=\"\",\"\",Schema!L37)","v":""},{"$f":"IF(Schema!M37=\"\",\"\",Schema!M37)","v":""},{"$f":"IF(Schema!N37=\"\",\"\",Schema!N37)","v":""},{"$f":"IF(Schema!P37=\"\",\"\",Schema!P37)","v":"O"}]
[{"$f":"Schema!A38&Schema!B38&Schema!C38&Schema!D38&Schema!E38&Schema!F38","v":"BRANCHE"},"PP",{"$f":"IF(A26=\"\",\"\",IF(LEN(Schema!A38)=2,1,IF(LEN(Schema!B38)=2,10,IF(LEN(Schema!C38)=2,100,IF(LEN(Schema!D38)=2,1000,IF(LEN(Schema!E38)=2,10000,0))))))","v":0},1,{"$f":"IF(A26=\"\",\"\",SUM(Tabel2[[#This Row],[I1]:[I2]]))","v":1},"PP","","","","","PP",{"$f":"IF(C26=\"\",\"\",IF(LEN(Tabel2[[#This Row],[Entiteit of attribuut]])=2,\"\",Tabel2[[#This Row],[Entiteit]]&\"_\"&Tabel2[[#This Row],[Entiteit of attribuut]]))","v":"PP_BRANCHE"},{"$f":"IF(Schema!K38=\"\",\"\",Schema!K38)","v":""},{"$f":"IF(Schema!L38=\"\",\"\",Schema!L38)","v":""},{"$f":"IF(Schema!M38=\"\",\"\",Schema!M38)","v":""},{"$f":"IF(Schema!N38=\"\",\"\",Schema!N38)","v":""},{"$f":"IF(Schema!P38=\"\",\"\",Schema!P38)","v":"V"}]
[{"$f":"Schema!A39&Schema!B39&Schema!C39&Schema!D39&Schema!E39&Schema!F39","v":"BTP"},"PP",{"$f":"IF(A27=\"\",\"\",IF(LEN(Schema!A39)=2,1,IF(LEN(Schema!B39)=2,10,IF(LEN(Schema!C39)=2,100,IF(LEN(Schema!D39)=2,1000,IF(LEN(Schema!E39)=2,10000,0))))))","v":0},1,{"$f":"IF(A27=\"\",\"\",SUM(Tabel2[[#This Row],[I1]:[I2]]))","v":1},"PP","","","","","PP",{"$f":"IF(C27=\"\",\"\",IF(LEN(Tabel2[[#This Row],[Entiteit of attribuut]])=2,\"\",Tabel2[[#This Row],[Entiteit]]&\"_\"&Tabel2[[#This Row],[Entiteit of attribuut]]))","v":"PP_BTP"},{"$f":"IF(Schema!K39=\"\",\"\",Schema!K39)","v":""},{"$f":"IF(Schema!L39=\"\",\"\",Schema!L39)","v":""},{"$f":"IF(Schema!M39=\"\",\"\",Schema!M39)","v":""},{"$f":"IF(Schema!N39=\"\",\"\",Schema!N39)","v":""},{"$f":"IF(Schema!P39=\"\",\"\",Schema!P39)","v":"LEEG"}]
[{"$f":"Schema!A40&Schema!B40&Schema!C40&Schema!D40&Schema!E40&Schema!F40","v":"CDUUMND"},"PP",{"$f":"IF(A28=\"\",\"\",IF(LEN(Schema!A40)=2,1,IF(LEN(Schema!B40)=2,10,IF(LEN(Schema!C40)=2,100,IF(LEN(Schema!D40)=2,1000,IF(LEN(Schema!E40)=2,10000,0))))))","v":0},1,{"$f":"IF(A28=\"\",\"\",SUM(Tabel2[[#This Row],[I1]:[I2]]))","v":1},"PP","","","","","PP",{"$f":"IF(C28=\"\",\"\",IF(LEN(Tabel2[[#This Row],[Entiteit of attribuut]])=2,\"\",Tabel2[[#This Row],[Entiteit]]&\"_\"&Tabel2[[#This Row],[Entiteit of attribuut]]))","v":"PP_CDUUMND"},{"$f":"IF(Schema!K40=\"\",\"\",Schema!K40)","v":""},{"$f":"IF(Schema!L40=\"\",\"\",Schema!L40)","v":""},{"$f":"IF(Schema!M40=\"\",\"\",Schema!M40)","v":""},{"$f":"IF(Schema!N40=\"\",\"\",Schema!N40)","v":""},{"$f":"IF(Schema!P40=\"\",\"\",Schema!P40)","v":"O"}]
[{"$f":"Schema!A41&Schema!B41&Schema!C41&Schema!D41&Schema!E41&Schema!F41","v":"COASSJN"},"PP",{"$f":"IF(A29=\"\",\"\",IF(LEN(Schema!A41)=2,1,IF(LEN(Schema!B41)=2,10,IF(LEN(Schema!C41)=2,100,IF(LEN(Schema!D41)=2,1000,IF(LEN(Schema!E41)=2,10000,0))))))","v":0},1,{"$f":"IF(A29=\"\",\"\",SUM(Tabel2[[#This Row],[I1]:[I2]]))","v":1},"PP","","","","","PP",{"$f":"IF(C29=\"\",\"\",IF(LEN(Tabel2[[#This Row],[Entiteit of attribuut]])=2,\"\",Tabel2[[#This Row],[Entiteit]]&\"_\"&Tabel2[[#This Row],[Entiteit of attribuut]]))","v":"PP_COASSJN"},{"$f":"IF(Schema!K41=\"\",\"\",Schema!K41)","v":""},{"$f":"IF(Schema!L41=\"\",\"\",Schema!L41)","v":""},{"$f":"IF(Schema!M41=\"\",\"\",Schema!M41)","v":""},{"$f":"IF(Schema!N41=\"\",\"\",Schema!N41)","v":""},{"$f":"IF(Schema!P41=\"\",\"\",Schema!P41)","v":"V"}]
[{"$f":"Schema!A42&Schema!B42&Schema!C42&Schema!D42&Schema!E42&Schema!F42","v":"ENDDATC"},"PP",{"$f":"IF(A30=\"\",\"\",IF(LEN(Schema!A42)=2,1,IF(LEN(Schema!B42)=2,10,IF(LEN(Schema!C42)=2,100,IF(LEN(Schema!D42)=2,1000,IF(LEN(Schema!E42)=2,10000,0))))))","v":0},1,{"$f":"IF(A30=\"\",\"\",SUM(Tabel2[[#This Row],[I1]:[I2]]))","v":1},"PP","","","","","PP",{"$f":"IF(C30=\"\",\"\",IF(LEN(Tabel2[[#This Row],[Entiteit of attribuut]])=2,\"\",Tabel2[[#This Row],[Entiteit]]&\"_\"&Tabel2[[#This Row],[Entiteit of attribuut]]))","v":"PP_ENDDATC"},{"$f":"IF(Schema!K42=\"\",\"\",Schema!K42)","v":""},{"$f":"IF(Schema!L42=\"\",\"\",Schema!L42)","v":""},{"$f":"IF(Schema!M42=\"\",\"\",Schema!M42)","v":""},{"$f":"IF(Schema!N42=\"\",\"\",Schema!N42)","v":""},{"$f":"IF(Schema!P42=\"\",\"\",Schema!P42)","v":"O"}]
[{"$f":"Schema!A43&Schema!B43&Schema!C43&Schema!D43&Schema!E43&Schema!F43","v":"ENTITEI"},"PP",{"$f":"IF(A31=\"\",\"\",IF(LEN(Schema!A43)=2,1,IF(LEN(Schema!B43)=2,10,IF(LEN(Schema!C43)=2,100,IF(LEN(Schema!D43)=2,1000,IF(LEN(Schema!E43)=2,10000,0))))))","v":0},1,{"$f":"IF(A31=\"\",\"\",SUM(Tabel2[[#This Row],[I1]:[I2]]))","v":1},"PP","","","","","PP",{"$f":"IF(C31=\"\",\"\",IF(LEN(Tabel2[[#This Row],[Entiteit of attribuut]])=2,\"\",Tabel2[[#This Row],[Entiteit]]&\"_\"&Tabel2[[#This Row],[Entiteit of attribuut]]))","v":"PP_ENTITEI"},{"$f":"IF(Schema!K43=\"\",\"\",Schema!K43)","v":""},{"$f":"IF(Schema!L43=\"\",\"\",Schema!L43)","v":""},{"$f":"IF(Schema!M43=\"\",\"\",Schema!M43)","v":""},{"$f":"IF(Schema!N43=\"\",\"\",Schema!N43)","v":""},{"$f":"IF(Schema!P43=\"\",\"\",Schema!P43)","v":"LEEG"}]
[{"$f":"Schema!A44&Schema!B44&Schema!C44&Schema!D44&Schema!E44&Schema!F44","v":"EXTERN"},"PP",{"$f":"IF(A32=\"\",\"\",IF(LEN(Schema!A44)=2,1,IF(LEN(Schema!B44)=2,10,IF(LEN(Schema!C44)=2,100,IF(LEN(Schema!D44)=2,1000,IF(LEN(Schema!E44)=2,10000,0))))))","v":0},1,{"$f":"IF(A32=\"\",\"\",SUM(Tabel2[[#This Row],[I1]:[I2]]))","v":1},"PP","","","","","PP",{"$f":"IF(C32=\"\",\"\",IF(LEN(Tabel2[[#This Row],[Entiteit of attribuut]])=2,\"\",Tabel2[[#This Row],[Entiteit]]&\"_\"&Tabel2[[#This Row],[Entiteit of attribuut]]))","v":"PP_EXTERN"},{"$f":"IF(Schema!K44=\"\",\"\",Schema!K44)","v":""},{"$f":"IF(Schema!L44=\"\",\"\",Schema!L44)","v":""},{"$f":"IF(Schema!M44=\"\",\"\",Schema!M44)","v":""},{"$f":"IF(Schema!N44=\"\",\"\",Schema!N44)","v":""},{"$f":"IF(Schema!P44=\"\",\"\",Schema!P44)","v":"LEEG"}]
[{"$f":"Schema!A45&Schema!B45&Schema!C45&Schema!D45&Schema!E45&Schema!F45","v":"FACTORS"},"PP",{"$f":"IF(A33=\"\",\"\",IF(LEN(Schema!A45)=2,1,IF(LEN(Schema!B45)=2,10,IF(LEN(Schema!C45)=2,100,IF(LEN(Schema!D45)=2,1000,IF(LEN(Schema!E45)=2,10000,0))))))","v":0},1,{"$f":"IF(A33=\"\",\"\",SUM(Tabel2[[#This Row],[I1]:[I2]]))","v":1},"PP","","","","","PP",{"$f":"IF(C33=\"\",\"\",IF(LEN(Tabel2[[#This Row],[Entiteit of attribuut]])=2,\"\",Tabel2[[#This Row],[Entiteit]]&\"_\"&Tabel2[[#This Row],[Entiteit of attribuut]]))","v":"PP_FACTORS"},{"$f":"IF(Schema!K45=\"\",\"\",Schema!K45)","v":""},{"$f":"IF(Schema!L45=\"\",\"\",Schema!L45)","v":""},{"$f":"IF(Schema!M45=\"\",\"\",Schema!M45)","v":""},{"$f":"IF(Schema!N45=\"\",\"\",Schema!N45)","v":""},{"$f":"IF(Schema!P45=\"\",\"\",Schema!P45)","v":"LEEG"}]
[{"$f":"Schema!A46&Schema!B46&Schema!C46&Schema!D46&Schema!E46&Schema!F46","v":"GABRA"},"PP",{"$f":"IF(A34=\"\",\"\",IF(LEN(Schema!A46)=2,1,IF(LEN(Schema!B46)=2,10,IF(LEN(Schema!C46)=2,100,IF(LEN(Schema!D46)=2,1000,IF(LEN(Schema!E46)=2,10000,0))))))","v":0},1,{"$f":"IF(A34=\"\",\"\",SUM(Tabel2[[#This Row],[I1]:[I2]]))","v":1},"PP","","","","","PP",{"$f":"IF(C34=\"\",\"\",IF(LEN(Tabel2[[#This Row],[Entiteit of attribuut]])=2,\"\",Tabel2[[#This Row],[Entiteit]]&\"_\"&Tabel2[[#This Row],[Entiteit of attribuut]]))","v":"PP_GABRA"},{"$f":"IF(Schema!K46=\"\",\"\",Schema!K46)","v":""},{"$f":"IF(Schema!L46=\"\",\"\",Schema!L46)","v":""},{"$f":"IF(Schema!M46=\"\",\"\",Schema!M46)","v":""},{"$f":"IF(Schema!N46=\"\",\"\",Schema!N46)","v":""},{"$f":"IF(Schema!P46=\"\",\"\",Schema!P46)","v":"V"}]
[{"$f":"Schema!A47&Schema!B47&Schema!C47&Schema!D47&Schema!E47&Schema!F47","v":"GABRAO"},"PP",{"$f":"IF(A35=\"\",\"\",IF(LEN(Schema!A47)=2,1,IF(LEN(Schema!B47)=2,10,IF(LEN(Schema!C47)=2,100,IF(LEN(Schema!D47)=2,1000,IF(LEN(Schema!E47)=2,10000,0))))))","v":0},1,{"$f":"IF(A35=\"\",\"\",SUM(Tabel2[[#This Row],[I1]:[I2]]))","v":1},"PP","","","","","PP",{"$f":"IF(C35=\"\",\"\",IF(LEN(Tabel2[[#This Row],[Entiteit of attribuut]])=2,\"\",Tabel2[[#This Row],[Entiteit]]&\"_\"&Tabel2[[#This Row],[Entiteit of attribuut]]))","v":"PP_GABRAO"},{"$f":"IF(Schema!K47=\"\",\"\",Schema!K47)","v":""},{"$f":"IF(Schema!L47=\"\",\"\",Schema!L47)","v":""},{"$f":"IF(Schema!M47=\"\",\"\",Schema!M47)","v":""},{"$f":"IF(Schema!N47=\"\",\"\",Schema!N47)","v":""},{"$f":"IF(Schema!P47=\"\",\"\",Schema!P47)","v":"V"}]
[{"$f":"Schema!A48&Schema!B48&Schema!C48&Schema!D48&Schema!E48&Schema!F48","v":"GASBRA"},"PP",{"$f":"IF(A36=\"\",\"\",IF(LEN(Schema!A48)=2,1,IF(LEN(Schema!B48)=2,10,IF(LEN(Schema!C48)=2,100,IF(LEN(Schema!D48)=2,1000,IF(LEN(Schema!E48)=2,10000,0))))))","v":0},1,{"$f":"IF(A36=\"\",\"\",SUM(Tabel2[[#This Row],[I1]:[I2]]))","v":1},"PP","","","","","PP",{"$f":"IF(C36=\"\",\"\",IF(LEN(Tabel2[[#This Row],[Entiteit of attribuut]])=2,\"\",Tabel2[[#This Row],[Entiteit]]&\"_\"&Tabel2[[#This Row],[Entiteit of attribuut]]))","v":"PP_GASBRA"},{"$f":"IF(Schema!K48=\"\",\"\",Schema!K48)","v":""},{"$f":"IF(Schema!L48=\"\",\"\",Schema!L48)","v":""},{"$f":"IF(Schema!M48=\"\",\"\",Schema!M48)","v":""},{"$f":"IF(Schema!N48=\"\",\"\",Schema!N48)","v":""},{"$f":"IF(Schema!P48=\"\",\"\",Schema!P48)","v":"V"}]
[{"$f":"Schema!A49&Schema!B49&Schema!C49&Schema!D49&Schema!E49&Schema!F49","v":"GASBRAO"},"PP",{"$f":"IF(A37=\"\",\"\",IF(LEN(Schema!A49)=2,1,IF(LEN(Schema!B49)=2,10,IF(LEN(Schema!C49)=2,100,IF(LEN(Schema!D49)=2,1000,IF(LEN(Schema!E49)=2,10000,0))))))","v":0},1,{"$f":"IF(A37=\"\",\"\",SUM(Tabel2[[#This Row],[I1]:[I2]]))","v":1},"PP","","","","","PP",{"$f":"IF(C37=\"\",\"\",IF(LEN(Tabel2[[#This Row],[Entiteit of attribuut]])=2,\"\",Tabel2[[#This Row],[Entiteit]]&\"_\"&Tabel2[[#This Row],[Entiteit of attribuut]]))","v":"PP_GASBRAO"},{"$f":"IF(Schema!K49=\"\",\"\",Schema!K49)","v":""},{"$f":"IF(Schema!L49=\"\",\"\",Schema!L49)","v":""},{"$f":"IF(Schema!M49=\"\",\"\",Schema!M49)","v":""},{"$f":"IF(Schema!N49=\"\",\"\",Schema!N49)","v":""},{"$f":"IF(Schema!P49=\"\",\"\",Schema!P49)","v":"V"}]
[{"$f":"Schema!A50&Schema!B50&Schema!C50&Schema!D50&Schema!E50&Schema!F50","v":"HANDACC"},"PP",{"$f":"IF(A38=\"\",\"\",IF(LEN(Schema!A50)=2,1,IF(LEN(Schema!B50)=2,10,IF(LEN(Schema!C50)=2,100,IF(LEN(Schema!D50)=2,1000,IF(LEN(Schema!E50)=2,10000,0))))))","v":0},1,{"$f":"IF(A38=\"\",\"\",SUM(Tabel2[[#This Row],[I1]:[I2]]))","v":1},"PP","","","","","PP",{"$f":"IF(C38=\"\",\"\",IF(LEN(Tabel2[[#This Row],[Entiteit of attribuut]])=2,\"\",Tabel2[[#This Row],[Entiteit]]&\"_\"&Tabel2[[#This Row],[Entiteit of attribuut]]))","v":"PP_HANDACC"},{"$f":"IF(Schema!K50=\"\",\"\",Schema!K50)","v":""},{"$f":"IF(Schema!L50=\"\",\"\",Schema!L50)","v":""},{"$f":"IF(Schema!M50=\"\",\"\",Schema!M50)","v":""},{"$f":"IF(Schema!N50=\"\",\"\",Schema!N50)","v":""},{"$f":"IF(Schema!P50=\"\",\"\",Schema!P50)","v":"LEEG"}]
[{"$f":"Schema!A51&Schema!B51&Schema!C51&Schema!D51&Schema!E51&Schema!F51","v":"HVVDAT"},"PP",{"$f":"IF(A39=\"\",\"\",IF(LEN(Schema!A51)=2,1,IF(LEN(Schema!B51)=2,10,IF(LEN(Schema!C51)=2,100,IF(LEN(Schema!D51)=2,1000,IF(LEN(Schema!E51)=2,10000,0))))))","v":0},1,{"$f":"IF(A39=\"\",\"\",SUM(Tabel2[[#This Row],[I1]:[I2]]))","v":1},"PP","","","","","PP",{"$f":"IF(C39=\"\",\"\",IF(LEN(Tabel2[[#This Row],[Entiteit of attribuut]])=2,\"\",Tabel2[[#This Row],[Entiteit]]&\"_\"&Tabel2[[#This Row],[Entiteit of attribuut]]))","v":"PP_HVVDAT"},{"$f":"IF(Schema!K51=\"\",\"\",Schema!K51)","v":""},{"$f":"IF(Schema!L51=\"\",\"\",Schema!L51)","v":""},{"$f":"IF(Schema!M51=\"\",\"\",Schema!M51)","v":""},{"$f":"IF(Schema!N51=\"\",\"\",Schema!N51)","v":""},{"$f":"IF(Schema!P51=\"\",\"\",Schema!P51)","v":"O"}]
[{"$f":"Schema!A52&Schema!B52&Schema!C52&Schema!D52&Schema!E52&Schema!F52","v":"INCWIJZ"},"PP",{"$f":"IF(A40=\"\",\"\",IF(LEN(Schema!A52)=2,1,IF(LEN(Schema!B52)=2,10,IF(LEN(Schema!C52)=2,100,IF(LEN(Schema!D52)=2,1000,IF(LEN(Schema!E52)=2,10000,0))))))","v":0},1,{"$f":"IF(A40=\"\",\"\",SUM(Tabel2[[#This Row],[I1]:[I2]]))","v":1},"PP","","","","","PP",{"$f":"IF(C40=\"\",\"\",IF(LEN(Tabel2[[#This Row],[Entiteit of attribuut]])=2,\"\",Tabel2[[#This Row],[Entiteit]]&\"_\"&Tabel2[[#This Row],[Entiteit of attribuut]]))","v":"PP_INCWIJZ"},{"$f":"IF(Schema!K52=\"\",\"\",Schema!K52)","v":""},{"$f":"IF(Schema!L52=\"\",\"\",Schema!L52)","v":""},{"$f":"IF(Schema!M52=\"\",\"\",Schema!M52)","v":""},{"$f":"IF(Schema!N52=\"\",\"\",Schema!N52)","v":""},{"$f":"IF(Schema!P52=\"\",\"\",Schema!P52)","v":"LEEG"}]
[{"$f":"Schema!A53&Schema!B53&Schema!C53&Schema!D53&Schema!E53&Schema!F53","v":"INDEX"},"PP",{"$f":"IF(A41=\"\",\"\",IF(LEN(Schema!A53)=2,1,IF(LEN(Schema!B53)=2,10,IF(LEN(Schema!C53)=2,100,IF(LEN(Schema!D53)=2,1000,IF(LEN(Schema!E53)=2,10000,0))))))","v":0},1,{"$f":"IF(A41=\"\",\"\",SUM(Tabel2[[#This Row],[I1]:[I2]]))","v":1},"PP","","","","","PP",{"$f":"IF(C41=\"\",\"\",IF(LEN(Tabel2[[#This Row],[Entiteit of attribuut]])=2,\"\",Tabel2[[#This Row],[Entiteit]]&\"_\"&Tabel2[[#This Row],[Entiteit of attribuut]]))","v":"PP_INDEX"},{"$f":"IF(Schema!K53=\"\",\"\",Schema!K53)","v":""},{"$f":"IF(Schema!L53=\"\",\"\",Schema!L53)","v":""},{"$f":"IF(Schema!M53=\"\",\"\",Schema!M53)","v":""},{"$f":"IF(Schema!N53=\"\",\"\",Schema!N53)","v":""},{"$f":"IF(Schema!P53=\"\",\"\",Schema!P53)","v":"LEEG"}]
[{"$f":"Schema!A54&Schema!B54&Schema!C54&Schema!D54&Schema!E54&Schema!F54","v":"INGDAT"},"PP",{"$f":"IF(A42=\"\",\"\",IF(LEN(Schema!A54)=2,1,IF(LEN(Schema!B54)=2,10,IF(LEN(Schema!C54)=2,100,IF(LEN(Schema!D54)=2,1000,IF(LEN(Schema!E54)=2,10000,0))))))","v":0},1,{"$f":"IF(A42=\"\",\"\",SUM(Tabel2[[#This Row],[I1]:[I2]]))","v":1},"PP","","","","","PP",{"$f":"IF(C42=\"\",\"\",IF(LEN(Tabel2[[#This Row],[Entiteit of attribuut]])=2,\"\",Tabel2[[#This Row],[Entiteit]]&\"_\"&Tabel2[[#This Row],[Entiteit of attribuut]]))","v":"PP_INGDAT"},{"$f":"IF(Schema!K54=\"\",\"\",Schema!K54)","v":""},{"$f":"IF(Schema!L54=\"\",\"\",Schema!L54)","v":""},{"$f":"IF(Schema!M54=\"\",\"\",Schema!M54)","v":""},{"$f":"IF(Schema!N54=\"\",\"\",Schema!N54)","v":""},{"$f":"IF(Schema!P54=\"\",\"\",Schema!P54)","v":"V"}]
[{"$f":"Schema!A55&Schema!B55&Schema!C55&Schema!D55&Schema!E55&Schema!F55","v":"INGDTW"},"PP",{"$f":"IF(A43=\"\",\"\",IF(LEN(Schema!A55)=2,1,IF(LEN(Schema!B55)=2,10,IF(LEN(Schema!C55)=2,100,IF(LEN(Schema!D55)=2,1000,IF(LEN(Schema!E55)=2,10000,0))))))","v":0},1,{"$f":"IF(A43=\"\",\"\",SUM(Tabel2[[#This Row],[I1]:[I2]]))","v":1},"PP","","","","","PP",{"$f":"IF(C43=\"\",\"\",IF(LEN(Tabel2[[#This Row],[Entiteit of attribuut]])=2,\"\",Tabel2[[#This Row],[Entiteit]]&\"_\"&Tabel2[[#This Row],[Entiteit of attribuut]]))","v":"PP_INGDTW"},{"$f":"IF(Schema!K55=\"\",\"\",Schema!K55)","v":""},{"$f":"IF(Schema!L55=\"\",\"\",Schema!L55)","v":""},{"$f":"IF(Schema!M55=\"\",\"\",Schema!M55)","v":""},{"$f":"IF(Schema!N55=\"\",\"\",Schema!N55)","v":""},{"$f":"IF(Schema!P55=\"\",\"\",Schema!P55)","v":"LEEG"}]
[{"$f":"Schema!A56&Schema!B56&Schema!C56&Schema!D56&Schema!E56&Schema!F56","v":"INTKEY"},"PP",{"$f":"IF(A44=\"\",\"\",IF(LEN(Schema!A56)=2,1,IF(LEN(Schema!B56)=2,10,IF(LEN(Schema!C56)=2,100,IF(LEN(Schema!D56)=2,1000,IF(LEN(Schema!E56)=2,10000,0))))))","v":0},1,{"$f":"IF(A44=\"\",\"\",SUM(Tabel2[[#This Row],[I1]:[I2]]))","v":1},"PP","","","","","PP",{"$f":"IF(C44=\"\",\"\",IF(LEN(Tabel2[[#This Row],[Entiteit of attribuut]])=2,\"\",Tabel2[[#This Row],[Entiteit]]&\"_\"&Tabel2[[#This Row],[Entiteit of attribuut]]))","v":"PP_INTKEY"},{"$f":"IF(Schema!K56=\"\",\"\",Schema!K56)","v":""},{"$f":"IF(Schema!L56=\"\",\"\",Schema!L56)","v":""},{"$f":"IF(Schema!M56=\"\",\"\",Schema!M56)","v":""},{"$f":"IF(Schema!N56=\"\",\"\",Schema!N56)","v":""},{"$f":"IF(Schema!P56=\"\",\"\",Schema!P56)","v":"O"}]
[{"$f":"Schema!A57&Schema!B57&Schema!C57&Schema!D57&Schema!E57&Schema!F57","v":"LWYZDAT"},"PP",{"$f":"IF(A45=\"\",\"\",IF(LEN(Schema!A57)=2,1,IF(LEN(Schema!B57)=2,10,IF(LEN(Schema!C57)=2,100,IF(LEN(Schema!D57)=2,1000,IF(LEN(Schema!E57)=2,10000,0))))))","v":0},1,{"$f":"IF(A45=\"\",\"\",SUM(Tabel2[[#This Row],[I1]:[I2]]))","v":1},"PP","","","","","PP",{"$f":"IF(C45=\"\",\"\",IF(LEN(Tabel2[[#This Row],[Entiteit of attribuut]])=2,\"\",Tabel2[[#This Row],[Entiteit]]&\"_\"&Tabel2[[#This Row],[Entiteit of attribuut]]))","v":"PP_LWYZDAT"},{"$f":"IF(Schema!K57=\"\",\"\",Schema!K57)","v":""},{"$f":"IF(Schema!L57=\"\",\"\",Schema!L57)","v":""},{"$f":"IF(Schema!M57=\"\",\"\",Schema!M57)","v":""},{"$f":"IF(Schema!N57=\"\",\"\",Schema!N57)","v":""},{"$f":"IF(Schema!P57=\"\",\"\",Schema!P57)","v":"O"}]
[{"$f":"Schema!A58&Schema!B58&Schema!C58&Schema!D58&Schema!E58&Schema!F58","v":"MYAAND"},"PP",{"$f":"IF(A46=\"\",\"\",IF(LEN(Schema!A58)=2,1,IF(LEN(Schema!B58)=2,10,IF(LEN(Schema!C58)=2,100,IF(LEN(Schema!D58)=2,1000,IF(LEN(Schema!E58)=2,10000,0))))))","v":0},1,{"$f":"IF(A46=\"\",\"\",SUM(Tabel2[[#This Row],[I1]:[I2]]))","v":1},"PP","","","","","PP",{"$f":"IF(C46=\"\",\"\",IF(LEN(Tabel2[[#This Row],[Entiteit of attribuut]])=2,\"\",Tabel2[[#This Row],[Entiteit]]&\"_\"&Tabel2[[#This Row],[Entiteit of attribuut]]))","v":"PP_MYAAND"},{"$f":"IF(Schema!K58=\"\",\"\",Schema!K58)","v":""},{"$f":"IF(Schema!L58=\"\",\"\",Schema!L58)","v":""},{"$f":"IF(Schema!M58=\"\",\"\",Schema!M58)","v":""},{"$f":"IF(Schema!N58=\"\",\"\",Schema!N58)","v":""},{"$f":"IF(Schema!P58=\"\",\"\",Schema!P58)","v":"V"}]
[{"$f":"Schema!A59&Schema!B59&Schema!C59&Schema!D59&Schema!E59&Schema!F59","v":"NJP"},"PP",{"$f":"IF(A47=\"\",\"\",IF(LEN(Schema!A59)=2,1,IF(LEN(Schema!B59)=2,10,IF(LEN(Schema!C59)=2,100,IF(LEN(Schema!D59)=2,1000,IF(LEN(Schema!E59)=2,10000,0))))))","v":0},1,{"$f":"IF(A47=\"\",\"\",SUM(Tabel2[[#This Row],[I1]:[I2]]))","v":1},"PP","","","","","PP",{"$f":"IF(C47=\"\",\"\",IF(LEN(Tabel2[[#This Row],[Entiteit of attribuut]])=2,\"\",Tabel2[[#This Row],[Entiteit]]&\"_\"&Tabel2[[#This Row],[Entiteit of attribuut]]))","v":"PP_NJP"},{"$f":"IF(Schema!K59=\"\",\"\",Schema!K59)","v":""},{"$f":"IF(Schema!L59=\"\",\"\",Schema!L59)","v":""},{"$f":"IF(Schema!M59=\"\",\"\",Schema!M59)","v":""},{"$f":"IF(Schema!N59=\"\",\"\",Schema!N59)","v":""},{"$f":"IF(Schema!P59=\"\",\"\",Schema!P59)","v":"O"}]
[{"$f":"Schema!A60&Schema!B60&Schema!C60&Schema!D60&Schema!E60&Schema!F60","v":"NUMMER"},"PP",{"$f":"IF(A48=\"\",\"\",IF(LEN(Schema!A60)=2,1,IF(LEN(Schema!B60)=2,10,IF(LEN(Schema!C60)=2,100,IF(LEN(Schema!D60)=2,1000,IF(LEN(Schema!E60)=2,10000,0))))))","v":0},1,{"$f":"IF(A48=\"\",\"\",SUM(Tabel2[[#This Row],[I1]:[I2]]))","v":1},"PP","","","","","PP",{"$f":"IF(C48=\"\",\"\",IF(LEN(Tabel2[[#This Row],[Entiteit of attribuut]])=2,\"\",Tabel2[[#This Row],[Entiteit]]&\"_\"&Tabel2[[#This Row],[Entiteit of attribuut]]))","v":"PP_NUMMER"},{"$f":"IF(Schema!K60=\"\",\"\",Schema!K60)","v":""},{"$f":"IF(Schema!L60=\"\",\"\",Schema!L60)","v":""},{"$f":"IF(Schema!M60=\"\",\"\",Schema!M60)","v":""},{"$f":"IF(Schema!N60=\"\",\"\",Schema!N60)","v":""},{"$f":"IF(Schema!P60=\"\",\"\",Schema!P60)","v":"V"}]
[{"$f":"Schema!A61&Schema!B61&Schema!C61&Schema!D61&Schema!E61&Schema!F61","v":"POLPKJN"},"PP",{"$f":"IF(A49=\"\",\"\",IF(LEN(Schema!A61)=2,1,IF(LEN(Schema!B61)=2,10,IF(LEN(Schema!C61)=2,100,IF(LEN(Schema!D61)=2,1000,IF(LEN(Schema!E61)=2,10000,0))))))","v":0},1,{"$f":"IF(A49=\"\",\"\",SUM(Tabel2[[#This Row],[I1]:[I2]]))","v":1},"PP","","","","","PP",{"$f":"IF(C49=\"\",\"\",IF(LEN(Tabel2[[#This Row],[Entiteit of attribuut]])=2,\"\",Tabel2[[#This Row],[Entiteit]]&\"_\"&Tabel2[[#This Row],[Entiteit of attribuut]]))","v":"PP_POLPKJN"},{"$f":"IF(Schema!K61=\"\",\"\",Schema!K61)","v":""},{"$f":"IF(Schema!L61=\"\",\"\",Schema!L61)","v":""},{"$f":"IF(Schema!M61=\"\",\"\",Schema!M61)","v":""},{"$f":"IF(Schema!N61=\"\",\"\",Schema!N61)","v":""},{"$f":"IF(Schema!P61=\"\",\"\",Schema!P61)","v":"V"}]
[{"$f":"Schema!A62&Schema!B62&Schema!C62&Schema!D62&Schema!E62&Schema!F62","v":"PPRC"},"PP",{"$f":"IF(A50=\"\",\"\",IF(LEN(Schema!A62)=2,1,IF(LEN(Schema!B62)=2,10,IF(LEN(Schema!C62)=2,100,IF(LEN(Schema!D62)=2,1000,IF(LEN(Schema!E62)=2,10000,0))))))","v":0},1,{"$f":"IF(A50=\"\",\"\",SUM(Tabel2[[#This Row],[I1]:[I2]]))","v":1},"PP","","","","","PP",{"$f":"IF(C50=\"\",\"\",IF(LEN(Tabel2[[#This Row],[Entiteit of attribuut]])=2,\"\",Tabel2[[#This Row],[Entiteit]]&\"_\"&Tabel2[[#This Row],[Entiteit of attribuut]]))","v":"PP_PPRC"},{"$f":"IF(Schema!K62=\"\",\"\",Schema!K62)","v":""},{"$f":"IF(Schema!L62=\"\",\"\",Schema!L62)","v":""},{"$f":"IF(Schema!M62=\"\",\"\",Schema!M62)","v":""},{"$f":"IF(Schema!N62=\"\",\"\",Schema!N62)","v":""},{"$f":"IF(Schema!P62=\"\",\"\",Schema!P62)","v":"LEEG"}]
[{"$f":"Schema!A63&Schema!B63&Schema!C63&Schema!D63&Schema!E63&Schema!F63","v":"PRDTOMZ"},"PP",{"$f":"IF(A51=\"\",\"\",IF(LEN(Schema!A63)=2,1,IF(LEN(Schema!B63)=2,10,IF(LEN(Schema!C63)=2,100,IF(LEN(Schema!D63)=2,1000,IF(LEN(Schema!E63)=2,10000,0))))))","v":0},1,{"$f":"IF(A51=\"\",\"\",SUM(Tabel2[[#This Row],[I1]:[I2]]))","v":1},"PP","","","","","PP",{"$f":"IF(C51=\"\",\"\",IF(LEN(Tabel2[[#This Row],[Entiteit of attribuut]])=2,\"\",Tabel2[[#This Row],[Entiteit]]&\"_\"&Tabel2[[#This Row],[Entiteit of attribuut]]))","v":"PP_PRDTOMZ"},{"$f":"IF(Schema!K63=\"\",\"\",Schema!K63)","v":""},{"$f":"IF(Schema!L63=\"\",\"\",Schema!L63)","v":""},{"$f":"IF(Schema!M63=\"\",\"\",Schema!M63)","v":""},{"$f":"IF(Schema!N63=\"\",\"\",Schema!N63)","v":""},{"$f":"IF(Schema!P63=\"\",\"\",Schema!P63)","v":"LEEG"}]
[{"$f":"Schema!A64&Schema!B64&Schema!C64&Schema!D64&Schema!E64&Schema!F64","v":"PRODUCT"},"PP",{"$f":"IF(A52=\"\",\"\",IF(LEN(Schema!A64)=2,1,IF(LEN(Schema!B64)=2,10,IF(LEN(Schema!C64)=2,100,IF(LEN(Schema!D64)=2,1000,IF(LEN(Schema!E64)=2,10000,0))))))","v":0},1,{"$f":"IF(A52=\"\",\"\",SUM(Tabel2[[#This Row],[I1]:[I2]]))","v":1},"PP","","","","","PP",{"$f":"IF(C52=\"\",\"\",IF(LEN(Tabel2[[#This Row],[Entiteit of attribuut]])=2,\"\",Tabel2[[#This Row],[Entiteit]]&\"_\"&Tabel2[[#This Row],[Entiteit of attribuut]]))","v":"PP_PRODUCT"},{"$f":"IF(Schema!K64=\"\",\"\",Schema!K64)","v":""},{"$f":"IF(Schema!L64=\"\",\"\",Schema!L64)","v":""},{"$f":"IF(Schema!M64=\"\",\"\",Schema!M64)","v":""},{"$f":"IF(Schema!N64=\"\",\"\",Schema!N64)","v":""},{"$f":"IF(Schema!P64=\"\",\"\",Schema!P64)","v":"LEEG"}]
[{"$f":"Schema!A65&Schema!B65&Schema!C65&Schema!D65&Schema!E65&Schema!F65","v":"REFNR"},"PP",{"$f":"IF(A53=\"\",\"\",IF(LEN(Schema!A65)=2,1,IF(LEN(Schema!B65)=2,10,IF(LEN(Schema!C65)=2,100,IF(LEN(Schema!D65)=2,1000,IF(LEN(Schema!E65)=2,10000,0))))))","v":0},1,{"$f":"IF(A53=\"\",\"\",SUM(Tabel2[[#This Row],[I1]:[I2]]))","v":1},"PP","","","","","PP",{"$f":"IF(C53=\"\",\"\",IF(LEN(Tabel2[[#This Row],[Entiteit of attribuut]])=2,\"\",Tabel2[[#This Row],[Entiteit]]&\"_\"&Tabel2[[#This Row],[Entiteit of attribuut]]))","v":"PP_REFNR"},{"$f":"IF(Schema!K65=\"\",\"\",Schema!K65)","v":""},{"$f":"IF(Schema!L65=\"\",\"\",Schema!L65)","v":""},{"$f":"IF(Schema!M65=\"\",\"\",Schema!M65)","v":""},{"$f":"IF(Schema!N65=\"\",\"\",Schema!N65)","v":""},{"$f":"IF(Schema!P65=\"\",\"\",Schema!P65)","v":"O"}]
[{"$f":"Schema!A66&Schema!B66&Schema!C66&Schema!D66&Schema!E66&Schema!F66","v":"SPECLIM"},"PP",{"$f":"IF(A54=\"\",\"\",IF(LEN(Schema!A66)=2,1,IF(LEN(Schema!B66)=2,10,IF(LEN(Schema!C66)=2,100,IF(LEN(Schema!D66)=2,1000,IF(LEN(Schema!E66)=2,10000,0))))))","v":0},1,{"$f":"IF(A54=\"\",\"\",SUM(Tabel2[[#This Row],[I1]:[I2]]))","v":1},"PP","","","","","PP",{"$f":"IF(C54=\"\",\"\",IF(LEN(Tabel2[[#This Row],[Entiteit of attribuut]])=2,\"\",Tabel2[[#This Row],[Entiteit]]&\"_\"&Tabel2[[#This Row],[Entiteit of attribuut]]))","v":"PP_SPECLIM"},{"$f":"IF(Schema!K66=\"\",\"\",Schema!K66)","v":""},{"$f":"IF(Schema!L66=\"\",\"\",Schema!L66)","v":""},{"$f":"IF(Schema!M66=\"\",\"\",Schema!M66)","v":""},{"$f":"IF(Schema!N66=\"\",\"\",Schema!N66)","v":""},{"$f":"IF(Schema!P66=\"\",\"\",Schema!P66)","v":"V"}]
[{"$f":"Schema!A67&Schema!B67&Schema!C67&Schema!D67&Schema!E67&Schema!F67","v":"STATUS"},"PP",{"$f":"IF(A55=\"\",\"\",IF(LEN(Schema!A67)=2,1,IF(LEN(Schema!B67)=2,10,IF(LEN(Schema!C67)=2,100,IF(LEN(Schema!D67)=2,1000,IF(LEN(Schema!E67)=2,10000,0))))))","v":0},1,{"$f":"IF(A55=\"\",\"\",SUM(Tabel2[[#This Row],[I1]:[I2]]))","v":1},"PP","","","","","PP",{"$f":"IF(C55=\"\",\"\",IF(LEN(Tabel2[[#This Row],[Entiteit of attribuut]])=2,\"\",Tabel2[[#This Row],[Entiteit]]&\"_\"&Tabel2[[#This Row],[Entiteit of attribuut]]))","v":"PP_STATUS"},{"$f":"IF(Schema!K67=\"\",\"\",Schema!K67)","v":""},{"$f":"IF(Schema!L67=\"\",\"\",Schema!L67)","v":""},{"$f":"IF(Schema!M67=\"\",\"\",Schema!M67)","v":""},{"$f":"IF(Schema!N67=\"\",\"\",Schema!N67)","v":""},{"$f":"IF(Schema!P67=\"\",\"\",Schema!P67)","v":"V"}]
[{"$f":"Schema!A68&Schema!B68&Schema!C68&Schema!D68&Schema!E68&Schema!F68","v":"STPRV"},"PP",{"$f":"IF(A56=\"\",\"\",IF(LEN(Schema!A68)=2,1,IF(LEN(Schema!B68)=2,10,IF(LEN(Schema!C68)=2,100,IF(LEN(Schema!D68)=2,1000,IF(LEN(Schema!E68)=2,10000,0))))))","v":0},1,{"$f":"IF(A56=\"\",\"\",SUM(Tabel2[[#This Row],[I1]:[I2]]))","v":1},"PP","","","","","PP",{"$f":"IF(C56=\"\",\"\",IF(LEN(Tabel2[[#This Row],[Entiteit of attribuut]])=2,\"\",Tabel2[[#This Row],[Entiteit]]&\"_\"&Tabel2[[#This Row],[Entiteit of attribuut]]))","v":"PP_STPRV"},{"$f":"IF(Schema!K68=\"\",\"\",Schema!K68)","v":""},{"$f":"IF(Schema!L68=\"\",\"\",Schema!L68)","v":""},{"$f":"IF(Schema!M68=\"\",\"\",Schema!M68)","v":""},{"$f":"IF(Schema!N68=\"\",\"\",Schema!N68)","v":""},{"$f":"IF(Schema!P68=\"\",\"\",Schema!P68)","v":"LEEG"}]
[{"$f":"Schema!A69&Schema!B69&Schema!C69&Schema!D69&Schema!E69&Schema!F69","v":"TARDAT"},"PP",{"$f":"IF(A57=\"\",\"\",IF(LEN(Schema!A69)=2,1,IF(LEN(Schema!B69)=2,10,IF(LEN(Schema!C69)=2,100,IF(LEN(Schema!D69)=2,1000,IF(LEN(Schema!E69)=2,10000,0))))))","v":0},1,{"$f":"IF(A57=\"\",\"\",SUM(Tabel2[[#This Row],[I1]:[I2]]))","v":1},"PP","","","","","PP",{"$f":"IF(C57=\"\",\"\",IF(LEN(Tabel2[[#This Row],[Entiteit of attribuut]])=2,\"\",Tabel2[[#This Row],[Entiteit]]&\"_\"&Tabel2[[#This Row],[Entiteit of attribuut]]))","v":"PP_TARDAT"},{"$f":"IF(Schema!K69=\"\",\"\",Schema!K69)","v":""},{"$f":"IF(Schema!L69=\"\",\"\",Schema!L69)","v":""},{"$f":"IF(Schema!M69=\"\",\"\",Schema!M69)","v":""},{"$f":"IF(Schema!N69=\"\",\"\",Schema!N69)","v":""},{"$f":"IF(Schema!P69=\"\",\"\",Schema!P69)","v":"LEEG"}]
[{"$f":"Schema!A70&Schema!B70&Schema!C70&Schema!D70&Schema!E70&Schema!F70","v":"TJRPO"},"PP",{"$f":"IF(A58=\"\",\"\",IF(LEN(Schema!A70)=2,1,IF(LEN(Schema!B70)=2,10,IF(LEN(Schema!C70)=2,100,IF(LEN(Schema!D70)=2,1000,IF(LEN(Schema!E70)=2,10000,0))))))","v":0},1,{"$f":"IF(A58=\"\",\"\",SUM(Tabel2[[#This Row],[I1]:[I2]]))","v":1},"PP","","","","","PP",{"$f":"IF(C58=\"\",\"\",IF(LEN(Tabel2[[#This Row],[Entiteit of attribuut]])=2,\"\",Tabel2[[#This Row],[Entiteit]]&\"_\"&Tabel2[[#This Row],[Entiteit of attribuut]]))","v":"PP_TJRPO"},{"$f":"IF(Schema!K70=\"\",\"\",Schema!K70)","v":""},{"$f":"IF(Schema!L70=\"\",\"\",Schema!L70)","v":""},{"$f":"IF(Schema!M70=\"\",\"\",Schema!M70)","v":""},{"$f":"IF(Schema!N70=\"\",\"\",Schema!N70)","v":""},{"$f":"IF(Schema!P70=\"\",\"\",Schema!P70)","v":"O"}]
[{"$f":"Schema!A71&Schema!B71&Schema!C71&Schema!D71&Schema!E71&Schema!F71","v":"TJRPP"},"PP",{"$f":"IF(A59=\"\",\"\",IF(LEN(Schema!A71)=2,1,IF(LEN(Schema!B71)=2,10,IF(LEN(Schema!C71)=2,100,IF(LEN(Schema!D71)=2,1000,IF(LEN(Schema!E71)=2,10000,0))))))","v":0},1,{"$f":"IF(A59=\"\",\"\",SUM(Tabel2[[#This Row],[I1]:[I2]]))","v":1},"PP","","","","","PP",{"$f":"IF(C59=\"\",\"\",IF(LEN(Tabel2[[#This Row],[Entiteit of attribuut]])=2,\"\",Tabel2[[#This Row],[Entiteit]]&\"_\"&Tabel2[[#This Row],[Entiteit of attribuut]]))","v":"PP_TJRPP"},{"$f":"IF(Schema!K71=\"\",\"\",Schema!K71)","v":""},{"$f":"IF(Schema!L71=\"\",\"\",Schema!L71)","v":""},{"$f":"IF(Schema!M71=\"\",\"\",Schema!M71)","v":""},{"$f":"IF(Schema!N71=\"\",\"\",Schema!N71)","v":""},{"$f":"IF(Schema!P71=\"\",\"\",Schema!P71)","v":"V"}]
[{"$f":"Schema!A72&Schema!B72&Schema!C72&Schema!D72&Schema!E72&Schema!F72","v":"TTOT"},"PP",{"$f":"IF(A60=\"\",\"\",IF(LEN(Schema!A72)=2,1,IF(LEN(Schema!B72)=2,10,IF(LEN(Schema!C72)=2,100,IF(LEN(Schema!D72)=2,1000,IF(LEN(Schema!E72)=2,10000,0))))))","v":0},1,{"$f":"IF(A60=\"\",\"\",SUM(Tabel2[[#This Row],[I1]:[I2]]))","v":1},"PP","","","","","PP",{"$f":"IF(C60=\"\",\"\",IF(LEN(Tabel2[[#This Row],[Entiteit of attribuut]])=2,\"\",Tabel2[[#This Row],[Entiteit]]&\"_\"&Tabel2[[#This Row],[Entiteit of attribuut]]))","v":"PP_TTOT"},{"$f":"IF(Schema!K72=\"\",\"\",Schema!K72)","v":""},{"$f":"IF(Schema!L72=\"\",\"\",Schema!L72)","v":""},{"$f":"IF(Schema!M72=\"\",\"\",Schema!M72)","v":""},{"$f":"IF(Schema!N72=\"\",\"\",Schema!N72)","v":""},{"$f":"IF(Schema!P72=\"\",\"\",Schema!P72)","v":"LEEG"}]
[{"$f":"Schema!A73&Schema!B73&Schema!C73&Schema!D73&Schema!E73&Schema!F73","v":"VGCODE"},"PP",{"$f":"IF(A61=\"\",\"\",IF(LEN(Schema!A73)=2,1,IF(LEN(Schema!B73)=2,10,IF(LEN(Schema!C73)=2,100,IF(LEN(Schema!D73)=2,1000,IF(LEN(Schema!E73)=2,10000,0))))))","v":0},1,{"$f":"IF(A61=\"\",\"\",SUM(Tabel2[[#This Row],[I1]:[I2]]))","v":1},"PP","","","","","PP",{"$f":"IF(C61=\"\",\"\",IF(LEN(Tabel2[[#This Row],[Entiteit of attribuut]])=2,\"\",Tabel2[[#This Row],[Entiteit]]&\"_\"&Tabel2[[#This Row],[Entiteit of attribuut]]))","v":"PP_VGCODE"},{"$f":"IF(Schema!K73=\"\",\"\",Schema!K73)","v":""},{"$f":"IF(Schema!L73=\"\",\"\",Schema!L73)","v":""},{"$f":"IF(Schema!M73=\"\",\"\",Schema!M73)","v":""},{"$f":"IF(Schema!N73=\"\",\"\",Schema!N73)","v":""},{"$f":"IF(Schema!P73=\"\",\"\",Schema!P73)","v":"V"}]
[{"$f":"Schema!A74&Schema!B74&Schema!C74&Schema!D74&Schema!E74&Schema!F74","v":"VOLGNUM"},"PP",{"$f":"IF(A62=\"\",\"\",IF(LEN(Schema!A74)=2,1,IF(LEN(Schema!B74)=2,10,IF(LEN(Schema!C74)=2,100,IF(LEN(Schema!D74)=2,1000,IF(LEN(Schema!E74)=2,10000,0))))))","v":0},1,{"$f":"IF(A62=\"\",\"\",SUM(Tabel2[[#This Row],[I1]:[I2]]))","v":1},"PP","","","","","PP",{"$f":"IF(C62=\"\",\"\",IF(LEN(Tabel2[[#This Row],[Entiteit of attribuut]])=2,\"\",Tabel2[[#This Row],[Entiteit]]&\"_\"&Tabel2[[#This Row],[Entiteit of attribuut]]))","v":"PP_VOLGNUM"},{"$f":"IF(Schema!K74=\"\",\"\",Schema!K74)","v":""},{"$f":"IF(Schema!L74=\"\",\"\",Schema!L74)","v":""},{"$f":"IF(Schema!M74=\"\",\"\",Schema!M74)","v":""},{"$f":"IF(Schema!N74=\"\",\"\",Schema!N74)","v":""},{"$f":"IF(Schema!P74=\"\",\"\",Schema!P74)","v":"LEEG"}]
[{"$f":"Schema!A75&Schema!B75&Schema!C75&Schema!D75&Schema!E75&Schema!F75","v":"VRWRKCD"},"PP",{"$f":"IF(A63=\"\",\"\",IF(LEN(Schema!A75)=2,1,IF(LEN(Schema!B75)=2,10,IF(LEN(Schema!C75)=2,100,IF(LEN(Schema!D75)=2,1000,IF(LEN(Schema!E75)=2,10000,0))))))","v":0},1,{"$f":"IF(A63=\"\",\"\",SUM(Tabel2[[#This Row],[I1]:[I2]]))","v":1},"PP","","","","","PP",{"$f":"IF(C63=\"\",\"\",IF(LEN(Tabel2[[#This Row],[Entiteit of attribuut]])=2,\"\",Tabel2[[#This Row],[Entiteit]]&\"_\"&Tabel2[[#This Row],[Entiteit of attribuut]]))","v":"PP_VRWRKCD"},{"$f":"IF(Schema!K75=\"\",\"\",Schema!K75)","v":""},{"$f":"IF(Schema!L75=\"\",\"\",Schema!L75)","v":""},{"$f":"IF(Schema!M75=\"\",\"\",Schema!M75)","v":""},{"$f":"IF(Schema!N75=\"\",\"\",Schema!N75)","v":""},{"$f":"IF(Schema!P75=\"\",\"\",Schema!P75)","v":"LEEG"}]
[{"$f":"Schema!A76&Schema!B76&Schema!C76&Schema!D76&Schema!E76&Schema!F76","v":"BA"},"BA",{"$f":"IF(A64=\"\",\"\",IF(LEN(Schema!A76)=2,1,IF(LEN(Schema!B76)=2,10,IF(LEN(Schema!C76)=2,100,IF(LEN(Schema!D76)=2,1000,IF(LEN(Schema!E76)=2,10000,0))))))","v":10},10,{"$f":"IF(A64=\"\",\"\",SUM(Tabel2[[#This Row],[I1]:[I2]]))","v":20},"PP","BA","","","","PP/BA",{"$f":"IF(C64=\"\",\"\",IF(LEN(Tabel2[[#This Row],[Entiteit of attribuut]])=2,\"\",Tabel2[[#This Row],[Entiteit]]&\"_\"&Tabel2[[#This Row],[Entiteit of attribuut]]))","v":""},{"$f":"IF(Schema!K76=\"\",\"\",Schema!K76)","v":""},{"$f":"IF(Schema!L76=\"\",\"\",Schema!L76)","v":""},{"$f":"IF(Schema!M76=\"\",\"\",Schema!M76)","v":""},{"$f":"IF(Schema!N76=\"\",\"\",Schema!N76)","v":""},{"$f":"IF(Schema!P76=\"\",\"\",Schema!P76)","v":"O"}]
[{"$f":"Schema!A77&Schema!B77&Schema!C77&Schema!D77&Schema!E77&Schema!F77","v":"AANTBE"},"BA",{"$f":"IF(A65=\"\",\"\",IF(LEN(Schema!A77)=2,1,IF(LEN(Schema!B77)=2,10,IF(LEN(Schema!C77)=2,100,IF(LEN(Schema!D77)=2,1000,IF(LEN(Schema!E77)=2,10000,0))))))","v":0},10,{"$f":"IF(A65=\"\",\"\",SUM(Tabel2[[#This Row],[I1]:[I2]]))","v":10},"PP","BA","","","","PP/BA",{"$f":"IF(C65=\"\",\"\",IF(LEN(Tabel2[[#This Row],[Entiteit of attribuut]])=2,\"\",Tabel2[[#This Row],[Entiteit]]&\"_\"&Tabel2[[#This Row],[Entiteit of attribuut]]))","v":"BA_AANTBE"},{"$f":"IF(Schema!K77=\"\",\"\",Schema!K77)","v":""},{"$f":"IF(Schema!L77=\"\",\"\",Schema!L77)","v":""},{"$f":"IF(Schema!M77=\"\",\"\",Schema!M77)","v":""},{"$f":"IF(Schema!N77=\"\",\"\",Schema!N77)","v":""},{"$f":"IF(Schema!P77=\"\",\"\",Schema!P77)","v":"LEEG"}]
[{"$f":"Schema!A78&Schema!B78&Schema!C78&Schema!D78&Schema!E78&Schema!F78","v":"AANTET"},"BA",{"$f":"IF(A66=\"\",\"\",IF(LEN(Schema!A78)=2,1,IF(LEN(Schema!B78)=2,10,IF(LEN(Schema!C78)=2,100,IF(LEN(Schema!D78)=2,1000,IF(LEN(Schema!E78)=2,10000,0))))))","v":0},10,{"$f":"IF(A66=\"\",\"\",SUM(Tabel2[[#This Row],[I1]:[I2]]))","v":10},"PP","BA","","","","PP/BA",{"$f":"IF(C66=\"\",\"\",IF(LEN(Tabel2[[#This Row],[Entiteit of attribuut]])=2,\"\",Tabel2[[#This Row],[Entiteit]]&\"_\"&Tabel2[[#This Row],[Entiteit of attribuut]]))","v":"BA_AANTET"},{"$f":"IF(Schema!K78=\"\",\"\",Schema!K78)","v":""},{"$f":"IF(Schema!L78=\"\",\"\",Schema!L78)","v":""},{"$f":"IF(Schema!M78=\"\",\"\",Schema!M78)","v":""},{"$f":"IF(Schema!N78=\"\",\"\",Schema!N78)","v":""},{"$f":"IF(Schema!P78=\"\",\"\",Schema!P78)","v":"LEEG"}]
[{"$f":"Schema!A79&Schema!B79&Schema!C79&Schema!D79&Schema!E79&Schema!F79","v":"AANTWNE"},{"$f":"IF(LEN(A67)=2,A67,IF(A67=\"\",\"Leeg\",B66))","v":"BA"},{"$f":"IF(A67=\"\",\"\",IF(LEN(Schema!A79)=2,1,IF(LEN(Schema!B79)=2,10,IF(LEN(Schema!C79)=2,100,IF(LEN(Schema!D79)=2,1000,IF(LEN(Schema!E79)=2,10000,0))))))","v":0},{"$f":"IF(C67=0,D66,C67)","v":10},{"$f":"IF(A67=\"\",\"\",SUM(Tabel2[[#This Row],[I1]:[I2]]))","v":10},{"$f":"IF(A67=\"\",\"\",IF(C67=1,B67,F66))","v":"PP"},{"$f":"IF(C67=10,A67,IF(OR(C67=0,C67=100,C67=1000,C67=10000),G66,\"\"))","v":"BA"},{"$f":"IF(E67=200,B67,IF(OR(C67=0,C67=100,C67=1000,C67=10000),H66,\"\"))","v":""},{"$f":"IF(E67=2000,B67,IF(OR(C67=0,C67=10000),I66,\"\"))","v":""},{"$f":"IF(E67=20000,B67,IF(OR(C67=0,,C67=10000),J66,\"\"))","v":""},{"$f":"IF(C67=\"\",\"\",IF(OR(E67=1,E67=10,E67=100,E67=1000,E67=10000),K66,IF(E67=2,F67,IF(E67=20,F67&\"/\"&G67,IF(E67=200,F67&\"/\"&G67&\"/\"&H67,IF(E67=2000,F67&\"/\"&G67&\"/\"&H67&\"/\"&I67,IF(E67=20000,F67&\"/\"&G67&\"/\"&H67&\"/\"&I67&\"/\"&J67)))))))","v":"PP/BA"},{"$f":"IF(C67=\"\",\"\",IF(LEN(Tabel2[[#This Row],[Entiteit of attribuut]])=2,\"\",Tabel2[[#This Row],[Entiteit]]&\"_\"&Tabel2[[#This Row],[Entiteit of attribuut]]))","v":"BA_AANTWNE"},{"$f":"IF(Schema!K79=\"\",\"\",Schema!K79)","v":""},{"$f":"IF(Schema!L79=\"\",\"\",Schema!L79)","v":""},{"$f":"IF(Schema!M79=\"\",\"\",Schema!M79)","v":""},{"$f":"IF(Schema!N79=\"\",\"\",Schema!N79)","v":""},{"$f":"IF(Schema!P79=\"\",\"\",Schema!P79)","v":"LEEG"}]
[{"$f":"Schema!A80&Schema!B80&Schema!C80&Schema!D80&Schema!E80&Schema!F80","v":"AANTZON"},"BA",{"$f":"IF(A68=\"\",\"\",IF(LEN(Schema!A80)=2,1,IF(LEN(Schema!B80)=2,10,IF(LEN(Schema!C80)=2,100,IF(LEN(Schema!D80)=2,1000,IF(LEN(Schema!E80)=2,10000,0))))))","v":0},10,{"$f":"IF(A68=\"\",\"\",SUM(Tabel2[[#This Row],[I1]:[I2]]))","v":10},"PP","BA","","","","PP/BA",{"$f":"IF(C68=\"\",\"\",IF(LEN(Tabel2[[#This Row],[Entiteit of attribuut]])=2,\"\",Tabel2[[#This Row],[Entiteit]]&\"_\"&Tabel2[[#This Row],[Entiteit of attribuut]]))","v":"BA_AANTZON"},{"$f":"IF(Schema!K80=\"\",\"\",Schema!K80)","v":""},{"$f":"IF(Schema!L80=\"\",\"\",Schema!L80)","v":""},{"$f":"IF(Schema!M80=\"\",\"\",Schema!M80)","v":""},{"$f":"IF(Schema!N80=\"\",\"\",Schema!N80)","v":""},{"$f":"IF(Schema!P80=\"\",\"\",Schema!P80)","v":"LEEG"}]
[{"$f":"Schema!A81&Schema!B81&Schema!C81&Schema!D81&Schema!E81&Schema!F81","v":"AARDBW"},"BA",{"$f":"IF(A69=\"\",\"\",IF(LEN(Schema!A81)=2,1,IF(LEN(Schema!B81)=2,10,IF(LEN(Schema!C81)=2,100,IF(LEN(Schema!D81)=2,1000,IF(LEN(Schema!E81)=2,10000,0))))))","v":0},10,{"$f":"IF(A69=\"\",\"\",SUM(Tabel2[[#This Row],[I1]:[I2]]))","v":10},"PP","BA","","","","PP/BA",{"$f":"IF(C69=\"\",\"\",IF(LEN(Tabel2[[#This Row],[Entiteit of attribuut]])=2,\"\",Tabel2[[#This Row],[Entiteit]]&\"_\"&Tabel2[[#This Row],[Entiteit of attribuut]]))","v":"BA_AARDBW"},{"$f":"IF(Schema!K81=\"\",\"\",Schema!K81)","v":""},{"$f":"IF(Schema!L81=\"\",\"\",Schema!L81)","v":""},{"$f":"IF(Schema!M81=\"\",\"\",Schema!M81)","v":""},{"$f":"IF(Schema!N81=\"\",\"\",Schema!N81)","v":""},{"$f":"IF(Schema!P81=\"\",\"\",Schema!P81)","v":"O"}]
[{"$f":"Schema!A82&Schema!B82&Schema!C82&Schema!D82&Schema!E82&Schema!F82","v":"AARDDAK"},"BA",{"$f":"IF(A70=\"\",\"\",IF(LEN(Schema!A82)=2,1,IF(LEN(Schema!B82)=2,10,IF(LEN(Schema!C82)=2,100,IF(LEN(Schema!D82)=2,1000,IF(LEN(Schema!E82)=2,10000,0))))))","v":0},10,{"$f":"IF(A70=\"\",\"\",SUM(Tabel2[[#This Row],[I1]:[I2]]))","v":10},"PP","BA","","","","PP/BA",{"$f":"IF(C70=\"\",\"\",IF(LEN(Tabel2[[#This Row],[Entiteit of attribuut]])=2,\"\",Tabel2[[#This Row],[Entiteit]]&\"_\"&Tabel2[[#This Row],[Entiteit of attribuut]]))","v":"BA_AARDDAK"},{"$f":"IF(Schema!K82=\"\",\"\",Schema!K82)","v":""},{"$f":"IF(Schema!L82=\"\",\"\",Schema!L82)","v":""},{"$f":"IF(Schema!M82=\"\",\"\",Schema!M82)","v":""},{"$f":"IF(Schema!N82=\"\",\"\",Schema!N82)","v":""},{"$f":"IF(Schema!P82=\"\",\"\",Schema!P82)","v":"O"}]
[{"$f":"Schema!A83&Schema!B83&Schema!C83&Schema!D83&Schema!E83&Schema!F83","v":"AARDOBJ"},"BA",{"$f":"IF(A71=\"\",\"\",IF(LEN(Schema!A83)=2,1,IF(LEN(Schema!B83)=2,10,IF(LEN(Schema!C83)=2,100,IF(LEN(Schema!D83)=2,1000,IF(LEN(Schema!E83)=2,10000,0))))))","v":0},10,{"$f":"IF(A71=\"\",\"\",SUM(Tabel2[[#This Row],[I1]:[I2]]))","v":10},"PP","BA","","","","PP/BA",{"$f":"IF(C71=\"\",\"\",IF(LEN(Tabel2[[#This Row],[Entiteit of attribuut]])=2,\"\",Tabel2[[#This Row],[Entiteit]]&\"_\"&Tabel2[[#This Row],[Entiteit of attribuut]]))","v":"BA_AARDOBJ"},{"$f":"IF(Schema!K83=\"\",\"\",Schema!K83)","v":""},{"$f":"IF(Schema!L83=\"\",\"\",Schema!L83)","v":""},{"$f":"IF(Schema!M83=\"\",\"\",Schema!M83)","v":""},{"$f":"IF(Schema!N83=\"\",\"\",Schema!N83)","v":""},{"$f":"IF(Schema!P83=\"\",\"\",Schema!P83)","v":"O"}]
[{"$f":"Schema!A84&Schema!B84&Schema!C84&Schema!D84&Schema!E84&Schema!F84","v":"AARDVLR"},"BA",{"$f":"IF(A72=\"\",\"\",IF(LEN(Schema!A84)=2,1,IF(LEN(Schema!B84)=2,10,IF(LEN(Schema!C84)=2,100,IF(LEN(Schema!D84)=2,1000,IF(LEN(Schema!E84)=2,10000,0))))))","v":0},10,{"$f":"IF(A72=\"\",\"\",SUM(Tabel2[[#This Row],[I1]:[I2]]))","v":10},"PP","BA","","","","PP/BA",{"$f":"IF(C72=\"\",\"\",IF(LEN(Tabel2[[#This Row],[Entiteit of attribuut]])=2,\"\",Tabel2[[#This Row],[Entiteit]]&\"_\"&Tabel2[[#This Row],[Entiteit of attribuut]]))","v":"BA_AARDVLR"},{"$f":"IF(Schema!K84=\"\",\"\",Schema!K84)","v":""},{"$f":"IF(Schema!L84=\"\",\"\",Schema!L84)","v":""},{"$f":"IF(Schema!M84=\"\",\"\",Schema!M84)","v":""},{"$f":"IF(Schema!N84=\"\",\"\",Schema!N84)","v":""},{"$f":"IF(Schema!P84=\"\",\"\",Schema!P84)","v":"O"}]
[{"$f":"Schema!A85&Schema!B85&Schema!C85&Schema!D85&Schema!E85&Schema!F85","v":"ASBEST"},"BA",{"$f":"IF(A73=\"\",\"\",IF(LEN(Schema!A85)=2,1,IF(LEN(Schema!B85)=2,10,IF(LEN(Schema!C85)=2,100,IF(LEN(Schema!D85)=2,1000,IF(LEN(Schema!E85)=2,10000,0))))))","v":0},10,{"$f":"IF(A73=\"\",\"\",SUM(Tabel2[[#This Row],[I1]:[I2]]))","v":10},"PP","BA","","","","PP/BA",{"$f":"IF(C73=\"\",\"\",IF(LEN(Tabel2[[#This Row],[Entiteit of attribuut]])=2,\"\",Tabel2[[#This Row],[Entiteit]]&\"_\"&Tabel2[[#This Row],[Entiteit of attribuut]]))","v":"BA_ASBEST"},{"$f":"IF(Schema!K85=\"\",\"\",Schema!K85)","v":""},{"$f":"IF(Schema!L85=\"\",\"\",Schema!L85)","v":""},{"$f":"IF(Schema!M85=\"\",\"\",Schema!M85)","v":""},{"$f":"IF(Schema!N85=\"\",\"\",Schema!N85)","v":""},{"$f":"IF(Schema!P85=\"\",\"\",Schema!P85)","v":"LEEG"}]
[{"$f":"Schema!A86&Schema!B86&Schema!C86&Schema!D86&Schema!E86&Schema!F86","v":"BDRFBEL"},"BA",{"$f":"IF(A74=\"\",\"\",IF(LEN(Schema!A86)=2,1,IF(LEN(Schema!B86)=2,10,IF(LEN(Schema!C86)=2,100,IF(LEN(Schema!D86)=2,1000,IF(LEN(Schema!E86)=2,10000,0))))))","v":0},10,{"$f":"IF(A74=\"\",\"\",SUM(Tabel2[[#This Row],[I1]:[I2]]))","v":10},"PP","BA","","","","PP/BA",{"$f":"IF(C74=\"\",\"\",IF(LEN(Tabel2[[#This Row],[Entiteit of attribuut]])=2,\"\",Tabel2[[#This Row],[Entiteit]]&\"_\"&Tabel2[[#This Row],[Entiteit of attribuut]]))","v":"BA_BDRFBEL"},{"$f":"IF(Schema!K86=\"\",\"\",Schema!K86)","v":""},{"$f":"IF(Schema!L86=\"\",\"\",Schema!L86)","v":""},{"$f":"IF(Schema!M86=\"\",\"\",Schema!M86)","v":""},{"$f":"IF(Schema!N86=\"\",\"\",Schema!N86)","v":""},{"$f":"IF(Schema!P86=\"\",\"\",Schema!P86)","v":"LEEG"}]
[{"$f":"Schema!A87&Schema!B87&Schema!C87&Schema!D87&Schema!E87&Schema!F87","v":"BESTEMO"},"BA",{"$f":"IF(A75=\"\",\"\",IF(LEN(Schema!A87)=2,1,IF(LEN(Schema!B87)=2,10,IF(LEN(Schema!C87)=2,100,IF(LEN(Schema!D87)=2,1000,IF(LEN(Schema!E87)=2,10000,0))))))","v":0},10,{"$f":"IF(A75=\"\",\"\",SUM(Tabel2[[#This Row],[I1]:[I2]]))","v":10},"PP","BA","","","","PP/BA",{"$f":"IF(C75=\"\",\"\",IF(LEN(Tabel2[[#This Row],[Entiteit of attribuut]])=2,\"\",Tabel2[[#This Row],[Entiteit]]&\"_\"&Tabel2[[#This Row],[Entiteit of attribuut]]))","v":"BA_BESTEMO"},{"$f":"IF(Schema!K87=\"\",\"\",Schema!K87)","v":""},{"$f":"IF(Schema!L87=\"\",\"\",Schema!L87)","v":""},{"$f":"IF(Schema!M87=\"\",\"\",Schema!M87)","v":""},{"$f":"IF(Schema!N87=\"\",\"\",Schema!N87)","v":""},{"$f":"IF(Schema!P87=\"\",\"\",Schema!P87)","v":"O"}]
[{"$f":"Schema!A88&Schema!B88&Schema!C88&Schema!D88&Schema!E88&Schema!F88","v":"BOUWJR"},"BA",{"$f":"IF(A76=\"\",\"\",IF(LEN(Schema!A88)=2,1,IF(LEN(Schema!B88)=2,10,IF(LEN(Schema!C88)=2,100,IF(LEN(Schema!D88)=2,1000,IF(LEN(Schema!E88)=2,10000,0))))))","v":0},10,{"$f":"IF(A76=\"\",\"\",SUM(Tabel2[[#This Row],[I1]:[I2]]))","v":10},"PP","BA","","","","PP/BA",{"$f":"IF(C76=\"\",\"\",IF(LEN(Tabel2[[#This Row],[Entiteit of attribuut]])=2,\"\",Tabel2[[#This Row],[Entiteit]]&\"_\"&Tabel2[[#This Row],[Entiteit of attribuut]]))","v":"BA_BOUWJR"},{"$f":"IF(Schema!K88=\"\",\"\",Schema!K88)","v":""},{"$f":"IF(Schema!L88=\"\",\"\",Schema!L88)","v":""},{"$f":"IF(Schema!M88=\"\",\"\",Schema!M88)","v":""},{"$f":"IF(Schema!N88=\"\",\"\",Schema!N88)","v":""},{"$f":"IF(Schema!P88=\"\",\"\",Schema!P88)","v":"O"}]
[{"$f":"Schema!A89&Schema!B89&Schema!C89&Schema!D89&Schema!E89&Schema!F89","v":"BRNDBEV"},"BA",{"$f":"IF(A77=\"\",\"\",IF(LEN(Schema!A89)=2,1,IF(LEN(Schema!B89)=2,10,IF(LEN(Schema!C89)=2,100,IF(LEN(Schema!D89)=2,1000,IF(LEN(Schema!E89)=2,10000,0))))))","v":0},10,{"$f":"IF(A77=\"\",\"\",SUM(Tabel2[[#This Row],[I1]:[I2]]))","v":10},"PP","BA","","","","PP/BA",{"$f":"IF(C77=\"\",\"\",IF(LEN(Tabel2[[#This Row],[Entiteit of attribuut]])=2,\"\",Tabel2[[#This Row],[Entiteit]]&\"_\"&Tabel2[[#This Row],[Entiteit of attribuut]]))","v":"BA_BRNDBEV"},{"$f":"IF(Schema!K89=\"\",\"\",Schema!K89)","v":""},{"$f":"IF(Schema!L89=\"\",\"\",Schema!L89)","v":""},{"$f":"IF(Schema!M89=\"\",\"\",Schema!M89)","v":""},{"$f":"IF(Schema!N89=\"\",\"\",Schema!N89)","v":""},{"$f":"IF(Schema!P89=\"\",\"\",Schema!P89)","v":"LEEG"}]
[{"$f":"Schema!A90&Schema!B90&Schema!C90&Schema!D90&Schema!E90&Schema!F90","v":"BRNDBLS"},"BA",{"$f":"IF(A78=\"\",\"\",IF(LEN(Schema!A90)=2,1,IF(LEN(Schema!B90)=2,10,IF(LEN(Schema!C90)=2,100,IF(LEN(Schema!D90)=2,1000,IF(LEN(Schema!E90)=2,10000,0))))))","v":0},10,{"$f":"IF(A78=\"\",\"\",SUM(Tabel2[[#This Row],[I1]:[I2]]))","v":10},"PP","BA","","","","PP/BA",{"$f":"IF(C78=\"\",\"\",IF(LEN(Tabel2[[#This Row],[Entiteit of attribuut]])=2,\"\",Tabel2[[#This Row],[Entiteit]]&\"_\"&Tabel2[[#This Row],[Entiteit of attribuut]]))","v":"BA_BRNDBLS"},{"$f":"IF(Schema!K90=\"\",\"\",Schema!K90)","v":""},{"$f":"IF(Schema!L90=\"\",\"\",Schema!L90)","v":""},{"$f":"IF(Schema!M90=\"\",\"\",Schema!M90)","v":""},{"$f":"IF(Schema!N90=\"\",\"\",Schema!N90)","v":""},{"$f":"IF(Schema!P90=\"\",\"\",Schema!P90)","v":"LEEG"}]
[{"$f":"Schema!A91&Schema!B91&Schema!C91&Schema!D91&Schema!E91&Schema!F91","v":"BRNDMLD"},"BA",{"$f":"IF(A79=\"\",\"\",IF(LEN(Schema!A91)=2,1,IF(LEN(Schema!B91)=2,10,IF(LEN(Schema!C91)=2,100,IF(LEN(Schema!D91)=2,1000,IF(LEN(Schema!E91)=2,10000,0))))))","v":0},10,{"$f":"IF(A79=\"\",\"\",SUM(Tabel2[[#This Row],[I1]:[I2]]))","v":10},"PP","BA","","","","PP/BA",{"$f":"IF(C79=\"\",\"\",IF(LEN(Tabel2[[#This Row],[Entiteit of attribuut]])=2,\"\",Tabel2[[#This Row],[Entiteit]]&\"_\"&Tabel2[[#This Row],[Entiteit of attribuut]]))","v":"BA_BRNDMLD"},{"$f":"IF(Schema!K91=\"\",\"\",Schema!K91)","v":""},{"$f":"IF(Schema!L91=\"\",\"\",Schema!L91)","v":""},{"$f":"IF(Schema!M91=\"\",\"\",Schema!M91)","v":""},{"$f":"IF(Schema!N91=\"\",\"\",Schema!N91)","v":""},{"$f":"IF(Schema!P91=\"\",\"\",Schema!P91)","v":"LEEG"}]
[{"$f":"Schema!A92&Schema!B92&Schema!C92&Schema!D92&Schema!E92&Schema!F92","v":"BRNDSPR"},"BA",{"$f":"IF(A80=\"\",\"\",IF(LEN(Schema!A92)=2,1,IF(LEN(Schema!B92)=2,10,IF(LEN(Schema!C92)=2,100,IF(LEN(Schema!D92)=2,1000,IF(LEN(Schema!E92)=2,10000,0))))))","v":0},10,{"$f":"IF(A80=\"\",\"\",SUM(Tabel2[[#This Row],[I1]:[I2]]))","v":10},"PP","BA","","","","PP/BA",{"$f":"IF(C80=\"\",\"\",IF(LEN(Tabel2[[#This Row],[Entiteit of attribuut]])=2,\"\",Tabel2[[#This Row],[Entiteit]]&\"_\"&Tabel2[[#This Row],[Entiteit of attribuut]]))","v":"BA_BRNDSPR"},{"$f":"IF(Schema!K92=\"\",\"\",Schema!K92)","v":""},{"$f":"IF(Schema!L92=\"\",\"\",Schema!L92)","v":""},{"$f":"IF(Schema!M92=\"\",\"\",Schema!M92)","v":""},{"$f":"IF(Schema!N92=\"\",\"\",Schema!N92)","v":""},{"$f":"IF(Schema!P92=\"\",\"\",Schema!P92)","v":"LEEG"}]
[{"$f":"Schema!A93&Schema!B93&Schema!C93&Schema!D93&Schema!E93&Schema!F93","v":"BTWCD"},"BA",{"$f":"IF(A81=\"\",\"\",IF(LEN(Schema!A93)=2,1,IF(LEN(Schema!B93)=2,10,IF(LEN(Schema!C93)=2,100,IF(LEN(Schema!D93)=2,1000,IF(LEN(Schema!E93)=2,10000,0))))))","v":0},10,{"$f":"IF(A81=\"\",\"\",SUM(Tabel2[[#This Row],[I1]:[I2]]))","v":10},"PP","BA","","","","PP/BA",{"$f":"IF(C81=\"\",\"\",IF(LEN(Tabel2[[#This Row],[Entiteit of attribuut]])=2,\"\",Tabel2[[#This Row],[Entiteit]]&\"_\"&Tabel2[[#This Row],[Entiteit of attribuut]]))","v":"BA_BTWCD"},{"$f":"IF(Schema!K93=\"\",\"\",Schema!K93)","v":""},{"$f":"IF(Schema!L93=\"\",\"\",Schema!L93)","v":""},{"$f":"IF(Schema!M93=\"\",\"\",Schema!M93)","v":""},{"$f":"IF(Schema!N93=\"\",\"\",Schema!N93)","v":""},{"$f":"IF(Schema!P93=\"\",\"\",Schema!P93)","v":"O"}]
[{"$f":"Schema!A94&Schema!B94&Schema!C94&Schema!D94&Schema!E94&Schema!F94","v":"DATTAX"},"BA",{"$f":"IF(A82=\"\",\"\",IF(LEN(Schema!A94)=2,1,IF(LEN(Schema!B94)=2,10,IF(LEN(Schema!C94)=2,100,IF(LEN(Schema!D94)=2,1000,IF(LEN(Schema!E94)=2,10000,0))))))","v":0},10,{"$f":"IF(A82=\"\",\"\",SUM(Tabel2[[#This Row],[I1]:[I2]]))","v":10},"PP","BA","","","","PP/BA",{"$f":"IF(C82=\"\",\"\",IF(LEN(Tabel2[[#This Row],[Entiteit of attribuut]])=2,\"\",Tabel2[[#This Row],[Entiteit]]&\"_\"&Tabel2[[#This Row],[Entiteit of attribuut]]))","v":"BA_DATTAX"},{"$f":"IF(Schema!K94=\"\",\"\",Schema!K94)","v":""},{"$f":"IF(Schema!L94=\"\",\"\",Schema!L94)","v":""},{"$f":"IF(Schema!M94=\"\",\"\",Schema!M94)","v":""},{"$f":"IF(Schema!N94=\"\",\"\",Schema!N94)","v":""},{"$f":"IF(Schema!P94=\"\",\"\",Schema!P94)","v":"LEEG"}]
[{"$f":"Schema!A95&Schema!B95&Schema!C95&Schema!D95&Schema!E95&Schema!F95","v":"DKISOL"},"BA",{"$f":"IF(A83=\"\",\"\",IF(LEN(Schema!A95)=2,1,IF(LEN(Schema!B95)=2,10,IF(LEN(Schema!C95)=2,100,IF(LEN(Schema!D95)=2,1000,IF(LEN(Schema!E95)=2,10000,0))))))","v":0},10,{"$f":"IF(A83=\"\",\"\",SUM(Tabel2[[#This Row],[I1]:[I2]]))","v":10},"PP","BA","","","","PP/BA",{"$f":"IF(C83=\"\",\"\",IF(LEN(Tabel2[[#This Row],[Entiteit of attribuut]])=2,\"\",Tabel2[[#This Row],[Entiteit]]&\"_\"&Tabel2[[#This Row],[Entiteit of attribuut]]))","v":"BA_DKISOL"},{"$f":"IF(Schema!K95=\"\",\"\",Schema!K95)","v":""},{"$f":"IF(Schema!L95=\"\",\"\",Schema!L95)","v":""},{"$f":"IF(Schema!M95=\"\",\"\",Schema!M95)","v":""},{"$f":"IF(Schema!N95=\"\",\"\",Schema!N95)","v":""},{"$f":"IF(Schema!P95=\"\",\"\",Schema!P95)","v":"LEEG"}]
[{"$f":"Schema!A96&Schema!B96&Schema!C96&Schema!D96&Schema!E96&Schema!F96","v":"DKPLBW"},"BA",{"$f":"IF(A84=\"\",\"\",IF(LEN(Schema!A96)=2,1,IF(LEN(Schema!B96)=2,10,IF(LEN(Schema!C96)=2,100,IF(LEN(Schema!D96)=2,1000,IF(LEN(Schema!E96)=2,10000,0))))))","v":0},10,{"$f":"IF(A84=\"\",\"\",SUM(Tabel2[[#This Row],[I1]:[I2]]))","v":10},"PP","BA","","","","PP/BA",{"$f":"IF(C84=\"\",\"\",IF(LEN(Tabel2[[#This Row],[Entiteit of attribuut]])=2,\"\",Tabel2[[#This Row],[Entiteit]]&\"_\"&Tabel2[[#This Row],[Entiteit of attribuut]]))","v":"BA_DKPLBW"},{"$f":"IF(Schema!K96=\"\",\"\",Schema!K96)","v":""},{"$f":"IF(Schema!L96=\"\",\"\",Schema!L96)","v":""},{"$f":"IF(Schema!M96=\"\",\"\",Schema!M96)","v":""},{"$f":"IF(Schema!N96=\"\",\"\",Schema!N96)","v":""},{"$f":"IF(Schema!P96=\"\",\"\",Schema!P96)","v":"LEEG"}]
[{"$f":"Schema!A97&Schema!B97&Schema!C97&Schema!D97&Schema!E97&Schema!F97","v":"DRGCONS"},"BA",{"$f":"IF(A85=\"\",\"\",IF(LEN(Schema!A97)=2,1,IF(LEN(Schema!B97)=2,10,IF(LEN(Schema!C97)=2,100,IF(LEN(Schema!D97)=2,1000,IF(LEN(Schema!E97)=2,10000,0))))))","v":0},10,{"$f":"IF(A85=\"\",\"\",SUM(Tabel2[[#This Row],[I1]:[I2]]))","v":10},"PP","BA","","","","PP/BA",{"$f":"IF(C85=\"\",\"\",IF(LEN(Tabel2[[#This Row],[Entiteit of attribuut]])=2,\"\",Tabel2[[#This Row],[Entiteit]]&\"_\"&Tabel2[[#This Row],[Entiteit of attribuut]]))","v":"BA_DRGCONS"},{"$f":"IF(Schema!K97=\"\",\"\",Schema!K97)","v":""},{"$f":"IF(Schema!L97=\"\",\"\",Schema!L97)","v":""},{"$f":"IF(Schema!M97=\"\",\"\",Schema!M97)","v":""},{"$f":"IF(Schema!N97=\"\",\"\",Schema!N97)","v":""},{"$f":"IF(Schema!P97=\"\",\"\",Schema!P97)","v":"LEEG"}]
[{"$f":"Schema!A98&Schema!B98&Schema!C98&Schema!D98&Schema!E98&Schema!F98","v":"FYCOBEV"},"BA",{"$f":"IF(A86=\"\",\"\",IF(LEN(Schema!A98)=2,1,IF(LEN(Schema!B98)=2,10,IF(LEN(Schema!C98)=2,100,IF(LEN(Schema!D98)=2,1000,IF(LEN(Schema!E98)=2,10000,0))))))","v":0},10,{"$f":"IF(A86=\"\",\"\",SUM(Tabel2[[#This Row],[I1]:[I2]]))","v":10},"PP","BA","","","","PP/BA",{"$f":"IF(C86=\"\",\"\",IF(LEN(Tabel2[[#This Row],[Entiteit of attribuut]])=2,\"\",Tabel2[[#This Row],[Entiteit]]&\"_\"&Tabel2[[#This Row],[Entiteit of attribuut]]))","v":"BA_FYCOBEV"},{"$f":"IF(Schema!K98=\"\",\"\",Schema!K98)","v":""},{"$f":"IF(Schema!L98=\"\",\"\",Schema!L98)","v":""},{"$f":"IF(Schema!M98=\"\",\"\",Schema!M98)","v":""},{"$f":"IF(Schema!N98=\"\",\"\",Schema!N98)","v":""},{"$f":"IF(Schema!P98=\"\",\"\",Schema!P98)","v":"LEEG"}]
[{"$f":"Schema!A99&Schema!B99&Schema!C99&Schema!D99&Schema!E99&Schema!F99","v":"GEBOPST"},"BA",{"$f":"IF(A87=\"\",\"\",IF(LEN(Schema!A99)=2,1,IF(LEN(Schema!B99)=2,10,IF(LEN(Schema!C99)=2,100,IF(LEN(Schema!D99)=2,1000,IF(LEN(Schema!E99)=2,10000,0))))))","v":0},10,{"$f":"IF(A87=\"\",\"\",SUM(Tabel2[[#This Row],[I1]:[I2]]))","v":10},"PP","BA","","","","PP/BA",{"$f":"IF(C87=\"\",\"\",IF(LEN(Tabel2[[#This Row],[Entiteit of attribuut]])=2,\"\",Tabel2[[#This Row],[Entiteit]]&\"_\"&Tabel2[[#This Row],[Entiteit of attribuut]]))","v":"BA_GEBOPST"},{"$f":"IF(Schema!K99=\"\",\"\",Schema!K99)","v":""},{"$f":"IF(Schema!L99=\"\",\"\",Schema!L99)","v":""},{"$f":"IF(Schema!M99=\"\",\"\",Schema!M99)","v":""},{"$f":"IF(Schema!N99=\"\",\"\",Schema!N99)","v":""},{"$f":"IF(Schema!P99=\"\",\"\",Schema!P99)","v":"LEEG"}]
[{"$f":"Schema!A100&Schema!B100&Schema!C100&Schema!D100&Schema!E100&Schema!F100","v":"GVWCENT"},"BA",{"$f":"IF(A88=\"\",\"\",IF(LEN(Schema!A100)=2,1,IF(LEN(Schema!B100)=2,10,IF(LEN(Schema!C100)=2,100,IF(LEN(Schema!D100)=2,1000,IF(LEN(Schema!E100)=2,10000,0))))))","v":0},10,{"$f":"IF(A88=\"\",\"\",SUM(Tabel2[[#This Row],[I1]:[I2]]))","v":10},"PP","BA","","","","PP/BA",{"$f":"IF(C88=\"\",\"\",IF(LEN(Tabel2[[#This Row],[Entiteit of attribuut]])=2,\"\",Tabel2[[#This Row],[Entiteit]]&\"_\"&Tabel2[[#This Row],[Entiteit of attribuut]]))","v":"BA_GVWCENT"},{"$f":"IF(Schema!K100=\"\",\"\",Schema!K100)","v":""},{"$f":"IF(Schema!L100=\"\",\"\",Schema!L100)","v":""},{"$f":"IF(Schema!M100=\"\",\"\",Schema!M100)","v":""},{"$f":"IF(Schema!N100=\"\",\"\",Schema!N100)","v":""},{"$f":"IF(Schema!P100=\"\",\"\",Schema!P100)","v":"LEEG"}]
[{"$f":"Schema!A101&Schema!B101&Schema!C101&Schema!D101&Schema!E101&Schema!F101","v":"HERBVST"},"BA",{"$f":"IF(A89=\"\",\"\",IF(LEN(Schema!A101)=2,1,IF(LEN(Schema!B101)=2,10,IF(LEN(Schema!C101)=2,100,IF(LEN(Schema!D101)=2,1000,IF(LEN(Schema!E101)=2,10000,0))))))","v":0},10,{"$f":"IF(A89=\"\",\"\",SUM(Tabel2[[#This Row],[I1]:[I2]]))","v":10},"PP","BA","","","","PP/BA",{"$f":"IF(C89=\"\",\"\",IF(LEN(Tabel2[[#This Row],[Entiteit of attribuut]])=2,\"\",Tabel2[[#This Row],[Entiteit]]&\"_\"&Tabel2[[#This Row],[Entiteit of attribuut]]))","v":"BA_HERBVST"},{"$f":"IF(Schema!K101=\"\",\"\",Schema!K101)","v":""},{"$f":"IF(Schema!L101=\"\",\"\",Schema!L101)","v":""},{"$f":"IF(Schema!M101=\"\",\"\",Schema!M101)","v":""},{"$f":"IF(Schema!N101=\"\",\"\",Schema!N101)","v":""},{"$f":"IF(Schema!P101=\"\",\"\",Schema!P101)","v":"LEEG"}]
[{"$f":"Schema!A102&Schema!B102&Schema!C102&Schema!D102&Schema!E102&Schema!F102","v":"HORECA"},"BA",{"$f":"IF(A90=\"\",\"\",IF(LEN(Schema!A102)=2,1,IF(LEN(Schema!B102)=2,10,IF(LEN(Schema!C102)=2,100,IF(LEN(Schema!D102)=2,1000,IF(LEN(Schema!E102)=2,10000,0))))))","v":0},10,{"$f":"IF(A90=\"\",\"\",SUM(Tabel2[[#This Row],[I1]:[I2]]))","v":10},"PP","BA","","","","PP/BA",{"$f":"IF(C90=\"\",\"\",IF(LEN(Tabel2[[#This Row],[Entiteit of attribuut]])=2,\"\",Tabel2[[#This Row],[Entiteit]]&\"_\"&Tabel2[[#This Row],[Entiteit of attribuut]]))","v":"BA_HORECA"},{"$f":"IF(Schema!K102=\"\",\"\",Schema!K102)","v":""},{"$f":"IF(Schema!L102=\"\",\"\",Schema!L102)","v":""},{"$f":"IF(Schema!M102=\"\",\"\",Schema!M102)","v":""},{"$f":"IF(Schema!N102=\"\",\"\",Schema!N102)","v":""},{"$f":"IF(Schema!P102=\"\",\"\",Schema!P102)","v":"LEEG"}]
[{"$f":"Schema!A103&Schema!B103&Schema!C103&Schema!D103&Schema!E103&Schema!F103","v":"HOUTVRF"},"BA",{"$f":"IF(A91=\"\",\"\",IF(LEN(Schema!A103)=2,1,IF(LEN(Schema!B103)=2,10,IF(LEN(Schema!C103)=2,100,IF(LEN(Schema!D103)=2,1000,IF(LEN(Schema!E103)=2,10000,0))))))","v":0},10,{"$f":"IF(A91=\"\",\"\",SUM(Tabel2[[#This Row],[I1]:[I2]]))","v":10},"PP","BA","","","","PP/BA",{"$f":"IF(C91=\"\",\"\",IF(LEN(Tabel2[[#This Row],[Entiteit of attribuut]])=2,\"\",Tabel2[[#This Row],[Entiteit]]&\"_\"&Tabel2[[#This Row],[Entiteit of attribuut]]))","v":"BA_HOUTVRF"},{"$f":"IF(Schema!K103=\"\",\"\",Schema!K103)","v":""},{"$f":"IF(Schema!L103=\"\",\"\",Schema!L103)","v":""},{"$f":"IF(Schema!M103=\"\",\"\",Schema!M103)","v":""},{"$f":"IF(Schema!N103=\"\",\"\",Schema!N103)","v":""},{"$f":"IF(Schema!P103=\"\",\"\",Schema!P103)","v":"LEEG"}]
[{"$f":"Schema!A104&Schema!B104&Schema!C104&Schema!D104&Schema!E104&Schema!F104","v":"HRBWINC"},"BA",{"$f":"IF(A92=\"\",\"\",IF(LEN(Schema!A104)=2,1,IF(LEN(Schema!B104)=2,10,IF(LEN(Schema!C104)=2,100,IF(LEN(Schema!D104)=2,1000,IF(LEN(Schema!E104)=2,10000,0))))))","v":0},10,{"$f":"IF(A92=\"\",\"\",SUM(Tabel2[[#This Row],[I1]:[I2]]))","v":10},"PP","BA","","","","PP/BA",{"$f":"IF(C92=\"\",\"\",IF(LEN(Tabel2[[#This Row],[Entiteit of attribuut]])=2,\"\",Tabel2[[#This Row],[Entiteit]]&\"_\"&Tabel2[[#This Row],[Entiteit of attribuut]]))","v":"BA_HRBWINC"},{"$f":"IF(Schema!K104=\"\",\"\",Schema!K104)","v":""},{"$f":"IF(Schema!L104=\"\",\"\",Schema!L104)","v":""},{"$f":"IF(Schema!M104=\"\",\"\",Schema!M104)","v":""},{"$f":"IF(Schema!N104=\"\",\"\",Schema!N104)","v":""},{"$f":"IF(Schema!P104=\"\",\"\",Schema!P104)","v":"LEEG"}]
[{"$f":"Schema!A105&Schema!B105&Schema!C105&Schema!D105&Schema!E105&Schema!F105","v":"HUISNR"},"BA",{"$f":"IF(A93=\"\",\"\",IF(LEN(Schema!A105)=2,1,IF(LEN(Schema!B105)=2,10,IF(LEN(Schema!C105)=2,100,IF(LEN(Schema!D105)=2,1000,IF(LEN(Schema!E105)=2,10000,0))))))","v":0},10,{"$f":"IF(A93=\"\",\"\",SUM(Tabel2[[#This Row],[I1]:[I2]]))","v":10},"PP","BA","","","","PP/BA",{"$f":"IF(C93=\"\",\"\",IF(LEN(Tabel2[[#This Row],[Entiteit of attribuut]])=2,\"\",Tabel2[[#This Row],[Entiteit]]&\"_\"&Tabel2[[#This Row],[Entiteit of attribuut]]))","v":"BA_HUISNR"},{"$f":"IF(Schema!K105=\"\",\"\",Schema!K105)","v":""},{"$f":"IF(Schema!L105=\"\",\"\",Schema!L105)","v":""},{"$f":"IF(Schema!M105=\"\",\"\",Schema!M105)","v":""},{"$f":"IF(Schema!N105=\"\",\"\",Schema!N105)","v":""},{"$f":"IF(Schema!P105=\"\",\"\",Schema!P105)","v":"O"}]
[{"$f":"Schema!A106&Schema!B106&Schema!C106&Schema!D106&Schema!E106&Schema!F106","v":"KELDER"},"BA",{"$f":"IF(A94=\"\",\"\",IF(LEN(Schema!A106)=2,1,IF(LEN(Schema!B106)=2,10,IF(LEN(Schema!C106)=2,100,IF(LEN(Schema!D106)=2,1000,IF(LEN(Schema!E106)=2,10000,0))))))","v":0},10,{"$f":"IF(A94=\"\",\"\",SUM(Tabel2[[#This Row],[I1]:[I2]]))","v":10},"PP","BA","","","","PP/BA",{"$f":"IF(C94=\"\",\"\",IF(LEN(Tabel2[[#This Row],[Entiteit of attribuut]])=2,\"\",Tabel2[[#This Row],[Entiteit]]&\"_\"&Tabel2[[#This Row],[Entiteit of attribuut]]))","v":"BA_KELDER"},{"$f":"IF(Schema!K106=\"\",\"\",Schema!K106)","v":""},{"$f":"IF(Schema!L106=\"\",\"\",Schema!L106)","v":""},{"$f":"IF(Schema!M106=\"\",\"\",Schema!M106)","v":""},{"$f":"IF(Schema!N106=\"\",\"\",Schema!N106)","v":""},{"$f":"IF(Schema!P106=\"\",\"\",Schema!P106)","v":"LEEG"}]
[{"$f":"Schema!A107&Schema!B107&Schema!C107&Schema!D107&Schema!E107&Schema!F107","v":"KEURMLB"},"BA",{"$f":"IF(A95=\"\",\"\",IF(LEN(Schema!A107)=2,1,IF(LEN(Schema!B107)=2,10,IF(LEN(Schema!C107)=2,100,IF(LEN(Schema!D107)=2,1000,IF(LEN(Schema!E107)=2,10000,0))))))","v":0},10,{"$f":"IF(A95=\"\",\"\",SUM(Tabel2[[#This Row],[I1]:[I2]]))","v":10},"PP","BA","","","","PP/BA",{"$f":"IF(C95=\"\",\"\",IF(LEN(Tabel2[[#This Row],[Entiteit of attribuut]])=2,\"\",Tabel2[[#This Row],[Entiteit]]&\"_\"&Tabel2[[#This Row],[Entiteit of attribuut]]))","v":"BA_KEURMLB"},{"$f":"IF(Schema!K107=\"\",\"\",Schema!K107)","v":""},{"$f":"IF(Schema!L107=\"\",\"\",Schema!L107)","v":""},{"$f":"IF(Schema!M107=\"\",\"\",Schema!M107)","v":""},{"$f":"IF(Schema!N107=\"\",\"\",Schema!N107)","v":""},{"$f":"IF(Schema!P107=\"\",\"\",Schema!P107)","v":"LEEG"}]
[{"$f":"Schema!A108&Schema!B108&Schema!C108&Schema!D108&Schema!E108&Schema!F108","v":"KVOJN"},"BA",{"$f":"IF(A96=\"\",\"\",IF(LEN(Schema!A108)=2,1,IF(LEN(Schema!B108)=2,10,IF(LEN(Schema!C108)=2,100,IF(LEN(Schema!D108)=2,1000,IF(LEN(Schema!E108)=2,10000,0))))))","v":0},10,{"$f":"IF(A96=\"\",\"\",SUM(Tabel2[[#This Row],[I1]:[I2]]))","v":10},"PP","BA","","","","PP/BA",{"$f":"IF(C96=\"\",\"\",IF(LEN(Tabel2[[#This Row],[Entiteit of attribuut]])=2,\"\",Tabel2[[#This Row],[Entiteit]]&\"_\"&Tabel2[[#This Row],[Entiteit of attribuut]]))","v":"BA_KVOJN"},{"$f":"IF(Schema!K108=\"\",\"\",Schema!K108)","v":""},{"$f":"IF(Schema!L108=\"\",\"\",Schema!L108)","v":""},{"$f":"IF(Schema!M108=\"\",\"\",Schema!M108)","v":""},{"$f":"IF(Schema!N108=\"\",\"\",Schema!N108)","v":""},{"$f":"IF(Schema!P108=\"\",\"\",Schema!P108)","v":"LEEG"}]
[{"$f":"Schema!A109&Schema!B109&Schema!C109&Schema!D109&Schema!E109&Schema!F109","v":"LAND"},"BA",{"$f":"IF(A97=\"\",\"\",IF(LEN(Schema!A109)=2,1,IF(LEN(Schema!B109)=2,10,IF(LEN(Schema!C109)=2,100,IF(LEN(Schema!D109)=2,1000,IF(LEN(Schema!E109)=2,10000,0))))))","v":0},10,{"$f":"IF(A97=\"\",\"\",SUM(Tabel2[[#This Row],[I1]:[I2]]))","v":10},"PP","BA","","","","PP/BA",{"$f":"IF(C97=\"\",\"\",IF(LEN(Tabel2[[#This Row],[Entiteit of attribuut]])=2,\"\",Tabel2[[#This Row],[Entiteit]]&\"_\"&Tabel2[[#This Row],[Entiteit of attribuut]]))","v":"BA_LAND"},{"$f":"IF(Schema!K109=\"\",\"\",Schema!K109)","v":""},{"$f":"IF(Schema!L109=\"\",\"\",Schema!L109)","v":""},{"$f":"IF(Schema!M109=\"\",\"\",Schema!M109)","v":""},{"$f":"IF(Schema!N109=\"\",\"\",Schema!N109)","v":""},{"$f":"IF(Schema!P109=\"\",\"\",Schema!P109)","v":"LEEG"}]
[{"$f":"Schema!A110&Schema!B110&Schema!C110&Schema!D110&Schema!E110&Schema!F110","v":"LEEGPER"},"BA",{"$f":"IF(A98=\"\",\"\",IF(LEN(Schema!A110)=2,1,IF(LEN(Schema!B110)=2,10,IF(LEN(Schema!C110)=2,100,IF(LEN(Schema!D110)=2,1000,IF(LEN(Schema!E110)=2,10000,0))))))","v":0},10,{"$f":"IF(A98=\"\",\"\",SUM(Tabel2[[#This Row],[I1]:[I2]]))","v":10},"PP","BA","","","","PP/BA",{"$f":"IF(C98=\"\",\"\",IF(LEN(Tabel2[[#This Row],[Entiteit of attribuut]])=2,\"\",Tabel2[[#This Row],[Entiteit]]&\"_\"&Tabel2[[#This Row],[Entiteit of attribuut]]))","v":"BA_LEEGPER"},{"$f":"IF(Schema!K110=\"\",\"\",Schema!K110)","v":""},{"$f":"IF(Schema!L110=\"\",\"\",Schema!L110)","v":""},{"$f":"IF(Schema!M110=\"\",\"\",Schema!M110)","v":""},{"$f":"IF(Schema!N110=\"\",\"\",Schema!N110)","v":""},{"$f":"IF(Schema!P110=\"\",\"\",Schema!P110)","v":"LEEG"}]
[{"$f":"Schema!A111&Schema!B111&Schema!C111&Schema!D111&Schema!E111&Schema!F111","v":"LEEGSTA"},"BA",{"$f":"IF(A99=\"\",\"\",IF(LEN(Schema!A111)=2,1,IF(LEN(Schema!B111)=2,10,IF(LEN(Schema!C111)=2,100,IF(LEN(Schema!D111)=2,1000,IF(LEN(Schema!E111)=2,10000,0))))))","v":0},10,{"$f":"IF(A99=\"\",\"\",SUM(Tabel2[[#This Row],[I1]:[I2]]))","v":10},"PP","BA","","","","PP/BA",{"$f":"IF(C99=\"\",\"\",IF(LEN(Tabel2[[#This Row],[Entiteit of attribuut]])=2,\"\",Tabel2[[#This Row],[Entiteit]]&\"_\"&Tabel2[[#This Row],[Entiteit of attribuut]]))","v":"BA_LEEGSTA"},{"$f":"IF(Schema!K111=\"\",\"\",Schema!K111)","v":""},{"$f":"IF(Schema!L111=\"\",\"\",Schema!L111)","v":""},{"$f":"IF(Schema!M111=\"\",\"\",Schema!M111)","v":""},{"$f":"IF(Schema!N111=\"\",\"\",Schema!N111)","v":""},{"$f":"IF(Schema!P111=\"\",\"\",Schema!P111)","v":"LEEG"}]
[{"$f":"Schema!A112&Schema!B112&Schema!C112&Schema!D112&Schema!E112&Schema!F112","v":"OBJSPL"},"BA",{"$f":"IF(A100=\"\",\"\",IF(LEN(Schema!A112)=2,1,IF(LEN(Schema!B112)=2,10,IF(LEN(Schema!C112)=2,100,IF(LEN(Schema!D112)=2,1000,IF(LEN(Schema!E112)=2,10000,0))))))","v":0},10,{"$f":"IF(A100=\"\",\"\",SUM(Tabel2[[#This Row],[I1]:[I2]]))","v":10},"PP","BA","","","","PP/BA",{"$f":"IF(C100=\"\",\"\",IF(LEN(Tabel2[[#This Row],[Entiteit of attribuut]])=2,\"\",Tabel2[[#This Row],[Entiteit]]&\"_\"&Tabel2[[#This Row],[Entiteit of attribuut]]))","v":"BA_OBJSPL"},{"$f":"IF(Schema!K112=\"\",\"\",Schema!K112)","v":""},{"$f":"IF(Schema!L112=\"\",\"\",Schema!L112)","v":""},{"$f":"IF(Schema!M112=\"\",\"\",Schema!M112)","v":""},{"$f":"IF(Schema!N112=\"\",\"\",Schema!N112)","v":""},{"$f":"IF(Schema!P112=\"\",\"\",Schema!P112)","v":"LEEG"}]
[{"$f":"Schema!A113&Schema!B113&Schema!C113&Schema!D113&Schema!E113&Schema!F113","v":"ONDELEK"},"BA",{"$f":"IF(A101=\"\",\"\",IF(LEN(Schema!A113)=2,1,IF(LEN(Schema!B113)=2,10,IF(LEN(Schema!C113)=2,100,IF(LEN(Schema!D113)=2,1000,IF(LEN(Schema!E113)=2,10000,0))))))","v":0},10,{"$f":"IF(A101=\"\",\"\",SUM(Tabel2[[#This Row],[I1]:[I2]]))","v":10},"PP","BA","","","","PP/BA",{"$f":"IF(C101=\"\",\"\",IF(LEN(Tabel2[[#This Row],[Entiteit of attribuut]])=2,\"\",Tabel2[[#This Row],[Entiteit]]&\"_\"&Tabel2[[#This Row],[Entiteit of attribuut]]))","v":"BA_ONDELEK"},{"$f":"IF(Schema!K113=\"\",\"\",Schema!K113)","v":""},{"$f":"IF(Schema!L113=\"\",\"\",Schema!L113)","v":""},{"$f":"IF(Schema!M113=\"\",\"\",Schema!M113)","v":""},{"$f":"IF(Schema!N113=\"\",\"\",Schema!N113)","v":""},{"$f":"IF(Schema!P113=\"\",\"\",Schema!P113)","v":"LEEG"}]
[{"$f":"Schema!A114&Schema!B114&Schema!C114&Schema!D114&Schema!E114&Schema!F114","v":"ONDHDAK"},"BA",{"$f":"IF(A102=\"\",\"\",IF(LEN(Schema!A114)=2,1,IF(LEN(Schema!B114)=2,10,IF(LEN(Schema!C114)=2,100,IF(LEN(Schema!D114)=2,1000,IF(LEN(Schema!E114)=2,10000,0))))))","v":0},10,{"$f":"IF(A102=\"\",\"\",SUM(Tabel2[[#This Row],[I1]:[I2]]))","v":10},"PP","BA","","","","PP/BA",{"$f":"IF(C102=\"\",\"\",IF(LEN(Tabel2[[#This Row],[Entiteit of attribuut]])=2,\"\",Tabel2[[#This Row],[Entiteit]]&\"_\"&Tabel2[[#This Row],[Entiteit of attribuut]]))","v":"BA_ONDHDAK"},{"$f":"IF(Schema!K114=\"\",\"\",Schema!K114)","v":""},{"$f":"IF(Schema!L114=\"\",\"\",Schema!L114)","v":""},{"$f":"IF(Schema!M114=\"\",\"\",Schema!M114)","v":""},{"$f":"IF(Schema!N114=\"\",\"\",Schema!N114)","v":""},{"$f":"IF(Schema!P114=\"\",\"\",Schema!P114)","v":"LEEG"}]
[{"$f":"Schema!A115&Schema!B115&Schema!C115&Schema!D115&Schema!E115&Schema!F115","v":"ONDHGAS"},"BA",{"$f":"IF(A103=\"\",\"\",IF(LEN(Schema!A115)=2,1,IF(LEN(Schema!B115)=2,10,IF(LEN(Schema!C115)=2,100,IF(LEN(Schema!D115)=2,1000,IF(LEN(Schema!E115)=2,10000,0))))))","v":0},10,{"$f":"IF(A103=\"\",\"\",SUM(Tabel2[[#This Row],[I1]:[I2]]))","v":10},"PP","BA","","","","PP/BA",{"$f":"IF(C103=\"\",\"\",IF(LEN(Tabel2[[#This Row],[Entiteit of attribuut]])=2,\"\",Tabel2[[#This Row],[Entiteit]]&\"_\"&Tabel2[[#This Row],[Entiteit of attribuut]]))","v":"BA_ONDHGAS"},{"$f":"IF(Schema!K115=\"\",\"\",Schema!K115)","v":""},{"$f":"IF(Schema!L115=\"\",\"\",Schema!L115)","v":""},{"$f":"IF(Schema!M115=\"\",\"\",Schema!M115)","v":""},{"$f":"IF(Schema!N115=\"\",\"\",Schema!N115)","v":""},{"$f":"IF(Schema!P115=\"\",\"\",Schema!P115)","v":"LEEG"}]
[{"$f":"Schema!A116&Schema!B116&Schema!C116&Schema!D116&Schema!E116&Schema!F116","v":"ONDSTT"},"BA",{"$f":"IF(A104=\"\",\"\",IF(LEN(Schema!A116)=2,1,IF(LEN(Schema!B116)=2,10,IF(LEN(Schema!C116)=2,100,IF(LEN(Schema!D116)=2,1000,IF(LEN(Schema!E116)=2,10000,0))))))","v":0},10,{"$f":"IF(A104=\"\",\"\",SUM(Tabel2[[#This Row],[I1]:[I2]]))","v":10},"PP","BA","","","","PP/BA",{"$f":"IF(C104=\"\",\"\",IF(LEN(Tabel2[[#This Row],[Entiteit of attribuut]])=2,\"\",Tabel2[[#This Row],[Entiteit]]&\"_\"&Tabel2[[#This Row],[Entiteit of attribuut]]))","v":"BA_ONDSTT"},{"$f":"IF(Schema!K116=\"\",\"\",Schema!K116)","v":""},{"$f":"IF(Schema!L116=\"\",\"\",Schema!L116)","v":""},{"$f":"IF(Schema!M116=\"\",\"\",Schema!M116)","v":""},{"$f":"IF(Schema!N116=\"\",\"\",Schema!N116)","v":""},{"$f":"IF(Schema!P116=\"\",\"\",Schema!P116)","v":"O"}]
[{"$f":"Schema!A117&Schema!B117&Schema!C117&Schema!D117&Schema!E117&Schema!F117","v":"PCEHOVG"},"BA",{"$f":"IF(A105=\"\",\"\",IF(LEN(Schema!A117)=2,1,IF(LEN(Schema!B117)=2,10,IF(LEN(Schema!C117)=2,100,IF(LEN(Schema!D117)=2,1000,IF(LEN(Schema!E117)=2,10000,0))))))","v":0},10,{"$f":"IF(A105=\"\",\"\",SUM(Tabel2[[#This Row],[I1]:[I2]]))","v":10},"PP","BA","","","","PP/BA",{"$f":"IF(C105=\"\",\"\",IF(LEN(Tabel2[[#This Row],[Entiteit of attribuut]])=2,\"\",Tabel2[[#This Row],[Entiteit]]&\"_\"&Tabel2[[#This Row],[Entiteit of attribuut]]))","v":"BA_PCEHOVG"},{"$f":"IF(Schema!K117=\"\",\"\",Schema!K117)","v":""},{"$f":"IF(Schema!L117=\"\",\"\",Schema!L117)","v":""},{"$f":"IF(Schema!M117=\"\",\"\",Schema!M117)","v":""},{"$f":"IF(Schema!N117=\"\",\"\",Schema!N117)","v":""},{"$f":"IF(Schema!P117=\"\",\"\",Schema!P117)","v":"LEEG"}]
[{"$f":"Schema!A118&Schema!B118&Schema!C118&Schema!D118&Schema!E118&Schema!F118","v":"PCODE"},"BA",{"$f":"IF(A106=\"\",\"\",IF(LEN(Schema!A118)=2,1,IF(LEN(Schema!B118)=2,10,IF(LEN(Schema!C118)=2,100,IF(LEN(Schema!D118)=2,1000,IF(LEN(Schema!E118)=2,10000,0))))))","v":0},10,{"$f":"IF(A106=\"\",\"\",SUM(Tabel2[[#This Row],[I1]:[I2]]))","v":10},"PP","BA","","","","PP/BA",{"$f":"IF(C106=\"\",\"\",IF(LEN(Tabel2[[#This Row],[Entiteit of attribuut]])=2,\"\",Tabel2[[#This Row],[Entiteit]]&\"_\"&Tabel2[[#This Row],[Entiteit of attribuut]]))","v":"BA_PCODE"},{"$f":"IF(Schema!K118=\"\",\"\",Schema!K118)","v":""},{"$f":"IF(Schema!L118=\"\",\"\",Schema!L118)","v":""},{"$f":"IF(Schema!M118=\"\",\"\",Schema!M118)","v":""},{"$f":"IF(Schema!N118=\"\",\"\",Schema!N118)","v":""},{"$f":"IF(Schema!P118=\"\",\"\",Schema!P118)","v":"O"}]
[{"$f":"Schema!A119&Schema!B119&Schema!C119&Schema!D119&Schema!E119&Schema!F119","v":"PERMBEW"},"BA",{"$f":"IF(A107=\"\",\"\",IF(LEN(Schema!A119)=2,1,IF(LEN(Schema!B119)=2,10,IF(LEN(Schema!C119)=2,100,IF(LEN(Schema!D119)=2,1000,IF(LEN(Schema!E119)=2,10000,0))))))","v":0},10,{"$f":"IF(A107=\"\",\"\",SUM(Tabel2[[#This Row],[I1]:[I2]]))","v":10},"PP","BA","","","","PP/BA",{"$f":"IF(C107=\"\",\"\",IF(LEN(Tabel2[[#This Row],[Entiteit of attribuut]])=2,\"\",Tabel2[[#This Row],[Entiteit]]&\"_\"&Tabel2[[#This Row],[Entiteit of attribuut]]))","v":"BA_PERMBEW"},{"$f":"IF(Schema!K119=\"\",\"\",Schema!K119)","v":""},{"$f":"IF(Schema!L119=\"\",\"\",Schema!L119)","v":""},{"$f":"IF(Schema!M119=\"\",\"\",Schema!M119)","v":""},{"$f":"IF(Schema!N119=\"\",\"\",Schema!N119)","v":""},{"$f":"IF(Schema!P119=\"\",\"\",Schema!P119)","v":"LEEG"}]
[{"$f":"Schema!A120&Schema!B120&Schema!C120&Schema!D120&Schema!E120&Schema!F120","v":"PRCHOUT"},"BA",{"$f":"IF(A108=\"\",\"\",IF(LEN(Schema!A120)=2,1,IF(LEN(Schema!B120)=2,10,IF(LEN(Schema!C120)=2,100,IF(LEN(Schema!D120)=2,1000,IF(LEN(Schema!E120)=2,10000,0))))))","v":0},10,{"$f":"IF(A108=\"\",\"\",SUM(Tabel2[[#This Row],[I1]:[I2]]))","v":10},"PP","BA","","","","PP/BA",{"$f":"IF(C108=\"\",\"\",IF(LEN(Tabel2[[#This Row],[Entiteit of attribuut]])=2,\"\",Tabel2[[#This Row],[Entiteit]]&\"_\"&Tabel2[[#This Row],[Entiteit of attribuut]]))","v":"BA_PRCHOUT"},{"$f":"IF(Schema!K120=\"\",\"\",Schema!K120)","v":""},{"$f":"IF(Schema!L120=\"\",\"\",Schema!L120)","v":""},{"$f":"IF(Schema!M120=\"\",\"\",Schema!M120)","v":""},{"$f":"IF(Schema!N120=\"\",\"\",Schema!N120)","v":""},{"$f":"IF(Schema!P120=\"\",\"\",Schema!P120)","v":"LEEG"}]
[{"$f":"Schema!A121&Schema!B121&Schema!C121&Schema!D121&Schema!E121&Schema!F121","v":"RISKLSI"},"BA",{"$f":"IF(A109=\"\",\"\",IF(LEN(Schema!A121)=2,1,IF(LEN(Schema!B121)=2,10,IF(LEN(Schema!C121)=2,100,IF(LEN(Schema!D121)=2,1000,IF(LEN(Schema!E121)=2,10000,0))))))","v":0},10,{"$f":"IF(A109=\"\",\"\",SUM(Tabel2[[#This Row],[I1]:[I2]]))","v":10},"PP","BA","","","","PP/BA",{"$f":"IF(C109=\"\",\"\",IF(LEN(Tabel2[[#This Row],[Entiteit of attribuut]])=2,\"\",Tabel2[[#This Row],[Entiteit]]&\"_\"&Tabel2[[#This Row],[Entiteit of attribuut]]))","v":"BA_RISKLSI"},{"$f":"IF(Schema!K121=\"\",\"\",Schema!K121)","v":""},{"$f":"IF(Schema!L121=\"\",\"\",Schema!L121)","v":""},{"$f":"IF(Schema!M121=\"\",\"\",Schema!M121)","v":""},{"$f":"IF(Schema!N121=\"\",\"\",Schema!N121)","v":""},{"$f":"IF(Schema!P121=\"\",\"\",Schema!P121)","v":"LEEG"}]
[{"$f":"Schema!A122&Schema!B122&Schema!C122&Schema!D122&Schema!E122&Schema!F122","v":"RTRJN"},"BA",{"$f":"IF(A110=\"\",\"\",IF(LEN(Schema!A122)=2,1,IF(LEN(Schema!B122)=2,10,IF(LEN(Schema!C122)=2,100,IF(LEN(Schema!D122)=2,1000,IF(LEN(Schema!E122)=2,10000,0))))))","v":0},10,{"$f":"IF(A110=\"\",\"\",SUM(Tabel2[[#This Row],[I1]:[I2]]))","v":10},"PP","BA","","","","PP/BA",{"$f":"IF(C110=\"\",\"\",IF(LEN(Tabel2[[#This Row],[Entiteit of attribuut]])=2,\"\",Tabel2[[#This Row],[Entiteit]]&\"_\"&Tabel2[[#This Row],[Entiteit of attribuut]]))","v":"BA_RTRJN"},{"$f":"IF(Schema!K122=\"\",\"\",Schema!K122)","v":""},{"$f":"IF(Schema!L122=\"\",\"\",Schema!L122)","v":""},{"$f":"IF(Schema!M122=\"\",\"\",Schema!M122)","v":""},{"$f":"IF(Schema!N122=\"\",\"\",Schema!N122)","v":""},{"$f":"IF(Schema!P122=\"\",\"\",Schema!P122)","v":"LEEG"}]
[{"$f":"Schema!A123&Schema!B123&Schema!C123&Schema!D123&Schema!E123&Schema!F123","v":"SLOOP"},"BA",{"$f":"IF(A111=\"\",\"\",IF(LEN(Schema!A123)=2,1,IF(LEN(Schema!B123)=2,10,IF(LEN(Schema!C123)=2,100,IF(LEN(Schema!D123)=2,1000,IF(LEN(Schema!E123)=2,10000,0))))))","v":0},10,{"$f":"IF(A111=\"\",\"\",SUM(Tabel2[[#This Row],[I1]:[I2]]))","v":10},"PP","BA","","","","PP/BA",{"$f":"IF(C111=\"\",\"\",IF(LEN(Tabel2[[#This Row],[Entiteit of attribuut]])=2,\"\",Tabel2[[#This Row],[Entiteit]]&\"_\"&Tabel2[[#This Row],[Entiteit of attribuut]]))","v":"BA_SLOOP"},{"$f":"IF(Schema!K123=\"\",\"\",Schema!K123)","v":""},{"$f":"IF(Schema!L123=\"\",\"\",Schema!L123)","v":""},{"$f":"IF(Schema!M123=\"\",\"\",Schema!M123)","v":""},{"$f":"IF(Schema!N123=\"\",\"\",Schema!N123)","v":""},{"$f":"IF(Schema!P123=\"\",\"\",Schema!P123)","v":"LEEG"}]
[{"$f":"Schema!A124&Schema!B124&Schema!C124&Schema!D124&Schema!E124&Schema!F124","v":"SPRGRAD"},"BA",{"$f":"IF(A112=\"\",\"\",IF(LEN(Schema!A124)=2,1,IF(LEN(Schema!B124)=2,10,IF(LEN(Schema!C124)=2,100,IF(LEN(Schema!D124)=2,1000,IF(LEN(Schema!E124)=2,10000,0))))))","v":0},10,{"$f":"IF(A112=\"\",\"\",SUM(Tabel2[[#This Row],[I1]:[I2]]))","v":10},"PP","BA","","","","PP/BA",{"$f":"IF(C112=\"\",\"\",IF(LEN(Tabel2[[#This Row],[Entiteit of attribuut]])=2,\"\",Tabel2[[#This Row],[Entiteit]]&\"_\"&Tabel2[[#This Row],[Entiteit of attribuut]]))","v":"BA_SPRGRAD"},{"$f":"IF(Schema!K124=\"\",\"\",Schema!K124)","v":""},{"$f":"IF(Schema!L124=\"\",\"\",Schema!L124)","v":""},{"$f":"IF(Schema!M124=\"\",\"\",Schema!M124)","v":""},{"$f":"IF(Schema!N124=\"\",\"\",Schema!N124)","v":""},{"$f":"IF(Schema!P124=\"\",\"\",Schema!P124)","v":"LEEG"}]
[{"$f":"Schema!A125&Schema!B125&Schema!C125&Schema!D125&Schema!E125&Schema!F125","v":"SRTISO"},"BA",{"$f":"IF(A113=\"\",\"\",IF(LEN(Schema!A125)=2,1,IF(LEN(Schema!B125)=2,10,IF(LEN(Schema!C125)=2,100,IF(LEN(Schema!D125)=2,1000,IF(LEN(Schema!E125)=2,10000,0))))))","v":0},10,{"$f":"IF(A113=\"\",\"\",SUM(Tabel2[[#This Row],[I1]:[I2]]))","v":10},"PP","BA","","","","PP/BA",{"$f":"IF(C113=\"\",\"\",IF(LEN(Tabel2[[#This Row],[Entiteit of attribuut]])=2,\"\",Tabel2[[#This Row],[Entiteit]]&\"_\"&Tabel2[[#This Row],[Entiteit of attribuut]]))","v":"BA_SRTISO"},{"$f":"IF(Schema!K125=\"\",\"\",Schema!K125)","v":""},{"$f":"IF(Schema!L125=\"\",\"\",Schema!L125)","v":""},{"$f":"IF(Schema!M125=\"\",\"\",Schema!M125)","v":""},{"$f":"IF(Schema!N125=\"\",\"\",Schema!N125)","v":""},{"$f":"IF(Schema!P125=\"\",\"\",Schema!P125)","v":"LEEG"}]
[{"$f":"Schema!A126&Schema!B126&Schema!C126&Schema!D126&Schema!E126&Schema!F126","v":"SRTRDAK"},"BA",{"$f":"IF(A114=\"\",\"\",IF(LEN(Schema!A126)=2,1,IF(LEN(Schema!B126)=2,10,IF(LEN(Schema!C126)=2,100,IF(LEN(Schema!D126)=2,1000,IF(LEN(Schema!E126)=2,10000,0))))))","v":0},10,{"$f":"IF(A114=\"\",\"\",SUM(Tabel2[[#This Row],[I1]:[I2]]))","v":10},"PP","BA","","","","PP/BA",{"$f":"IF(C114=\"\",\"\",IF(LEN(Tabel2[[#This Row],[Entiteit of attribuut]])=2,\"\",Tabel2[[#This Row],[Entiteit]]&\"_\"&Tabel2[[#This Row],[Entiteit of attribuut]]))","v":"BA_SRTRDAK"},{"$f":"IF(Schema!K126=\"\",\"\",Schema!K126)","v":""},{"$f":"IF(Schema!L126=\"\",\"\",Schema!L126)","v":""},{"$f":"IF(Schema!M126=\"\",\"\",Schema!M126)","v":""},{"$f":"IF(Schema!N126=\"\",\"\",Schema!N126)","v":""},{"$f":"IF(Schema!P126=\"\",\"\",Schema!P126)","v":"LEEG"}]
[{"$f":"Schema!A127&Schema!B127&Schema!C127&Schema!D127&Schema!E127&Schema!F127","v":"STALL"},"BA",{"$f":"IF(A115=\"\",\"\",IF(LEN(Schema!A127)=2,1,IF(LEN(Schema!B127)=2,10,IF(LEN(Schema!C127)=2,100,IF(LEN(Schema!D127)=2,1000,IF(LEN(Schema!E127)=2,10000,0))))))","v":0},10,{"$f":"IF(A115=\"\",\"\",SUM(Tabel2[[#This Row],[I1]:[I2]]))","v":10},"PP","BA","","","","PP/BA",{"$f":"IF(C115=\"\",\"\",IF(LEN(Tabel2[[#This Row],[Entiteit of attribuut]])=2,\"\",Tabel2[[#This Row],[Entiteit]]&\"_\"&Tabel2[[#This Row],[Entiteit of attribuut]]))","v":"BA_STALL"},{"$f":"IF(Schema!K127=\"\",\"\",Schema!K127)","v":""},{"$f":"IF(Schema!L127=\"\",\"\",Schema!L127)","v":""},{"$f":"IF(Schema!M127=\"\",\"\",Schema!M127)","v":""},{"$f":"IF(Schema!N127=\"\",\"\",Schema!N127)","v":""},{"$f":"IF(Schema!P127=\"\",\"\",Schema!P127)","v":"LEEG"}]
[{"$f":"Schema!A128&Schema!B128&Schema!C128&Schema!D128&Schema!E128&Schema!F128","v":"STRAAT"},"BA",{"$f":"IF(A116=\"\",\"\",IF(LEN(Schema!A128)=2,1,IF(LEN(Schema!B128)=2,10,IF(LEN(Schema!C128)=2,100,IF(LEN(Schema!D128)=2,1000,IF(LEN(Schema!E128)=2,10000,0))))))","v":0},10,{"$f":"IF(A116=\"\",\"\",SUM(Tabel2[[#This Row],[I1]:[I2]]))","v":10},"PP","BA","","","","PP/BA",{"$f":"IF(C116=\"\",\"\",IF(LEN(Tabel2[[#This Row],[Entiteit of attribuut]])=2,\"\",Tabel2[[#This Row],[Entiteit]]&\"_\"&Tabel2[[#This Row],[Entiteit of attribuut]]))","v":"BA_STRAAT"},{"$f":"IF(Schema!K128=\"\",\"\",Schema!K128)","v":""},{"$f":"IF(Schema!L128=\"\",\"\",Schema!L128)","v":""},{"$f":"IF(Schema!M128=\"\",\"\",Schema!M128)","v":""},{"$f":"IF(Schema!N128=\"\",\"\",Schema!N128)","v":""},{"$f":"IF(Schema!P128=\"\",\"\",Schema!P128)","v":"LEEG"}]
[{"$f":"Schema!A129&Schema!B129&Schema!C129&Schema!D129&Schema!E129&Schema!F129","v":"TOEGEBR"},"BA",{"$f":"IF(A117=\"\",\"\",IF(LEN(Schema!A129)=2,1,IF(LEN(Schema!B129)=2,10,IF(LEN(Schema!C129)=2,100,IF(LEN(Schema!D129)=2,1000,IF(LEN(Schema!E129)=2,10000,0))))))","v":0},10,{"$f":"IF(A117=\"\",\"\",SUM(Tabel2[[#This Row],[I1]:[I2]]))","v":10},"PP","BA","","","","PP/BA",{"$f":"IF(C117=\"\",\"\",IF(LEN(Tabel2[[#This Row],[Entiteit of attribuut]])=2,\"\",Tabel2[[#This Row],[Entiteit]]&\"_\"&Tabel2[[#This Row],[Entiteit of attribuut]]))","v":"BA_TOEGEBR"},{"$f":"IF(Schema!K129=\"\",\"\",Schema!K129)","v":""},{"$f":"IF(Schema!L129=\"\",\"\",Schema!L129)","v":""},{"$f":"IF(Schema!M129=\"\",\"\",Schema!M129)","v":""},{"$f":"IF(Schema!N129=\"\",\"\",Schema!N129)","v":""},{"$f":"IF(Schema!P129=\"\",\"\",Schema!P129)","v":"O"}]
[{"$f":"Schema!A130&Schema!B130&Schema!C130&Schema!D130&Schema!E130&Schema!F130","v":"TOEVOEG"},"BA",{"$f":"IF(A118=\"\",\"\",IF(LEN(Schema!A130)=2,1,IF(LEN(Schema!B130)=2,10,IF(LEN(Schema!C130)=2,100,IF(LEN(Schema!D130)=2,1000,IF(LEN(Schema!E130)=2,10000,0))))))","v":0},10,{"$f":"IF(A118=\"\",\"\",SUM(Tabel2[[#This Row],[I1]:[I2]]))","v":10},"PP","BA","","","","PP/BA",{"$f":"IF(C118=\"\",\"\",IF(LEN(Tabel2[[#This Row],[Entiteit of attribuut]])=2,\"\",Tabel2[[#This Row],[Entiteit]]&\"_\"&Tabel2[[#This Row],[Entiteit of attribuut]]))","v":"BA_TOEVOEG"},{"$f":"IF(Schema!K130=\"\",\"\",Schema!K130)","v":""},{"$f":"IF(Schema!L130=\"\",\"\",Schema!L130)","v":""},{"$f":"IF(Schema!M130=\"\",\"\",Schema!M130)","v":""},{"$f":"IF(Schema!N130=\"\",\"\",Schema!N130)","v":""},{"$f":"IF(Schema!P130=\"\",\"\",Schema!P130)","v":"O"}]
[{"$f":"Schema!A131&Schema!B131&Schema!C131&Schema!D131&Schema!E131&Schema!F131","v":"TYPEPND"},"BA",{"$f":"IF(A119=\"\",\"\",IF(LEN(Schema!A131)=2,1,IF(LEN(Schema!B131)=2,10,IF(LEN(Schema!C131)=2,100,IF(LEN(Schema!D131)=2,1000,IF(LEN(Schema!E131)=2,10000,0))))))","v":0},10,{"$f":"IF(A119=\"\",\"\",SUM(Tabel2[[#This Row],[I1]:[I2]]))","v":10},"PP","BA","","","","PP/BA",{"$f":"IF(C119=\"\",\"\",IF(LEN(Tabel2[[#This Row],[Entiteit of attribuut]])=2,\"\",Tabel2[[#This Row],[Entiteit]]&\"_\"&Tabel2[[#This Row],[Entiteit of attribuut]]))","v":"BA_TYPEPND"},{"$f":"IF(Schema!K131=\"\",\"\",Schema!K131)","v":""},{"$f":"IF(Schema!L131=\"\",\"\",Schema!L131)","v":""},{"$f":"IF(Schema!M131=\"\",\"\",Schema!M131)","v":""},{"$f":"IF(Schema!N131=\"\",\"\",Schema!N131)","v":""},{"$f":"IF(Schema!P131=\"\",\"\",Schema!P131)","v":"LEEG"}]
[{"$f":"Schema!A132&Schema!B132&Schema!C132&Schema!D132&Schema!E132&Schema!F132","v":"VERHUUR"},"BA",{"$f":"IF(A120=\"\",\"\",IF(LEN(Schema!A132)=2,1,IF(LEN(Schema!B132)=2,10,IF(LEN(Schema!C132)=2,100,IF(LEN(Schema!D132)=2,1000,IF(LEN(Schema!E132)=2,10000,0))))))","v":0},10,{"$f":"IF(A120=\"\",\"\",SUM(Tabel2[[#This Row],[I1]:[I2]]))","v":10},"PP","BA","","","","PP/BA",{"$f":"IF(C120=\"\",\"\",IF(LEN(Tabel2[[#This Row],[Entiteit of attribuut]])=2,\"\",Tabel2[[#This Row],[Entiteit]]&\"_\"&Tabel2[[#This Row],[Entiteit of attribuut]]))","v":"BA_VERHUUR"},{"$f":"IF(Schema!K132=\"\",\"\",Schema!K132)","v":""},{"$f":"IF(Schema!L132=\"\",\"\",Schema!L132)","v":""},{"$f":"IF(Schema!M132=\"\",\"\",Schema!M132)","v":""},{"$f":"IF(Schema!N132=\"\",\"\",Schema!N132)","v":""},{"$f":"IF(Schema!P132=\"\",\"\",Schema!P132)","v":"LEEG"}]
[{"$f":"Schema!A133&Schema!B133&Schema!C133&Schema!D133&Schema!E133&Schema!F133","v":"VERWARM"},"BA",{"$f":"IF(A121=\"\",\"\",IF(LEN(Schema!A133)=2,1,IF(LEN(Schema!B133)=2,10,IF(LEN(Schema!C133)=2,100,IF(LEN(Schema!D133)=2,1000,IF(LEN(Schema!E133)=2,10000,0))))))","v":0},10,{"$f":"IF(A121=\"\",\"\",SUM(Tabel2[[#This Row],[I1]:[I2]]))","v":10},"PP","BA","","","","PP/BA",{"$f":"IF(C121=\"\",\"\",IF(LEN(Tabel2[[#This Row],[Entiteit of attribuut]])=2,\"\",Tabel2[[#This Row],[Entiteit]]&\"_\"&Tabel2[[#This Row],[Entiteit of attribuut]]))","v":"BA_VERWARM"},{"$f":"IF(Schema!K133=\"\",\"\",Schema!K133)","v":""},{"$f":"IF(Schema!L133=\"\",\"\",Schema!L133)","v":""},{"$f":"IF(Schema!M133=\"\",\"\",Schema!M133)","v":""},{"$f":"IF(Schema!N133=\"\",\"\",Schema!N133)","v":""},{"$f":"IF(Schema!P133=\"\",\"\",Schema!P133)","v":"LEEG"}]
[{"$f":"Schema!A134&Schema!B134&Schema!C134&Schema!D134&Schema!E134&Schema!F134","v":"VOLGNUM"},"BA",{"$f":"IF(A122=\"\",\"\",IF(LEN(Schema!A134)=2,1,IF(LEN(Schema!B134)=2,10,IF(LEN(Schema!C134)=2,100,IF(LEN(Schema!D134)=2,1000,IF(LEN(Schema!E134)=2,10000,0))))))","v":0},10,{"$f":"IF(A122=\"\",\"\",SUM(Tabel2[[#This Row],[I1]:[I2]]))","v":10},"PP","BA","","","","PP/BA",{"$f":"IF(C122=\"\",\"\",IF(LEN(Tabel2[[#This Row],[Entiteit of attribuut]])=2,\"\",Tabel2[[#This Row],[Entiteit]]&\"_\"&Tabel2[[#This Row],[Entiteit of attribuut]]))","v":"BA_VOLGNUM"},{"$f":"IF(Schema!K134=\"\",\"\",Schema!K134)","v":""},{"$f":"IF(Schema!L134=\"\",\"\",Schema!L134)","v":""},{"$f":"IF(Schema!M134=\"\",\"\",Schema!M134)","v":""},{"$f":"IF(Schema!N134=\"\",\"\",Schema!N134)","v":""},{"$f":"IF(Schema!P134=\"\",\"\",Schema!P134)","v":"O"}]
[{"$f":"Schema!A135&Schema!B135&Schema!C135&Schema!D135&Schema!E135&Schema!F135","v":"VRWRKCD"},"BA",{"$f":"IF(A123=\"\",\"\",IF(LEN(Schema!A135)=2,1,IF(LEN(Schema!B135)=2,10,IF(LEN(Schema!C135)=2,100,IF(LEN(Schema!D135)=2,1000,IF(LEN(Schema!E135)=2,10000,0))))))","v":0},10,{"$f":"IF(A123=\"\",\"\",SUM(Tabel2[[#This Row],[I1]:[I2]]))","v":10},"PP","BA","","","","PP/BA",{"$f":"IF(C123=\"\",\"\",IF(LEN(Tabel2[[#This Row],[Entiteit of attribuut]])=2,\"\",Tabel2[[#This Row],[Entiteit]]&\"_\"&Tabel2[[#This Row],[Entiteit of attribuut]]))","v":"BA_VRWRKCD"},{"$f":"IF(Schema!K135=\"\",\"\",Schema!K135)","v":""},{"$f":"IF(Schema!L135=\"\",\"\",Schema!L135)","v":""},{"$f":"IF(Schema!M135=\"\",\"\",Schema!M135)","v":""},{"$f":"IF(Schema!N135=\"\",\"\",Schema!N135)","v":""},{"$f":"IF(Schema!P135=\"\",\"\",Schema!P135)","v":"LEEG"}]
[{"$f":"Schema!A136&Schema!B136&Schema!C136&Schema!D136&Schema!E136&Schema!F136","v":"WONING"},"BA",{"$f":"IF(A124=\"\",\"\",IF(LEN(Schema!A136)=2,1,IF(LEN(Schema!B136)=2,10,IF(LEN(Schema!C136)=2,100,IF(LEN(Schema!D136)=2,1000,IF(LEN(Schema!E136)=2,10000,0))))))","v":0},10,{"$f":"IF(A124=\"\",\"\",SUM(Tabel2[[#This Row],[I1]:[I2]]))","v":10},"PP","BA","","","","PP/BA",{"$f":"IF(C124=\"\",\"\",IF(LEN(Tabel2[[#This Row],[Entiteit of attribuut]])=2,\"\",Tabel2[[#This Row],[Entiteit]]&\"_\"&Tabel2[[#This Row],[Entiteit of attribuut]]))","v":"BA_WONING"},{"$f":"IF(Schema!K136=\"\",\"\",Schema!K136)","v":""},{"$f":"IF(Schema!L136=\"\",\"\",Schema!L136)","v":""},{"$f":"IF(Schema!M136=\"\",\"\",Schema!M136)","v":""},{"$f":"IF(Schema!N136=\"\",\"\",Schema!N136)","v":""},{"$f":"IF(Schema!P136=\"\",\"\",Schema!P136)","v":"LEEG"}]
[{"$f":"Schema!A137&Schema!B137&Schema!C137&Schema!D137&Schema!E137&Schema!F137","v":"WOONOMG"},"BA",{"$f":"IF(A125=\"\",\"\",IF(LEN(Schema!A137)=2,1,IF(LEN(Schema!B137)=2,10,IF(LEN(Schema!C137)=2,100,IF(LEN(Schema!D137)=2,1000,IF(LEN(Schema!E137)=2,10000,0))))))","v":0},10,{"$f":"IF(A125=\"\",\"\",SUM(Tabel2[[#This Row],[I1]:[I2]]))","v":10},"PP","BA","","","","PP/BA",{"$f":"IF(C125=\"\",\"\",IF(LEN(Tabel2[[#This Row],[Entiteit of attribuut]])=2,\"\",Tabel2[[#This Row],[Entiteit]]&\"_\"&Tabel2[[#This Row],[Entiteit of attribuut]]))","v":"BA_WOONOMG"},{"$f":"IF(Schema!K137=\"\",\"\",Schema!K137)","v":""},{"$f":"IF(Schema!L137=\"\",\"\",Schema!L137)","v":""},{"$f":"IF(Schema!M137=\"\",\"\",Schema!M137)","v":""},{"$f":"IF(Schema!N137=\"\",\"\",Schema!N137)","v":""},{"$f":"IF(Schema!P137=\"\",\"\",Schema!P137)","v":"LEEG"}]
[{"$f":"Schema!A138&Schema!B138&Schema!C138&Schema!D138&Schema!E138&Schema!F138","v":"GL"},"GL",{"$f":"IF(A126=\"\",\"\",IF(LEN(Schema!A138)=2,1,IF(LEN(Schema!B138)=2,10,IF(LEN(Schema!C138)=2,100,IF(LEN(Schema!D138)=2,1000,IF(LEN(Schema!E138)=2,10000,0))))))","v":10},10,{"$f":"IF(A126=\"\",\"\",SUM(Tabel2[[#This Row],[I1]:[I2]]))","v":20},"PP","GL","","","","PP/GL",{"$f":"IF(C126=\"\",\"\",IF(LEN(Tabel2[[#This Row],[Entiteit of attribuut]])=2,\"\",Tabel2[[#This Row],[Entiteit]]&\"_\"&Tabel2[[#This Row],[Entiteit of attribuut]]))","v":""},{"$f":"IF(Schema!K138=\"\",\"\",Schema!K138)","v":""},{"$f":"IF(Schema!L138=\"\",\"\",Schema!L138)","v":""},{"$f":"IF(Schema!M138=\"\",\"\",Schema!M138)","v":""},{"$f":"IF(Schema!N138=\"\",\"\",Schema!N138)","v":""},{"$f":"IF(Schema!P138=\"\",\"\",Schema!P138)","v":"O"}]
[{"$f":"Schema!A139&Schema!B139&Schema!C139&Schema!D139&Schema!E139&Schema!F139","v":"AANTBWR"},"GL",{"$f":"IF(A127=\"\",\"\",IF(LEN(Schema!A139)=2,1,IF(LEN(Schema!B139)=2,10,IF(LEN(Schema!C139)=2,100,IF(LEN(Schema!D139)=2,1000,IF(LEN(Schema!E139)=2,10000,0))))))","v":0},10,{"$f":"IF(A127=\"\",\"\",SUM(Tabel2[[#This Row],[I1]:[I2]]))","v":10},"PP","GL","","","","PP/GL",{"$f":"IF(C127=\"\",\"\",IF(LEN(Tabel2[[#This Row],[Entiteit of attribuut]])=2,\"\",Tabel2[[#This Row],[Entiteit]]&\"_\"&Tabel2[[#This Row],[Entiteit of attribuut]]))","v":"GL_AANTBWR"},{"$f":"IF(Schema!K139=\"\",\"\",Schema!K139)","v":""},{"$f":"IF(Schema!L139=\"\",\"\",Schema!L139)","v":""},{"$f":"IF(Schema!M139=\"\",\"\",Schema!M139)","v":""},{"$f":"IF(Schema!N139=\"\",\"\",Schema!N139)","v":""},{"$f":"IF(Schema!P139=\"\",\"\",Schema!P139)","v":"LEEG"}]
[{"$f":"Schema!A140&Schema!B140&Schema!C140&Schema!D140&Schema!E140&Schema!F140","v":"AANTGRD"},"GL",{"$f":"IF(A128=\"\",\"\",IF(LEN(Schema!A140)=2,1,IF(LEN(Schema!B140)=2,10,IF(LEN(Schema!C140)=2,100,IF(LEN(Schema!D140)=2,1000,IF(LEN(Schema!E140)=2,10000,0))))))","v":0},10,{"$f":"IF(A128=\"\",\"\",SUM(Tabel2[[#This Row],[I1]:[I2]]))","v":10},"PP","GL","","","","PP/GL",{"$f":"IF(C128=\"\",\"\",IF(LEN(Tabel2[[#This Row],[Entiteit of attribuut]])=2,\"\",Tabel2[[#This Row],[Entiteit]]&\"_\"&Tabel2[[#This Row],[Entiteit of attribuut]]))","v":"GL_AANTGRD"},{"$f":"IF(Schema!K140=\"\",\"\",Schema!K140)","v":""},{"$f":"IF(Schema!L140=\"\",\"\",Schema!L140)","v":""},{"$f":"IF(Schema!M140=\"\",\"\",Schema!M140)","v":""},{"$f":"IF(Schema!N140=\"\",\"\",Schema!N140)","v":""},{"$f":"IF(Schema!P140=\"\",\"\",Schema!P140)","v":"LEEG"}]
[{"$f":"Schema!A141&Schema!B141&Schema!C141&Schema!D141&Schema!E141&Schema!F141","v":"AANTGRE"},"GL",{"$f":"IF(A129=\"\",\"\",IF(LEN(Schema!A141)=2,1,IF(LEN(Schema!B141)=2,10,IF(LEN(Schema!C141)=2,100,IF(LEN(Schema!D141)=2,1000,IF(LEN(Schema!E141)=2,10000,0))))))","v":0},10,{"$f":"IF(A129=\"\",\"\",SUM(Tabel2[[#This Row],[I1]:[I2]]))","v":10},"PP","GL","","","","PP/GL",{"$f":"IF(C129=\"\",\"\",IF(LEN(Tabel2[[#This Row],[Entiteit of attribuut]])=2,\"\",Tabel2[[#This Row],[Entiteit]]&\"_\"&Tabel2[[#This Row],[Entiteit of attribuut]]))","v":"GL_AANTGRE"},{"$f":"IF(Schema!K141=\"\",\"\",Schema!K141)","v":""},{"$f":"IF(Schema!L141=\"\",\"\",Schema!L141)","v":""},{"$f":"IF(Schema!M141=\"\",\"\",Schema!M141)","v":""},{"$f":"IF(Schema!N141=\"\",\"\",Schema!N141)","v":""},{"$f":"IF(Schema!P141=\"\",\"\",Schema!P141)","v":"LEEG"}]
[{"$f":"Schema!A142&Schema!B142&Schema!C142&Schema!D142&Schema!E142&Schema!F142","v":"AANTHGD"},"GL",{"$f":"IF(A130=\"\",\"\",IF(LEN(Schema!A142)=2,1,IF(LEN(Schema!B142)=2,10,IF(LEN(Schema!C142)=2,100,IF(LEN(Schema!D142)=2,1000,IF(LEN(Schema!E142)=2,10000,0))))))","v":0},10,{"$f":"IF(A130=\"\",\"\",SUM(Tabel2[[#This Row],[I1]:[I2]]))","v":10},"PP","GL","","","","PP/GL",{"$f":"IF(C130=\"\",\"\",IF(LEN(Tabel2[[#This Row],[Entiteit of attribuut]])=2,\"\",Tabel2[[#This Row],[Entiteit]]&\"_\"&Tabel2[[#This Row],[Entiteit of attribuut]]))","v":"GL_AANTHGD"},{"$f":"IF(Schema!K142=\"\",\"\",Schema!K142)","v":""},{"$f":"IF(Schema!L142=\"\",\"\",Schema!L142)","v":""},{"$f":"IF(Schema!M142=\"\",\"\",Schema!M142)","v":""},{"$f":"IF(Schema!N142=\"\",\"\",Schema!N142)","v":""},{"$f":"IF(Schema!P142=\"\",\"\",Schema!P142)","v":"LEEG"}]
[{"$f":"Schema!A143&Schema!B143&Schema!C143&Schema!D143&Schema!E143&Schema!F143","v":"AANTRUI"},{"$f":"IF(LEN(A131)=2,A131,IF(A131=\"\",\"Leeg\",B130))","v":"GL"},{"$f":"IF(A131=\"\",\"\",IF(LEN(Schema!A143)=2,1,IF(LEN(Schema!B143)=2,10,IF(LEN(Schema!C143)=2,100,IF(LEN(Schema!D143)=2,1000,IF(LEN(Schema!E143)=2,10000,0))))))","v":0},{"$f":"IF(C131=0,D130,C131)","v":10},{"$f":"IF(A131=\"\",\"\",SUM(Tabel2[[#This Row],[I1]:[I2]]))","v":10},{"$f":"IF(A131=\"\",\"\",IF(C131=1,B131,F130))","v":"PP"},{"$f":"IF(C131=10,A131,IF(OR(C131=0,C131=100,C131=1000,C131=10000),G130,\"\"))","v":"GL"},{"$f":"IF(E131=200,B131,IF(OR(C131=0,C131=100,C131=1000,C131=10000),H130,\"\"))","v":""},{"$f":"IF(E131=2000,B131,IF(OR(C131=0,C131=10000),I130,\"\"))","v":""},{"$f":"IF(E131=20000,B131,IF(OR(C131=0,,C131=10000),J130,\"\"))","v":""},{"$f":"IF(C131=\"\",\"\",IF(OR(E131=1,E131=10,E131=100,E131=1000,E131=10000),K130,IF(E131=2,F131,IF(E131=20,F131&\"/\"&G131,IF(E131=200,F131&\"/\"&G131&\"/\"&H131,IF(E131=2000,F131&\"/\"&G131&\"/\"&H131&\"/\"&I131,IF(E131=20000,F131&\"/\"&G131&\"/\"&H131&\"/\"&I131&\"/\"&J131)))))))","v":"PP/GL"},{"$f":"IF(C131=\"\",\"\",IF(LEN(Tabel2[[#This Row],[Entiteit of attribuut]])=2,\"\",Tabel2[[#This Row],[Entiteit]]&\"_\"&Tabel2[[#This Row],[Entiteit of attribuut]]))","v":"GL_AANTRUI"},{"$f":"IF(Schema!K143=\"\",\"\",Schema!K143)","v":""},{"$f":"IF(Schema!L143=\"\",\"\",Schema!L143)","v":""},{"$f":"IF(Schema!M143=\"\",\"\",Schema!M143)","v":""},{"$f":"IF(Schema!N143=\"\",\"\",Schema!N143)","v":""},{"$f":"IF(Schema!P143=\"\",\"\",Schema!P143)","v":"LEEG"}]
[{"$f":"Schema!A144&Schema!B144&Schema!C144&Schema!D144&Schema!E144&Schema!F144","v":"AANTVIT"},"GL",{"$f":"IF(A132=\"\",\"\",IF(LEN(Schema!A144)=2,1,IF(LEN(Schema!B144)=2,10,IF(LEN(Schema!C144)=2,100,IF(LEN(Schema!D144)=2,1000,IF(LEN(Schema!E144)=2,10000,0))))))","v":0},10,{"$f":"IF(A132=\"\",\"\",SUM(Tabel2[[#This Row],[I1]:[I2]]))","v":10},"PP","GL","","","","PP/GL",{"$f":"IF(C132=\"\",\"\",IF(LEN(Tabel2[[#This Row],[Entiteit of attribuut]])=2,\"\",Tabel2[[#This Row],[Entiteit]]&\"_\"&Tabel2[[#This Row],[Entiteit of attribuut]]))","v":"GL_AANTVIT"},{"$f":"IF(Schema!K144=\"\",\"\",Schema!K144)","v":""},{"$f":"IF(Schema!L144=\"\",\"\",Schema!L144)","v":""},{"$f":"IF(Schema!M144=\"\",\"\",Schema!M144)","v":""},{"$f":"IF(Schema!N144=\"\",\"\",Schema!N144)","v":""},{"$f":"IF(Schema!P144=\"\",\"\",Schema!P144)","v":"LEEG"}]
[{"$f":"Schema!A145&Schema!B145&Schema!C145&Schema!D145&Schema!E145&Schema!F145","v":"AANTWBT"},"GL",{"$f":"IF(A133=\"\",\"\",IF(LEN(Schema!A145)=2,1,IF(LEN(Schema!B145)=2,10,IF(LEN(Schema!C145)=2,100,IF(LEN(Schema!D145)=2,1000,IF(LEN(Schema!E145)=2,10000,0))))))","v":0},10,{"$f":"IF(A133=\"\",\"\",SUM(Tabel2[[#This Row],[I1]:[I2]]))","v":10},"PP","GL","","","","PP/GL",{"$f":"IF(C133=\"\",\"\",IF(LEN(Tabel2[[#This Row],[Entiteit of attribuut]])=2,\"\",Tabel2[[#This Row],[Entiteit]]&\"_\"&Tabel2[[#This Row],[Entiteit of attribuut]]))","v":"GL_AANTWBT"},{"$f":"IF(Schema!K145=\"\",\"\",Schema!K145)","v":""},{"$f":"IF(Schema!L145=\"\",\"\",Schema!L145)","v":""},{"$f":"IF(Schema!M145=\"\",\"\",Schema!M145)","v":""},{"$f":"IF(Schema!N145=\"\",\"\",Schema!N145)","v":""},{"$f":"IF(Schema!P145=\"\",\"\",Schema!P145)","v":"LEEG"}]
[{"$f":"Schema!A146&Schema!B146&Schema!C146&Schema!D146&Schema!E146&Schema!F146","v":"VOLGNUM"},"GL",{"$f":"IF(A134=\"\",\"\",IF(LEN(Schema!A146)=2,1,IF(LEN(Schema!B146)=2,10,IF(LEN(Schema!C146)=2,100,IF(LEN(Schema!D146)=2,1000,IF(LEN(Schema!E146)=2,10000,0))))))","v":0},10,{"$f":"IF(A134=\"\",\"\",SUM(Tabel2[[#This Row],[I1]:[I2]]))","v":10},"PP","GL","","","","PP/GL",{"$f":"IF(C134=\"\",\"\",IF(LEN(Tabel2[[#This Row],[Entiteit of attribuut]])=2,\"\",Tabel2[[#This Row],[Entiteit]]&\"_\"&Tabel2[[#This Row],[Entiteit of attribuut]]))","v":"GL_VOLGNUM"},{"$f":"IF(Schema!K146=\"\",\"\",Schema!K146)","v":""},{"$f":"IF(Schema!L146=\"\",\"\",Schema!L146)","v":""},{"$f":"IF(Schema!M146=\"\",\"\",Schema!M146)","v":""},{"$f":"IF(Schema!N146=\"\",\"\",Schema!N146)","v":""},{"$f":"IF(Schema!P146=\"\",\"\",Schema!P146)","v":"O"}]
[{"$f":"Schema!A147&Schema!B147&Schema!C147&Schema!D147&Schema!E147&Schema!F147","v":"VRWRKCD"},"GL",{"$f":"IF(A135=\"\",\"\",IF(LEN(Schema!A147)=2,1,IF(LEN(Schema!B147)=2,10,IF(LEN(Schema!C147)=2,100,IF(LEN(Schema!D147)=2,1000,IF(LEN(Schema!E147)=2,10000,0))))))","v":0},10,{"$f":"IF(A135=\"\",\"\",SUM(Tabel2[[#This Row],[I1]:[I2]]))","v":10},"PP","GL","","","","PP/GL",{"$f":"IF(C135=\"\",\"\",IF(LEN(Tabel2[[#This Row],[Entiteit of attribuut]])=2,\"\",Tabel2[[#This Row],[Entiteit]]&\"_\"&Tabel2[[#This Row],[Entiteit of attribuut]]))","v":"GL_VRWRKCD"},{"$f":"IF(Schema!K147=\"\",\"\",Schema!K147)","v":""},{"$f":"IF(Schema!L147=\"\",\"\",Schema!L147)","v":""},{"$f":"IF(Schema!M147=\"\",\"\",Schema!M147)","v":""},{"$f":"IF(Schema!N147=\"\",\"\",Schema!N147)","v":""},{"$f":"IF(Schema!P147=\"\",\"\",Schema!P147)","v":"LEEG"}]
[{"$f":"Schema!A148&Schema!B148&Schema!C148&Schema!D148&Schema!E148&Schema!F148","v":"WINDSCH"},"GL",{"$f":"IF(A136=\"\",\"\",IF(LEN(Schema!A148)=2,1,IF(LEN(Schema!B148)=2,10,IF(LEN(Schema!C148)=2,100,IF(LEN(Schema!D148)=2,1000,IF(LEN(Schema!E148)=2,10000,0))))))","v":0},10,{"$f":"IF(A136=\"\",\"\",SUM(Tabel2[[#This Row],[I1]:[I2]]))","v":10},"PP","GL","","","","PP/GL",{"$f":"IF(C136=\"\",\"\",IF(LEN(Tabel2[[#This Row],[Entiteit of attribuut]])=2,\"\",Tabel2[[#This Row],[Entiteit]]&\"_\"&Tabel2[[#This Row],[Entiteit of attribuut]]))","v":"GL_WINDSCH"},{"$f":"IF(Schema!K148=\"\",\"\",Schema!K148)","v":""},{"$f":"IF(Schema!L148=\"\",\"\",Schema!L148)","v":""},{"$f":"IF(Schema!M148=\"\",\"\",Schema!M148)","v":""},{"$f":"IF(Schema!N148=\"\",\"\",Schema!N148)","v":""},{"$f":"IF(Schema!P148=\"\",\"\",Schema!P148)","v":"LEEG"}]
[{"$f":"Schema!A149&Schema!B149&Schema!C149&Schema!D149&Schema!E149&Schema!F149","v":"MU"},"MU",{"$f":"IF(A137=\"\",\"\",IF(LEN(Schema!A149)=2,1,IF(LEN(Schema!B149)=2,10,IF(LEN(Schema!C149)=2,100,IF(LEN(Schema!D149)=2,1000,IF(LEN(Schema!E149)=2,10000,0))))))","v":10},10,{"$f":"IF(A137=\"\",\"\",SUM(Tabel2[[#This Row],[I1]:[I2]]))","v":20},"PP","MU","","","","PP/MU",{"$f":"IF(C137=\"\",\"\",IF(LEN(Tabel2[[#This Row],[Entiteit of attribuut]])=2,\"\",Tabel2[[#This Row],[Entiteit]]&\"_\"&Tabel2[[#This Row],[Entiteit of attribuut]]))","v":""},{"$f":"IF(Schema!K149=\"\",\"\",Schema!K149)","v":""},{"$f":"IF(Schema!L149=\"\",\"\",Schema!L149)","v":""},{"$f":"IF(Schema!M149=\"\",\"\",Schema!M149)","v":""},{"$f":"IF(Schema!N149=\"\",\"\",Schema!N149)","v":""},{"$f":"IF(Schema!P149=\"\",\"\",Schema!P149)","v":"O"}]
[{"$f":"Schema!A150&Schema!B150&Schema!C150&Schema!D150&Schema!E150&Schema!F150","v":"ASBM2"},"MU",{"$f":"IF(A138=\"\",\"\",IF(LEN(Schema!A150)=2,1,IF(LEN(Schema!B150)=2,10,IF(LEN(Schema!C150)=2,100,IF(LEN(Schema!D150)=2,1000,IF(LEN(Schema!E150)=2,10000,0))))))","v":0},10,{"$f":"IF(A138=\"\",\"\",SUM(Tabel2[[#This Row],[I1]:[I2]]))","v":10},"PP","MU","","","","PP/MU",{"$f":"IF(C138=\"\",\"\",IF(LEN(Tabel2[[#This Row],[Entiteit of attribuut]])=2,\"\",Tabel2[[#This Row],[Entiteit]]&\"_\"&Tabel2[[#This Row],[Entiteit of attribuut]]))","v":"MU_ASBM2"},{"$f":"IF(Schema!K150=\"\",\"\",Schema!K150)","v":""},{"$f":"IF(Schema!L150=\"\",\"\",Schema!L150)","v":""},{"$f":"IF(Schema!M150=\"\",\"\",Schema!M150)","v":""},{"$f":"IF(Schema!N150=\"\",\"\",Schema!N150)","v":""},{"$f":"IF(Schema!P150=\"\",\"\",Schema!P150)","v":"LEEG"}]
[{"$f":"Schema!A151&Schema!B151&Schema!C151&Schema!D151&Schema!E151&Schema!F151","v":"GEVEMB"},"MU",{"$f":"IF(A139=\"\",\"\",IF(LEN(Schema!A151)=2,1,IF(LEN(Schema!B151)=2,10,IF(LEN(Schema!C151)=2,100,IF(LEN(Schema!D151)=2,1000,IF(LEN(Schema!E151)=2,10000,0))))))","v":0},10,{"$f":"IF(A139=\"\",\"\",SUM(Tabel2[[#This Row],[I1]:[I2]]))","v":10},"PP","MU","","","","PP/MU",{"$f":"IF(C139=\"\",\"\",IF(LEN(Tabel2[[#This Row],[Entiteit of attribuut]])=2,\"\",Tabel2[[#This Row],[Entiteit]]&\"_\"&Tabel2[[#This Row],[Entiteit of attribuut]]))","v":"MU_GEVEMB"},{"$f":"IF(Schema!K151=\"\",\"\",Schema!K151)","v":""},{"$f":"IF(Schema!L151=\"\",\"\",Schema!L151)","v":""},{"$f":"IF(Schema!M151=\"\",\"\",Schema!M151)","v":""},{"$f":"IF(Schema!N151=\"\",\"\",Schema!N151)","v":""},{"$f":"IF(Schema!P151=\"\",\"\",Schema!P151)","v":"LEEG"}]
[{"$f":"Schema!A152&Schema!B152&Schema!C152&Schema!D152&Schema!E152&Schema!F152","v":"HSTOFGV"},"MU",{"$f":"IF(A140=\"\",\"\",IF(LEN(Schema!A152)=2,1,IF(LEN(Schema!B152)=2,10,IF(LEN(Schema!C152)=2,100,IF(LEN(Schema!D152)=2,1000,IF(LEN(Schema!E152)=2,10000,0))))))","v":0},10,{"$f":"IF(A140=\"\",\"\",SUM(Tabel2[[#This Row],[I1]:[I2]]))","v":10},"PP","MU","","","","PP/MU",{"$f":"IF(C140=\"\",\"\",IF(LEN(Tabel2[[#This Row],[Entiteit of attribuut]])=2,\"\",Tabel2[[#This Row],[Entiteit]]&\"_\"&Tabel2[[#This Row],[Entiteit of attribuut]]))","v":"MU_HSTOFGV"},{"$f":"IF(Schema!K152=\"\",\"\",Schema!K152)","v":""},{"$f":"IF(Schema!L152=\"\",\"\",Schema!L152)","v":""},{"$f":"IF(Schema!M152=\"\",\"\",Schema!M152)","v":""},{"$f":"IF(Schema!N152=\"\",\"\",Schema!N152)","v":""},{"$f":"IF(Schema!P152=\"\",\"\",Schema!P152)","v":"LEEG"}]
[{"$f":"Schema!A153&Schema!B153&Schema!C153&Schema!D153&Schema!E153&Schema!F153","v":"LOCINGE"},"MU",{"$f":"IF(A141=\"\",\"\",IF(LEN(Schema!A153)=2,1,IF(LEN(Schema!B153)=2,10,IF(LEN(Schema!C153)=2,100,IF(LEN(Schema!D153)=2,1000,IF(LEN(Schema!E153)=2,10000,0))))))","v":0},10,{"$f":"IF(A141=\"\",\"\",SUM(Tabel2[[#This Row],[I1]:[I2]]))","v":10},"PP","MU","","","","PP/MU",{"$f":"IF(C141=\"\",\"\",IF(LEN(Tabel2[[#This Row],[Entiteit of attribuut]])=2,\"\",Tabel2[[#This Row],[Entiteit]]&\"_\"&Tabel2[[#This Row],[Entiteit of attribuut]]))","v":"MU_LOCINGE"},{"$f":"IF(Schema!K153=\"\",\"\",Schema!K153)","v":""},{"$f":"IF(Schema!L153=\"\",\"\",Schema!L153)","v":""},{"$f":"IF(Schema!M153=\"\",\"\",Schema!M153)","v":""},{"$f":"IF(Schema!N153=\"\",\"\",Schema!N153)","v":""},{"$f":"IF(Schema!P153=\"\",\"\",Schema!P153)","v":"LEEG"}]
[{"$f":"Schema!A154&Schema!B154&Schema!C154&Schema!D154&Schema!E154&Schema!F154","v":"VOLGNUM"},"MU",{"$f":"IF(A142=\"\",\"\",IF(LEN(Schema!A154)=2,1,IF(LEN(Schema!B154)=2,10,IF(LEN(Schema!C154)=2,100,IF(LEN(Schema!D154)=2,1000,IF(LEN(Schema!E154)=2,10000,0))))))","v":0},10,{"$f":"IF(A142=\"\",\"\",SUM(Tabel2[[#This Row],[I1]:[I2]]))","v":10},"PP","MU","","","","PP/MU",{"$f":"IF(C142=\"\",\"\",IF(LEN(Tabel2[[#This Row],[Entiteit of attribuut]])=2,\"\",Tabel2[[#This Row],[Entiteit]]&\"_\"&Tabel2[[#This Row],[Entiteit of attribuut]]))","v":"MU_VOLGNUM"},{"$f":"IF(Schema!K154=\"\",\"\",Schema!K154)","v":""},{"$f":"IF(Schema!L154=\"\",\"\",Schema!L154)","v":""},{"$f":"IF(Schema!M154=\"\",\"\",Schema!M154)","v":""},{"$f":"IF(Schema!N154=\"\",\"\",Schema!N154)","v":""},{"$f":"IF(Schema!P154=\"\",\"\",Schema!P154)","v":"O"}]
[{"$f":"Schema!A155&Schema!B155&Schema!C155&Schema!D155&Schema!E155&Schema!F155","v":"VRWRKCD"},"MU",{"$f":"IF(A143=\"\",\"\",IF(LEN(Schema!A155)=2,1,IF(LEN(Schema!B155)=2,10,IF(LEN(Schema!C155)=2,100,IF(LEN(Schema!D155)=2,1000,IF(LEN(Schema!E155)=2,10000,0))))))","v":0},10,{"$f":"IF(A143=\"\",\"\",SUM(Tabel2[[#This Row],[I1]:[I2]]))","v":10},"PP","MU","","","","PP/MU",{"$f":"IF(C143=\"\",\"\",IF(LEN(Tabel2[[#This Row],[Entiteit of attribuut]])=2,\"\",Tabel2[[#This Row],[Entiteit]]&\"_\"&Tabel2[[#This Row],[Entiteit of attribuut]]))","v":"MU_VRWRKCD"},{"$f":"IF(Schema!K155=\"\",\"\",Schema!K155)","v":""},{"$f":"IF(Schema!L155=\"\",\"\",Schema!L155)","v":""},{"$f":"IF(Schema!M155=\"\",\"\",Schema!M155)","v":""},{"$f":"IF(Schema!N155=\"\",\"\",Schema!N155)","v":""},{"$f":"IF(Schema!P155=\"\",\"\",Schema!P155)","v":"LEEG"}]
[{"$f":"Schema!A156&Schema!B156&Schema!C156&Schema!D156&Schema!E156&Schema!F156","v":"OZ"},"OZ",{"$f":"IF(A144=\"\",\"\",IF(LEN(Schema!A156)=2,1,IF(LEN(Schema!B156)=2,10,IF(LEN(Schema!C156)=2,100,IF(LEN(Schema!D156)=2,1000,IF(LEN(Schema!E156)=2,10000,0))))))","v":10},10,{"$f":"IF(A144=\"\",\"\",SUM(Tabel2[[#This Row],[I1]:[I2]]))","v":20},"PP","OZ","","","","PP/OZ",{"$f":"IF(C144=\"\",\"\",IF(LEN(Tabel2[[#This Row],[Entiteit of attribuut]])=2,\"\",Tabel2[[#This Row],[Entiteit]]&\"_\"&Tabel2[[#This Row],[Entiteit of attribuut]]))","v":""},{"$f":"IF(Schema!K156=\"\",\"\",Schema!K156)","v":""},{"$f":"IF(Schema!L156=\"\",\"\",Schema!L156)","v":""},{"$f":"IF(Schema!M156=\"\",\"\",Schema!M156)","v":""},{"$f":"IF(Schema!N156=\"\",\"\",Schema!N156)","v":""},{"$f":"IF(Schema!P156=\"\",\"\",Schema!P156)","v":"O"}]
[{"$f":"Schema!A157&Schema!B157&Schema!C157&Schema!D157&Schema!E157&Schema!F157","v":"DAGWRDE"},"OZ",{"$f":"IF(A145=\"\",\"\",IF(LEN(Schema!A157)=2,1,IF(LEN(Schema!B157)=2,10,IF(LEN(Schema!C157)=2,100,IF(LEN(Schema!D157)=2,1000,IF(LEN(Schema!E157)=2,10000,0))))))","v":0},10,{"$f":"IF(A145=\"\",\"\",SUM(Tabel2[[#This Row],[I1]:[I2]]))","v":10},"PP","OZ","","","","PP/OZ",{"$f":"IF(C145=\"\",\"\",IF(LEN(Tabel2[[#This Row],[Entiteit of attribuut]])=2,\"\",Tabel2[[#This Row],[Entiteit]]&\"_\"&Tabel2[[#This Row],[Entiteit of attribuut]]))","v":"OZ_DAGWRDE"},{"$f":"IF(Schema!K157=\"\",\"\",Schema!K157)","v":""},{"$f":"IF(Schema!L157=\"\",\"\",Schema!L157)","v":""},{"$f":"IF(Schema!M157=\"\",\"\",Schema!M157)","v":""},{"$f":"IF(Schema!N157=\"\",\"\",Schema!N157)","v":""},{"$f":"IF(Schema!P157=\"\",\"\",Schema!P157)","v":"O"}]
[{"$f":"Schema!A158&Schema!B158&Schema!C158&Schema!D158&Schema!E158&Schema!F158","v":"ONDSTT"},"OZ",{"$f":"IF(A146=\"\",\"\",IF(LEN(Schema!A158)=2,1,IF(LEN(Schema!B158)=2,10,IF(LEN(Schema!C158)=2,100,IF(LEN(Schema!D158)=2,1000,IF(LEN(Schema!E158)=2,10000,0))))))","v":0},10,{"$f":"IF(A146=\"\",\"\",SUM(Tabel2[[#This Row],[I1]:[I2]]))","v":10},"PP","OZ","","","","PP/OZ",{"$f":"IF(C146=\"\",\"\",IF(LEN(Tabel2[[#This Row],[Entiteit of attribuut]])=2,\"\",Tabel2[[#This Row],[Entiteit]]&\"_\"&Tabel2[[#This Row],[Entiteit of attribuut]]))","v":"OZ_ONDSTT"},{"$f":"IF(Schema!K158=\"\",\"\",Schema!K158)","v":""},{"$f":"IF(Schema!L158=\"\",\"\",Schema!L158)","v":""},{"$f":"IF(Schema!M158=\"\",\"\",Schema!M158)","v":""},{"$f":"IF(Schema!N158=\"\",\"\",Schema!N158)","v":""},{"$f":"IF(Schema!P158=\"\",\"\",Schema!P158)","v":"O"}]
[{"$f":"Schema!A159&Schema!B159&Schema!C159&Schema!D159&Schema!E159&Schema!F159","v":"SRTWCEN"},"OZ",{"$f":"IF(A147=\"\",\"\",IF(LEN(Schema!A159)=2,1,IF(LEN(Schema!B159)=2,10,IF(LEN(Schema!C159)=2,100,IF(LEN(Schema!D159)=2,1000,IF(LEN(Schema!E159)=2,10000,0))))))","v":0},10,{"$f":"IF(A147=\"\",\"\",SUM(Tabel2[[#This Row],[I1]:[I2]]))","v":10},"PP","OZ","","","","PP/OZ",{"$f":"IF(C147=\"\",\"\",IF(LEN(Tabel2[[#This Row],[Entiteit of attribuut]])=2,\"\",Tabel2[[#This Row],[Entiteit]]&\"_\"&Tabel2[[#This Row],[Entiteit of attribuut]]))","v":"OZ_SRTWCEN"},{"$f":"IF(Schema!K159=\"\",\"\",Schema!K159)","v":""},{"$f":"IF(Schema!L159=\"\",\"\",Schema!L159)","v":""},{"$f":"IF(Schema!M159=\"\",\"\",Schema!M159)","v":""},{"$f":"IF(Schema!N159=\"\",\"\",Schema!N159)","v":""},{"$f":"IF(Schema!P159=\"\",\"\",Schema!P159)","v":"LEEG"}]
[{"$f":"Schema!A160&Schema!B160&Schema!C160&Schema!D160&Schema!E160&Schema!F160","v":"VOLGNUM"},"OZ",{"$f":"IF(A148=\"\",\"\",IF(LEN(Schema!A160)=2,1,IF(LEN(Schema!B160)=2,10,IF(LEN(Schema!C160)=2,100,IF(LEN(Schema!D160)=2,1000,IF(LEN(Schema!E160)=2,10000,0))))))","v":0},10,{"$f":"IF(A148=\"\",\"\",SUM(Tabel2[[#This Row],[I1]:[I2]]))","v":10},"PP","OZ","","","","PP/OZ",{"$f":"IF(C148=\"\",\"\",IF(LEN(Tabel2[[#This Row],[Entiteit of attribuut]])=2,\"\",Tabel2[[#This Row],[Entiteit]]&\"_\"&Tabel2[[#This Row],[Entiteit of attribuut]]))","v":"OZ_VOLGNUM"},{"$f":"IF(Schema!K160=\"\",\"\",Schema!K160)","v":""},{"$f":"IF(Schema!L160=\"\",\"\",Schema!L160)","v":""},{"$f":"IF(Schema!M160=\"\",\"\",Schema!M160)","v":""},{"$f":"IF(Schema!N160=\"\",\"\",Schema!N160)","v":""},{"$f":"IF(Schema!P160=\"\",\"\",Schema!P160)","v":"O"}]
[{"$f":"Schema!A161&Schema!B161&Schema!C161&Schema!D161&Schema!E161&Schema!F161","v":"VRWRKCD"},"OZ",{"$f":"IF(A149=\"\",\"\",IF(LEN(Schema!A161)=2,1,IF(LEN(Schema!B161)=2,10,IF(LEN(Schema!C161)=2,100,IF(LEN(Schema!D161)=2,1000,IF(LEN(Schema!E161)=2,10000,0))))))","v":0},10,{"$f":"IF(A149=\"\",\"\",SUM(Tabel2[[#This Row],[I1]:[I2]]))","v":10},"PP","OZ","","","","PP/OZ",{"$f":"IF(C149=\"\",\"\",IF(LEN(Tabel2[[#This Row],[Entiteit of attribuut]])=2,\"\",Tabel2[[#This Row],[Entiteit]]&\"_\"&Tabel2[[#This Row],[Entiteit of attribuut]]))","v":"OZ_VRWRKCD"},{"$f":"IF(Schema!K161=\"\",\"\",Schema!K161)","v":""},{"$f":"IF(Schema!L161=\"\",\"\",Schema!L161)","v":""},{"$f":"IF(Schema!M161=\"\",\"\",Schema!M161)","v":""},{"$f":"IF(Schema!N161=\"\",\"\",Schema!N161)","v":""},{"$f":"IF(Schema!P161=\"\",\"\",Schema!P161)","v":"LEEG"}]
[{"$f":"Schema!A162&Schema!B162&Schema!C162&Schema!D162&Schema!E162&Schema!F162","v":"VC"},"VC",{"$f":"IF(A150=\"\",\"\",IF(LEN(Schema!A162)=2,1,IF(LEN(Schema!B162)=2,10,IF(LEN(Schema!C162)=2,100,IF(LEN(Schema!D162)=2,1000,IF(LEN(Schema!E162)=2,10000,0))))))","v":10},10,{"$f":"IF(A150=\"\",\"\",SUM(Tabel2[[#This Row],[I1]:[I2]]))","v":20},"PP","VC","","","","PP/VC",{"$f":"IF(C150=\"\",\"\",IF(LEN(Tabel2[[#This Row],[Entiteit of attribuut]])=2,\"\",Tabel2[[#This Row],[Entiteit]]&\"_\"&Tabel2[[#This Row],[Entiteit of attribuut]]))","v":""},{"$f":"IF(Schema!K162=\"\",\"\",Schema!K162)","v":""},{"$f":"IF(Schema!L162=\"\",\"\",Schema!L162)","v":""},{"$f":"IF(Schema!M162=\"\",\"\",Schema!M162)","v":""},{"$f":"IF(Schema!N162=\"\",\"\",Schema!N162)","v":""},{"$f":"IF(Schema!P162=\"\",\"\",Schema!P162)","v":"O"}]
[{"$f":"Schema!A163&Schema!B163&Schema!C163&Schema!D163&Schema!E163&Schema!F163","v":"AANTAOC"},"VC",{"$f":"IF(A151=\"\",\"\",IF(LEN(Schema!A163)=2,1,IF(LEN(Schema!B163)=2,10,IF(LEN(Schema!C163)=2,100,IF(LEN(Schema!D163)=2,1000,IF(LEN(Schema!E163)=2,10000,0))))))","v":0},10,{"$f":"IF(A151=\"\",\"\",SUM(Tabel2[[#This Row],[I1]:[I2]]))","v":10},"PP","VC","","","","PP/VC",{"$f":"IF(C151=\"\",\"\",IF(LEN(Tabel2[[#This Row],[Entiteit of attribuut]])=2,\"\",Tabel2[[#This Row],[Entiteit]]&\"_\"&Tabel2[[#This Row],[Entiteit of attribuut]]))","v":"VC_AANTAOC"},{"$f":"IF(Schema!K163=\"\",\"\",Schema!K163)","v":""},{"$f":"IF(Schema!L163=\"\",\"\",Schema!L163)","v":""},{"$f":"IF(Schema!M163=\"\",\"\",Schema!M163)","v":""},{"$f":"IF(Schema!N163=\"\",\"\",Schema!N163)","v":""},{"$f":"IF(Schema!P163=\"\",\"\",Schema!P163)","v":"O"}]
[{"$f":"Schema!A164&Schema!B164&Schema!C164&Schema!D164&Schema!E164&Schema!F164","v":"AANTBDC"},"VC",{"$f":"IF(A152=\"\",\"\",IF(LEN(Schema!A164)=2,1,IF(LEN(Schema!B164)=2,10,IF(LEN(Schema!C164)=2,100,IF(LEN(Schema!D164)=2,1000,IF(LEN(Schema!E164)=2,10000,0))))))","v":0},10,{"$f":"IF(A152=\"\",\"\",SUM(Tabel2[[#This Row],[I1]:[I2]]))","v":10},"PP","VC","","","","PP/VC",{"$f":"IF(C152=\"\",\"\",IF(LEN(Tabel2[[#This Row],[Entiteit of attribuut]])=2,\"\",Tabel2[[#This Row],[Entiteit]]&\"_\"&Tabel2[[#This Row],[Entiteit of attribuut]]))","v":"VC_AANTBDC"},{"$f":"IF(Schema!K164=\"\",\"\",Schema!K164)","v":""},{"$f":"IF(Schema!L164=\"\",\"\",Schema!L164)","v":""},{"$f":"IF(Schema!M164=\"\",\"\",Schema!M164)","v":""},{"$f":"IF(Schema!N164=\"\",\"\",Schema!N164)","v":""},{"$f":"IF(Schema!P164=\"\",\"\",Schema!P164)","v":"LEEG"}]
[{"$f":"Schema!A165&Schema!B165&Schema!C165&Schema!D165&Schema!E165&Schema!F165","v":"AANTEGB"},"VC",{"$f":"IF(A153=\"\",\"\",IF(LEN(Schema!A165)=2,1,IF(LEN(Schema!B165)=2,10,IF(LEN(Schema!C165)=2,100,IF(LEN(Schema!D165)=2,1000,IF(LEN(Schema!E165)=2,10000,0))))))","v":0},10,{"$f":"IF(A153=\"\",\"\",SUM(Tabel2[[#This Row],[I1]:[I2]]))","v":10},"PP","VC","","","","PP/VC",{"$f":"IF(C153=\"\",\"\",IF(LEN(Tabel2[[#This Row],[Entiteit of attribuut]])=2,\"\",Tabel2[[#This Row],[Entiteit]]&\"_\"&Tabel2[[#This Row],[Entiteit of attribuut]]))","v":"VC_AANTEGB"},{"$f":"IF(Schema!K165=\"\",\"\",Schema!K165)","v":""},{"$f":"IF(Schema!L165=\"\",\"\",Schema!L165)","v":""},{"$f":"IF(Schema!M165=\"\",\"\",Schema!M165)","v":""},{"$f":"IF(Schema!N165=\"\",\"\",Schema!N165)","v":""},{"$f":"IF(Schema!P165=\"\",\"\",Schema!P165)","v":"LEEG"}]
[{"$f":"Schema!A166&Schema!B166&Schema!C166&Schema!D166&Schema!E166&Schema!F166","v":"AANTGWI"},"VC",{"$f":"IF(A154=\"\",\"\",IF(LEN(Schema!A166)=2,1,IF(LEN(Schema!B166)=2,10,IF(LEN(Schema!C166)=2,100,IF(LEN(Schema!D166)=2,1000,IF(LEN(Schema!E166)=2,10000,0))))))","v":0},10,{"$f":"IF(A154=\"\",\"\",SUM(Tabel2[[#This Row],[I1]:[I2]]))","v":10},"PP","VC","","","","PP/VC",{"$f":"IF(C154=\"\",\"\",IF(LEN(Tabel2[[#This Row],[Entiteit of attribuut]])=2,\"\",Tabel2[[#This Row],[Entiteit]]&\"_\"&Tabel2[[#This Row],[Entiteit of attribuut]]))","v":"VC_AANTGWI"},{"$f":"IF(Schema!K166=\"\",\"\",Schema!K166)","v":""},{"$f":"IF(Schema!L166=\"\",\"\",Schema!L166)","v":""},{"$f":"IF(Schema!M166=\"\",\"\",Schema!M166)","v":""},{"$f":"IF(Schema!N166=\"\",\"\",Schema!N166)","v":""},{"$f":"IF(Schema!P166=\"\",\"\",Schema!P166)","v":"LEEG"}]
[{"$f":"Schema!A167&Schema!B167&Schema!C167&Schema!D167&Schema!E167&Schema!F167","v":"AANTLFT"},"VC",{"$f":"IF(A155=\"\",\"\",IF(LEN(Schema!A167)=2,1,IF(LEN(Schema!B167)=2,10,IF(LEN(Schema!C167)=2,100,IF(LEN(Schema!D167)=2,1000,IF(LEN(Schema!E167)=2,10000,0))))))","v":0},10,{"$f":"IF(A155=\"\",\"\",SUM(Tabel2[[#This Row],[I1]:[I2]]))","v":10},"PP","VC","","","","PP/VC",{"$f":"IF(C155=\"\",\"\",IF(LEN(Tabel2[[#This Row],[Entiteit of attribuut]])=2,\"\",Tabel2[[#This Row],[Entiteit]]&\"_\"&Tabel2[[#This Row],[Entiteit of attribuut]]))","v":"VC_AANTLFT"},{"$f":"IF(Schema!K167=\"\",\"\",Schema!K167)","v":""},{"$f":"IF(Schema!L167=\"\",\"\",Schema!L167)","v":""},{"$f":"IF(Schema!M167=\"\",\"\",Schema!M167)","v":""},{"$f":"IF(Schema!N167=\"\",\"\",Schema!N167)","v":""},{"$f":"IF(Schema!P167=\"\",\"\",Schema!P167)","v":"LEEG"}]
[{"$f":"Schema!A168&Schema!B168&Schema!C168&Schema!D168&Schema!E168&Schema!F168","v":"AANTPNC"},"VC",{"$f":"IF(A156=\"\",\"\",IF(LEN(Schema!A168)=2,1,IF(LEN(Schema!B168)=2,10,IF(LEN(Schema!C168)=2,100,IF(LEN(Schema!D168)=2,1000,IF(LEN(Schema!E168)=2,10000,0))))))","v":0},10,{"$f":"IF(A156=\"\",\"\",SUM(Tabel2[[#This Row],[I1]:[I2]]))","v":10},"PP","VC","","","","PP/VC",{"$f":"IF(C156=\"\",\"\",IF(LEN(Tabel2[[#This Row],[Entiteit of attribuut]])=2,\"\",Tabel2[[#This Row],[Entiteit]]&\"_\"&Tabel2[[#This Row],[Entiteit of attribuut]]))","v":"VC_AANTPNC"},{"$f":"IF(Schema!K168=\"\",\"\",Schema!K168)","v":""},{"$f":"IF(Schema!L168=\"\",\"\",Schema!L168)","v":""},{"$f":"IF(Schema!M168=\"\",\"\",Schema!M168)","v":""},{"$f":"IF(Schema!N168=\"\",\"\",Schema!N168)","v":""},{"$f":"IF(Schema!P168=\"\",\"\",Schema!P168)","v":"LEEG"}]
[{"$f":"Schema!A169&Schema!B169&Schema!C169&Schema!D169&Schema!E169&Schema!F169","v":"AANTTRH"},"VC",{"$f":"IF(A157=\"\",\"\",IF(LEN(Schema!A169)=2,1,IF(LEN(Schema!B169)=2,10,IF(LEN(Schema!C169)=2,100,IF(LEN(Schema!D169)=2,1000,IF(LEN(Schema!E169)=2,10000,0))))))","v":0},10,{"$f":"IF(A157=\"\",\"\",SUM(Tabel2[[#This Row],[I1]:[I2]]))","v":10},"PP","VC","","","","PP/VC",{"$f":"IF(C157=\"\",\"\",IF(LEN(Tabel2[[#This Row],[Entiteit of attribuut]])=2,\"\",Tabel2[[#This Row],[Entiteit]]&\"_\"&Tabel2[[#This Row],[Entiteit of attribuut]]))","v":"VC_AANTTRH"},{"$f":"IF(Schema!K169=\"\",\"\",Schema!K169)","v":""},{"$f":"IF(Schema!L169=\"\",\"\",Schema!L169)","v":""},{"$f":"IF(Schema!M169=\"\",\"\",Schema!M169)","v":""},{"$f":"IF(Schema!N169=\"\",\"\",Schema!N169)","v":""},{"$f":"IF(Schema!P169=\"\",\"\",Schema!P169)","v":"LEEG"}]
[{"$f":"Schema!A170&Schema!B170&Schema!C170&Schema!D170&Schema!E170&Schema!F170","v":"AANTVAC"},"VC",{"$f":"IF(A158=\"\",\"\",IF(LEN(Schema!A170)=2,1,IF(LEN(Schema!B170)=2,10,IF(LEN(Schema!C170)=2,100,IF(LEN(Schema!D170)=2,1000,IF(LEN(Schema!E170)=2,10000,0))))))","v":0},10,{"$f":"IF(A158=\"\",\"\",SUM(Tabel2[[#This Row],[I1]:[I2]]))","v":10},"PP","VC","","","","PP/VC",{"$f":"IF(C158=\"\",\"\",IF(LEN(Tabel2[[#This Row],[Entiteit of attribuut]])=2,\"\",Tabel2[[#This Row],[Entiteit]]&\"_\"&Tabel2[[#This Row],[Entiteit of attribuut]]))","v":"VC_AANTVAC"},{"$f":"IF(Schema!K170=\"\",\"\",Schema!K170)","v":""},{"$f":"IF(Schema!L170=\"\",\"\",Schema!L170)","v":""},{"$f":"IF(Schema!M170=\"\",\"\",Schema!M170)","v":""},{"$f":"IF(Schema!N170=\"\",\"\",Schema!N170)","v":""},{"$f":"IF(Schema!P170=\"\",\"\",Schema!P170)","v":"O"}]
[{"$f":"Schema!A171&Schema!B171&Schema!C171&Schema!D171&Schema!E171&Schema!F171","v":"AANTVVE"},"VC",{"$f":"IF(A159=\"\",\"\",IF(LEN(Schema!A171)=2,1,IF(LEN(Schema!B171)=2,10,IF(LEN(Schema!C171)=2,100,IF(LEN(Schema!D171)=2,1000,IF(LEN(Schema!E171)=2,10000,0))))))","v":0},10,{"$f":"IF(A159=\"\",\"\",SUM(Tabel2[[#This Row],[I1]:[I2]]))","v":10},"PP","VC","","","","PP/VC",{"$f":"IF(C159=\"\",\"\",IF(LEN(Tabel2[[#This Row],[Entiteit of attribuut]])=2,\"\",Tabel2[[#This Row],[Entiteit]]&\"_\"&Tabel2[[#This Row],[Entiteit of attribuut]]))","v":"VC_AANTVVE"},{"$f":"IF(Schema!K171=\"\",\"\",Schema!K171)","v":""},{"$f":"IF(Schema!L171=\"\",\"\",Schema!L171)","v":""},{"$f":"IF(Schema!M171=\"\",\"\",Schema!M171)","v":""},{"$f":"IF(Schema!N171=\"\",\"\",Schema!N171)","v":""},{"$f":"IF(Schema!P171=\"\",\"\",Schema!P171)","v":"LEEG"}]
[{"$f":"Schema!A172&Schema!B172&Schema!C172&Schema!D172&Schema!E172&Schema!F172","v":"AANTWC"},"VC",{"$f":"IF(A160=\"\",\"\",IF(LEN(Schema!A172)=2,1,IF(LEN(Schema!B172)=2,10,IF(LEN(Schema!C172)=2,100,IF(LEN(Schema!D172)=2,1000,IF(LEN(Schema!E172)=2,10000,0))))))","v":0},10,{"$f":"IF(A160=\"\",\"\",SUM(Tabel2[[#This Row],[I1]:[I2]]))","v":10},"PP","VC","","","","PP/VC",{"$f":"IF(C160=\"\",\"\",IF(LEN(Tabel2[[#This Row],[Entiteit of attribuut]])=2,\"\",Tabel2[[#This Row],[Entiteit]]&\"_\"&Tabel2[[#This Row],[Entiteit of attribuut]]))","v":"VC_AANTWC"},{"$f":"IF(Schema!K172=\"\",\"\",Schema!K172)","v":""},{"$f":"IF(Schema!L172=\"\",\"\",Schema!L172)","v":""},{"$f":"IF(Schema!M172=\"\",\"\",Schema!M172)","v":""},{"$f":"IF(Schema!N172=\"\",\"\",Schema!N172)","v":""},{"$f":"IF(Schema!P172=\"\",\"\",Schema!P172)","v":"LEEG"}]
[{"$f":"Schema!A173&Schema!B173&Schema!C173&Schema!D173&Schema!E173&Schema!F173","v":"AANTZON"},"VC",{"$f":"IF(A161=\"\",\"\",IF(LEN(Schema!A173)=2,1,IF(LEN(Schema!B173)=2,10,IF(LEN(Schema!C173)=2,100,IF(LEN(Schema!D173)=2,1000,IF(LEN(Schema!E173)=2,10000,0))))))","v":0},10,{"$f":"IF(A161=\"\",\"\",SUM(Tabel2[[#This Row],[I1]:[I2]]))","v":10},"PP","VC","","","","PP/VC",{"$f":"IF(C161=\"\",\"\",IF(LEN(Tabel2[[#This Row],[Entiteit of attribuut]])=2,\"\",Tabel2[[#This Row],[Entiteit]]&\"_\"&Tabel2[[#This Row],[Entiteit of attribuut]]))","v":"VC_AANTZON"},{"$f":"IF(Schema!K173=\"\",\"\",Schema!K173)","v":""},{"$f":"IF(Schema!L173=\"\",\"\",Schema!L173)","v":""},{"$f":"IF(Schema!M173=\"\",\"\",Schema!M173)","v":""},{"$f":"IF(Schema!N173=\"\",\"\",Schema!N173)","v":""},{"$f":"IF(Schema!P173=\"\",\"\",Schema!P173)","v":"LEEG"}]
[{"$f":"Schema!A174&Schema!B174&Schema!C174&Schema!D174&Schema!E174&Schema!F174","v":"ASBEST"},"VC",{"$f":"IF(A162=\"\",\"\",IF(LEN(Schema!A174)=2,1,IF(LEN(Schema!B174)=2,10,IF(LEN(Schema!C174)=2,100,IF(LEN(Schema!D174)=2,1000,IF(LEN(Schema!E174)=2,10000,0))))))","v":0},10,{"$f":"IF(A162=\"\",\"\",SUM(Tabel2[[#This Row],[I1]:[I2]]))","v":10},"PP","VC","","","","PP/VC",{"$f":"IF(C162=\"\",\"\",IF(LEN(Tabel2[[#This Row],[Entiteit of attribuut]])=2,\"\",Tabel2[[#This Row],[Entiteit]]&\"_\"&Tabel2[[#This Row],[Entiteit of attribuut]]))","v":"VC_ASBEST"},{"$f":"IF(Schema!K174=\"\",\"\",Schema!K174)","v":""},{"$f":"IF(Schema!L174=\"\",\"\",Schema!L174)","v":""},{"$f":"IF(Schema!M174=\"\",\"\",Schema!M174)","v":""},{"$f":"IF(Schema!N174=\"\",\"\",Schema!N174)","v":""},{"$f":"IF(Schema!P174=\"\",\"\",Schema!P174)","v":"LEEG"}]
[{"$f":"Schema!A175&Schema!B175&Schema!C175&Schema!D175&Schema!E175&Schema!F175","v":"BRNDZKN"},"VC",{"$f":"IF(A163=\"\",\"\",IF(LEN(Schema!A175)=2,1,IF(LEN(Schema!B175)=2,10,IF(LEN(Schema!C175)=2,100,IF(LEN(Schema!D175)=2,1000,IF(LEN(Schema!E175)=2,10000,0))))))","v":0},10,{"$f":"IF(A163=\"\",\"\",SUM(Tabel2[[#This Row],[I1]:[I2]]))","v":10},"PP","VC","","","","PP/VC",{"$f":"IF(C163=\"\",\"\",IF(LEN(Tabel2[[#This Row],[Entiteit of attribuut]])=2,\"\",Tabel2[[#This Row],[Entiteit]]&\"_\"&Tabel2[[#This Row],[Entiteit of attribuut]]))","v":"VC_BRNDZKN"},{"$f":"IF(Schema!K175=\"\",\"\",Schema!K175)","v":""},{"$f":"IF(Schema!L175=\"\",\"\",Schema!L175)","v":""},{"$f":"IF(Schema!M175=\"\",\"\",Schema!M175)","v":""},{"$f":"IF(Schema!N175=\"\",\"\",Schema!N175)","v":""},{"$f":"IF(Schema!P175=\"\",\"\",Schema!P175)","v":"LEEG"}]
[{"$f":"Schema!A176&Schema!B176&Schema!C176&Schema!D176&Schema!E176&Schema!F176","v":"EKLVVEC"},"VC",{"$f":"IF(A164=\"\",\"\",IF(LEN(Schema!A176)=2,1,IF(LEN(Schema!B176)=2,10,IF(LEN(Schema!C176)=2,100,IF(LEN(Schema!D176)=2,1000,IF(LEN(Schema!E176)=2,10000,0))))))","v":0},10,{"$f":"IF(A164=\"\",\"\",SUM(Tabel2[[#This Row],[I1]:[I2]]))","v":10},"PP","VC","","","","PP/VC",{"$f":"IF(C164=\"\",\"\",IF(LEN(Tabel2[[#This Row],[Entiteit of attribuut]])=2,\"\",Tabel2[[#This Row],[Entiteit]]&\"_\"&Tabel2[[#This Row],[Entiteit of attribuut]]))","v":"VC_EKLVVEC"},{"$f":"IF(Schema!K176=\"\",\"\",Schema!K176)","v":""},{"$f":"IF(Schema!L176=\"\",\"\",Schema!L176)","v":""},{"$f":"IF(Schema!M176=\"\",\"\",Schema!M176)","v":""},{"$f":"IF(Schema!N176=\"\",\"\",Schema!N176)","v":""},{"$f":"IF(Schema!P176=\"\",\"\",Schema!P176)","v":"LEEG"}]
[{"$f":"Schema!A177&Schema!B177&Schema!C177&Schema!D177&Schema!E177&Schema!F177","v":"ENTITEI"},"VC",{"$f":"IF(A165=\"\",\"\",IF(LEN(Schema!A177)=2,1,IF(LEN(Schema!B177)=2,10,IF(LEN(Schema!C177)=2,100,IF(LEN(Schema!D177)=2,1000,IF(LEN(Schema!E177)=2,10000,0))))))","v":0},10,{"$f":"IF(A165=\"\",\"\",SUM(Tabel2[[#This Row],[I1]:[I2]]))","v":10},"PP","VC","","","","PP/VC",{"$f":"IF(C165=\"\",\"\",IF(LEN(Tabel2[[#This Row],[Entiteit of attribuut]])=2,\"\",Tabel2[[#This Row],[Entiteit]]&\"_\"&Tabel2[[#This Row],[Entiteit of attribuut]]))","v":"VC_ENTITEI"},{"$f":"IF(Schema!K177=\"\",\"\",Schema!K177)","v":""},{"$f":"IF(Schema!L177=\"\",\"\",Schema!L177)","v":""},{"$f":"IF(Schema!M177=\"\",\"\",Schema!M177)","v":""},{"$f":"IF(Schema!N177=\"\",\"\",Schema!N177)","v":""},{"$f":"IF(Schema!P177=\"\",\"\",Schema!P177)","v":"LEEG"}]
[{"$f":"Schema!A178&Schema!B178&Schema!C178&Schema!D178&Schema!E178&Schema!F178","v":"ENTREF"},"VC",{"$f":"IF(A166=\"\",\"\",IF(LEN(Schema!A178)=2,1,IF(LEN(Schema!B178)=2,10,IF(LEN(Schema!C178)=2,100,IF(LEN(Schema!D178)=2,1000,IF(LEN(Schema!E178)=2,10000,0))))))","v":0},10,{"$f":"IF(A166=\"\",\"\",SUM(Tabel2[[#This Row],[I1]:[I2]]))","v":10},"PP","VC","","","","PP/VC",{"$f":"IF(C166=\"\",\"\",IF(LEN(Tabel2[[#This Row],[Entiteit of attribuut]])=2,\"\",Tabel2[[#This Row],[Entiteit]]&\"_\"&Tabel2[[#This Row],[Entiteit of attribuut]]))","v":"VC_ENTREF"},{"$f":"IF(Schema!K178=\"\",\"\",Schema!K178)","v":""},{"$f":"IF(Schema!L178=\"\",\"\",Schema!L178)","v":""},{"$f":"IF(Schema!M178=\"\",\"\",Schema!M178)","v":""},{"$f":"IF(Schema!N178=\"\",\"\",Schema!N178)","v":""},{"$f":"IF(Schema!P178=\"\",\"\",Schema!P178)","v":"LEEG"}]
[{"$f":"Schema!A179&Schema!B179&Schema!C179&Schema!D179&Schema!E179&Schema!F179","v":"HELLING"},"VC",{"$f":"IF(A167=\"\",\"\",IF(LEN(Schema!A179)=2,1,IF(LEN(Schema!B179)=2,10,IF(LEN(Schema!C179)=2,100,IF(LEN(Schema!D179)=2,1000,IF(LEN(Schema!E179)=2,10000,0))))))","v":0},10,{"$f":"IF(A167=\"\",\"\",SUM(Tabel2[[#This Row],[I1]:[I2]]))","v":10},"PP","VC","","","","PP/VC",{"$f":"IF(C167=\"\",\"\",IF(LEN(Tabel2[[#This Row],[Entiteit of attribuut]])=2,\"\",Tabel2[[#This Row],[Entiteit]]&\"_\"&Tabel2[[#This Row],[Entiteit of attribuut]]))","v":"VC_HELLING"},{"$f":"IF(Schema!K179=\"\",\"\",Schema!K179)","v":""},{"$f":"IF(Schema!L179=\"\",\"\",Schema!L179)","v":""},{"$f":"IF(Schema!M179=\"\",\"\",Schema!M179)","v":""},{"$f":"IF(Schema!N179=\"\",\"\",Schema!N179)","v":""},{"$f":"IF(Schema!P179=\"\",\"\",Schema!P179)","v":"LEEG"}]
[{"$f":"Schema!A180&Schema!B180&Schema!C180&Schema!D180&Schema!E180&Schema!F180","v":"INDHWWG"},"VC",{"$f":"IF(A168=\"\",\"\",IF(LEN(Schema!A180)=2,1,IF(LEN(Schema!B180)=2,10,IF(LEN(Schema!C180)=2,100,IF(LEN(Schema!D180)=2,1000,IF(LEN(Schema!E180)=2,10000,0))))))","v":0},10,{"$f":"IF(A168=\"\",\"\",SUM(Tabel2[[#This Row],[I1]:[I2]]))","v":10},"PP","VC","","","","PP/VC",{"$f":"IF(C168=\"\",\"\",IF(LEN(Tabel2[[#This Row],[Entiteit of attribuut]])=2,\"\",Tabel2[[#This Row],[Entiteit]]&\"_\"&Tabel2[[#This Row],[Entiteit of attribuut]]))","v":"VC_INDHWWG"},{"$f":"IF(Schema!K180=\"\",\"\",Schema!K180)","v":""},{"$f":"IF(Schema!L180=\"\",\"\",Schema!L180)","v":""},{"$f":"IF(Schema!M180=\"\",\"\",Schema!M180)","v":""},{"$f":"IF(Schema!N180=\"\",\"\",Schema!N180)","v":""},{"$f":"IF(Schema!P180=\"\",\"\",Schema!P180)","v":"LEEG"}]
[{"$f":"Schema!A181&Schema!B181&Schema!C181&Schema!D181&Schema!E181&Schema!F181","v":"INPBERG"},"VC",{"$f":"IF(A169=\"\",\"\",IF(LEN(Schema!A181)=2,1,IF(LEN(Schema!B181)=2,10,IF(LEN(Schema!C181)=2,100,IF(LEN(Schema!D181)=2,1000,IF(LEN(Schema!E181)=2,10000,0))))))","v":0},10,{"$f":"IF(A169=\"\",\"\",SUM(Tabel2[[#This Row],[I1]:[I2]]))","v":10},"PP","VC","","","","PP/VC",{"$f":"IF(C169=\"\",\"\",IF(LEN(Tabel2[[#This Row],[Entiteit of attribuut]])=2,\"\",Tabel2[[#This Row],[Entiteit]]&\"_\"&Tabel2[[#This Row],[Entiteit of attribuut]]))","v":"VC_INPBERG"},{"$f":"IF(Schema!K181=\"\",\"\",Schema!K181)","v":""},{"$f":"IF(Schema!L181=\"\",\"\",Schema!L181)","v":""},{"$f":"IF(Schema!M181=\"\",\"\",Schema!M181)","v":""},{"$f":"IF(Schema!N181=\"\",\"\",Schema!N181)","v":""},{"$f":"IF(Schema!P181=\"\",\"\",Schema!P181)","v":"LEEG"}]
[{"$f":"Schema!A182&Schema!B182&Schema!C182&Schema!D182&Schema!E182&Schema!F182","v":"INPPKPL"},"VC",{"$f":"IF(A170=\"\",\"\",IF(LEN(Schema!A182)=2,1,IF(LEN(Schema!B182)=2,10,IF(LEN(Schema!C182)=2,100,IF(LEN(Schema!D182)=2,1000,IF(LEN(Schema!E182)=2,10000,0))))))","v":0},10,{"$f":"IF(A170=\"\",\"\",SUM(Tabel2[[#This Row],[I1]:[I2]]))","v":10},"PP","VC","","","","PP/VC",{"$f":"IF(C170=\"\",\"\",IF(LEN(Tabel2[[#This Row],[Entiteit of attribuut]])=2,\"\",Tabel2[[#This Row],[Entiteit]]&\"_\"&Tabel2[[#This Row],[Entiteit of attribuut]]))","v":"VC_INPPKPL"},{"$f":"IF(Schema!K182=\"\",\"\",Schema!K182)","v":""},{"$f":"IF(Schema!L182=\"\",\"\",Schema!L182)","v":""},{"$f":"IF(Schema!M182=\"\",\"\",Schema!M182)","v":""},{"$f":"IF(Schema!N182=\"\",\"\",Schema!N182)","v":""},{"$f":"IF(Schema!P182=\"\",\"\",Schema!P182)","v":"LEEG"}]
[{"$f":"Schema!A183&Schema!B183&Schema!C183&Schema!D183&Schema!E183&Schema!F183","v":"MONAAND"},"VC",{"$f":"IF(A171=\"\",\"\",IF(LEN(Schema!A183)=2,1,IF(LEN(Schema!B183)=2,10,IF(LEN(Schema!C183)=2,100,IF(LEN(Schema!D183)=2,1000,IF(LEN(Schema!E183)=2,10000,0))))))","v":0},10,{"$f":"IF(A171=\"\",\"\",SUM(Tabel2[[#This Row],[I1]:[I2]]))","v":10},"PP","VC","","","","PP/VC",{"$f":"IF(C171=\"\",\"\",IF(LEN(Tabel2[[#This Row],[Entiteit of attribuut]])=2,\"\",Tabel2[[#This Row],[Entiteit]]&\"_\"&Tabel2[[#This Row],[Entiteit of attribuut]]))","v":"VC_MONAAND"},{"$f":"IF(Schema!K183=\"\",\"\",Schema!K183)","v":""},{"$f":"IF(Schema!L183=\"\",\"\",Schema!L183)","v":""},{"$f":"IF(Schema!M183=\"\",\"\",Schema!M183)","v":""},{"$f":"IF(Schema!N183=\"\",\"\",Schema!N183)","v":""},{"$f":"IF(Schema!P183=\"\",\"\",Schema!P183)","v":"LEEG"}]
[{"$f":"Schema!A184&Schema!B184&Schema!C184&Schema!D184&Schema!E184&Schema!F184","v":"MUTKENV"},"VC",{"$f":"IF(A172=\"\",\"\",IF(LEN(Schema!A184)=2,1,IF(LEN(Schema!B184)=2,10,IF(LEN(Schema!C184)=2,100,IF(LEN(Schema!D184)=2,1000,IF(LEN(Schema!E184)=2,10000,0))))))","v":0},10,{"$f":"IF(A172=\"\",\"\",SUM(Tabel2[[#This Row],[I1]:[I2]]))","v":10},"PP","VC","","","","PP/VC",{"$f":"IF(C172=\"\",\"\",IF(LEN(Tabel2[[#This Row],[Entiteit of attribuut]])=2,\"\",Tabel2[[#This Row],[Entiteit]]&\"_\"&Tabel2[[#This Row],[Entiteit of attribuut]]))","v":"VC_MUTKENV"},{"$f":"IF(Schema!K184=\"\",\"\",Schema!K184)","v":""},{"$f":"IF(Schema!L184=\"\",\"\",Schema!L184)","v":""},{"$f":"IF(Schema!M184=\"\",\"\",Schema!M184)","v":""},{"$f":"IF(Schema!N184=\"\",\"\",Schema!N184)","v":""},{"$f":"IF(Schema!P184=\"\",\"\",Schema!P184)","v":"LEEG"}]
[{"$f":"Schema!A185&Schema!B185&Schema!C185&Schema!D185&Schema!E185&Schema!F185","v":"NOODTRP"},"VC",{"$f":"IF(A173=\"\",\"\",IF(LEN(Schema!A185)=2,1,IF(LEN(Schema!B185)=2,10,IF(LEN(Schema!C185)=2,100,IF(LEN(Schema!D185)=2,1000,IF(LEN(Schema!E185)=2,10000,0))))))","v":0},10,{"$f":"IF(A173=\"\",\"\",SUM(Tabel2[[#This Row],[I1]:[I2]]))","v":10},"PP","VC","","","","PP/VC",{"$f":"IF(C173=\"\",\"\",IF(LEN(Tabel2[[#This Row],[Entiteit of attribuut]])=2,\"\",Tabel2[[#This Row],[Entiteit]]&\"_\"&Tabel2[[#This Row],[Entiteit of attribuut]]))","v":"VC_NOODTRP"},{"$f":"IF(Schema!K185=\"\",\"\",Schema!K185)","v":""},{"$f":"IF(Schema!L185=\"\",\"\",Schema!L185)","v":""},{"$f":"IF(Schema!M185=\"\",\"\",Schema!M185)","v":""},{"$f":"IF(Schema!N185=\"\",\"\",Schema!N185)","v":""},{"$f":"IF(Schema!P185=\"\",\"\",Schema!P185)","v":"LEEG"}]
[{"$f":"Schema!A186&Schema!B186&Schema!C186&Schema!D186&Schema!E186&Schema!F186","v":"ONDPKPL"},"VC",{"$f":"IF(A174=\"\",\"\",IF(LEN(Schema!A186)=2,1,IF(LEN(Schema!B186)=2,10,IF(LEN(Schema!C186)=2,100,IF(LEN(Schema!D186)=2,1000,IF(LEN(Schema!E186)=2,10000,0))))))","v":0},10,{"$f":"IF(A174=\"\",\"\",SUM(Tabel2[[#This Row],[I1]:[I2]]))","v":10},"PP","VC","","","","PP/VC",{"$f":"IF(C174=\"\",\"\",IF(LEN(Tabel2[[#This Row],[Entiteit of attribuut]])=2,\"\",Tabel2[[#This Row],[Entiteit]]&\"_\"&Tabel2[[#This Row],[Entiteit of attribuut]]))","v":"VC_ONDPKPL"},{"$f":"IF(Schema!K186=\"\",\"\",Schema!K186)","v":""},{"$f":"IF(Schema!L186=\"\",\"\",Schema!L186)","v":""},{"$f":"IF(Schema!M186=\"\",\"\",Schema!M186)","v":""},{"$f":"IF(Schema!N186=\"\",\"\",Schema!N186)","v":""},{"$f":"IF(Schema!P186=\"\",\"\",Schema!P186)","v":"LEEG"}]
[{"$f":"Schema!A187&Schema!B187&Schema!C187&Schema!D187&Schema!E187&Schema!F187","v":"OPBZVVE"},"VC",{"$f":"IF(A175=\"\",\"\",IF(LEN(Schema!A187)=2,1,IF(LEN(Schema!B187)=2,10,IF(LEN(Schema!C187)=2,100,IF(LEN(Schema!D187)=2,1000,IF(LEN(Schema!E187)=2,10000,0))))))","v":0},10,{"$f":"IF(A175=\"\",\"\",SUM(Tabel2[[#This Row],[I1]:[I2]]))","v":10},"PP","VC","","","","PP/VC",{"$f":"IF(C175=\"\",\"\",IF(LEN(Tabel2[[#This Row],[Entiteit of attribuut]])=2,\"\",Tabel2[[#This Row],[Entiteit]]&\"_\"&Tabel2[[#This Row],[Entiteit of attribuut]]))","v":"VC_OPBZVVE"},{"$f":"IF(Schema!K187=\"\",\"\",Schema!K187)","v":""},{"$f":"IF(Schema!L187=\"\",\"\",Schema!L187)","v":""},{"$f":"IF(Schema!M187=\"\",\"\",Schema!M187)","v":""},{"$f":"IF(Schema!N187=\"\",\"\",Schema!N187)","v":""},{"$f":"IF(Schema!P187=\"\",\"\",Schema!P187)","v":"LEEG"}]
[{"$f":"Schema!A188&Schema!B188&Schema!C188&Schema!D188&Schema!E188&Schema!F188","v":"SRTVVE"},"VC",{"$f":"IF(A176=\"\",\"\",IF(LEN(Schema!A188)=2,1,IF(LEN(Schema!B188)=2,10,IF(LEN(Schema!C188)=2,100,IF(LEN(Schema!D188)=2,1000,IF(LEN(Schema!E188)=2,10000,0))))))","v":0},10,{"$f":"IF(A176=\"\",\"\",SUM(Tabel2[[#This Row],[I1]:[I2]]))","v":10},"PP","VC","","","","PP/VC",{"$f":"IF(C176=\"\",\"\",IF(LEN(Tabel2[[#This Row],[Entiteit of attribuut]])=2,\"\",Tabel2[[#This Row],[Entiteit]]&\"_\"&Tabel2[[#This Row],[Entiteit of attribuut]]))","v":"VC_SRTVVE"},{"$f":"IF(Schema!K188=\"\",\"\",Schema!K188)","v":""},{"$f":"IF(Schema!L188=\"\",\"\",Schema!L188)","v":""},{"$f":"IF(Schema!M188=\"\",\"\",Schema!M188)","v":""},{"$f":"IF(Schema!N188=\"\",\"\",Schema!N188)","v":""},{"$f":"IF(Schema!P188=\"\",\"\",Schema!P188)","v":"LEEG"}]
[{"$f":"Schema!A189&Schema!B189&Schema!C189&Schema!D189&Schema!E189&Schema!F189","v":"VOLGNUM"},"VC",{"$f":"IF(A177=\"\",\"\",IF(LEN(Schema!A189)=2,1,IF(LEN(Schema!B189)=2,10,IF(LEN(Schema!C189)=2,100,IF(LEN(Schema!D189)=2,1000,IF(LEN(Schema!E189)=2,10000,0))))))","v":0},10,{"$f":"IF(A177=\"\",\"\",SUM(Tabel2[[#This Row],[I1]:[I2]]))","v":10},"PP","VC","","","","PP/VC",{"$f":"IF(C177=\"\",\"\",IF(LEN(Tabel2[[#This Row],[Entiteit of attribuut]])=2,\"\",Tabel2[[#This Row],[Entiteit]]&\"_\"&Tabel2[[#This Row],[Entiteit of attribuut]]))","v":"VC_VOLGNUM"},{"$f":"IF(Schema!K189=\"\",\"\",Schema!K189)","v":""},{"$f":"IF(Schema!L189=\"\",\"\",Schema!L189)","v":""},{"$f":"IF(Schema!M189=\"\",\"\",Schema!M189)","v":""},{"$f":"IF(Schema!N189=\"\",\"\",Schema!N189)","v":""},{"$f":"IF(Schema!P189=\"\",\"\",Schema!P189)","v":"O"}]
[{"$f":"Schema!A190&Schema!B190&Schema!C190&Schema!D190&Schema!E190&Schema!F190","v":"VRWRKCD"},"VC",{"$f":"IF(A178=\"\",\"\",IF(LEN(Schema!A190)=2,1,IF(LEN(Schema!B190)=2,10,IF(LEN(Schema!C190)=2,100,IF(LEN(Schema!D190)=2,1000,IF(LEN(Schema!E190)=2,10000,0))))))","v":0},10,{"$f":"IF(A178=\"\",\"\",SUM(Tabel2[[#This Row],[I1]:[I2]]))","v":10},"PP","VC","","","","PP/VC",{"$f":"IF(C178=\"\",\"\",IF(LEN(Tabel2[[#This Row],[Entiteit of attribuut]])=2,\"\",Tabel2[[#This Row],[Entiteit]]&\"_\"&Tabel2[[#This Row],[Entiteit of attribuut]]))","v":"VC_VRWRKCD"},{"$f":"IF(Schema!K190=\"\",\"\",Schema!K190)","v":""},{"$f":"IF(Schema!L190=\"\",\"\",Schema!L190)","v":""},{"$f":"IF(Schema!M190=\"\",\"\",Schema!M190)","v":""},{"$f":"IF(Schema!N190=\"\",\"\",Schema!N190)","v":""},{"$f":"IF(Schema!P190=\"\",\"\",Schema!P190)","v":"LEEG"}]
[{"$f":"Schema!A191&Schema!B191&Schema!C191&Schema!D191&Schema!E191&Schema!F191","v":"VVEADRS"},"VC",{"$f":"IF(A179=\"\",\"\",IF(LEN(Schema!A191)=2,1,IF(LEN(Schema!B191)=2,10,IF(LEN(Schema!C191)=2,100,IF(LEN(Schema!D191)=2,1000,IF(LEN(Schema!E191)=2,10000,0))))))","v":0},10,{"$f":"IF(A179=\"\",\"\",SUM(Tabel2[[#This Row],[I1]:[I2]]))","v":10},"PP","VC","","","","PP/VC",{"$f":"IF(C179=\"\",\"\",IF(LEN(Tabel2[[#This Row],[Entiteit of attribuut]])=2,\"\",Tabel2[[#This Row],[Entiteit]]&\"_\"&Tabel2[[#This Row],[Entiteit of attribuut]]))","v":"VC_VVEADRS"},{"$f":"IF(Schema!K191=\"\",\"\",Schema!K191)","v":""},{"$f":"IF(Schema!L191=\"\",\"\",Schema!L191)","v":""},{"$f":"IF(Schema!M191=\"\",\"\",Schema!M191)","v":""},{"$f":"IF(Schema!N191=\"\",\"\",Schema!N191)","v":""},{"$f":"IF(Schema!P191=\"\",\"\",Schema!P191)","v":"O"}]
[{"$f":"Schema!A192&Schema!B192&Schema!C192&Schema!D192&Schema!E192&Schema!F192","v":"VVECTOE"},"VC",{"$f":"IF(A180=\"\",\"\",IF(LEN(Schema!A192)=2,1,IF(LEN(Schema!B192)=2,10,IF(LEN(Schema!C192)=2,100,IF(LEN(Schema!D192)=2,1000,IF(LEN(Schema!E192)=2,10000,0))))))","v":0},10,{"$f":"IF(A180=\"\",\"\",SUM(Tabel2[[#This Row],[I1]:[I2]]))","v":10},"PP","VC","","","","PP/VC",{"$f":"IF(C180=\"\",\"\",IF(LEN(Tabel2[[#This Row],[Entiteit of attribuut]])=2,\"\",Tabel2[[#This Row],[Entiteit]]&\"_\"&Tabel2[[#This Row],[Entiteit of attribuut]]))","v":"VC_VVECTOE"},{"$f":"IF(Schema!K192=\"\",\"\",Schema!K192)","v":""},{"$f":"IF(Schema!L192=\"\",\"\",Schema!L192)","v":""},{"$f":"IF(Schema!M192=\"\",\"\",Schema!M192)","v":""},{"$f":"IF(Schema!N192=\"\",\"\",Schema!N192)","v":""},{"$f":"IF(Schema!P192=\"\",\"\",Schema!P192)","v":"LEEG"}]
[{"$f":"Schema!A193&Schema!B193&Schema!C193&Schema!D193&Schema!E193&Schema!F193","v":"ZONNPAN"},"VC",{"$f":"IF(A181=\"\",\"\",IF(LEN(Schema!A193)=2,1,IF(LEN(Schema!B193)=2,10,IF(LEN(Schema!C193)=2,100,IF(LEN(Schema!D193)=2,1000,IF(LEN(Schema!E193)=2,10000,0))))))","v":0},10,{"$f":"IF(A181=\"\",\"\",SUM(Tabel2[[#This Row],[I1]:[I2]]))","v":10},"PP","VC","","","","PP/VC",{"$f":"IF(C181=\"\",\"\",IF(LEN(Tabel2[[#This Row],[Entiteit of attribuut]])=2,\"\",Tabel2[[#This Row],[Entiteit]]&\"_\"&Tabel2[[#This Row],[Entiteit of attribuut]]))","v":"VC_ZONNPAN"},{"$f":"IF(Schema!K193=\"\",\"\",Schema!K193)","v":""},{"$f":"IF(Schema!L193=\"\",\"\",Schema!L193)","v":""},{"$f":"IF(Schema!M193=\"\",\"\",Schema!M193)","v":""},{"$f":"IF(Schema!N193=\"\",\"\",Schema!N193)","v":""},{"$f":"IF(Schema!P193=\"\",\"\",Schema!P193)","v":"LEEG"}]
[{"$f":"Schema!A194&Schema!B194&Schema!C194&Schema!D194&Schema!E194&Schema!F194","v":"BA"},"BA",{"$f":"IF(A182=\"\",\"\",IF(LEN(Schema!A194)=2,1,IF(LEN(Schema!B194)=2,10,IF(LEN(Schema!C194)=2,100,IF(LEN(Schema!D194)=2,1000,IF(LEN(Schema!E194)=2,10000,0))))))","v":100},100,{"$f":"IF(A182=\"\",\"\",SUM(Tabel2[[#This Row],[I1]:[I2]]))","v":200},"PP","VC","BA","","","PP/VC/BA",{"$f":"IF(C182=\"\",\"\",IF(LEN(Tabel2[[#This Row],[Entiteit of attribuut]])=2,\"\",Tabel2[[#This Row],[Entiteit]]&\"_\"&Tabel2[[#This Row],[Entiteit of attribuut]]))","v":""},{"$f":"IF(Schema!K194=\"\",\"\",Schema!K194)","v":""},{"$f":"IF(Schema!L194=\"\",\"\",Schema!L194)","v":""},{"$f":"IF(Schema!M194=\"\",\"\",Schema!M194)","v":""},{"$f":"IF(Schema!N194=\"\",\"\",Schema!N194)","v":""},{"$f":"IF(Schema!P194=\"\",\"\",Schema!P194)","v":"O"}]
[{"$f":"Schema!A195&Schema!B195&Schema!C195&Schema!D195&Schema!E195&Schema!F195","v":"AARDBW"},"BA",{"$f":"IF(A183=\"\",\"\",IF(LEN(Schema!A195)=2,1,IF(LEN(Schema!B195)=2,10,IF(LEN(Schema!C195)=2,100,IF(LEN(Schema!D195)=2,1000,IF(LEN(Schema!E195)=2,10000,0))))))","v":0},100,{"$f":"IF(A183=\"\",\"\",SUM(Tabel2[[#This Row],[I1]:[I2]]))","v":100},"PP","VC","BA","","","PP/VC/BA",{"$f":"IF(C183=\"\",\"\",IF(LEN(Tabel2[[#This Row],[Entiteit of attribuut]])=2,\"\",Tabel2[[#This Row],[Entiteit]]&\"_\"&Tabel2[[#This Row],[Entiteit of attribuut]]))","v":"BA_AARDBW"},{"$f":"IF(Schema!K195=\"\",\"\",Schema!K195)","v":""},{"$f":"IF(Schema!L195=\"\",\"\",Schema!L195)","v":""},{"$f":"IF(Schema!M195=\"\",\"\",Schema!M195)","v":""},{"$f":"IF(Schema!N195=\"\",\"\",Schema!N195)","v":""},{"$f":"IF(Schema!P195=\"\",\"\",Schema!P195)","v":"O"}]
[{"$f":"Schema!A196&Schema!B196&Schema!C196&Schema!D196&Schema!E196&Schema!F196","v":"AARDDAK"},"BA",{"$f":"IF(A184=\"\",\"\",IF(LEN(Schema!A196)=2,1,IF(LEN(Schema!B196)=2,10,IF(LEN(Schema!C196)=2,100,IF(LEN(Schema!D196)=2,1000,IF(LEN(Schema!E196)=2,10000,0))))))","v":0},100,{"$f":"IF(A184=\"\",\"\",SUM(Tabel2[[#This Row],[I1]:[I2]]))","v":100},"PP","VC","BA","","","PP/VC/BA",{"$f":"IF(C184=\"\",\"\",IF(LEN(Tabel2[[#This Row],[Entiteit of attribuut]])=2,\"\",Tabel2[[#This Row],[Entiteit]]&\"_\"&Tabel2[[#This Row],[Entiteit of attribuut]]))","v":"BA_AARDDAK"},{"$f":"IF(Schema!K196=\"\",\"\",Schema!K196)","v":""},{"$f":"IF(Schema!L196=\"\",\"\",Schema!L196)","v":""},{"$f":"IF(Schema!M196=\"\",\"\",Schema!M196)","v":""},{"$f":"IF(Schema!N196=\"\",\"\",Schema!N196)","v":""},{"$f":"IF(Schema!P196=\"\",\"\",Schema!P196)","v":"O"}]
[{"$f":"Schema!A197&Schema!B197&Schema!C197&Schema!D197&Schema!E197&Schema!F197","v":"AARDOBJ"},"BA",{"$f":"IF(A185=\"\",\"\",IF(LEN(Schema!A197)=2,1,IF(LEN(Schema!B197)=2,10,IF(LEN(Schema!C197)=2,100,IF(LEN(Schema!D197)=2,1000,IF(LEN(Schema!E197)=2,10000,0))))))","v":0},100,{"$f":"IF(A185=\"\",\"\",SUM(Tabel2[[#This Row],[I1]:[I2]]))","v":100},"PP","VC","BA","","","PP/VC/BA",{"$f":"IF(C185=\"\",\"\",IF(LEN(Tabel2[[#This Row],[Entiteit of attribuut]])=2,\"\",Tabel2[[#This Row],[Entiteit]]&\"_\"&Tabel2[[#This Row],[Entiteit of attribuut]]))","v":"BA_AARDOBJ"},{"$f":"IF(Schema!K197=\"\",\"\",Schema!K197)","v":""},{"$f":"IF(Schema!L197=\"\",\"\",Schema!L197)","v":""},{"$f":"IF(Schema!M197=\"\",\"\",Schema!M197)","v":""},{"$f":"IF(Schema!N197=\"\",\"\",Schema!N197)","v":""},{"$f":"IF(Schema!P197=\"\",\"\",Schema!P197)","v":"O"}]
[{"$f":"Schema!A198&Schema!B198&Schema!C198&Schema!D198&Schema!E198&Schema!F198","v":"AARDVLR"},"BA",{"$f":"IF(A186=\"\",\"\",IF(LEN(Schema!A198)=2,1,IF(LEN(Schema!B198)=2,10,IF(LEN(Schema!C198)=2,100,IF(LEN(Schema!D198)=2,1000,IF(LEN(Schema!E198)=2,10000,0))))))","v":0},100,{"$f":"IF(A186=\"\",\"\",SUM(Tabel2[[#This Row],[I1]:[I2]]))","v":100},"PP","VC","BA","","","PP/VC/BA",{"$f":"IF(C186=\"\",\"\",IF(LEN(Tabel2[[#This Row],[Entiteit of attribuut]])=2,\"\",Tabel2[[#This Row],[Entiteit]]&\"_\"&Tabel2[[#This Row],[Entiteit of attribuut]]))","v":"BA_AARDVLR"},{"$f":"IF(Schema!K198=\"\",\"\",Schema!K198)","v":""},{"$f":"IF(Schema!L198=\"\",\"\",Schema!L198)","v":""},{"$f":"IF(Schema!M198=\"\",\"\",Schema!M198)","v":""},{"$f":"IF(Schema!N198=\"\",\"\",Schema!N198)","v":""},{"$f":"IF(Schema!P198=\"\",\"\",Schema!P198)","v":"O"}]
[{"$f":"Schema!A199&Schema!B199&Schema!C199&Schema!D199&Schema!E199&Schema!F199","v":"BESTEMO"},"BA",{"$f":"IF(A187=\"\",\"\",IF(LEN(Schema!A199)=2,1,IF(LEN(Schema!B199)=2,10,IF(LEN(Schema!C199)=2,100,IF(LEN(Schema!D199)=2,1000,IF(LEN(Schema!E199)=2,10000,0))))))","v":0},100,{"$f":"IF(A187=\"\",\"\",SUM(Tabel2[[#This Row],[I1]:[I2]]))","v":100},"PP","VC","BA","","","PP/VC/BA",{"$f":"IF(C187=\"\",\"\",IF(LEN(Tabel2[[#This Row],[Entiteit of attribuut]])=2,\"\",Tabel2[[#This Row],[Entiteit]]&\"_\"&Tabel2[[#This Row],[Entiteit of attribuut]]))","v":"BA_BESTEMO"},{"$f":"IF(Schema!K199=\"\",\"\",Schema!K199)","v":""},{"$f":"IF(Schema!L199=\"\",\"\",Schema!L199)","v":""},{"$f":"IF(Schema!M199=\"\",\"\",Schema!M199)","v":""},{"$f":"IF(Schema!N199=\"\",\"\",Schema!N199)","v":""},{"$f":"IF(Schema!P199=\"\",\"\",Schema!P199)","v":"O"}]
[{"$f":"Schema!A200&Schema!B200&Schema!C200&Schema!D200&Schema!E200&Schema!F200","v":"BOUWJR"},"BA",{"$f":"IF(A188=\"\",\"\",IF(LEN(Schema!A200)=2,1,IF(LEN(Schema!B200)=2,10,IF(LEN(Schema!C200)=2,100,IF(LEN(Schema!D200)=2,1000,IF(LEN(Schema!E200)=2,10000,0))))))","v":0},100,{"$f":"IF(A188=\"\",\"\",SUM(Tabel2[[#This Row],[I1]:[I2]]))","v":100},"PP","VC","BA","","","PP/VC/BA",{"$f":"IF(C188=\"\",\"\",IF(LEN(Tabel2[[#This Row],[Entiteit of attribuut]])=2,\"\",Tabel2[[#This Row],[Entiteit]]&\"_\"&Tabel2[[#This Row],[Entiteit of attribuut]]))","v":"BA_BOUWJR"},{"$f":"IF(Schema!K200=\"\",\"\",Schema!K200)","v":""},{"$f":"IF(Schema!L200=\"\",\"\",Schema!L200)","v":""},{"$f":"IF(Schema!M200=\"\",\"\",Schema!M200)","v":""},{"$f":"IF(Schema!N200=\"\",\"\",Schema!N200)","v":""},{"$f":"IF(Schema!P200=\"\",\"\",Schema!P200)","v":"O"}]
[{"$f":"Schema!A201&Schema!B201&Schema!C201&Schema!D201&Schema!E201&Schema!F201","v":"BDRVVEL"},"BA",{"$f":"IF(A189=\"\",\"\",IF(LEN(Schema!A201)=2,1,IF(LEN(Schema!B201)=2,10,IF(LEN(Schema!C201)=2,100,IF(LEN(Schema!D201)=2,1000,IF(LEN(Schema!E201)=2,10000,0))))))","v":0},100,{"$f":"IF(A189=\"\",\"\",SUM(Tabel2[[#This Row],[I1]:[I2]]))","v":100},"PP","VC","BA","","","PP/VC/BA",{"$f":"IF(C189=\"\",\"\",IF(LEN(Tabel2[[#This Row],[Entiteit of attribuut]])=2,\"\",Tabel2[[#This Row],[Entiteit]]&\"_\"&Tabel2[[#This Row],[Entiteit of attribuut]]))","v":"BA_BDRVVEL"},{"$f":"IF(Schema!K201=\"\",\"\",Schema!K201)","v":""},{"$f":"IF(Schema!L201=\"\",\"\",Schema!L201)","v":""},{"$f":"IF(Schema!M201=\"\",\"\",Schema!M201)","v":""},{"$f":"IF(Schema!N201=\"\",\"\",Schema!N201)","v":""},{"$f":"IF(Schema!P201=\"\",\"\",Schema!P201)","v":"LEEG"}]
[{"$f":"Schema!A202&Schema!B202&Schema!C202&Schema!D202&Schema!E202&Schema!F202","v":"BTWCD"},"BA",{"$f":"IF(A190=\"\",\"\",IF(LEN(Schema!A202)=2,1,IF(LEN(Schema!B202)=2,10,IF(LEN(Schema!C202)=2,100,IF(LEN(Schema!D202)=2,1000,IF(LEN(Schema!E202)=2,10000,0))))))","v":0},100,{"$f":"IF(A190=\"\",\"\",SUM(Tabel2[[#This Row],[I1]:[I2]]))","v":100},"PP","VC","BA","","","PP/VC/BA",{"$f":"IF(C190=\"\",\"\",IF(LEN(Tabel2[[#This Row],[Entiteit of attribuut]])=2,\"\",Tabel2[[#This Row],[Entiteit]]&\"_\"&Tabel2[[#This Row],[Entiteit of attribuut]]))","v":"BA_BTWCD"},{"$f":"IF(Schema!K202=\"\",\"\",Schema!K202)","v":""},{"$f":"IF(Schema!L202=\"\",\"\",Schema!L202)","v":""},{"$f":"IF(Schema!M202=\"\",\"\",Schema!M202)","v":""},{"$f":"IF(Schema!N202=\"\",\"\",Schema!N202)","v":""},{"$f":"IF(Schema!P202=\"\",\"\",Schema!P202)","v":"O"}]
[{"$f":"Schema!A203&Schema!B203&Schema!C203&Schema!D203&Schema!E203&Schema!F203","v":"EIGBELT"},"BA",{"$f":"IF(A191=\"\",\"\",IF(LEN(Schema!A203)=2,1,IF(LEN(Schema!B203)=2,10,IF(LEN(Schema!C203)=2,100,IF(LEN(Schema!D203)=2,1000,IF(LEN(Schema!E203)=2,10000,0))))))","v":0},100,{"$f":"IF(A191=\"\",\"\",SUM(Tabel2[[#This Row],[I1]:[I2]]))","v":100},"PP","VC","BA","","","PP/VC/BA",{"$f":"IF(C191=\"\",\"\",IF(LEN(Tabel2[[#This Row],[Entiteit of attribuut]])=2,\"\",Tabel2[[#This Row],[Entiteit]]&\"_\"&Tabel2[[#This Row],[Entiteit of attribuut]]))","v":"BA_EIGBELT"},{"$f":"IF(Schema!K203=\"\",\"\",Schema!K203)","v":""},{"$f":"IF(Schema!L203=\"\",\"\",Schema!L203)","v":""},{"$f":"IF(Schema!M203=\"\",\"\",Schema!M203)","v":""},{"$f":"IF(Schema!N203=\"\",\"\",Schema!N203)","v":""},{"$f":"IF(Schema!P203=\"\",\"\",Schema!P203)","v":"LEEG"}]
[{"$f":"Schema!A204&Schema!B204&Schema!C204&Schema!D204&Schema!E204&Schema!F204","v":"ENTITEI"},"BA",{"$f":"IF(A192=\"\",\"\",IF(LEN(Schema!A204)=2,1,IF(LEN(Schema!B204)=2,10,IF(LEN(Schema!C204)=2,100,IF(LEN(Schema!D204)=2,1000,IF(LEN(Schema!E204)=2,10000,0))))))","v":0},100,{"$f":"IF(A192=\"\",\"\",SUM(Tabel2[[#This Row],[I1]:[I2]]))","v":100},"PP","VC","BA","","","PP/VC/BA",{"$f":"IF(C192=\"\",\"\",IF(LEN(Tabel2[[#This Row],[Entiteit of attribuut]])=2,\"\",Tabel2[[#This Row],[Entiteit]]&\"_\"&Tabel2[[#This Row],[Entiteit of attribuut]]))","v":"BA_ENTITEI"},{"$f":"IF(Schema!K204=\"\",\"\",Schema!K204)","v":""},{"$f":"IF(Schema!L204=\"\",\"\",Schema!L204)","v":""},{"$f":"IF(Schema!M204=\"\",\"\",Schema!M204)","v":""},{"$f":"IF(Schema!N204=\"\",\"\",Schema!N204)","v":""},{"$f":"IF(Schema!P204=\"\",\"\",Schema!P204)","v":"LEEG"}]
[{"$f":"Schema!A205&Schema!B205&Schema!C205&Schema!D205&Schema!E205&Schema!F205","v":"EKLVVEO"},"BA",{"$f":"IF(A193=\"\",\"\",IF(LEN(Schema!A205)=2,1,IF(LEN(Schema!B205)=2,10,IF(LEN(Schema!C205)=2,100,IF(LEN(Schema!D205)=2,1000,IF(LEN(Schema!E205)=2,10000,0))))))","v":0},100,{"$f":"IF(A193=\"\",\"\",SUM(Tabel2[[#This Row],[I1]:[I2]]))","v":100},"PP","VC","BA","","","PP/VC/BA",{"$f":"IF(C193=\"\",\"\",IF(LEN(Tabel2[[#This Row],[Entiteit of attribuut]])=2,\"\",Tabel2[[#This Row],[Entiteit]]&\"_\"&Tabel2[[#This Row],[Entiteit of attribuut]]))","v":"BA_EKLVVEO"},{"$f":"IF(Schema!K205=\"\",\"\",Schema!K205)","v":""},{"$f":"IF(Schema!L205=\"\",\"\",Schema!L205)","v":""},{"$f":"IF(Schema!M205=\"\",\"\",Schema!M205)","v":""},{"$f":"IF(Schema!N205=\"\",\"\",Schema!N205)","v":""},{"$f":"IF(Schema!P205=\"\",\"\",Schema!P205)","v":"LEEG"}]
[{"$f":"Schema!A206&Schema!B206&Schema!C206&Schema!D206&Schema!E206&Schema!F206","v":"GBRFVBO"},"BA",{"$f":"IF(A194=\"\",\"\",IF(LEN(Schema!A206)=2,1,IF(LEN(Schema!B206)=2,10,IF(LEN(Schema!C206)=2,100,IF(LEN(Schema!D206)=2,1000,IF(LEN(Schema!E206)=2,10000,0))))))","v":0},100,{"$f":"IF(A194=\"\",\"\",SUM(Tabel2[[#This Row],[I1]:[I2]]))","v":100},"PP","VC","BA","","","PP/VC/BA",{"$f":"IF(C194=\"\",\"\",IF(LEN(Tabel2[[#This Row],[Entiteit of attribuut]])=2,\"\",Tabel2[[#This Row],[Entiteit]]&\"_\"&Tabel2[[#This Row],[Entiteit of attribuut]]))","v":"BA_GBRFVBO"},{"$f":"IF(Schema!K206=\"\",\"\",Schema!K206)","v":""},{"$f":"IF(Schema!L206=\"\",\"\",Schema!L206)","v":""},{"$f":"IF(Schema!M206=\"\",\"\",Schema!M206)","v":""},{"$f":"IF(Schema!N206=\"\",\"\",Schema!N206)","v":""},{"$f":"IF(Schema!P206=\"\",\"\",Schema!P206)","v":"O"}]
[{"$f":"Schema!A207&Schema!B207&Schema!C207&Schema!D207&Schema!E207&Schema!F207","v":"HNRTM"},{"$f":"IF(LEN(A195)=2,A195,IF(A195=\"\",\"Leeg\",B194))","v":"BA"},{"$f":"IF(A195=\"\",\"\",IF(LEN(Schema!A207)=2,1,IF(LEN(Schema!B207)=2,10,IF(LEN(Schema!C207)=2,100,IF(LEN(Schema!D207)=2,1000,IF(LEN(Schema!E207)=2,10000,0))))))","v":0},{"$f":"IF(C195=0,D194,C195)","v":100},{"$f":"IF(A195=\"\",\"\",SUM(Tabel2[[#This Row],[I1]:[I2]]))","v":100},{"$f":"IF(A195=\"\",\"\",IF(C195=1,B195,F194))","v":"PP"},{"$f":"IF(C195=10,A195,IF(OR(C195=0,C195=100,C195=1000,C195=10000),G194,\"\"))","v":"VC"},{"$f":"IF(E195=200,B195,IF(OR(C195=0,C195=100,C195=1000,C195=10000),H194,\"\"))","v":"BA"},{"$f":"IF(E195=2000,B195,IF(OR(C195=0,C195=10000),I194,\"\"))","v":""},{"$f":"IF(E195=20000,B195,IF(OR(C195=0,,C195=10000),J194,\"\"))","v":""},{"$f":"IF(C195=\"\",\"\",IF(OR(E195=1,E195=10,E195=100,E195=1000,E195=10000),K194,IF(E195=2,F195,IF(E195=20,F195&\"/\"&G195,IF(E195=200,F195&\"/\"&G195&\"/\"&H195,IF(E195=2000,F195&\"/\"&G195&\"/\"&H195&\"/\"&I195,IF(E195=20000,F195&\"/\"&G195&\"/\"&H195&\"/\"&I195&\"/\"&J195)))))))","v":"PP/VC/BA"},{"$f":"IF(C195=\"\",\"\",IF(LEN(Tabel2[[#This Row],[Entiteit of attribuut]])=2,\"\",Tabel2[[#This Row],[Entiteit]]&\"_\"&Tabel2[[#This Row],[Entiteit of attribuut]]))","v":"BA_HNRTM"},{"$f":"IF(Schema!K207=\"\",\"\",Schema!K207)","v":""},{"$f":"IF(Schema!L207=\"\",\"\",Schema!L207)","v":""},{"$f":"IF(Schema!M207=\"\",\"\",Schema!M207)","v":""},{"$f":"IF(Schema!N207=\"\",\"\",Schema!N207)","v":""},{"$f":"IF(Schema!P207=\"\",\"\",Schema!P207)","v":"LEEG"}]
[{"$f":"Schema!A208&Schema!B208&Schema!C208&Schema!D208&Schema!E208&Schema!F208","v":"HUISEIG"},"BA",{"$f":"IF(A196=\"\",\"\",IF(LEN(Schema!A208)=2,1,IF(LEN(Schema!B208)=2,10,IF(LEN(Schema!C208)=2,100,IF(LEN(Schema!D208)=2,1000,IF(LEN(Schema!E208)=2,10000,0))))))","v":0},100,{"$f":"IF(A196=\"\",\"\",SUM(Tabel2[[#This Row],[I1]:[I2]]))","v":100},"PP","VC","BA","","","PP/VC/BA",{"$f":"IF(C196=\"\",\"\",IF(LEN(Tabel2[[#This Row],[Entiteit of attribuut]])=2,\"\",Tabel2[[#This Row],[Entiteit]]&\"_\"&Tabel2[[#This Row],[Entiteit of attribuut]]))","v":"BA_HUISEIG"},{"$f":"IF(Schema!K208=\"\",\"\",Schema!K208)","v":""},{"$f":"IF(Schema!L208=\"\",\"\",Schema!L208)","v":""},{"$f":"IF(Schema!M208=\"\",\"\",Schema!M208)","v":""},{"$f":"IF(Schema!N208=\"\",\"\",Schema!N208)","v":""},{"$f":"IF(Schema!P208=\"\",\"\",Schema!P208)","v":"LEEG"}]
[{"$f":"Schema!A209&Schema!B209&Schema!C209&Schema!D209&Schema!E209&Schema!F209","v":"HUISNR"},"BA",{"$f":"IF(A197=\"\",\"\",IF(LEN(Schema!A209)=2,1,IF(LEN(Schema!B209)=2,10,IF(LEN(Schema!C209)=2,100,IF(LEN(Schema!D209)=2,1000,IF(LEN(Schema!E209)=2,10000,0))))))","v":0},100,{"$f":"IF(A197=\"\",\"\",SUM(Tabel2[[#This Row],[I1]:[I2]]))","v":100},"PP","VC","BA","","","PP/VC/BA",{"$f":"IF(C197=\"\",\"\",IF(LEN(Tabel2[[#This Row],[Entiteit of attribuut]])=2,\"\",Tabel2[[#This Row],[Entiteit]]&\"_\"&Tabel2[[#This Row],[Entiteit of attribuut]]))","v":"BA_HUISNR"},{"$f":"IF(Schema!K209=\"\",\"\",Schema!K209)","v":""},{"$f":"IF(Schema!L209=\"\",\"\",Schema!L209)","v":""},{"$f":"IF(Schema!M209=\"\",\"\",Schema!M209)","v":""},{"$f":"IF(Schema!N209=\"\",\"\",Schema!N209)","v":""},{"$f":"IF(Schema!P209=\"\",\"\",Schema!P209)","v":"O"}]
[{"$f":"Schema!A210&Schema!B210&Schema!C210&Schema!D210&Schema!E210&Schema!F210","v":"ONDSTT"},"BA",{"$f":"IF(A198=\"\",\"\",IF(LEN(Schema!A210)=2,1,IF(LEN(Schema!B210)=2,10,IF(LEN(Schema!C210)=2,100,IF(LEN(Schema!D210)=2,1000,IF(LEN(Schema!E210)=2,10000,0))))))","v":0},100,{"$f":"IF(A198=\"\",\"\",SUM(Tabel2[[#This Row],[I1]:[I2]]))","v":100},"PP","VC","BA","","","PP/VC/BA",{"$f":"IF(C198=\"\",\"\",IF(LEN(Tabel2[[#This Row],[Entiteit of attribuut]])=2,\"\",Tabel2[[#This Row],[Entiteit]]&\"_\"&Tabel2[[#This Row],[Entiteit of attribuut]]))","v":"BA_ONDSTT"},{"$f":"IF(Schema!K210=\"\",\"\",Schema!K210)","v":""},{"$f":"IF(Schema!L210=\"\",\"\",Schema!L210)","v":""},{"$f":"IF(Schema!M210=\"\",\"\",Schema!M210)","v":""},{"$f":"IF(Schema!N210=\"\",\"\",Schema!N210)","v":""},{"$f":"IF(Schema!P210=\"\",\"\",Schema!P210)","v":"O"}]
[{"$f":"Schema!A211&Schema!B211&Schema!C211&Schema!D211&Schema!E211&Schema!F211","v":"PCODE"},"BA",{"$f":"IF(A199=\"\",\"\",IF(LEN(Schema!A211)=2,1,IF(LEN(Schema!B211)=2,10,IF(LEN(Schema!C211)=2,100,IF(LEN(Schema!D211)=2,1000,IF(LEN(Schema!E211)=2,10000,0))))))","v":0},100,{"$f":"IF(A199=\"\",\"\",SUM(Tabel2[[#This Row],[I1]:[I2]]))","v":100},"PP","VC","BA","","","PP/VC/BA",{"$f":"IF(C199=\"\",\"\",IF(LEN(Tabel2[[#This Row],[Entiteit of attribuut]])=2,\"\",Tabel2[[#This Row],[Entiteit]]&\"_\"&Tabel2[[#This Row],[Entiteit of attribuut]]))","v":"BA_PCODE"},{"$f":"IF(Schema!K211=\"\",\"\",Schema!K211)","v":""},{"$f":"IF(Schema!L211=\"\",\"\",Schema!L211)","v":""},{"$f":"IF(Schema!M211=\"\",\"\",Schema!M211)","v":""},{"$f":"IF(Schema!N211=\"\",\"\",Schema!N211)","v":""},{"$f":"IF(Schema!P211=\"\",\"\",Schema!P211)","v":"O"}]
[{"$f":"Schema!A212&Schema!B212&Schema!C212&Schema!D212&Schema!E212&Schema!F212","v":"PLAATS"},"BA",{"$f":"IF(A200=\"\",\"\",IF(LEN(Schema!A212)=2,1,IF(LEN(Schema!B212)=2,10,IF(LEN(Schema!C212)=2,100,IF(LEN(Schema!D212)=2,1000,IF(LEN(Schema!E212)=2,10000,0))))))","v":0},100,{"$f":"IF(A200=\"\",\"\",SUM(Tabel2[[#This Row],[I1]:[I2]]))","v":100},"PP","VC","BA","","","PP/VC/BA",{"$f":"IF(C200=\"\",\"\",IF(LEN(Tabel2[[#This Row],[Entiteit of attribuut]])=2,\"\",Tabel2[[#This Row],[Entiteit]]&\"_\"&Tabel2[[#This Row],[Entiteit of attribuut]]))","v":"BA_PLAATS"},{"$f":"IF(Schema!K212=\"\",\"\",Schema!K212)","v":""},{"$f":"IF(Schema!L212=\"\",\"\",Schema!L212)","v":""},{"$f":"IF(Schema!M212=\"\",\"\",Schema!M212)","v":""},{"$f":"IF(Schema!N212=\"\",\"\",Schema!N212)","v":""},{"$f":"IF(Schema!P212=\"\",\"\",Schema!P212)","v":"O"}]
[{"$f":"Schema!A213&Schema!B213&Schema!C213&Schema!D213&Schema!E213&Schema!F213","v":"STRAAT"},"BA",{"$f":"IF(A201=\"\",\"\",IF(LEN(Schema!A213)=2,1,IF(LEN(Schema!B213)=2,10,IF(LEN(Schema!C213)=2,100,IF(LEN(Schema!D213)=2,1000,IF(LEN(Schema!E213)=2,10000,0))))))","v":0},100,{"$f":"IF(A201=\"\",\"\",SUM(Tabel2[[#This Row],[I1]:[I2]]))","v":100},"PP","VC","BA","","","PP/VC/BA",{"$f":"IF(C201=\"\",\"\",IF(LEN(Tabel2[[#This Row],[Entiteit of attribuut]])=2,\"\",Tabel2[[#This Row],[Entiteit]]&\"_\"&Tabel2[[#This Row],[Entiteit of attribuut]]))","v":"BA_STRAAT"},{"$f":"IF(Schema!K213=\"\",\"\",Schema!K213)","v":""},{"$f":"IF(Schema!L213=\"\",\"\",Schema!L213)","v":""},{"$f":"IF(Schema!M213=\"\",\"\",Schema!M213)","v":""},{"$f":"IF(Schema!N213=\"\",\"\",Schema!N213)","v":""},{"$f":"IF(Schema!P213=\"\",\"\",Schema!P213)","v":"O"}]
[{"$f":"Schema!A214&Schema!B214&Schema!C214&Schema!D214&Schema!E214&Schema!F214","v":"TLT"},"BA",{"$f":"IF(A202=\"\",\"\",IF(LEN(Schema!A214)=2,1,IF(LEN(Schema!B214)=2,10,IF(LEN(Schema!C214)=2,100,IF(LEN(Schema!D214)=2,1000,IF(LEN(Schema!E214)=2,10000,0))))))","v":0},100,{"$f":"IF(A202=\"\",\"\",SUM(Tabel2[[#This Row],[I1]:[I2]]))","v":100},"PP","VC","BA","","","PP/VC/BA",{"$f":"IF(C202=\"\",\"\",IF(LEN(Tabel2[[#This Row],[Entiteit of attribuut]])=2,\"\",Tabel2[[#This Row],[Entiteit]]&\"_\"&Tabel2[[#This Row],[Entiteit of attribuut]]))","v":"BA_TLT"},{"$f":"IF(Schema!K214=\"\",\"\",Schema!K214)","v":""},{"$f":"IF(Schema!L214=\"\",\"\",Schema!L214)","v":""},{"$f":"IF(Schema!M214=\"\",\"\",Schema!M214)","v":""},{"$f":"IF(Schema!N214=\"\",\"\",Schema!N214)","v":""},{"$f":"IF(Schema!P214=\"\",\"\",Schema!P214)","v":"LEEG"}]
[{"$f":"Schema!A215&Schema!B215&Schema!C215&Schema!D215&Schema!E215&Schema!F215","v":"TOEGEBR"},"BA",{"$f":"IF(A203=\"\",\"\",IF(LEN(Schema!A215)=2,1,IF(LEN(Schema!B215)=2,10,IF(LEN(Schema!C215)=2,100,IF(LEN(Schema!D215)=2,1000,IF(LEN(Schema!E215)=2,10000,0))))))","v":0},100,{"$f":"IF(A203=\"\",\"\",SUM(Tabel2[[#This Row],[I1]:[I2]]))","v":100},"PP","VC","BA","","","PP/VC/BA",{"$f":"IF(C203=\"\",\"\",IF(LEN(Tabel2[[#This Row],[Entiteit of attribuut]])=2,\"\",Tabel2[[#This Row],[Entiteit]]&\"_\"&Tabel2[[#This Row],[Entiteit of attribuut]]))","v":"BA_TOEGEBR"},{"$f":"IF(Schema!K215=\"\",\"\",Schema!K215)","v":""},{"$f":"IF(Schema!L215=\"\",\"\",Schema!L215)","v":""},{"$f":"IF(Schema!M215=\"\",\"\",Schema!M215)","v":""},{"$f":"IF(Schema!N215=\"\",\"\",Schema!N215)","v":""},{"$f":"IF(Schema!P215=\"\",\"\",Schema!P215)","v":"O"}]
[{"$f":"Schema!A216&Schema!B216&Schema!C216&Schema!D216&Schema!E216&Schema!F216","v":"TOEVOEG"},"BA",{"$f":"IF(A204=\"\",\"\",IF(LEN(Schema!A216)=2,1,IF(LEN(Schema!B216)=2,10,IF(LEN(Schema!C216)=2,100,IF(LEN(Schema!D216)=2,1000,IF(LEN(Schema!E216)=2,10000,0))))))","v":0},100,{"$f":"IF(A204=\"\",\"\",SUM(Tabel2[[#This Row],[I1]:[I2]]))","v":100},"PP","VC","BA","","","PP/VC/BA",{"$f":"IF(C204=\"\",\"\",IF(LEN(Tabel2[[#This Row],[Entiteit of attribuut]])=2,\"\",Tabel2[[#This Row],[Entiteit]]&\"_\"&Tabel2[[#This Row],[Entiteit of attribuut]]))","v":"BA_TOEVOEG"},{"$f":"IF(Schema!K216=\"\",\"\",Schema!K216)","v":""},{"$f":"IF(Schema!L216=\"\",\"\",Schema!L216)","v":""},{"$f":"IF(Schema!M216=\"\",\"\",Schema!M216)","v":""},{"$f":"IF(Schema!N216=\"\",\"\",Schema!N216)","v":""},{"$f":"IF(Schema!P216=\"\",\"\",Schema!P216)","v":"O"}]
[{"$f":"Schema!A217&Schema!B217&Schema!C217&Schema!D217&Schema!E217&Schema!F217","v":"VBOID"},"BA",{"$f":"IF(A205=\"\",\"\",IF(LEN(Schema!A217)=2,1,IF(LEN(Schema!B217)=2,10,IF(LEN(Schema!C217)=2,100,IF(LEN(Schema!D217)=2,1000,IF(LEN(Schema!E217)=2,10000,0))))))","v":0},100,{"$f":"IF(A205=\"\",\"\",SUM(Tabel2[[#This Row],[I1]:[I2]]))","v":100},"PP","VC","BA","","","PP/VC/BA",{"$f":"IF(C205=\"\",\"\",IF(LEN(Tabel2[[#This Row],[Entiteit of attribuut]])=2,\"\",Tabel2[[#This Row],[Entiteit]]&\"_\"&Tabel2[[#This Row],[Entiteit of attribuut]]))","v":"BA_VBOID"},{"$f":"IF(Schema!K217=\"\",\"\",Schema!K217)","v":""},{"$f":"IF(Schema!L217=\"\",\"\",Schema!L217)","v":""},{"$f":"IF(Schema!M217=\"\",\"\",Schema!M217)","v":""},{"$f":"IF(Schema!N217=\"\",\"\",Schema!N217)","v":""},{"$f":"IF(Schema!P217=\"\",\"\",Schema!P217)","v":"O"}]
[{"$f":"Schema!A218&Schema!B218&Schema!C218&Schema!D218&Schema!E218&Schema!F218","v":"VOLGNUM"},"BA",{"$f":"IF(A206=\"\",\"\",IF(LEN(Schema!A218)=2,1,IF(LEN(Schema!B218)=2,10,IF(LEN(Schema!C218)=2,100,IF(LEN(Schema!D218)=2,1000,IF(LEN(Schema!E218)=2,10000,0))))))","v":0},100,{"$f":"IF(A206=\"\",\"\",SUM(Tabel2[[#This Row],[I1]:[I2]]))","v":100},"PP","VC","BA","","","PP/VC/BA",{"$f":"IF(C206=\"\",\"\",IF(LEN(Tabel2[[#This Row],[Entiteit of attribuut]])=2,\"\",Tabel2[[#This Row],[Entiteit]]&\"_\"&Tabel2[[#This Row],[Entiteit of attribuut]]))","v":"BA_VOLGNUM"},{"$f":"IF(Schema!K218=\"\",\"\",Schema!K218)","v":""},{"$f":"IF(Schema!L218=\"\",\"\",Schema!L218)","v":""},{"$f":"IF(Schema!M218=\"\",\"\",Schema!M218)","v":""},{"$f":"IF(Schema!N218=\"\",\"\",Schema!N218)","v":""},{"$f":"IF(Schema!P218=\"\",\"\",Schema!P218)","v":"O"}]
[{"$f":"Schema!A219&Schema!B219&Schema!C219&Schema!D219&Schema!E219&Schema!F219","v":"VRWRKCD"},"BA",{"$f":"IF(A207=\"\",\"\",IF(LEN(Schema!A219)=2,1,IF(LEN(Schema!B219)=2,10,IF(LEN(Schema!C219)=2,100,IF(LEN(Schema!D219)=2,1000,IF(LEN(Schema!E219)=2,10000,0))))))","v":0},100,{"$f":"IF(A207=\"\",\"\",SUM(Tabel2[[#This Row],[I1]:[I2]]))","v":100},"PP","VC","BA","","","PP/VC/BA",{"$f":"IF(C207=\"\",\"\",IF(LEN(Tabel2[[#This Row],[Entiteit of attribuut]])=2,\"\",Tabel2[[#This Row],[Entiteit]]&\"_\"&Tabel2[[#This Row],[Entiteit of attribuut]]))","v":"BA_VRWRKCD"},{"$f":"IF(Schema!K219=\"\",\"\",Schema!K219)","v":""},{"$f":"IF(Schema!L219=\"\",\"\",Schema!L219)","v":""},{"$f":"IF(Schema!M219=\"\",\"\",Schema!M219)","v":""},{"$f":"IF(Schema!N219=\"\",\"\",Schema!N219)","v":""},{"$f":"IF(Schema!P219=\"\",\"\",Schema!P219)","v":"LEEG"}]
[{"$f":"Schema!A220&Schema!B220&Schema!C220&Schema!D220&Schema!E220&Schema!F220","v":"VVEAANW"},"BA",{"$f":"IF(A208=\"\",\"\",IF(LEN(Schema!A220)=2,1,IF(LEN(Schema!B220)=2,10,IF(LEN(Schema!C220)=2,100,IF(LEN(Schema!D220)=2,1000,IF(LEN(Schema!E220)=2,10000,0))))))","v":0},100,{"$f":"IF(A208=\"\",\"\",SUM(Tabel2[[#This Row],[I1]:[I2]]))","v":100},"PP","VC","BA","","","PP/VC/BA",{"$f":"IF(C208=\"\",\"\",IF(LEN(Tabel2[[#This Row],[Entiteit of attribuut]])=2,\"\",Tabel2[[#This Row],[Entiteit]]&\"_\"&Tabel2[[#This Row],[Entiteit of attribuut]]))","v":"BA_VVEAANW"},{"$f":"IF(Schema!K220=\"\",\"\",Schema!K220)","v":""},{"$f":"IF(Schema!L220=\"\",\"\",Schema!L220)","v":""},{"$f":"IF(Schema!M220=\"\",\"\",Schema!M220)","v":""},{"$f":"IF(Schema!N220=\"\",\"\",Schema!N220)","v":""},{"$f":"IF(Schema!P220=\"\",\"\",Schema!P220)","v":"LEEG"}]
[{"$f":"Schema!A221&Schema!B221&Schema!C221&Schema!D221&Schema!E221&Schema!F221","v":"OP"},"OP",{"$f":"IF(A209=\"\",\"\",IF(LEN(Schema!A221)=2,1,IF(LEN(Schema!B221)=2,10,IF(LEN(Schema!C221)=2,100,IF(LEN(Schema!D221)=2,1000,IF(LEN(Schema!E221)=2,10000,0))))))","v":1000},1000,{"$f":"IF(A209=\"\",\"\",SUM(Tabel2[[#This Row],[I1]:[I2]]))","v":2000},"PP","VC","BA","OP","","PP/VC/BA/OP",{"$f":"IF(C209=\"\",\"\",IF(LEN(Tabel2[[#This Row],[Entiteit of attribuut]])=2,\"\",Tabel2[[#This Row],[Entiteit]]&\"_\"&Tabel2[[#This Row],[Entiteit of attribuut]]))","v":""},{"$f":"IF(Schema!K221=\"\",\"\",Schema!K221)","v":""},{"$f":"IF(Schema!L221=\"\",\"\",Schema!L221)","v":""},{"$f":"IF(Schema!M221=\"\",\"\",Schema!M221)","v":""},{"$f":"IF(Schema!N221=\"\",\"\",Schema!N221)","v":""},{"$f":"IF(Schema!P221=\"\",\"\",Schema!P221)","v":"O"}]
[{"$f":"Schema!A222&Schema!B222&Schema!C222&Schema!D222&Schema!E222&Schema!F222","v":"BAFWST"},"OP",{"$f":"IF(A210=\"\",\"\",IF(LEN(Schema!A222)=2,1,IF(LEN(Schema!B222)=2,10,IF(LEN(Schema!C222)=2,100,IF(LEN(Schema!D222)=2,1000,IF(LEN(Schema!E222)=2,10000,0))))))","v":0},1000,{"$f":"IF(A210=\"\",\"\",SUM(Tabel2[[#This Row],[I1]:[I2]]))","v":1000},"PP","VC","BA","OP","","PP/VC/BA/OP",{"$f":"IF(C210=\"\",\"\",IF(LEN(Tabel2[[#This Row],[Entiteit of attribuut]])=2,\"\",Tabel2[[#This Row],[Entiteit]]&\"_\"&Tabel2[[#This Row],[Entiteit of attribuut]]))","v":"OP_BAFWST"},{"$f":"IF(Schema!K222=\"\",\"\",Schema!K222)","v":""},{"$f":"IF(Schema!L222=\"\",\"\",Schema!L222)","v":""},{"$f":"IF(Schema!M222=\"\",\"\",Schema!M222)","v":""},{"$f":"IF(Schema!N222=\"\",\"\",Schema!N222)","v":""},{"$f":"IF(Schema!P222=\"\",\"\",Schema!P222)","v":"O"}]
[{"$f":"Schema!A223&Schema!B223&Schema!C223&Schema!D223&Schema!E223&Schema!F223","v":"BTP"},"OP",{"$f":"IF(A211=\"\",\"\",IF(LEN(Schema!A223)=2,1,IF(LEN(Schema!B223)=2,10,IF(LEN(Schema!C223)=2,100,IF(LEN(Schema!D223)=2,1000,IF(LEN(Schema!E223)=2,10000,0))))))","v":0},1000,{"$f":"IF(A211=\"\",\"\",SUM(Tabel2[[#This Row],[I1]:[I2]]))","v":1000},"PP","VC","BA","OP","","PP/VC/BA/OP",{"$f":"IF(C211=\"\",\"\",IF(LEN(Tabel2[[#This Row],[Entiteit of attribuut]])=2,\"\",Tabel2[[#This Row],[Entiteit]]&\"_\"&Tabel2[[#This Row],[Entiteit of attribuut]]))","v":"OP_BTP"},{"$f":"IF(Schema!K223=\"\",\"\",Schema!K223)","v":""},{"$f":"IF(Schema!L223=\"\",\"\",Schema!L223)","v":""},{"$f":"IF(Schema!M223=\"\",\"\",Schema!M223)","v":""},{"$f":"IF(Schema!N223=\"\",\"\",Schema!N223)","v":""},{"$f":"IF(Schema!P223=\"\",\"\",Schema!P223)","v":"LEEG"}]
[{"$f":"Schema!A224&Schema!B224&Schema!C224&Schema!D224&Schema!E224&Schema!F224","v":"CODE"},"OP",{"$f":"IF(A212=\"\",\"\",IF(LEN(Schema!A224)=2,1,IF(LEN(Schema!B224)=2,10,IF(LEN(Schema!C224)=2,100,IF(LEN(Schema!D224)=2,1000,IF(LEN(Schema!E224)=2,10000,0))))))","v":0},1000,{"$f":"IF(A212=\"\",\"\",SUM(Tabel2[[#This Row],[I1]:[I2]]))","v":1000},"PP","VC","BA","OP","","PP/VC/BA/OP",{"$f":"IF(C212=\"\",\"\",IF(LEN(Tabel2[[#This Row],[Entiteit of attribuut]])=2,\"\",Tabel2[[#This Row],[Entiteit]]&\"_\"&Tabel2[[#This Row],[Entiteit of attribuut]]))","v":"OP_CODE"},{"$f":"IF(Schema!K224=\"\",\"\",Schema!K224)","v":""},{"$f":"IF(Schema!L224=\"\",\"\",Schema!L224)","v":""},{"$f":"IF(Schema!M224=\"\",\"\",Schema!M224)","v":""},{"$f":"IF(Schema!N224=\"\",\"\",Schema!N224)","v":""},{"$f":"IF(Schema!P224=\"\",\"\",Schema!P224)","v":"O"}]
[{"$f":"Schema!A225&Schema!B225&Schema!C225&Schema!D225&Schema!E225&Schema!F225","v":"ENTITEI"},"OP",{"$f":"IF(A213=\"\",\"\",IF(LEN(Schema!A225)=2,1,IF(LEN(Schema!B225)=2,10,IF(LEN(Schema!C225)=2,100,IF(LEN(Schema!D225)=2,1000,IF(LEN(Schema!E225)=2,10000,0))))))","v":0},1000,{"$f":"IF(A213=\"\",\"\",SUM(Tabel2[[#This Row],[I1]:[I2]]))","v":1000},"PP","VC","BA","OP","","PP/VC/BA/OP",{"$f":"IF(C213=\"\",\"\",IF(LEN(Tabel2[[#This Row],[Entiteit of attribuut]])=2,\"\",Tabel2[[#This Row],[Entiteit]]&\"_\"&Tabel2[[#This Row],[Entiteit of attribuut]]))","v":"OP_ENTITEI"},{"$f":"IF(Schema!K225=\"\",\"\",Schema!K225)","v":""},{"$f":"IF(Schema!L225=\"\",\"\",Schema!L225)","v":""},{"$f":"IF(Schema!M225=\"\",\"\",Schema!M225)","v":""},{"$f":"IF(Schema!N225=\"\",\"\",Schema!N225)","v":""},{"$f":"IF(Schema!P225=\"\",\"\",Schema!P225)","v":"LEEG"}]
[{"$f":"Schema!A226&Schema!B226&Schema!C226&Schema!D226&Schema!E226&Schema!F226","v":"GADEKCD"},"OP",{"$f":"IF(A214=\"\",\"\",IF(LEN(Schema!A226)=2,1,IF(LEN(Schema!B226)=2,10,IF(LEN(Schema!C226)=2,100,IF(LEN(Schema!D226)=2,1000,IF(LEN(Schema!E226)=2,10000,0))))))","v":0},1000,{"$f":"IF(A214=\"\",\"\",SUM(Tabel2[[#This Row],[I1]:[I2]]))","v":1000},"PP","VC","BA","OP","","PP/VC/BA/OP",{"$f":"IF(C214=\"\",\"\",IF(LEN(Tabel2[[#This Row],[Entiteit of attribuut]])=2,\"\",Tabel2[[#This Row],[Entiteit]]&\"_\"&Tabel2[[#This Row],[Entiteit of attribuut]]))","v":"OP_GADEKCD"},{"$f":"IF(Schema!K226=\"\",\"\",Schema!K226)","v":""},{"$f":"IF(Schema!L226=\"\",\"\",Schema!L226)","v":""},{"$f":"IF(Schema!M226=\"\",\"\",Schema!M226)","v":""},{"$f":"IF(Schema!N226=\"\",\"\",Schema!N226)","v":""},{"$f":"IF(Schema!P226=\"\",\"\",Schema!P226)","v":"V"}]
[{"$f":"Schema!A227&Schema!B227&Schema!C227&Schema!D227&Schema!E227&Schema!F227","v":"GADEKCO"},"OP",{"$f":"IF(A215=\"\",\"\",IF(LEN(Schema!A227)=2,1,IF(LEN(Schema!B227)=2,10,IF(LEN(Schema!C227)=2,100,IF(LEN(Schema!D227)=2,1000,IF(LEN(Schema!E227)=2,10000,0))))))","v":0},1000,{"$f":"IF(A215=\"\",\"\",SUM(Tabel2[[#This Row],[I1]:[I2]]))","v":1000},"PP","VC","BA","OP","","PP/VC/BA/OP",{"$f":"IF(C215=\"\",\"\",IF(LEN(Tabel2[[#This Row],[Entiteit of attribuut]])=2,\"\",Tabel2[[#This Row],[Entiteit]]&\"_\"&Tabel2[[#This Row],[Entiteit of attribuut]]))","v":"OP_GADEKCO"},{"$f":"IF(Schema!K227=\"\",\"\",Schema!K227)","v":""},{"$f":"IF(Schema!L227=\"\",\"\",Schema!L227)","v":""},{"$f":"IF(Schema!M227=\"\",\"\",Schema!M227)","v":""},{"$f":"IF(Schema!N227=\"\",\"\",Schema!N227)","v":""},{"$f":"IF(Schema!P227=\"\",\"\",Schema!P227)","v":"V"}]
[{"$f":"Schema!A228&Schema!B228&Schema!C228&Schema!D228&Schema!E228&Schema!F228","v":"HUURBEL"},"OP",{"$f":"IF(A216=\"\",\"\",IF(LEN(Schema!A228)=2,1,IF(LEN(Schema!B228)=2,10,IF(LEN(Schema!C228)=2,100,IF(LEN(Schema!D228)=2,1000,IF(LEN(Schema!E228)=2,10000,0))))))","v":0},1000,{"$f":"IF(A216=\"\",\"\",SUM(Tabel2[[#This Row],[I1]:[I2]]))","v":1000},"PP","VC","BA","OP","","PP/VC/BA/OP",{"$f":"IF(C216=\"\",\"\",IF(LEN(Tabel2[[#This Row],[Entiteit of attribuut]])=2,\"\",Tabel2[[#This Row],[Entiteit]]&\"_\"&Tabel2[[#This Row],[Entiteit of attribuut]]))","v":"OP_HUURBEL"},{"$f":"IF(Schema!K228=\"\",\"\",Schema!K228)","v":""},{"$f":"IF(Schema!L228=\"\",\"\",Schema!L228)","v":""},{"$f":"IF(Schema!M228=\"\",\"\",Schema!M228)","v":""},{"$f":"IF(Schema!N228=\"\",\"\",Schema!N228)","v":""},{"$f":"IF(Schema!P228=\"\",\"\",Schema!P228)","v":"LEEG"}]
[{"$f":"Schema!A229&Schema!B229&Schema!C229&Schema!D229&Schema!E229&Schema!F229","v":"MVZGLAS"},"OP",{"$f":"IF(A217=\"\",\"\",IF(LEN(Schema!A229)=2,1,IF(LEN(Schema!B229)=2,10,IF(LEN(Schema!C229)=2,100,IF(LEN(Schema!D229)=2,1000,IF(LEN(Schema!E229)=2,10000,0))))))","v":0},1000,{"$f":"IF(A217=\"\",\"\",SUM(Tabel2[[#This Row],[I1]:[I2]]))","v":1000},"PP","VC","BA","OP","","PP/VC/BA/OP",{"$f":"IF(C217=\"\",\"\",IF(LEN(Tabel2[[#This Row],[Entiteit of attribuut]])=2,\"\",Tabel2[[#This Row],[Entiteit]]&\"_\"&Tabel2[[#This Row],[Entiteit of attribuut]]))","v":"OP_MVZGLAS"},{"$f":"IF(Schema!K229=\"\",\"\",Schema!K229)","v":""},{"$f":"IF(Schema!L229=\"\",\"\",Schema!L229)","v":""},{"$f":"IF(Schema!M229=\"\",\"\",Schema!M229)","v":""},{"$f":"IF(Schema!N229=\"\",\"\",Schema!N229)","v":""},{"$f":"IF(Schema!P229=\"\",\"\",Schema!P229)","v":"LEEG"}]
[{"$f":"Schema!A230&Schema!B230&Schema!C230&Schema!D230&Schema!E230&Schema!F230","v":"NJP"},"OP",{"$f":"IF(A218=\"\",\"\",IF(LEN(Schema!A230)=2,1,IF(LEN(Schema!B230)=2,10,IF(LEN(Schema!C230)=2,100,IF(LEN(Schema!D230)=2,1000,IF(LEN(Schema!E230)=2,10000,0))))))","v":0},1000,{"$f":"IF(A218=\"\",\"\",SUM(Tabel2[[#This Row],[I1]:[I2]]))","v":1000},"PP","VC","BA","OP","","PP/VC/BA/OP",{"$f":"IF(C218=\"\",\"\",IF(LEN(Tabel2[[#This Row],[Entiteit of attribuut]])=2,\"\",Tabel2[[#This Row],[Entiteit]]&\"_\"&Tabel2[[#This Row],[Entiteit of attribuut]]))","v":"OP_NJP"},{"$f":"IF(Schema!K230=\"\",\"\",Schema!K230)","v":""},{"$f":"IF(Schema!L230=\"\",\"\",Schema!L230)","v":""},{"$f":"IF(Schema!M230=\"\",\"\",Schema!M230)","v":""},{"$f":"IF(Schema!N230=\"\",\"\",Schema!N230)","v":""},{"$f":"IF(Schema!P230=\"\",\"\",Schema!P230)","v":"O"}]
[{"$f":"Schema!A231&Schema!B231&Schema!C231&Schema!D231&Schema!E231&Schema!F231","v":"PAFWST"},"OP",{"$f":"IF(A219=\"\",\"\",IF(LEN(Schema!A231)=2,1,IF(LEN(Schema!B231)=2,10,IF(LEN(Schema!C231)=2,100,IF(LEN(Schema!D231)=2,1000,IF(LEN(Schema!E231)=2,10000,0))))))","v":0},1000,{"$f":"IF(A219=\"\",\"\",SUM(Tabel2[[#This Row],[I1]:[I2]]))","v":1000},"PP","VC","BA","OP","","PP/VC/BA/OP",{"$f":"IF(C219=\"\",\"\",IF(LEN(Tabel2[[#This Row],[Entiteit of attribuut]])=2,\"\",Tabel2[[#This Row],[Entiteit]]&\"_\"&Tabel2[[#This Row],[Entiteit of attribuut]]))","v":"OP_PAFWST"},{"$f":"IF(Schema!K231=\"\",\"\",Schema!K231)","v":""},{"$f":"IF(Schema!L231=\"\",\"\",Schema!L231)","v":""},{"$f":"IF(Schema!M231=\"\",\"\",Schema!M231)","v":""},{"$f":"IF(Schema!N231=\"\",\"\",Schema!N231)","v":""},{"$f":"IF(Schema!P231=\"\",\"\",Schema!P231)","v":"O"}]
[{"$f":"Schema!A232&Schema!B232&Schema!C232&Schema!D232&Schema!E232&Schema!F232","v":"PRCTEKC"},"OP",{"$f":"IF(A220=\"\",\"\",IF(LEN(Schema!A232)=2,1,IF(LEN(Schema!B232)=2,10,IF(LEN(Schema!C232)=2,100,IF(LEN(Schema!D232)=2,1000,IF(LEN(Schema!E232)=2,10000,0))))))","v":0},1000,{"$f":"IF(A220=\"\",\"\",SUM(Tabel2[[#This Row],[I1]:[I2]]))","v":1000},"PP","VC","BA","OP","","PP/VC/BA/OP",{"$f":"IF(C220=\"\",\"\",IF(LEN(Tabel2[[#This Row],[Entiteit of attribuut]])=2,\"\",Tabel2[[#This Row],[Entiteit]]&\"_\"&Tabel2[[#This Row],[Entiteit of attribuut]]))","v":"OP_PRCTEKC"},{"$f":"IF(Schema!K232=\"\",\"\",Schema!K232)","v":""},{"$f":"IF(Schema!L232=\"\",\"\",Schema!L232)","v":""},{"$f":"IF(Schema!M232=\"\",\"\",Schema!M232)","v":""},{"$f":"IF(Schema!N232=\"\",\"\",Schema!N232)","v":""},{"$f":"IF(Schema!P232=\"\",\"\",Schema!P232)","v":"O"}]
[{"$f":"Schema!A233&Schema!B233&Schema!C233&Schema!D233&Schema!E233&Schema!F233","v":"PRMPROM"},"OP",{"$f":"IF(A221=\"\",\"\",IF(LEN(Schema!A233)=2,1,IF(LEN(Schema!B233)=2,10,IF(LEN(Schema!C233)=2,100,IF(LEN(Schema!D233)=2,1000,IF(LEN(Schema!E233)=2,10000,0))))))","v":0},1000,{"$f":"IF(A221=\"\",\"\",SUM(Tabel2[[#This Row],[I1]:[I2]]))","v":1000},"PP","VC","BA","OP","","PP/VC/BA/OP",{"$f":"IF(C221=\"\",\"\",IF(LEN(Tabel2[[#This Row],[Entiteit of attribuut]])=2,\"\",Tabel2[[#This Row],[Entiteit]]&\"_\"&Tabel2[[#This Row],[Entiteit of attribuut]]))","v":"OP_PRMPROM"},{"$f":"IF(Schema!K233=\"\",\"\",Schema!K233)","v":""},{"$f":"IF(Schema!L233=\"\",\"\",Schema!L233)","v":""},{"$f":"IF(Schema!M233=\"\",\"\",Schema!M233)","v":""},{"$f":"IF(Schema!N233=\"\",\"\",Schema!N233)","v":""},{"$f":"IF(Schema!P233=\"\",\"\",Schema!P233)","v":"O"}]
[{"$f":"Schema!A234&Schema!B234&Schema!C234&Schema!D234&Schema!E234&Schema!F234","v":"RELVRH"},"OP",{"$f":"IF(A222=\"\",\"\",IF(LEN(Schema!A234)=2,1,IF(LEN(Schema!B234)=2,10,IF(LEN(Schema!C234)=2,100,IF(LEN(Schema!D234)=2,1000,IF(LEN(Schema!E234)=2,10000,0))))))","v":0},1000,{"$f":"IF(A222=\"\",\"\",SUM(Tabel2[[#This Row],[I1]:[I2]]))","v":1000},"PP","VC","BA","OP","","PP/VC/BA/OP",{"$f":"IF(C222=\"\",\"\",IF(LEN(Tabel2[[#This Row],[Entiteit of attribuut]])=2,\"\",Tabel2[[#This Row],[Entiteit]]&\"_\"&Tabel2[[#This Row],[Entiteit of attribuut]]))","v":"OP_RELVRH"},{"$f":"IF(Schema!K234=\"\",\"\",Schema!K234)","v":""},{"$f":"IF(Schema!L234=\"\",\"\",Schema!L234)","v":""},{"$f":"IF(Schema!M234=\"\",\"\",Schema!M234)","v":""},{"$f":"IF(Schema!N234=\"\",\"\",Schema!N234)","v":""},{"$f":"IF(Schema!P234=\"\",\"\",Schema!P234)","v":"O"}]
[{"$f":"Schema!A235&Schema!B235&Schema!C235&Schema!D235&Schema!E235&Schema!F235","v":"RELVVNR"},"OP",{"$f":"IF(A223=\"\",\"\",IF(LEN(Schema!A235)=2,1,IF(LEN(Schema!B235)=2,10,IF(LEN(Schema!C235)=2,100,IF(LEN(Schema!D235)=2,1000,IF(LEN(Schema!E235)=2,10000,0))))))","v":0},1000,{"$f":"IF(A223=\"\",\"\",SUM(Tabel2[[#This Row],[I1]:[I2]]))","v":1000},"PP","VC","BA","OP","","PP/VC/BA/OP",{"$f":"IF(C223=\"\",\"\",IF(LEN(Tabel2[[#This Row],[Entiteit of attribuut]])=2,\"\",Tabel2[[#This Row],[Entiteit]]&\"_\"&Tabel2[[#This Row],[Entiteit of attribuut]]))","v":"OP_RELVVNR"},{"$f":"IF(Schema!K235=\"\",\"\",Schema!K235)","v":""},{"$f":"IF(Schema!L235=\"\",\"\",Schema!L235)","v":""},{"$f":"IF(Schema!M235=\"\",\"\",Schema!M235)","v":""},{"$f":"IF(Schema!N235=\"\",\"\",Schema!N235)","v":""},{"$f":"IF(Schema!P235=\"\",\"\",Schema!P235)","v":"O"}]
[{"$f":"Schema!A236&Schema!B236&Schema!C236&Schema!D236&Schema!E236&Schema!F236","v":"RJRCOR"},"OP",{"$f":"IF(A224=\"\",\"\",IF(LEN(Schema!A236)=2,1,IF(LEN(Schema!B236)=2,10,IF(LEN(Schema!C236)=2,100,IF(LEN(Schema!D236)=2,1000,IF(LEN(Schema!E236)=2,10000,0))))))","v":0},1000,{"$f":"IF(A224=\"\",\"\",SUM(Tabel2[[#This Row],[I1]:[I2]]))","v":1000},"PP","VC","BA","OP","","PP/VC/BA/OP",{"$f":"IF(C224=\"\",\"\",IF(LEN(Tabel2[[#This Row],[Entiteit of attribuut]])=2,\"\",Tabel2[[#This Row],[Entiteit]]&\"_\"&Tabel2[[#This Row],[Entiteit of attribuut]]))","v":"OP_RJRCOR"},{"$f":"IF(Schema!K236=\"\",\"\",Schema!K236)","v":""},{"$f":"IF(Schema!L236=\"\",\"\",Schema!L236)","v":""},{"$f":"IF(Schema!M236=\"\",\"\",Schema!M236)","v":""},{"$f":"IF(Schema!N236=\"\",\"\",Schema!N236)","v":""},{"$f":"IF(Schema!P236=\"\",\"\",Schema!P236)","v":"O"}]
[{"$f":"Schema!A237&Schema!B237&Schema!C237&Schema!D237&Schema!E237&Schema!F237","v":"TCORBDR"},"OP",{"$f":"IF(A225=\"\",\"\",IF(LEN(Schema!A237)=2,1,IF(LEN(Schema!B237)=2,10,IF(LEN(Schema!C237)=2,100,IF(LEN(Schema!D237)=2,1000,IF(LEN(Schema!E237)=2,10000,0))))))","v":0},1000,{"$f":"IF(A225=\"\",\"\",SUM(Tabel2[[#This Row],[I1]:[I2]]))","v":1000},"PP","VC","BA","OP","","PP/VC/BA/OP",{"$f":"IF(C225=\"\",\"\",IF(LEN(Tabel2[[#This Row],[Entiteit of attribuut]])=2,\"\",Tabel2[[#This Row],[Entiteit]]&\"_\"&Tabel2[[#This Row],[Entiteit of attribuut]]))","v":"OP_TCORBDR"},{"$f":"IF(Schema!K237=\"\",\"\",Schema!K237)","v":""},{"$f":"IF(Schema!L237=\"\",\"\",Schema!L237)","v":""},{"$f":"IF(Schema!M237=\"\",\"\",Schema!M237)","v":""},{"$f":"IF(Schema!N237=\"\",\"\",Schema!N237)","v":""},{"$f":"IF(Schema!P237=\"\",\"\",Schema!P237)","v":"O"}]
[{"$f":"Schema!A238&Schema!B238&Schema!C238&Schema!D238&Schema!E238&Schema!F238","v":"VERZSOM"},"OP",{"$f":"IF(A226=\"\",\"\",IF(LEN(Schema!A238)=2,1,IF(LEN(Schema!B238)=2,10,IF(LEN(Schema!C238)=2,100,IF(LEN(Schema!D238)=2,1000,IF(LEN(Schema!E238)=2,10000,0))))))","v":0},1000,{"$f":"IF(A226=\"\",\"\",SUM(Tabel2[[#This Row],[I1]:[I2]]))","v":1000},"PP","VC","BA","OP","","PP/VC/BA/OP",{"$f":"IF(C226=\"\",\"\",IF(LEN(Tabel2[[#This Row],[Entiteit of attribuut]])=2,\"\",Tabel2[[#This Row],[Entiteit]]&\"_\"&Tabel2[[#This Row],[Entiteit of attribuut]]))","v":"OP_VERZSOM"},{"$f":"IF(Schema!K238=\"\",\"\",Schema!K238)","v":""},{"$f":"IF(Schema!L238=\"\",\"\",Schema!L238)","v":""},{"$f":"IF(Schema!M238=\"\",\"\",Schema!M238)","v":""},{"$f":"IF(Schema!N238=\"\",\"\",Schema!N238)","v":""},{"$f":"IF(Schema!P238=\"\",\"\",Schema!P238)","v":"O"}]
[{"$f":"Schema!A239&Schema!B239&Schema!C239&Schema!D239&Schema!E239&Schema!F239","v":"VGBRA"},"OP",{"$f":"IF(A227=\"\",\"\",IF(LEN(Schema!A239)=2,1,IF(LEN(Schema!B239)=2,10,IF(LEN(Schema!C239)=2,100,IF(LEN(Schema!D239)=2,1000,IF(LEN(Schema!E239)=2,10000,0))))))","v":0},1000,{"$f":"IF(A227=\"\",\"\",SUM(Tabel2[[#This Row],[I1]:[I2]]))","v":1000},"PP","VC","BA","OP","","PP/VC/BA/OP",{"$f":"IF(C227=\"\",\"\",IF(LEN(Tabel2[[#This Row],[Entiteit of attribuut]])=2,\"\",Tabel2[[#This Row],[Entiteit]]&\"_\"&Tabel2[[#This Row],[Entiteit of attribuut]]))","v":"OP_VGBRA"},{"$f":"IF(Schema!K239=\"\",\"\",Schema!K239)","v":""},{"$f":"IF(Schema!L239=\"\",\"\",Schema!L239)","v":""},{"$f":"IF(Schema!M239=\"\",\"\",Schema!M239)","v":""},{"$f":"IF(Schema!N239=\"\",\"\",Schema!N239)","v":""},{"$f":"IF(Schema!P239=\"\",\"\",Schema!P239)","v":"O"}]
[{"$f":"Schema!A240&Schema!B240&Schema!C240&Schema!D240&Schema!E240&Schema!F240","v":"VOLGNUM"},"OP",{"$f":"IF(A228=\"\",\"\",IF(LEN(Schema!A240)=2,1,IF(LEN(Schema!B240)=2,10,IF(LEN(Schema!C240)=2,100,IF(LEN(Schema!D240)=2,1000,IF(LEN(Schema!E240)=2,10000,0))))))","v":0},1000,{"$f":"IF(A228=\"\",\"\",SUM(Tabel2[[#This Row],[I1]:[I2]]))","v":1000},"PP","VC","BA","OP","","PP/VC/BA/OP",{"$f":"IF(C228=\"\",\"\",IF(LEN(Tabel2[[#This Row],[Entiteit of attribuut]])=2,\"\",Tabel2[[#This Row],[Entiteit]]&\"_\"&Tabel2[[#This Row],[Entiteit of attribuut]]))","v":"OP_VOLGNUM"},{"$f":"IF(Schema!K240=\"\",\"\",Schema!K240)","v":""},{"$f":"IF(Schema!L240=\"\",\"\",Schema!L240)","v":""},{"$f":"IF(Schema!M240=\"\",\"\",Schema!M240)","v":""},{"$f":"IF(Schema!N240=\"\",\"\",Schema!N240)","v":""},{"$f":"IF(Schema!P240=\"\",\"\",Schema!P240)","v":"LEEG"}]
[{"$f":"Schema!A241&Schema!B241&Schema!C241&Schema!D241&Schema!E241&Schema!F241","v":"VRWRKCD"},"OP",{"$f":"IF(A229=\"\",\"\",IF(LEN(Schema!A241)=2,1,IF(LEN(Schema!B241)=2,10,IF(LEN(Schema!C241)=2,100,IF(LEN(Schema!D241)=2,1000,IF(LEN(Schema!E241)=2,10000,0))))))","v":0},1000,{"$f":"IF(A229=\"\",\"\",SUM(Tabel2[[#This Row],[I1]:[I2]]))","v":1000},"PP","VC","BA","OP","","PP/VC/BA/OP",{"$f":"IF(C229=\"\",\"\",IF(LEN(Tabel2[[#This Row],[Entiteit of attribuut]])=2,\"\",Tabel2[[#This Row],[Entiteit]]&\"_\"&Tabel2[[#This Row],[Entiteit of attribuut]]))","v":"OP_VRWRKCD"},{"$f":"IF(Schema!K241=\"\",\"\",Schema!K241)","v":""},{"$f":"IF(Schema!L241=\"\",\"\",Schema!L241)","v":""},{"$f":"IF(Schema!M241=\"\",\"\",Schema!M241)","v":""},{"$f":"IF(Schema!N241=\"\",\"\",Schema!N241)","v":""},{"$f":"IF(Schema!P241=\"\",\"\",Schema!P241)","v":"LEEG"}]
[{"$f":"Schema!A242&Schema!B242&Schema!C242&Schema!D242&Schema!E242&Schema!F242","v":"WPREMBP"},"OP",{"$f":"IF(A230=\"\",\"\",IF(LEN(Schema!A242)=2,1,IF(LEN(Schema!B242)=2,10,IF(LEN(Schema!C242)=2,100,IF(LEN(Schema!D242)=2,1000,IF(LEN(Schema!E242)=2,10000,0))))))","v":0},1000,{"$f":"IF(A230=\"\",\"\",SUM(Tabel2[[#This Row],[I1]:[I2]]))","v":1000},"PP","VC","BA","OP","","PP/VC/BA/OP",{"$f":"IF(C230=\"\",\"\",IF(LEN(Tabel2[[#This Row],[Entiteit of attribuut]])=2,\"\",Tabel2[[#This Row],[Entiteit]]&\"_\"&Tabel2[[#This Row],[Entiteit of attribuut]]))","v":"OP_WPREMBP"},{"$f":"IF(Schema!K242=\"\",\"\",Schema!K242)","v":""},{"$f":"IF(Schema!L242=\"\",\"\",Schema!L242)","v":""},{"$f":"IF(Schema!M242=\"\",\"\",Schema!M242)","v":""},{"$f":"IF(Schema!N242=\"\",\"\",Schema!N242)","v":""},{"$f":"IF(Schema!P242=\"\",\"\",Schema!P242)","v":"O"}]
[{"$f":"Schema!A243&Schema!B243&Schema!C243&Schema!D243&Schema!E243&Schema!F243","v":"MP"},"MP",{"$f":"IF(A231=\"\",\"\",IF(LEN(Schema!A243)=2,1,IF(LEN(Schema!B243)=2,10,IF(LEN(Schema!C243)=2,100,IF(LEN(Schema!D243)=2,1000,IF(LEN(Schema!E243)=2,10000,0))))))","v":10000},10000,{"$f":"IF(A231=\"\",\"\",SUM(Tabel2[[#This Row],[I1]:[I2]]))","v":20000},"PP","VC","BA","OP","MP","PP/VC/BA/OP/MP",{"$f":"IF(C231=\"\",\"\",IF(LEN(Tabel2[[#This Row],[Entiteit of attribuut]])=2,\"\",Tabel2[[#This Row],[Entiteit]]&\"_\"&Tabel2[[#This Row],[Entiteit of attribuut]]))","v":""},{"$f":"IF(Schema!K243=\"\",\"\",Schema!K243)","v":""},{"$f":"IF(Schema!L243=\"\",\"\",Schema!L243)","v":""},{"$f":"IF(Schema!M243=\"\",\"\",Schema!M243)","v":""},{"$f":"IF(Schema!N243=\"\",\"\",Schema!N243)","v":""},{"$f":"IF(Schema!P243=\"\",\"\",Schema!P243)","v":"O"}]
[{"$f":"Schema!A244&Schema!B244&Schema!C244&Schema!D244&Schema!E244&Schema!F244","v":"MYAAND"},"MP",{"$f":"IF(A232=\"\",\"\",IF(LEN(Schema!A244)=2,1,IF(LEN(Schema!B244)=2,10,IF(LEN(Schema!C244)=2,100,IF(LEN(Schema!D244)=2,1000,IF(LEN(Schema!E244)=2,10000,0))))))","v":0},10000,{"$f":"IF(A232=\"\",\"\",SUM(Tabel2[[#This Row],[I1]:[I2]]))","v":10000},"PP","VC","BA","OP","MP","PP/VC/BA/OP/MP",{"$f":"IF(C232=\"\",\"\",IF(LEN(Tabel2[[#This Row],[Entiteit of attribuut]])=2,\"\",Tabel2[[#This Row],[Entiteit]]&\"_\"&Tabel2[[#This Row],[Entiteit of attribuut]]))","v":"MP_MYAAND"},{"$f":"IF(Schema!K244=\"\",\"\",Schema!K244)","v":""},{"$f":"IF(Schema!L244=\"\",\"\",Schema!L244)","v":""},{"$f":"IF(Schema!M244=\"\",\"\",Schema!M244)","v":""},{"$f":"IF(Schema!N244=\"\",\"\",Schema!N244)","v":""},{"$f":"IF(Schema!P244=\"\",\"\",Schema!P244)","v":"O"}]
[{"$f":"Schema!A245&Schema!B245&Schema!C245&Schema!D245&Schema!E245&Schema!F245","v":"POOLNUM"},"MP",{"$f":"IF(A233=\"\",\"\",IF(LEN(Schema!A245)=2,1,IF(LEN(Schema!B245)=2,10,IF(LEN(Schema!C245)=2,100,IF(LEN(Schema!D245)=2,1000,IF(LEN(Schema!E245)=2,10000,0))))))","v":0},10000,{"$f":"IF(A233=\"\",\"\",SUM(Tabel2[[#This Row],[I1]:[I2]]))","v":10000},"PP","VC","BA","OP","MP","PP/VC/BA/OP/MP",{"$f":"IF(C233=\"\",\"\",IF(LEN(Tabel2[[#This Row],[Entiteit of attribuut]])=2,\"\",Tabel2[[#This Row],[Entiteit]]&\"_\"&Tabel2[[#This Row],[Entiteit of attribuut]]))","v":"MP_POOLNUM"},{"$f":"IF(Schema!K245=\"\",\"\",Schema!K245)","v":""},{"$f":"IF(Schema!L245=\"\",\"\",Schema!L245)","v":""},{"$f":"IF(Schema!M245=\"\",\"\",Schema!M245)","v":""},{"$f":"IF(Schema!N245=\"\",\"\",Schema!N245)","v":""},{"$f":"IF(Schema!P245=\"\",\"\",Schema!P245)","v":"V"}]
[{"$f":"Schema!A246&Schema!B246&Schema!C246&Schema!D246&Schema!E246&Schema!F246","v":"PLLEAD"},"MP",{"$f":"IF(A234=\"\",\"\",IF(LEN(Schema!A246)=2,1,IF(LEN(Schema!B246)=2,10,IF(LEN(Schema!C246)=2,100,IF(LEN(Schema!D246)=2,1000,IF(LEN(Schema!E246)=2,10000,0))))))","v":0},10000,{"$f":"IF(A234=\"\",\"\",SUM(Tabel2[[#This Row],[I1]:[I2]]))","v":10000},"PP","VC","BA","OP","MP","PP/VC/BA/OP/MP",{"$f":"IF(C234=\"\",\"\",IF(LEN(Tabel2[[#This Row],[Entiteit of attribuut]])=2,\"\",Tabel2[[#This Row],[Entiteit]]&\"_\"&Tabel2[[#This Row],[Entiteit of attribuut]]))","v":"MP_PLLEAD"},{"$f":"IF(Schema!K246=\"\",\"\",Schema!K246)","v":""},{"$f":"IF(Schema!L246=\"\",\"\",Schema!L246)","v":""},{"$f":"IF(Schema!M246=\"\",\"\",Schema!M246)","v":""},{"$f":"IF(Schema!N246=\"\",\"\",Schema!N246)","v":""},{"$f":"IF(Schema!P246=\"\",\"\",Schema!P246)","v":"O"}]
[{"$f":"Schema!A247&Schema!B247&Schema!C247&Schema!D247&Schema!E247&Schema!F247","v":"POOLPRC"},"MP",{"$f":"IF(A235=\"\",\"\",IF(LEN(Schema!A247)=2,1,IF(LEN(Schema!B247)=2,10,IF(LEN(Schema!C247)=2,100,IF(LEN(Schema!D247)=2,1000,IF(LEN(Schema!E247)=2,10000,0))))))","v":0},10000,{"$f":"IF(A235=\"\",\"\",SUM(Tabel2[[#This Row],[I1]:[I2]]))","v":10000},"PP","VC","BA","OP","MP","PP/VC/BA/OP/MP",{"$f":"IF(C235=\"\",\"\",IF(LEN(Tabel2[[#This Row],[Entiteit of attribuut]])=2,\"\",Tabel2[[#This Row],[Entiteit]]&\"_\"&Tabel2[[#This Row],[Entiteit of attribuut]]))","v":"MP_POOLPRC"},{"$f":"IF(Schema!K247=\"\",\"\",Schema!K247)","v":""},{"$f":"IF(Schema!L247=\"\",\"\",Schema!L247)","v":""},{"$f":"IF(Schema!M247=\"\",\"\",Schema!M247)","v":""},{"$f":"IF(Schema!N247=\"\",\"\",Schema!N247)","v":""},{"$f":"IF(Schema!P247=\"\",\"\",Schema!P247)","v":"V"}]
[{"$f":"Schema!A248&Schema!B248&Schema!C248&Schema!D248&Schema!E248&Schema!F248","v":"OP"},"OP",{"$f":"IF(A236=\"\",\"\",IF(LEN(Schema!A248)=2,1,IF(LEN(Schema!B248)=2,10,IF(LEN(Schema!C248)=2,100,IF(LEN(Schema!D248)=2,1000,IF(LEN(Schema!E248)=2,10000,0))))))","v":100},100,{"$f":"IF(A236=\"\",\"\",SUM(Tabel2[[#This Row],[I1]:[I2]]))","v":200},"PP","VC","OP","","","PP/VC/OP",{"$f":"IF(C236=\"\",\"\",IF(LEN(Tabel2[[#This Row],[Entiteit of attribuut]])=2,\"\",Tabel2[[#This Row],[Entiteit]]&\"_\"&Tabel2[[#This Row],[Entiteit of attribuut]]))","v":""},{"$f":"IF(Schema!K248=\"\",\"\",Schema!K248)","v":""},{"$f":"IF(Schema!L248=\"\",\"\",Schema!L248)","v":""},{"$f":"IF(Schema!M248=\"\",\"\",Schema!M248)","v":""},{"$f":"IF(Schema!N248=\"\",\"\",Schema!N248)","v":""},{"$f":"IF(Schema!P248=\"\",\"\",Schema!P248)","v":"O"}]
[{"$f":"Schema!A249&Schema!B249&Schema!C249&Schema!D249&Schema!E249&Schema!F249","v":"APPAV"},"OP",{"$f":"IF(A237=\"\",\"\",IF(LEN(Schema!A249)=2,1,IF(LEN(Schema!B249)=2,10,IF(LEN(Schema!C249)=2,100,IF(LEN(Schema!D249)=2,1000,IF(LEN(Schema!E249)=2,10000,0))))))","v":0},100,{"$f":"IF(A237=\"\",\"\",SUM(Tabel2[[#This Row],[I1]:[I2]]))","v":100},"PP","VC","OP","","","PP/VC/OP",{"$f":"IF(C237=\"\",\"\",IF(LEN(Tabel2[[#This Row],[Entiteit of attribuut]])=2,\"\",Tabel2[[#This Row],[Entiteit]]&\"_\"&Tabel2[[#This Row],[Entiteit of attribuut]]))","v":"OP_APPAV"},{"$f":"IF(Schema!K249=\"\",\"\",Schema!K249)","v":""},{"$f":"IF(Schema!L249=\"\",\"\",Schema!L249)","v":""},{"$f":"IF(Schema!M249=\"\",\"\",Schema!M249)","v":""},{"$f":"IF(Schema!N249=\"\",\"\",Schema!N249)","v":""},{"$f":"IF(Schema!P249=\"\",\"\",Schema!P249)","v":"LEEG"}]
[{"$f":"Schema!A250&Schema!B250&Schema!C250&Schema!D250&Schema!E250&Schema!F250","v":"BAFWST"},"OP",{"$f":"IF(A238=\"\",\"\",IF(LEN(Schema!A250)=2,1,IF(LEN(Schema!B250)=2,10,IF(LEN(Schema!C250)=2,100,IF(LEN(Schema!D250)=2,1000,IF(LEN(Schema!E250)=2,10000,0))))))","v":0},100,{"$f":"IF(A238=\"\",\"\",SUM(Tabel2[[#This Row],[I1]:[I2]]))","v":100},"PP","VC","OP","","","PP/VC/OP",{"$f":"IF(C238=\"\",\"\",IF(LEN(Tabel2[[#This Row],[Entiteit of attribuut]])=2,\"\",Tabel2[[#This Row],[Entiteit]]&\"_\"&Tabel2[[#This Row],[Entiteit of attribuut]]))","v":"OP_BAFWST"},{"$f":"IF(Schema!K250=\"\",\"\",Schema!K250)","v":""},{"$f":"IF(Schema!L250=\"\",\"\",Schema!L250)","v":""},{"$f":"IF(Schema!M250=\"\",\"\",Schema!M250)","v":""},{"$f":"IF(Schema!N250=\"\",\"\",Schema!N250)","v":""},{"$f":"IF(Schema!P250=\"\",\"\",Schema!P250)","v":"O"}]
[{"$f":"Schema!A251&Schema!B251&Schema!C251&Schema!D251&Schema!E251&Schema!F251","v":"BTP"},"OP",{"$f":"IF(A239=\"\",\"\",IF(LEN(Schema!A251)=2,1,IF(LEN(Schema!B251)=2,10,IF(LEN(Schema!C251)=2,100,IF(LEN(Schema!D251)=2,1000,IF(LEN(Schema!E251)=2,10000,0))))))","v":0},100,{"$f":"IF(A239=\"\",\"\",SUM(Tabel2[[#This Row],[I1]:[I2]]))","v":100},"PP","VC","OP","","","PP/VC/OP",{"$f":"IF(C239=\"\",\"\",IF(LEN(Tabel2[[#This Row],[Entiteit of attribuut]])=2,\"\",Tabel2[[#This Row],[Entiteit]]&\"_\"&Tabel2[[#This Row],[Entiteit of attribuut]]))","v":"OP_BTP"},{"$f":"IF(Schema!K251=\"\",\"\",Schema!K251)","v":""},{"$f":"IF(Schema!L251=\"\",\"\",Schema!L251)","v":""},{"$f":"IF(Schema!M251=\"\",\"\",Schema!M251)","v":""},{"$f":"IF(Schema!N251=\"\",\"\",Schema!N251)","v":""},{"$f":"IF(Schema!P251=\"\",\"\",Schema!P251)","v":"LEEG"}]
[{"$f":"Schema!A252&Schema!B252&Schema!C252&Schema!D252&Schema!E252&Schema!F252","v":"CODE"},"OP",{"$f":"IF(A240=\"\",\"\",IF(LEN(Schema!A252)=2,1,IF(LEN(Schema!B252)=2,10,IF(LEN(Schema!C252)=2,100,IF(LEN(Schema!D252)=2,1000,IF(LEN(Schema!E252)=2,10000,0))))))","v":0},100,{"$f":"IF(A240=\"\",\"\",SUM(Tabel2[[#This Row],[I1]:[I2]]))","v":100},"PP","VC","OP","","","PP/VC/OP",{"$f":"IF(C240=\"\",\"\",IF(LEN(Tabel2[[#This Row],[Entiteit of attribuut]])=2,\"\",Tabel2[[#This Row],[Entiteit]]&\"_\"&Tabel2[[#This Row],[Entiteit of attribuut]]))","v":"OP_CODE"},{"$f":"IF(Schema!K252=\"\",\"\",Schema!K252)","v":""},{"$f":"IF(Schema!L252=\"\",\"\",Schema!L252)","v":""},{"$f":"IF(Schema!M252=\"\",\"\",Schema!M252)","v":""},{"$f":"IF(Schema!N252=\"\",\"\",Schema!N252)","v":""},{"$f":"IF(Schema!P252=\"\",\"\",Schema!P252)","v":"O"}]
[{"$f":"Schema!A253&Schema!B253&Schema!C253&Schema!D253&Schema!E253&Schema!F253","v":"ENTITEI"},"OP",{"$f":"IF(A241=\"\",\"\",IF(LEN(Schema!A253)=2,1,IF(LEN(Schema!B253)=2,10,IF(LEN(Schema!C253)=2,100,IF(LEN(Schema!D253)=2,1000,IF(LEN(Schema!E253)=2,10000,0))))))","v":0},100,{"$f":"IF(A241=\"\",\"\",SUM(Tabel2[[#This Row],[I1]:[I2]]))","v":100},"PP","VC","OP","","","PP/VC/OP",{"$f":"IF(C241=\"\",\"\",IF(LEN(Tabel2[[#This Row],[Entiteit of attribuut]])=2,\"\",Tabel2[[#This Row],[Entiteit]]&\"_\"&Tabel2[[#This Row],[Entiteit of attribuut]]))","v":"OP_ENTITEI"},{"$f":"IF(Schema!K253=\"\",\"\",Schema!K253)","v":""},{"$f":"IF(Schema!L253=\"\",\"\",Schema!L253)","v":""},{"$f":"IF(Schema!M253=\"\",\"\",Schema!M253)","v":""},{"$f":"IF(Schema!N253=\"\",\"\",Schema!N253)","v":""},{"$f":"IF(Schema!P253=\"\",\"\",Schema!P253)","v":"LEEG"}]
[{"$f":"Schema!A254&Schema!B254&Schema!C254&Schema!D254&Schema!E254&Schema!F254","v":"ERB"},"OP",{"$f":"IF(A242=\"\",\"\",IF(LEN(Schema!A254)=2,1,IF(LEN(Schema!B254)=2,10,IF(LEN(Schema!C254)=2,100,IF(LEN(Schema!D254)=2,1000,IF(LEN(Schema!E254)=2,10000,0))))))","v":0},100,{"$f":"IF(A242=\"\",\"\",SUM(Tabel2[[#This Row],[I1]:[I2]]))","v":100},"PP","VC","OP","","","PP/VC/OP",{"$f":"IF(C242=\"\",\"\",IF(LEN(Tabel2[[#This Row],[Entiteit of attribuut]])=2,\"\",Tabel2[[#This Row],[Entiteit]]&\"_\"&Tabel2[[#This Row],[Entiteit of attribuut]]))","v":"OP_ERB"},{"$f":"IF(Schema!K254=\"\",\"\",Schema!K254)","v":""},{"$f":"IF(Schema!L254=\"\",\"\",Schema!L254)","v":""},{"$f":"IF(Schema!M254=\"\",\"\",Schema!M254)","v":""},{"$f":"IF(Schema!N254=\"\",\"\",Schema!N254)","v":""},{"$f":"IF(Schema!P254=\"\",\"\",Schema!P254)","v":"O"}]
[{"$f":"Schema!A255&Schema!B255&Schema!C255&Schema!D255&Schema!E255&Schema!F255","v":"GADEKCD"},"OP",{"$f":"IF(A243=\"\",\"\",IF(LEN(Schema!A255)=2,1,IF(LEN(Schema!B255)=2,10,IF(LEN(Schema!C255)=2,100,IF(LEN(Schema!D255)=2,1000,IF(LEN(Schema!E255)=2,10000,0))))))","v":0},100,{"$f":"IF(A243=\"\",\"\",SUM(Tabel2[[#This Row],[I1]:[I2]]))","v":100},"PP","VC","OP","","","PP/VC/OP",{"$f":"IF(C243=\"\",\"\",IF(LEN(Tabel2[[#This Row],[Entiteit of attribuut]])=2,\"\",Tabel2[[#This Row],[Entiteit]]&\"_\"&Tabel2[[#This Row],[Entiteit of attribuut]]))","v":"OP_GADEKCD"},{"$f":"IF(Schema!K255=\"\",\"\",Schema!K255)","v":""},{"$f":"IF(Schema!L255=\"\",\"\",Schema!L255)","v":""},{"$f":"IF(Schema!M255=\"\",\"\",Schema!M255)","v":""},{"$f":"IF(Schema!N255=\"\",\"\",Schema!N255)","v":""},{"$f":"IF(Schema!P255=\"\",\"\",Schema!P255)","v":"V"}]
[{"$f":"Schema!A256&Schema!B256&Schema!C256&Schema!D256&Schema!E256&Schema!F256","v":"GADEKCO"},"OP",{"$f":"IF(A244=\"\",\"\",IF(LEN(Schema!A256)=2,1,IF(LEN(Schema!B256)=2,10,IF(LEN(Schema!C256)=2,100,IF(LEN(Schema!D256)=2,1000,IF(LEN(Schema!E256)=2,10000,0))))))","v":0},100,{"$f":"IF(A244=\"\",\"\",SUM(Tabel2[[#This Row],[I1]:[I2]]))","v":100},"PP","VC","OP","","","PP/VC/OP",{"$f":"IF(C244=\"\",\"\",IF(LEN(Tabel2[[#This Row],[Entiteit of attribuut]])=2,\"\",Tabel2[[#This Row],[Entiteit]]&\"_\"&Tabel2[[#This Row],[Entiteit of attribuut]]))","v":"OP_GADEKCO"},{"$f":"IF(Schema!K256=\"\",\"\",Schema!K256)","v":""},{"$f":"IF(Schema!L256=\"\",\"\",Schema!L256)","v":""},{"$f":"IF(Schema!M256=\"\",\"\",Schema!M256)","v":""},{"$f":"IF(Schema!N256=\"\",\"\",Schema!N256)","v":""},{"$f":"IF(Schema!P256=\"\",\"\",Schema!P256)","v":"V"}]
[{"$f":"Schema!A257&Schema!B257&Schema!C257&Schema!D257&Schema!E257&Schema!F257","v":"HUURBEL"},"OP",{"$f":"IF(A245=\"\",\"\",IF(LEN(Schema!A257)=2,1,IF(LEN(Schema!B257)=2,10,IF(LEN(Schema!C257)=2,100,IF(LEN(Schema!D257)=2,1000,IF(LEN(Schema!E257)=2,10000,0))))))","v":0},100,{"$f":"IF(A245=\"\",\"\",SUM(Tabel2[[#This Row],[I1]:[I2]]))","v":100},"PP","VC","OP","","","PP/VC/OP",{"$f":"IF(C245=\"\",\"\",IF(LEN(Tabel2[[#This Row],[Entiteit of attribuut]])=2,\"\",Tabel2[[#This Row],[Entiteit]]&\"_\"&Tabel2[[#This Row],[Entiteit of attribuut]]))","v":"OP_HUURBEL"},{"$f":"IF(Schema!K257=\"\",\"\",Schema!K257)","v":""},{"$f":"IF(Schema!L257=\"\",\"\",Schema!L257)","v":""},{"$f":"IF(Schema!M257=\"\",\"\",Schema!M257)","v":""},{"$f":"IF(Schema!N257=\"\",\"\",Schema!N257)","v":""},{"$f":"IF(Schema!P257=\"\",\"\",Schema!P257)","v":"LEEG"}]
[{"$f":"Schema!A258&Schema!B258&Schema!C258&Schema!D258&Schema!E258&Schema!F258","v":"MVZGLAS"},"OP",{"$f":"IF(A246=\"\",\"\",IF(LEN(Schema!A258)=2,1,IF(LEN(Schema!B258)=2,10,IF(LEN(Schema!C258)=2,100,IF(LEN(Schema!D258)=2,1000,IF(LEN(Schema!E258)=2,10000,0))))))","v":0},100,{"$f":"IF(A246=\"\",\"\",SUM(Tabel2[[#This Row],[I1]:[I2]]))","v":100},"PP","VC","OP","","","PP/VC/OP",{"$f":"IF(C246=\"\",\"\",IF(LEN(Tabel2[[#This Row],[Entiteit of attribuut]])=2,\"\",Tabel2[[#This Row],[Entiteit]]&\"_\"&Tabel2[[#This Row],[Entiteit of attribuut]]))","v":"OP_MVZGLAS"},{"$f":"IF(Schema!K258=\"\",\"\",Schema!K258)","v":""},{"$f":"IF(Schema!L258=\"\",\"\",Schema!L258)","v":""},{"$f":"IF(Schema!M258=\"\",\"\",Schema!M258)","v":""},{"$f":"IF(Schema!N258=\"\",\"\",Schema!N258)","v":""},{"$f":"IF(Schema!P258=\"\",\"\",Schema!P258)","v":"LEEG"}]
[{"$f":"Schema!A259&Schema!B259&Schema!C259&Schema!D259&Schema!E259&Schema!F259","v":"MYCODE"},"OP",{"$f":"IF(A247=\"\",\"\",IF(LEN(Schema!A259)=2,1,IF(LEN(Schema!B259)=2,10,IF(LEN(Schema!C259)=2,100,IF(LEN(Schema!D259)=2,1000,IF(LEN(Schema!E259)=2,10000,0))))))","v":0},100,{"$f":"IF(A247=\"\",\"\",SUM(Tabel2[[#This Row],[I1]:[I2]]))","v":100},"PP","VC","OP","","","PP/VC/OP",{"$f":"IF(C247=\"\",\"\",IF(LEN(Tabel2[[#This Row],[Entiteit of attribuut]])=2,\"\",Tabel2[[#This Row],[Entiteit]]&\"_\"&Tabel2[[#This Row],[Entiteit of attribuut]]))","v":"OP_MYCODE"},{"$f":"IF(Schema!K259=\"\",\"\",Schema!K259)","v":""},{"$f":"IF(Schema!L259=\"\",\"\",Schema!L259)","v":""},{"$f":"IF(Schema!M259=\"\",\"\",Schema!M259)","v":""},{"$f":"IF(Schema!N259=\"\",\"\",Schema!N259)","v":""},{"$f":"IF(Schema!P259=\"\",\"\",Schema!P259)","v":"O"}]
[{"$f":"Schema!A260&Schema!B260&Schema!C260&Schema!D260&Schema!E260&Schema!F260","v":"NJP"},"OP",{"$f":"IF(A248=\"\",\"\",IF(LEN(Schema!A260)=2,1,IF(LEN(Schema!B260)=2,10,IF(LEN(Schema!C260)=2,100,IF(LEN(Schema!D260)=2,1000,IF(LEN(Schema!E260)=2,10000,0))))))","v":0},100,{"$f":"IF(A248=\"\",\"\",SUM(Tabel2[[#This Row],[I1]:[I2]]))","v":100},"PP","VC","OP","","","PP/VC/OP",{"$f":"IF(C248=\"\",\"\",IF(LEN(Tabel2[[#This Row],[Entiteit of attribuut]])=2,\"\",Tabel2[[#This Row],[Entiteit]]&\"_\"&Tabel2[[#This Row],[Entiteit of attribuut]]))","v":"OP_NJP"},{"$f":"IF(Schema!K260=\"\",\"\",Schema!K260)","v":""},{"$f":"IF(Schema!L260=\"\",\"\",Schema!L260)","v":""},{"$f":"IF(Schema!M260=\"\",\"\",Schema!M260)","v":""},{"$f":"IF(Schema!N260=\"\",\"\",Schema!N260)","v":""},{"$f":"IF(Schema!P260=\"\",\"\",Schema!P260)","v":"O"}]
[{"$f":"Schema!A261&Schema!B261&Schema!C261&Schema!D261&Schema!E261&Schema!F261","v":"PAFWST"},"OP",{"$f":"IF(A249=\"\",\"\",IF(LEN(Schema!A261)=2,1,IF(LEN(Schema!B261)=2,10,IF(LEN(Schema!C261)=2,100,IF(LEN(Schema!D261)=2,1000,IF(LEN(Schema!E261)=2,10000,0))))))","v":0},100,{"$f":"IF(A249=\"\",\"\",SUM(Tabel2[[#This Row],[I1]:[I2]]))","v":100},"PP","VC","OP","","","PP/VC/OP",{"$f":"IF(C249=\"\",\"\",IF(LEN(Tabel2[[#This Row],[Entiteit of attribuut]])=2,\"\",Tabel2[[#This Row],[Entiteit]]&\"_\"&Tabel2[[#This Row],[Entiteit of attribuut]]))","v":"OP_PAFWST"},{"$f":"IF(Schema!K261=\"\",\"\",Schema!K261)","v":""},{"$f":"IF(Schema!L261=\"\",\"\",Schema!L261)","v":""},{"$f":"IF(Schema!M261=\"\",\"\",Schema!M261)","v":""},{"$f":"IF(Schema!N261=\"\",\"\",Schema!N261)","v":""},{"$f":"IF(Schema!P261=\"\",\"\",Schema!P261)","v":"O"}]
[{"$f":"Schema!A262&Schema!B262&Schema!C262&Schema!D262&Schema!E262&Schema!F262","v":"PPRC"},"OP",{"$f":"IF(A250=\"\",\"\",IF(LEN(Schema!A262)=2,1,IF(LEN(Schema!B262)=2,10,IF(LEN(Schema!C262)=2,100,IF(LEN(Schema!D262)=2,1000,IF(LEN(Schema!E262)=2,10000,0))))))","v":0},100,{"$f":"IF(A250=\"\",\"\",SUM(Tabel2[[#This Row],[I1]:[I2]]))","v":100},"PP","VC","OP","","","PP/VC/OP",{"$f":"IF(C250=\"\",\"\",IF(LEN(Tabel2[[#This Row],[Entiteit of attribuut]])=2,\"\",Tabel2[[#This Row],[Entiteit]]&\"_\"&Tabel2[[#This Row],[Entiteit of attribuut]]))","v":"OP_PPRC"},{"$f":"IF(Schema!K262=\"\",\"\",Schema!K262)","v":""},{"$f":"IF(Schema!L262=\"\",\"\",Schema!L262)","v":""},{"$f":"IF(Schema!M262=\"\",\"\",Schema!M262)","v":""},{"$f":"IF(Schema!N262=\"\",\"\",Schema!N262)","v":""},{"$f":"IF(Schema!P262=\"\",\"\",Schema!P262)","v":"O"}]
[{"$f":"Schema!A263&Schema!B263&Schema!C263&Schema!D263&Schema!E263&Schema!F263","v":"PRCTEKC"},"OP",{"$f":"IF(A251=\"\",\"\",IF(LEN(Schema!A263)=2,1,IF(LEN(Schema!B263)=2,10,IF(LEN(Schema!C263)=2,100,IF(LEN(Schema!D263)=2,1000,IF(LEN(Schema!E263)=2,10000,0))))))","v":0},100,{"$f":"IF(A251=\"\",\"\",SUM(Tabel2[[#This Row],[I1]:[I2]]))","v":100},"PP","VC","OP","","","PP/VC/OP",{"$f":"IF(C251=\"\",\"\",IF(LEN(Tabel2[[#This Row],[Entiteit of attribuut]])=2,\"\",Tabel2[[#This Row],[Entiteit]]&\"_\"&Tabel2[[#This Row],[Entiteit of attribuut]]))","v":"OP_PRCTEKC"},{"$f":"IF(Schema!K263=\"\",\"\",Schema!K263)","v":""},{"$f":"IF(Schema!L263=\"\",\"\",Schema!L263)","v":""},{"$f":"IF(Schema!M263=\"\",\"\",Schema!M263)","v":""},{"$f":"IF(Schema!N263=\"\",\"\",Schema!N263)","v":""},{"$f":"IF(Schema!P263=\"\",\"\",Schema!P263)","v":"O"}]
[{"$f":"Schema!A264&Schema!B264&Schema!C264&Schema!D264&Schema!E264&Schema!F264","v":"PRMPROM"},"OP",{"$f":"IF(A252=\"\",\"\",IF(LEN(Schema!A264)=2,1,IF(LEN(Schema!B264)=2,10,IF(LEN(Schema!C264)=2,100,IF(LEN(Schema!D264)=2,1000,IF(LEN(Schema!E264)=2,10000,0))))))","v":0},100,{"$f":"IF(A252=\"\",\"\",SUM(Tabel2[[#This Row],[I1]:[I2]]))","v":100},"PP","VC","OP","","","PP/VC/OP",{"$f":"IF(C252=\"\",\"\",IF(LEN(Tabel2[[#This Row],[Entiteit of attribuut]])=2,\"\",Tabel2[[#This Row],[Entiteit]]&\"_\"&Tabel2[[#This Row],[Entiteit of attribuut]]))","v":"OP_PRMPROM"},{"$f":"IF(Schema!K264=\"\",\"\",Schema!K264)","v":""},{"$f":"IF(Schema!L264=\"\",\"\",Schema!L264)","v":""},{"$f":"IF(Schema!M264=\"\",\"\",Schema!M264)","v":""},{"$f":"IF(Schema!N264=\"\",\"\",Schema!N264)","v":""},{"$f":"IF(Schema!P264=\"\",\"\",Schema!P264)","v":"O"}]
[{"$f":"Schema!A265&Schema!B265&Schema!C265&Schema!D265&Schema!E265&Schema!F265","v":"RELVRH"},"OP",{"$f":"IF(A253=\"\",\"\",IF(LEN(Schema!A265)=2,1,IF(LEN(Schema!B265)=2,10,IF(LEN(Schema!C265)=2,100,IF(LEN(Schema!D265)=2,1000,IF(LEN(Schema!E265)=2,10000,0))))))","v":0},100,{"$f":"IF(A253=\"\",\"\",SUM(Tabel2[[#This Row],[I1]:[I2]]))","v":100},"PP","VC","OP","","","PP/VC/OP",{"$f":"IF(C253=\"\",\"\",IF(LEN(Tabel2[[#This Row],[Entiteit of attribuut]])=2,\"\",Tabel2[[#This Row],[Entiteit]]&\"_\"&Tabel2[[#This Row],[Entiteit of attribuut]]))","v":"OP_RELVRH"},{"$f":"IF(Schema!K265=\"\",\"\",Schema!K265)","v":""},{"$f":"IF(Schema!L265=\"\",\"\",Schema!L265)","v":""},{"$f":"IF(Schema!M265=\"\",\"\",Schema!M265)","v":""},{"$f":"IF(Schema!N265=\"\",\"\",Schema!N265)","v":""},{"$f":"IF(Schema!P265=\"\",\"\",Schema!P265)","v":"O"}]
[{"$f":"Schema!A266&Schema!B266&Schema!C266&Schema!D266&Schema!E266&Schema!F266","v":"RELVVNR"},"OP",{"$f":"IF(A254=\"\",\"\",IF(LEN(Schema!A266)=2,1,IF(LEN(Schema!B266)=2,10,IF(LEN(Schema!C266)=2,100,IF(LEN(Schema!D266)=2,1000,IF(LEN(Schema!E266)=2,10000,0))))))","v":0},100,{"$f":"IF(A254=\"\",\"\",SUM(Tabel2[[#This Row],[I1]:[I2]]))","v":100},"PP","VC","OP","","","PP/VC/OP",{"$f":"IF(C254=\"\",\"\",IF(LEN(Tabel2[[#This Row],[Entiteit of attribuut]])=2,\"\",Tabel2[[#This Row],[Entiteit]]&\"_\"&Tabel2[[#This Row],[Entiteit of attribuut]]))","v":"OP_RELVVNR"},{"$f":"IF(Schema!K266=\"\",\"\",Schema!K266)","v":""},{"$f":"IF(Schema!L266=\"\",\"\",Schema!L266)","v":""},{"$f":"IF(Schema!M266=\"\",\"\",Schema!M266)","v":""},{"$f":"IF(Schema!N266=\"\",\"\",Schema!N266)","v":""},{"$f":"IF(Schema!P266=\"\",\"\",Schema!P266)","v":"O"}]
[{"$f":"Schema!A267&Schema!B267&Schema!C267&Schema!D267&Schema!E267&Schema!F267","v":"RJRCOR"},"OP",{"$f":"IF(A255=\"\",\"\",IF(LEN(Schema!A267)=2,1,IF(LEN(Schema!B267)=2,10,IF(LEN(Schema!C267)=2,100,IF(LEN(Schema!D267)=2,1000,IF(LEN(Schema!E267)=2,10000,0))))))","v":0},100,{"$f":"IF(A255=\"\",\"\",SUM(Tabel2[[#This Row],[I1]:[I2]]))","v":100},"PP","VC","OP","","","PP/VC/OP",{"$f":"IF(C255=\"\",\"\",IF(LEN(Tabel2[[#This Row],[Entiteit of attribuut]])=2,\"\",Tabel2[[#This Row],[Entiteit]]&\"_\"&Tabel2[[#This Row],[Entiteit of attribuut]]))","v":"OP_RJRCOR"},{"$f":"IF(Schema!K267=\"\",\"\",Schema!K267)","v":""},{"$f":"IF(Schema!L267=\"\",\"\",Schema!L267)","v":""},{"$f":"IF(Schema!M267=\"\",\"\",Schema!M267)","v":""},{"$f":"IF(Schema!N267=\"\",\"\",Schema!N267)","v":""},{"$f":"IF(Schema!P267=\"\",\"\",Schema!P267)","v":"O"}]
[{"$f":"Schema!A268&Schema!B268&Schema!C268&Schema!D268&Schema!E268&Schema!F268","v":"TCORBDR"},"OP",{"$f":"IF(A256=\"\",\"\",IF(LEN(Schema!A268)=2,1,IF(LEN(Schema!B268)=2,10,IF(LEN(Schema!C268)=2,100,IF(LEN(Schema!D268)=2,1000,IF(LEN(Schema!E268)=2,10000,0))))))","v":0},100,{"$f":"IF(A256=\"\",\"\",SUM(Tabel2[[#This Row],[I1]:[I2]]))","v":100},"PP","VC","OP","","","PP/VC/OP",{"$f":"IF(C256=\"\",\"\",IF(LEN(Tabel2[[#This Row],[Entiteit of attribuut]])=2,\"\",Tabel2[[#This Row],[Entiteit]]&\"_\"&Tabel2[[#This Row],[Entiteit of attribuut]]))","v":"OP_TCORBDR"},{"$f":"IF(Schema!K268=\"\",\"\",Schema!K268)","v":""},{"$f":"IF(Schema!L268=\"\",\"\",Schema!L268)","v":""},{"$f":"IF(Schema!M268=\"\",\"\",Schema!M268)","v":""},{"$f":"IF(Schema!N268=\"\",\"\",Schema!N268)","v":""},{"$f":"IF(Schema!P268=\"\",\"\",Schema!P268)","v":"O"}]
[{"$f":"Schema!A269&Schema!B269&Schema!C269&Schema!D269&Schema!E269&Schema!F269","v":"TTOT"},"OP",{"$f":"IF(A257=\"\",\"\",IF(LEN(Schema!A269)=2,1,IF(LEN(Schema!B269)=2,10,IF(LEN(Schema!C269)=2,100,IF(LEN(Schema!D269)=2,1000,IF(LEN(Schema!E269)=2,10000,0))))))","v":0},100,{"$f":"IF(A257=\"\",\"\",SUM(Tabel2[[#This Row],[I1]:[I2]]))","v":100},"PP","VC","OP","","","PP/VC/OP",{"$f":"IF(C257=\"\",\"\",IF(LEN(Tabel2[[#This Row],[Entiteit of attribuut]])=2,\"\",Tabel2[[#This Row],[Entiteit]]&\"_\"&Tabel2[[#This Row],[Entiteit of attribuut]]))","v":"OP_TTOT"},{"$f":"IF(Schema!K269=\"\",\"\",Schema!K269)","v":""},{"$f":"IF(Schema!L269=\"\",\"\",Schema!L269)","v":""},{"$f":"IF(Schema!M269=\"\",\"\",Schema!M269)","v":""},{"$f":"IF(Schema!N269=\"\",\"\",Schema!N269)","v":""},{"$f":"IF(Schema!P269=\"\",\"\",Schema!P269)","v":"LEEG"}]
[{"$f":"Schema!A270&Schema!B270&Schema!C270&Schema!D270&Schema!E270&Schema!F270","v":"VERZSOM"},"OP",{"$f":"IF(A258=\"\",\"\",IF(LEN(Schema!A270)=2,1,IF(LEN(Schema!B270)=2,10,IF(LEN(Schema!C270)=2,100,IF(LEN(Schema!D270)=2,1000,IF(LEN(Schema!E270)=2,10000,0))))))","v":0},100,{"$f":"IF(A258=\"\",\"\",SUM(Tabel2[[#This Row],[I1]:[I2]]))","v":100},"PP","VC","OP","","","PP/VC/OP",{"$f":"IF(C258=\"\",\"\",IF(LEN(Tabel2[[#This Row],[Entiteit of attribuut]])=2,\"\",Tabel2[[#This Row],[Entiteit]]&\"_\"&Tabel2[[#This Row],[Entiteit of attribuut]]))","v":"OP_VERZSOM"},{"$f":"IF(Schema!K270=\"\",\"\",Schema!K270)","v":""},{"$f":"IF(Schema!L270=\"\",\"\",Schema!L270)","v":""},{"$f":"IF(Schema!M270=\"\",\"\",Schema!M270)","v":""},{"$f":"IF(Schema!N270=\"\",\"\",Schema!N270)","v":""},{"$f":"IF(Schema!P270=\"\",\"\",Schema!P270)","v":"O"}]
[{"$f":"Schema!A271&Schema!B271&Schema!C271&Schema!D271&Schema!E271&Schema!F271","v":"VGBRA"},{"$f":"IF(LEN(A259)=2,A259,IF(A259=\"\",\"Leeg\",B258))","v":"OP"},{"$f":"IF(A259=\"\",\"\",IF(LEN(Schema!A271)=2,1,IF(LEN(Schema!B271)=2,10,IF(LEN(Schema!C271)=2,100,IF(LEN(Schema!D271)=2,1000,IF(LEN(Schema!E271)=2,10000,0))))))","v":0},{"$f":"IF(C259=0,D258,C259)","v":100},{"$f":"IF(A259=\"\",\"\",SUM(Tabel2[[#This Row],[I1]:[I2]]))","v":100},{"$f":"IF(A259=\"\",\"\",IF(C259=1,B259,F258))","v":"PP"},{"$f":"IF(C259=10,A259,IF(OR(C259=0,C259=100,C259=1000,C259=10000),G258,\"\"))","v":"VC"},{"$f":"IF(E259=200,B259,IF(OR(C259=0,C259=100,C259=1000,C259=10000),H258,\"\"))","v":"OP"},{"$f":"IF(E259=2000,B259,IF(OR(C259=0,C259=10000),I258,\"\"))","v":""},{"$f":"IF(E259=20000,B259,IF(OR(C259=0,,C259=10000),J258,\"\"))","v":""},{"$f":"IF(C259=\"\",\"\",IF(OR(E259=1,E259=10,E259=100,E259=1000,E259=10000),K258,IF(E259=2,F259,IF(E259=20,F259&\"/\"&G259,IF(E259=200,F259&\"/\"&G259&\"/\"&H259,IF(E259=2000,F259&\"/\"&G259&\"/\"&H259&\"/\"&I259,IF(E259=20000,F259&\"/\"&G259&\"/\"&H259&\"/\"&I259&\"/\"&J259)))))))","v":"PP/VC/OP"},{"$f":"IF(C259=\"\",\"\",IF(LEN(Tabel2[[#This Row],[Entiteit of attribuut]])=2,\"\",Tabel2[[#This Row],[Entiteit]]&\"_\"&Tabel2[[#This Row],[Entiteit of attribuut]]))","v":"OP_VGBRA"},{"$f":"IF(Schema!K271=\"\",\"\",Schema!K271)","v":""},{"$f":"IF(Schema!L271=\"\",\"\",Schema!L271)","v":""},{"$f":"IF(Schema!M271=\"\",\"\",Schema!M271)","v":""},{"$f":"IF(Schema!N271=\"\",\"\",Schema!N271)","v":""},{"$f":"IF(Schema!P271=\"\",\"\",Schema!P271)","v":"O"}]
[{"$f":"Schema!A272&Schema!B272&Schema!C272&Schema!D272&Schema!E272&Schema!F272","v":"VOLGNUM"},"OP",{"$f":"IF(A260=\"\",\"\",IF(LEN(Schema!A272)=2,1,IF(LEN(Schema!B272)=2,10,IF(LEN(Schema!C272)=2,100,IF(LEN(Schema!D272)=2,1000,IF(LEN(Schema!E272)=2,10000,0))))))","v":0},100,{"$f":"IF(A260=\"\",\"\",SUM(Tabel2[[#This Row],[I1]:[I2]]))","v":100},"PP","VC","OP","","","PP/VC/OP",{"$f":"IF(C260=\"\",\"\",IF(LEN(Tabel2[[#This Row],[Entiteit of attribuut]])=2,\"\",Tabel2[[#This Row],[Entiteit]]&\"_\"&Tabel2[[#This Row],[Entiteit of attribuut]]))","v":"OP_VOLGNUM"},{"$f":"IF(Schema!K272=\"\",\"\",Schema!K272)","v":""},{"$f":"IF(Schema!L272=\"\",\"\",Schema!L272)","v":""},{"$f":"IF(Schema!M272=\"\",\"\",Schema!M272)","v":""},{"$f":"IF(Schema!N272=\"\",\"\",Schema!N272)","v":""},{"$f":"IF(Schema!P272=\"\",\"\",Schema!P272)","v":"LEEG"}]
[{"$f":"Schema!A273&Schema!B273&Schema!C273&Schema!D273&Schema!E273&Schema!F273","v":"VRWRKCD"},"OP",{"$f":"IF(A261=\"\",\"\",IF(LEN(Schema!A273)=2,1,IF(LEN(Schema!B273)=2,10,IF(LEN(Schema!C273)=2,100,IF(LEN(Schema!D273)=2,1000,IF(LEN(Schema!E273)=2,10000,0))))))","v":0},100,{"$f":"IF(A261=\"\",\"\",SUM(Tabel2[[#This Row],[I1]:[I2]]))","v":100},"PP","VC","OP","","","PP/VC/OP",{"$f":"IF(C261=\"\",\"\",IF(LEN(Tabel2[[#This Row],[Entiteit of attribuut]])=2,\"\",Tabel2[[#This Row],[Entiteit]]&\"_\"&Tabel2[[#This Row],[Entiteit of attribuut]]))","v":"OP_VRWRKCD"},{"$f":"IF(Schema!K273=\"\",\"\",Schema!K273)","v":""},{"$f":"IF(Schema!L273=\"\",\"\",Schema!L273)","v":""},{"$f":"IF(Schema!M273=\"\",\"\",Schema!M273)","v":""},{"$f":"IF(Schema!N273=\"\",\"\",Schema!N273)","v":""},{"$f":"IF(Schema!P273=\"\",\"\",Schema!P273)","v":"LEEG"}]
[{"$f":"Schema!A274&Schema!B274&Schema!C274&Schema!D274&Schema!E274&Schema!F274","v":"WPREMBP"},"OP",{"$f":"IF(A262=\"\",\"\",IF(LEN(Schema!A274)=2,1,IF(LEN(Schema!B274)=2,10,IF(LEN(Schema!C274)=2,100,IF(LEN(Schema!D274)=2,1000,IF(LEN(Schema!E274)=2,10000,0))))))","v":0},100,{"$f":"IF(A262=\"\",\"\",SUM(Tabel2[[#This Row],[I1]:[I2]]))","v":100},"PP","VC","OP","","","PP/VC/OP",{"$f":"IF(C262=\"\",\"\",IF(LEN(Tabel2[[#This Row],[Entiteit of attribuut]])=2,\"\",Tabel2[[#This Row],[Entiteit]]&\"_\"&Tabel2[[#This Row],[Entiteit of attribuut]]))","v":"OP_WPREMBP"},{"$f":"IF(Schema!K274=\"\",\"\",Schema!K274)","v":""},{"$f":"IF(Schema!L274=\"\",\"\",Schema!L274)","v":""},{"$f":"IF(Schema!M274=\"\",\"\",Schema!M274)","v":""},{"$f":"IF(Schema!N274=\"\",\"\",Schema!N274)","v":""},{"$f":"IF(Schema!P274=\"\",\"\",Schema!P274)","v":"O"}]
[{"$f":"Schema!A275&Schema!B275&Schema!C275&Schema!D275&Schema!E275&Schema!F275","v":"MP"},"MP",{"$f":"IF(A263=\"\",\"\",IF(LEN(Schema!A275)=2,1,IF(LEN(Schema!B275)=2,10,IF(LEN(Schema!C275)=2,100,IF(LEN(Schema!D275)=2,1000,IF(LEN(Schema!E275)=2,10000,0))))))","v":1000},1000,{"$f":"IF(A263=\"\",\"\",SUM(Tabel2[[#This Row],[I1]:[I2]]))","v":2000},"PP","VC","OP","MP","","PP/VC/OP/MP",{"$f":"IF(C263=\"\",\"\",IF(LEN(Tabel2[[#This Row],[Entiteit of attribuut]])=2,\"\",Tabel2[[#This Row],[Entiteit]]&\"_\"&Tabel2[[#This Row],[Entiteit of attribuut]]))","v":""},{"$f":"IF(Schema!K275=\"\",\"\",Schema!K275)","v":""},{"$f":"IF(Schema!L275=\"\",\"\",Schema!L275)","v":""},{"$f":"IF(Schema!M275=\"\",\"\",Schema!M275)","v":""},{"$f":"IF(Schema!N275=\"\",\"\",Schema!N275)","v":""},{"$f":"IF(Schema!P275=\"\",\"\",Schema!P275)","v":"O"}]
[{"$f":"Schema!A276&Schema!B276&Schema!C276&Schema!D276&Schema!E276&Schema!F276","v":"MYAAND"},"MP",{"$f":"IF(A264=\"\",\"\",IF(LEN(Schema!A276)=2,1,IF(LEN(Schema!B276)=2,10,IF(LEN(Schema!C276)=2,100,IF(LEN(Schema!D276)=2,1000,IF(LEN(Schema!E276)=2,10000,0))))))","v":0},1000,{"$f":"IF(A264=\"\",\"\",SUM(Tabel2[[#This Row],[I1]:[I2]]))","v":1000},"PP","VC","OP","MP","","PP/VC/OP/MP",{"$f":"IF(C264=\"\",\"\",IF(LEN(Tabel2[[#This Row],[Entiteit of attribuut]])=2,\"\",Tabel2[[#This Row],[Entiteit]]&\"_\"&Tabel2[[#This Row],[Entiteit of attribuut]]))","v":"MP_MYAAND"},{"$f":"IF(Schema!K276=\"\",\"\",Schema!K276)","v":""},{"$f":"IF(Schema!L276=\"\",\"\",Schema!L276)","v":""},{"$f":"IF(Schema!M276=\"\",\"\",Schema!M276)","v":""},{"$f":"IF(Schema!N276=\"\",\"\",Schema!N276)","v":""},{"$f":"IF(Schema!P276=\"\",\"\",Schema!P276)","v":"O"}]
[{"$f":"Schema!A277&Schema!B277&Schema!C277&Schema!D277&Schema!E277&Schema!F277","v":"POOLNUM"},"MP",{"$f":"IF(A265=\"\",\"\",IF(LEN(Schema!A277)=2,1,IF(LEN(Schema!B277)=2,10,IF(LEN(Schema!C277)=2,100,IF(LEN(Schema!D277)=2,1000,IF(LEN(Schema!E277)=2,10000,0))))))","v":0},1000,{"$f":"IF(A265=\"\",\"\",SUM(Tabel2[[#This Row],[I1]:[I2]]))","v":1000},"PP","VC","OP","MP","","PP/VC/OP/MP",{"$f":"IF(C265=\"\",\"\",IF(LEN(Tabel2[[#This Row],[Entiteit of attribuut]])=2,\"\",Tabel2[[#This Row],[Entiteit]]&\"_\"&Tabel2[[#This Row],[Entiteit of attribuut]]))","v":"MP_POOLNUM"},{"$f":"IF(Schema!K277=\"\",\"\",Schema!K277)","v":""},{"$f":"IF(Schema!L277=\"\",\"\",Schema!L277)","v":""},{"$f":"IF(Schema!M277=\"\",\"\",Schema!M277)","v":""},{"$f":"IF(Schema!N277=\"\",\"\",Schema!N277)","v":""},{"$f":"IF(Schema!P277=\"\",\"\",Schema!P277)","v":"V"}]
[{"$f":"Schema!A278&Schema!B278&Schema!C278&Schema!D278&Schema!E278&Schema!F278","v":"PLLEAD"},"MP",{"$f":"IF(A266=\"\",\"\",IF(LEN(Schema!A278)=2,1,IF(LEN(Schema!B278)=2,10,IF(LEN(Schema!C278)=2,100,IF(LEN(Schema!D278)=2,1000,IF(LEN(Schema!E278)=2,10000,0))))))","v":0},1000,{"$f":"IF(A266=\"\",\"\",SUM(Tabel2[[#This Row],[I1]:[I2]]))","v":1000},"PP","VC","OP","MP","","PP/VC/OP/MP",{"$f":"IF(C266=\"\",\"\",IF(LEN(Tabel2[[#This Row],[Entiteit of attribuut]])=2,\"\",Tabel2[[#This Row],[Entiteit]]&\"_\"&Tabel2[[#This Row],[Entiteit of attribuut]]))","v":"MP_PLLEAD"},{"$f":"IF(Schema!K278=\"\",\"\",Schema!K278)","v":""},{"$f":"IF(Schema!L278=\"\",\"\",Schema!L278)","v":""},{"$f":"IF(Schema!M278=\"\",\"\",Schema!M278)","v":""},{"$f":"IF(Schema!N278=\"\",\"\",Schema!N278)","v":""},{"$f":"IF(Schema!P278=\"\",\"\",Schema!P278)","v":"O"}]
[{"$f":"Schema!A279&Schema!B279&Schema!C279&Schema!D279&Schema!E279&Schema!F279","v":"POOLPRC"},"MP",{"$f":"IF(A267=\"\",\"\",IF(LEN(Schema!A279)=2,1,IF(LEN(Schema!B279)=2,10,IF(LEN(Schema!C279)=2,100,IF(LEN(Schema!D279)=2,1000,IF(LEN(Schema!E279)=2,10000,0))))))","v":0},1000,{"$f":"IF(A267=\"\",\"\",SUM(Tabel2[[#This Row],[I1]:[I2]]))","v":1000},"PP","VC","OP","MP","","PP/VC/OP/MP",{"$f":"IF(C267=\"\",\"\",IF(LEN(Tabel2[[#This Row],[Entiteit of attribuut]])=2,\"\",Tabel2[[#This Row],[Entiteit]]&\"_\"&Tabel2[[#This Row],[Entiteit of attribuut]]))","v":"MP_POOLPRC"},{"$f":"IF(Schema!K279=\"\",\"\",Schema!K279)","v":""},{"$f":"IF(Schema!L279=\"\",\"\",Schema!L279)","v":""},{"$f":"IF(Schema!M279=\"\",\"\",Schema!M279)","v":""},{"$f":"IF(Schema!N279=\"\",\"\",Schema!N279)","v":""},{"$f":"IF(Schema!P279=\"\",\"\",Schema!P279)","v":"V"}]
[{"$f":"Schema!A280&Schema!B280&Schema!C280&Schema!D280&Schema!E280&Schema!F280","v":"FV"},"FV",{"$f":"IF(A268=\"\",\"\",IF(LEN(Schema!A280)=2,1,IF(LEN(Schema!B280)=2,10,IF(LEN(Schema!C280)=2,100,IF(LEN(Schema!D280)=2,1000,IF(LEN(Schema!E280)=2,10000,0))))))","v":10},10,{"$f":"IF(A268=\"\",\"\",SUM(Tabel2[[#This Row],[I1]:[I2]]))","v":20},"PP","FV","","","","PP/FV",{"$f":"IF(C268=\"\",\"\",IF(LEN(Tabel2[[#This Row],[Entiteit of attribuut]])=2,\"\",Tabel2[[#This Row],[Entiteit]]&\"_\"&Tabel2[[#This Row],[Entiteit of attribuut]]))","v":""},{"$f":"IF(Schema!K280=\"\",\"\",Schema!K280)","v":""},{"$f":"IF(Schema!L280=\"\",\"\",Schema!L280)","v":""},{"$f":"IF(Schema!M280=\"\",\"\",Schema!M280)","v":""},{"$f":"IF(Schema!N280=\"\",\"\",Schema!N280)","v":""},{"$f":"IF(Schema!P280=\"\",\"\",Schema!P280)","v":"LEEG"}]
[{"$f":"Schema!A281&Schema!B281&Schema!C281&Schema!D281&Schema!E281&Schema!F281","v":"BAFWST"},"FV",{"$f":"IF(A269=\"\",\"\",IF(LEN(Schema!A281)=2,1,IF(LEN(Schema!B281)=2,10,IF(LEN(Schema!C281)=2,100,IF(LEN(Schema!D281)=2,1000,IF(LEN(Schema!E281)=2,10000,0))))))","v":0},10,{"$f":"IF(A269=\"\",\"\",SUM(Tabel2[[#This Row],[I1]:[I2]]))","v":10},"PP","FV","","","","PP/FV",{"$f":"IF(C269=\"\",\"\",IF(LEN(Tabel2[[#This Row],[Entiteit of attribuut]])=2,\"\",Tabel2[[#This Row],[Entiteit]]&\"_\"&Tabel2[[#This Row],[Entiteit of attribuut]]))","v":"FV_BAFWST"},{"$f":"IF(Schema!K281=\"\",\"\",Schema!K281)","v":""},{"$f":"IF(Schema!L281=\"\",\"\",Schema!L281)","v":""},{"$f":"IF(Schema!M281=\"\",\"\",Schema!M281)","v":""},{"$f":"IF(Schema!N281=\"\",\"\",Schema!N281)","v":""},{"$f":"IF(Schema!P281=\"\",\"\",Schema!P281)","v":"O"}]
[{"$f":"Schema!A282&Schema!B282&Schema!C282&Schema!D282&Schema!E282&Schema!F282","v":"BTP"},"FV",{"$f":"IF(A270=\"\",\"\",IF(LEN(Schema!A282)=2,1,IF(LEN(Schema!B282)=2,10,IF(LEN(Schema!C282)=2,100,IF(LEN(Schema!D282)=2,1000,IF(LEN(Schema!E282)=2,10000,0))))))","v":0},10,{"$f":"IF(A270=\"\",\"\",SUM(Tabel2[[#This Row],[I1]:[I2]]))","v":10},"PP","FV","","","","PP/FV",{"$f":"IF(C270=\"\",\"\",IF(LEN(Tabel2[[#This Row],[Entiteit of attribuut]])=2,\"\",Tabel2[[#This Row],[Entiteit]]&\"_\"&Tabel2[[#This Row],[Entiteit of attribuut]]))","v":"FV_BTP"},{"$f":"IF(Schema!K282=\"\",\"\",Schema!K282)","v":""},{"$f":"IF(Schema!L282=\"\",\"\",Schema!L282)","v":""},{"$f":"IF(Schema!M282=\"\",\"\",Schema!M282)","v":""},{"$f":"IF(Schema!N282=\"\",\"\",Schema!N282)","v":""},{"$f":"IF(Schema!P282=\"\",\"\",Schema!P282)","v":"LEEG"}]
[{"$f":"Schema!A283&Schema!B283&Schema!C283&Schema!D283&Schema!E283&Schema!F283","v":"CODE"},"FV",{"$f":"IF(A271=\"\",\"\",IF(LEN(Schema!A283)=2,1,IF(LEN(Schema!B283)=2,10,IF(LEN(Schema!C283)=2,100,IF(LEN(Schema!D283)=2,1000,IF(LEN(Schema!E283)=2,10000,0))))))","v":0},10,{"$f":"IF(A271=\"\",\"\",SUM(Tabel2[[#This Row],[I1]:[I2]]))","v":10},"PP","FV","","","","PP/FV",{"$f":"IF(C271=\"\",\"\",IF(LEN(Tabel2[[#This Row],[Entiteit of attribuut]])=2,\"\",Tabel2[[#This Row],[Entiteit]]&\"_\"&Tabel2[[#This Row],[Entiteit of attribuut]]))","v":"FV_CODE"},{"$f":"IF(Schema!K283=\"\",\"\",Schema!K283)","v":""},{"$f":"IF(Schema!L283=\"\",\"\",Schema!L283)","v":""},{"$f":"IF(Schema!M283=\"\",\"\",Schema!M283)","v":""},{"$f":"IF(Schema!N283=\"\",\"\",Schema!N283)","v":""},{"$f":"IF(Schema!P283=\"\",\"\",Schema!P283)","v":"O"}]
[{"$f":"Schema!A284&Schema!B284&Schema!C284&Schema!D284&Schema!E284&Schema!F284","v":"COLFACT"},"FV",{"$f":"IF(A272=\"\",\"\",IF(LEN(Schema!A284)=2,1,IF(LEN(Schema!B284)=2,10,IF(LEN(Schema!C284)=2,100,IF(LEN(Schema!D284)=2,1000,IF(LEN(Schema!E284)=2,10000,0))))))","v":0},10,{"$f":"IF(A272=\"\",\"\",SUM(Tabel2[[#This Row],[I1]:[I2]]))","v":10},"PP","FV","","","","PP/FV",{"$f":"IF(C272=\"\",\"\",IF(LEN(Tabel2[[#This Row],[Entiteit of attribuut]])=2,\"\",Tabel2[[#This Row],[Entiteit]]&\"_\"&Tabel2[[#This Row],[Entiteit of attribuut]]))","v":"FV_COLFACT"},{"$f":"IF(Schema!K284=\"\",\"\",Schema!K284)","v":""},{"$f":"IF(Schema!L284=\"\",\"\",Schema!L284)","v":""},{"$f":"IF(Schema!M284=\"\",\"\",Schema!M284)","v":""},{"$f":"IF(Schema!N284=\"\",\"\",Schema!N284)","v":""},{"$f":"IF(Schema!P284=\"\",\"\",Schema!P284)","v":"O"}]
[{"$f":"Schema!A285&Schema!B285&Schema!C285&Schema!D285&Schema!E285&Schema!F285","v":"ERB"},"FV",{"$f":"IF(A273=\"\",\"\",IF(LEN(Schema!A285)=2,1,IF(LEN(Schema!B285)=2,10,IF(LEN(Schema!C285)=2,100,IF(LEN(Schema!D285)=2,1000,IF(LEN(Schema!E285)=2,10000,0))))))","v":0},10,{"$f":"IF(A273=\"\",\"\",SUM(Tabel2[[#This Row],[I1]:[I2]]))","v":10},"PP","FV","","","","PP/FV",{"$f":"IF(C273=\"\",\"\",IF(LEN(Tabel2[[#This Row],[Entiteit of attribuut]])=2,\"\",Tabel2[[#This Row],[Entiteit]]&\"_\"&Tabel2[[#This Row],[Entiteit of attribuut]]))","v":"FV_ERB"},{"$f":"IF(Schema!K285=\"\",\"\",Schema!K285)","v":""},{"$f":"IF(Schema!L285=\"\",\"\",Schema!L285)","v":""},{"$f":"IF(Schema!M285=\"\",\"\",Schema!M285)","v":""},{"$f":"IF(Schema!N285=\"\",\"\",Schema!N285)","v":""},{"$f":"IF(Schema!P285=\"\",\"\",Schema!P285)","v":"O"}]
[{"$f":"Schema!A286&Schema!B286&Schema!C286&Schema!D286&Schema!E286&Schema!F286","v":"GADEKCD"},"FV",{"$f":"IF(A274=\"\",\"\",IF(LEN(Schema!A286)=2,1,IF(LEN(Schema!B286)=2,10,IF(LEN(Schema!C286)=2,100,IF(LEN(Schema!D286)=2,1000,IF(LEN(Schema!E286)=2,10000,0))))))","v":0},10,{"$f":"IF(A274=\"\",\"\",SUM(Tabel2[[#This Row],[I1]:[I2]]))","v":10},"PP","FV","","","","PP/FV",{"$f":"IF(C274=\"\",\"\",IF(LEN(Tabel2[[#This Row],[Entiteit of attribuut]])=2,\"\",Tabel2[[#This Row],[Entiteit]]&\"_\"&Tabel2[[#This Row],[Entiteit of attribuut]]))","v":"FV_GADEKCD"},{"$f":"IF(Schema!K286=\"\",\"\",Schema!K286)","v":""},{"$f":"IF(Schema!L286=\"\",\"\",Schema!L286)","v":""},{"$f":"IF(Schema!M286=\"\",\"\",Schema!M286)","v":""},{"$f":"IF(Schema!N286=\"\",\"\",Schema!N286)","v":""},{"$f":"IF(Schema!P286=\"\",\"\",Schema!P286)","v":"V"}]
[{"$f":"Schema!A287&Schema!B287&Schema!C287&Schema!D287&Schema!E287&Schema!F287","v":"GADEKCO"},"FV",{"$f":"IF(A275=\"\",\"\",IF(LEN(Schema!A287)=2,1,IF(LEN(Schema!B287)=2,10,IF(LEN(Schema!C287)=2,100,IF(LEN(Schema!D287)=2,1000,IF(LEN(Schema!E287)=2,10000,0))))))","v":0},10,{"$f":"IF(A275=\"\",\"\",SUM(Tabel2[[#This Row],[I1]:[I2]]))","v":10},"PP","FV","","","","PP/FV",{"$f":"IF(C275=\"\",\"\",IF(LEN(Tabel2[[#This Row],[Entiteit of attribuut]])=2,\"\",Tabel2[[#This Row],[Entiteit]]&\"_\"&Tabel2[[#This Row],[Entiteit of attribuut]]))","v":"FV_GADEKCO"},{"$f":"IF(Schema!K287=\"\",\"\",Schema!K287)","v":""},{"$f":"IF(Schema!L287=\"\",\"\",Schema!L287)","v":""},{"$f":"IF(Schema!M287=\"\",\"\",Schema!M287)","v":""},{"$f":"IF(Schema!N287=\"\",\"\",Schema!N287)","v":""},{"$f":"IF(Schema!P287=\"\",\"\",Schema!P287)","v":"V"}]
[{"$f":"Schema!A288&Schema!B288&Schema!C288&Schema!D288&Schema!E288&Schema!F288","v":"MYCODE"},"FV",{"$f":"IF(A276=\"\",\"\",IF(LEN(Schema!A288)=2,1,IF(LEN(Schema!B288)=2,10,IF(LEN(Schema!C288)=2,100,IF(LEN(Schema!D288)=2,1000,IF(LEN(Schema!E288)=2,10000,0))))))","v":0},10,{"$f":"IF(A276=\"\",\"\",SUM(Tabel2[[#This Row],[I1]:[I2]]))","v":10},"PP","FV","","","","PP/FV",{"$f":"IF(C276=\"\",\"\",IF(LEN(Tabel2[[#This Row],[Entiteit of attribuut]])=2,\"\",Tabel2[[#This Row],[Entiteit]]&\"_\"&Tabel2[[#This Row],[Entiteit of attribuut]]))","v":"FV_MYCODE"},{"$f":"IF(Schema!K288=\"\",\"\",Schema!K288)","v":""},{"$f":"IF(Schema!L288=\"\",\"\",Schema!L288)","v":""},{"$f":"IF(Schema!M288=\"\",\"\",Schema!M288)","v":""},{"$f":"IF(Schema!N288=\"\",\"\",Schema!N288)","v":""},{"$f":"IF(Schema!P288=\"\",\"\",Schema!P288)","v":"O"}]
[{"$f":"Schema!A289&Schema!B289&Schema!C289&Schema!D289&Schema!E289&Schema!F289","v":"NJP"},"FV",{"$f":"IF(A277=\"\",\"\",IF(LEN(Schema!A289)=2,1,IF(LEN(Schema!B289)=2,10,IF(LEN(Schema!C289)=2,100,IF(LEN(Schema!D289)=2,1000,IF(LEN(Schema!E289)=2,10000,0))))))","v":0},10,{"$f":"IF(A277=\"\",\"\",SUM(Tabel2[[#This Row],[I1]:[I2]]))","v":10},"PP","FV","","","","PP/FV",{"$f":"IF(C277=\"\",\"\",IF(LEN(Tabel2[[#This Row],[Entiteit of attribuut]])=2,\"\",Tabel2[[#This Row],[Entiteit]]&\"_\"&Tabel2[[#This Row],[Entiteit of attribuut]]))","v":"FV_NJP"},{"$f":"IF(Schema!K289=\"\",\"\",Schema!K289)","v":""},{"$f":"IF(Schema!L289=\"\",\"\",Schema!L289)","v":""},{"$f":"IF(Schema!M289=\"\",\"\",Schema!M289)","v":""},{"$f":"IF(Schema!N289=\"\",\"\",Schema!N289)","v":""},{"$f":"IF(Schema!P289=\"\",\"\",Schema!P289)","v":"O"}]
[{"$f":"Schema!A290&Schema!B290&Schema!C290&Schema!D290&Schema!E290&Schema!F290","v":"PAFWST"},"FV",{"$f":"IF(A278=\"\",\"\",IF(LEN(Schema!A290)=2,1,IF(LEN(Schema!B290)=2,10,IF(LEN(Schema!C290)=2,100,IF(LEN(Schema!D290)=2,1000,IF(LEN(Schema!E290)=2,10000,0))))))","v":0},10,{"$f":"IF(A278=\"\",\"\",SUM(Tabel2[[#This Row],[I1]:[I2]]))","v":10},"PP","FV","","","","PP/FV",{"$f":"IF(C278=\"\",\"\",IF(LEN(Tabel2[[#This Row],[Entiteit of attribuut]])=2,\"\",Tabel2[[#This Row],[Entiteit]]&\"_\"&Tabel2[[#This Row],[Entiteit of attribuut]]))","v":"FV_PAFWST"},{"$f":"IF(Schema!K290=\"\",\"\",Schema!K290)","v":""},{"$f":"IF(Schema!L290=\"\",\"\",Schema!L290)","v":""},{"$f":"IF(Schema!M290=\"\",\"\",Schema!M290)","v":""},{"$f":"IF(Schema!N290=\"\",\"\",Schema!N290)","v":""},{"$f":"IF(Schema!P290=\"\",\"\",Schema!P290)","v":"O"}]
[{"$f":"Schema!A291&Schema!B291&Schema!C291&Schema!D291&Schema!E291&Schema!F291","v":"PPRC"},"FV",{"$f":"IF(A279=\"\",\"\",IF(LEN(Schema!A291)=2,1,IF(LEN(Schema!B291)=2,10,IF(LEN(Schema!C291)=2,100,IF(LEN(Schema!D291)=2,1000,IF(LEN(Schema!E291)=2,10000,0))))))","v":0},10,{"$f":"IF(A279=\"\",\"\",SUM(Tabel2[[#This Row],[I1]:[I2]]))","v":10},"PP","FV","","","","PP/FV",{"$f":"IF(C279=\"\",\"\",IF(LEN(Tabel2[[#This Row],[Entiteit of attribuut]])=2,\"\",Tabel2[[#This Row],[Entiteit]]&\"_\"&Tabel2[[#This Row],[Entiteit of attribuut]]))","v":"FV_PPRC"},{"$f":"IF(Schema!K291=\"\",\"\",Schema!K291)","v":""},{"$f":"IF(Schema!L291=\"\",\"\",Schema!L291)","v":""},{"$f":"IF(Schema!M291=\"\",\"\",Schema!M291)","v":""},{"$f":"IF(Schema!N291=\"\",\"\",Schema!N291)","v":""},{"$f":"IF(Schema!P291=\"\",\"\",Schema!P291)","v":"O"}]
[{"$f":"Schema!A292&Schema!B292&Schema!C292&Schema!D292&Schema!E292&Schema!F292","v":"PRCPKKT"},"FV",{"$f":"IF(A280=\"\",\"\",IF(LEN(Schema!A292)=2,1,IF(LEN(Schema!B292)=2,10,IF(LEN(Schema!C292)=2,100,IF(LEN(Schema!D292)=2,1000,IF(LEN(Schema!E292)=2,10000,0))))))","v":0},10,{"$f":"IF(A280=\"\",\"\",SUM(Tabel2[[#This Row],[I1]:[I2]]))","v":10},"PP","FV","","","","PP/FV",{"$f":"IF(C280=\"\",\"\",IF(LEN(Tabel2[[#This Row],[Entiteit of attribuut]])=2,\"\",Tabel2[[#This Row],[Entiteit]]&\"_\"&Tabel2[[#This Row],[Entiteit of attribuut]]))","v":"FV_PRCPKKT"},{"$f":"IF(Schema!K292=\"\",\"\",Schema!K292)","v":""},{"$f":"IF(Schema!L292=\"\",\"\",Schema!L292)","v":""},{"$f":"IF(Schema!M292=\"\",\"\",Schema!M292)","v":""},{"$f":"IF(Schema!N292=\"\",\"\",Schema!N292)","v":""},{"$f":"IF(Schema!P292=\"\",\"\",Schema!P292)","v":"O"}]
[{"$f":"Schema!A293&Schema!B293&Schema!C293&Schema!D293&Schema!E293&Schema!F293","v":"PRCTEKC"},"FV",{"$f":"IF(A281=\"\",\"\",IF(LEN(Schema!A293)=2,1,IF(LEN(Schema!B293)=2,10,IF(LEN(Schema!C293)=2,100,IF(LEN(Schema!D293)=2,1000,IF(LEN(Schema!E293)=2,10000,0))))))","v":0},10,{"$f":"IF(A281=\"\",\"\",SUM(Tabel2[[#This Row],[I1]:[I2]]))","v":10},"PP","FV","","","","PP/FV",{"$f":"IF(C281=\"\",\"\",IF(LEN(Tabel2[[#This Row],[Entiteit of attribuut]])=2,\"\",Tabel2[[#This Row],[Entiteit]]&\"_\"&Tabel2[[#This Row],[Entiteit of attribuut]]))","v":"FV_PRCTEKC"},{"$f":"IF(Schema!K293=\"\",\"\",Schema!K293)","v":""},{"$f":"IF(Schema!L293=\"\",\"\",Schema!L293)","v":""},{"$f":"IF(Schema!M293=\"\",\"\",Schema!M293)","v":""},{"$f":"IF(Schema!N293=\"\",\"\",Schema!N293)","v":""},{"$f":"IF(Schema!P293=\"\",\"\",Schema!P293)","v":"O"}]
[{"$f":"Schema!A294&Schema!B294&Schema!C294&Schema!D294&Schema!E294&Schema!F294","v":"RELVRH"},"FV",{"$f":"IF(A282=\"\",\"\",IF(LEN(Schema!A294)=2,1,IF(LEN(Schema!B294)=2,10,IF(LEN(Schema!C294)=2,100,IF(LEN(Schema!D294)=2,1000,IF(LEN(Schema!E294)=2,10000,0))))))","v":0},10,{"$f":"IF(A282=\"\",\"\",SUM(Tabel2[[#This Row],[I1]:[I2]]))","v":10},"PP","FV","","","","PP/FV",{"$f":"IF(C282=\"\",\"\",IF(LEN(Tabel2[[#This Row],[Entiteit of attribuut]])=2,\"\",Tabel2[[#This Row],[Entiteit]]&\"_\"&Tabel2[[#This Row],[Entiteit of attribuut]]))","v":"FV_RELVRH"},{"$f":"IF(Schema!K294=\"\",\"\",Schema!K294)","v":""},{"$f":"IF(Schema!L294=\"\",\"\",Schema!L294)","v":""},{"$f":"IF(Schema!M294=\"\",\"\",Schema!M294)","v":""},{"$f":"IF(Schema!N294=\"\",\"\",Schema!N294)","v":""},{"$f":"IF(Schema!P294=\"\",\"\",Schema!P294)","v":"O"}]
[{"$f":"Schema!A295&Schema!B295&Schema!C295&Schema!D295&Schema!E295&Schema!F295","v":"RELVVNR"},"FV",{"$f":"IF(A283=\"\",\"\",IF(LEN(Schema!A295)=2,1,IF(LEN(Schema!B295)=2,10,IF(LEN(Schema!C295)=2,100,IF(LEN(Schema!D295)=2,1000,IF(LEN(Schema!E295)=2,10000,0))))))","v":0},10,{"$f":"IF(A283=\"\",\"\",SUM(Tabel2[[#This Row],[I1]:[I2]]))","v":10},"PP","FV","","","","PP/FV",{"$f":"IF(C283=\"\",\"\",IF(LEN(Tabel2[[#This Row],[Entiteit of attribuut]])=2,\"\",Tabel2[[#This Row],[Entiteit]]&\"_\"&Tabel2[[#This Row],[Entiteit of attribuut]]))","v":"FV_RELVVNR"},{"$f":"IF(Schema!K295=\"\",\"\",Schema!K295)","v":""},{"$f":"IF(Schema!L295=\"\",\"\",Schema!L295)","v":""},{"$f":"IF(Schema!M295=\"\",\"\",Schema!M295)","v":""},{"$f":"IF(Schema!N295=\"\",\"\",Schema!N295)","v":""},{"$f":"IF(Schema!P295=\"\",\"\",Schema!P295)","v":"O"}]
[{"$f":"Schema!A296&Schema!B296&Schema!C296&Schema!D296&Schema!E296&Schema!F296","v":"RJRCOR"},"FV",{"$f":"IF(A284=\"\",\"\",IF(LEN(Schema!A296)=2,1,IF(LEN(Schema!B296)=2,10,IF(LEN(Schema!C296)=2,100,IF(LEN(Schema!D296)=2,1000,IF(LEN(Schema!E296)=2,10000,0))))))","v":0},10,{"$f":"IF(A284=\"\",\"\",SUM(Tabel2[[#This Row],[I1]:[I2]]))","v":10},"PP","FV","","","","PP/FV",{"$f":"IF(C284=\"\",\"\",IF(LEN(Tabel2[[#This Row],[Entiteit of attribuut]])=2,\"\",Tabel2[[#This Row],[Entiteit]]&\"_\"&Tabel2[[#This Row],[Entiteit of attribuut]]))","v":"FV_RJRCOR"},{"$f":"IF(Schema!K296=\"\",\"\",Schema!K296)","v":""},{"$f":"IF(Schema!L296=\"\",\"\",Schema!L296)","v":""},{"$f":"IF(Schema!M296=\"\",\"\",Schema!M296)","v":""},{"$f":"IF(Schema!N296=\"\",\"\",Schema!N296)","v":""},{"$f":"IF(Schema!P296=\"\",\"\",Schema!P296)","v":"O"}]
[{"$f":"Schema!A297&Schema!B297&Schema!C297&Schema!D297&Schema!E297&Schema!F297","v":"TCORBDR"},"FV",{"$f":"IF(A285=\"\",\"\",IF(LEN(Schema!A297)=2,1,IF(LEN(Schema!B297)=2,10,IF(LEN(Schema!C297)=2,100,IF(LEN(Schema!D297)=2,1000,IF(LEN(Schema!E297)=2,10000,0))))))","v":0},10,{"$f":"IF(A285=\"\",\"\",SUM(Tabel2[[#This Row],[I1]:[I2]]))","v":10},"PP","FV","","","","PP/FV",{"$f":"IF(C285=\"\",\"\",IF(LEN(Tabel2[[#This Row],[Entiteit of attribuut]])=2,\"\",Tabel2[[#This Row],[Entiteit]]&\"_\"&Tabel2[[#This Row],[Entiteit of attribuut]]))","v":"FV_TCORBDR"},{"$f":"IF(Schema!K297=\"\",\"\",Schema!K297)","v":""},{"$f":"IF(Schema!L297=\"\",\"\",Schema!L297)","v":""},{"$f":"IF(Schema!M297=\"\",\"\",Schema!M297)","v":""},{"$f":"IF(Schema!N297=\"\",\"\",Schema!N297)","v":""},{"$f":"IF(Schema!P297=\"\",\"\",Schema!P297)","v":"O"}]
[{"$f":"Schema!A298&Schema!B298&Schema!C298&Schema!D298&Schema!E298&Schema!F298","v":"VERZSOM"},"FV",{"$f":"IF(A286=\"\",\"\",IF(LEN(Schema!A298)=2,1,IF(LEN(Schema!B298)=2,10,IF(LEN(Schema!C298)=2,100,IF(LEN(Schema!D298)=2,1000,IF(LEN(Schema!E298)=2,10000,0))))))","v":0},10,{"$f":"IF(A286=\"\",\"\",SUM(Tabel2[[#This Row],[I1]:[I2]]))","v":10},"PP","FV","","","","PP/FV",{"$f":"IF(C286=\"\",\"\",IF(LEN(Tabel2[[#This Row],[Entiteit of attribuut]])=2,\"\",Tabel2[[#This Row],[Entiteit]]&\"_\"&Tabel2[[#This Row],[Entiteit of attribuut]]))","v":"FV_VERZSOM"},{"$f":"IF(Schema!K298=\"\",\"\",Schema!K298)","v":""},{"$f":"IF(Schema!L298=\"\",\"\",Schema!L298)","v":""},{"$f":"IF(Schema!M298=\"\",\"\",Schema!M298)","v":""},{"$f":"IF(Schema!N298=\"\",\"\",Schema!N298)","v":""},{"$f":"IF(Schema!P298=\"\",\"\",Schema!P298)","v":"O"}]
[{"$f":"Schema!A299&Schema!B299&Schema!C299&Schema!D299&Schema!E299&Schema!F299","v":"VGBRA"},"FV",{"$f":"IF(A287=\"\",\"\",IF(LEN(Schema!A299)=2,1,IF(LEN(Schema!B299)=2,10,IF(LEN(Schema!C299)=2,100,IF(LEN(Schema!D299)=2,1000,IF(LEN(Schema!E299)=2,10000,0))))))","v":0},10,{"$f":"IF(A287=\"\",\"\",SUM(Tabel2[[#This Row],[I1]:[I2]]))","v":10},"PP","FV","","","","PP/FV",{"$f":"IF(C287=\"\",\"\",IF(LEN(Tabel2[[#This Row],[Entiteit of attribuut]])=2,\"\",Tabel2[[#This Row],[Entiteit]]&\"_\"&Tabel2[[#This Row],[Entiteit of attribuut]]))","v":"FV_VGBRA"},{"$f":"IF(Schema!K299=\"\",\"\",Schema!K299)","v":""},{"$f":"IF(Schema!L299=\"\",\"\",Schema!L299)","v":""},{"$f":"IF(Schema!M299=\"\",\"\",Schema!M299)","v":""},{"$f":"IF(Schema!N299=\"\",\"\",Schema!N299)","v":""},{"$f":"IF(Schema!P299=\"\",\"\",Schema!P299)","v":"O"}]
[{"$f":"Schema!A300&Schema!B300&Schema!C300&Schema!D300&Schema!E300&Schema!F300","v":"VOLGNUM"},"FV",{"$f":"IF(A288=\"\",\"\",IF(LEN(Schema!A300)=2,1,IF(LEN(Schema!B300)=2,10,IF(LEN(Schema!C300)=2,100,IF(LEN(Schema!D300)=2,1000,IF(LEN(Schema!E300)=2,10000,0))))))","v":0},10,{"$f":"IF(A288=\"\",\"\",SUM(Tabel2[[#This Row],[I1]:[I2]]))","v":10},"PP","FV","","","","PP/FV",{"$f":"IF(C288=\"\",\"\",IF(LEN(Tabel2[[#This Row],[Entiteit of attribuut]])=2,\"\",Tabel2[[#This Row],[Entiteit]]&\"_\"&Tabel2[[#This Row],[Entiteit of attribuut]]))","v":"FV_VOLGNUM"},{"$f":"IF(Schema!K300=\"\",\"\",Schema!K300)","v":""},{"$f":"IF(Schema!L300=\"\",\"\",Schema!L300)","v":""},{"$f":"IF(Schema!M300=\"\",\"\",Schema!M300)","v":""},{"$f":"IF(Schema!N300=\"\",\"\",Schema!N300)","v":""},{"$f":"IF(Schema!P300=\"\",\"\",Schema!P300)","v":"LEEG"}]
[{"$f":"Schema!A301&Schema!B301&Schema!C301&Schema!D301&Schema!E301&Schema!F301","v":"VRWRKCD"},"FV",{"$f":"IF(A289=\"\",\"\",IF(LEN(Schema!A301)=2,1,IF(LEN(Schema!B301)=2,10,IF(LEN(Schema!C301)=2,100,IF(LEN(Schema!D301)=2,1000,IF(LEN(Schema!E301)=2,10000,0))))))","v":0},10,{"$f":"IF(A289=\"\",\"\",SUM(Tabel2[[#This Row],[I1]:[I2]]))","v":10},"PP","FV","","","","PP/FV",{"$f":"IF(C289=\"\",\"\",IF(LEN(Tabel2[[#This Row],[Entiteit of attribuut]])=2,\"\",Tabel2[[#This Row],[Entiteit]]&\"_\"&Tabel2[[#This Row],[Entiteit of attribuut]]))","v":"FV_VRWRKCD"},{"$f":"IF(Schema!K301=\"\",\"\",Schema!K301)","v":""},{"$f":"IF(Schema!L301=\"\",\"\",Schema!L301)","v":""},{"$f":"IF(Schema!M301=\"\",\"\",Schema!M301)","v":""},{"$f":"IF(Schema!N301=\"\",\"\",Schema!N301)","v":""},{"$f":"IF(Schema!P301=\"\",\"\",Schema!P301)","v":"LEEG"}]
[{"$f":"Schema!A302&Schema!B302&Schema!C302&Schema!D302&Schema!E302&Schema!F302","v":"WPREMBP"},"FV",{"$f":"IF(A290=\"\",\"\",IF(LEN(Schema!A302)=2,1,IF(LEN(Schema!B302)=2,10,IF(LEN(Schema!C302)=2,100,IF(LEN(Schema!D302)=2,1000,IF(LEN(Schema!E302)=2,10000,0))))))","v":0},10,{"$f":"IF(A290=\"\",\"\",SUM(Tabel2[[#This Row],[I1]:[I2]]))","v":10},"PP","FV","","","","PP/FV",{"$f":"IF(C290=\"\",\"\",IF(LEN(Tabel2[[#This Row],[Entiteit of attribuut]])=2,\"\",Tabel2[[#This Row],[Entiteit]]&\"_\"&Tabel2[[#This Row],[Entiteit of attribuut]]))","v":"FV_WPREMBP"},{"$f":"IF(Schema!K302=\"\",\"\",Schema!K302)","v":""},{"$f":"IF(Schema!L302=\"\",\"\",Schema!L302)","v":""},{"$f":"IF(Schema!M302=\"\",\"\",Schema!M302)","v":""},{"$f":"IF(Schema!N302=\"\",\"\",Schema!N302)","v":""},{"$f":"IF(Schema!P302=\"\",\"\",Schema!P302)","v":"O"}]
[{"$f":"Schema!A303&Schema!B303&Schema!C303&Schema!D303&Schema!E303&Schema!F303","v":"MP"},"MP",{"$f":"IF(A291=\"\",\"\",IF(LEN(Schema!A303)=2,1,IF(LEN(Schema!B303)=2,10,IF(LEN(Schema!C303)=2,100,IF(LEN(Schema!D303)=2,1000,IF(LEN(Schema!E303)=2,10000,0))))))","v":100},100,{"$f":"IF(A291=\"\",\"\",SUM(Tabel2[[#This Row],[I1]:[I2]]))","v":200},"PP","FV","MP","","","PP/FV/MP",{"$f":"IF(C291=\"\",\"\",IF(LEN(Tabel2[[#This Row],[Entiteit of attribuut]])=2,\"\",Tabel2[[#This Row],[Entiteit]]&\"_\"&Tabel2[[#This Row],[Entiteit of attribuut]]))","v":""},{"$f":"IF(Schema!K303=\"\",\"\",Schema!K303)","v":""},{"$f":"IF(Schema!L303=\"\",\"\",Schema!L303)","v":""},{"$f":"IF(Schema!M303=\"\",\"\",Schema!M303)","v":""},{"$f":"IF(Schema!N303=\"\",\"\",Schema!N303)","v":""},{"$f":"IF(Schema!P303=\"\",\"\",Schema!P303)","v":"O"}]
[{"$f":"Schema!A304&Schema!B304&Schema!C304&Schema!D304&Schema!E304&Schema!F304","v":"MYAAND"},"MP",{"$f":"IF(A292=\"\",\"\",IF(LEN(Schema!A304)=2,1,IF(LEN(Schema!B304)=2,10,IF(LEN(Schema!C304)=2,100,IF(LEN(Schema!D304)=2,1000,IF(LEN(Schema!E304)=2,10000,0))))))","v":0},100,{"$f":"IF(A292=\"\",\"\",SUM(Tabel2[[#This Row],[I1]:[I2]]))","v":100},"PP","FV","MP","","","PP/FV/MP",{"$f":"IF(C292=\"\",\"\",IF(LEN(Tabel2[[#This Row],[Entiteit of attribuut]])=2,\"\",Tabel2[[#This Row],[Entiteit]]&\"_\"&Tabel2[[#This Row],[Entiteit of attribuut]]))","v":"MP_MYAAND"},{"$f":"IF(Schema!K304=\"\",\"\",Schema!K304)","v":""},{"$f":"IF(Schema!L304=\"\",\"\",Schema!L304)","v":""},{"$f":"IF(Schema!M304=\"\",\"\",Schema!M304)","v":""},{"$f":"IF(Schema!N304=\"\",\"\",Schema!N304)","v":""},{"$f":"IF(Schema!P304=\"\",\"\",Schema!P304)","v":"O"}]
[{"$f":"Schema!A305&Schema!B305&Schema!C305&Schema!D305&Schema!E305&Schema!F305","v":"POOLNUM"},"MP",{"$f":"IF(A293=\"\",\"\",IF(LEN(Schema!A305)=2,1,IF(LEN(Schema!B305)=2,10,IF(LEN(Schema!C305)=2,100,IF(LEN(Schema!D305)=2,1000,IF(LEN(Schema!E305)=2,10000,0))))))","v":0},100,{"$f":"IF(A293=\"\",\"\",SUM(Tabel2[[#This Row],[I1]:[I2]]))","v":100},"PP","FV","MP","","","PP/FV/MP",{"$f":"IF(C293=\"\",\"\",IF(LEN(Tabel2[[#This Row],[Entiteit of attribuut]])=2,\"\",Tabel2[[#This Row],[Entiteit]]&\"_\"&Tabel2[[#This Row],[Entiteit of attribuut]]))","v":"MP_POOLNUM"},{"$f":"IF(Schema!K305=\"\",\"\",Schema!K305)","v":""},{"$f":"IF(Schema!L305=\"\",\"\",Schema!L305)","v":""},{"$f":"IF(Schema!M305=\"\",\"\",Schema!M305)","v":""},{"$f":"IF(Schema!N305=\"\",\"\",Schema!N305)","v":""},{"$f":"IF(Schema!P305=\"\",\"\",Schema!P305)","v":"V"}]
[{"$f":"Schema!A306&Schema!B306&Schema!C306&Schema!D306&Schema!E306&Schema!F306","v":"PLLEAD"},"MP",{"$f":"IF(A294=\"\",\"\",IF(LEN(Schema!A306)=2,1,IF(LEN(Schema!B306)=2,10,IF(LEN(Schema!C306)=2,100,IF(LEN(Schema!D306)=2,1000,IF(LEN(Schema!E306)=2,10000,0))))))","v":0},100,{"$f":"IF(A294=\"\",\"\",SUM(Tabel2[[#This Row],[I1]:[I2]]))","v":100},"PP","FV","MP","","","PP/FV/MP",{"$f":"IF(C294=\"\",\"\",IF(LEN(Tabel2[[#This Row],[Entiteit of attribuut]])=2,\"\",Tabel2[[#This Row],[Entiteit]]&\"_\"&Tabel2[[#This Row],[Entiteit of attribuut]]))","v":"MP_PLLEAD"},{"$f":"IF(Schema!K306=\"\",\"\",Schema!K306)","v":""},{"$f":"IF(Schema!L306=\"\",\"\",Schema!L306)","v":""},{"$f":"IF(Schema!M306=\"\",\"\",Schema!M306)","v":""},{"$f":"IF(Schema!N306=\"\",\"\",Schema!N306)","v":""},{"$f":"IF(Schema!P306=\"\",\"\",Schema!P306)","v":"O"}]
[{"$f":"Schema!A307&Schema!B307&Schema!C307&Schema!D307&Schema!E307&Schema!F307","v":"POOLPRC"},"MP",{"$f":"IF(A295=\"\",\"\",IF(LEN(Schema!A307)=2,1,IF(LEN(Schema!B307)=2,10,IF(LEN(Schema!C307)=2,100,IF(LEN(Schema!D307)=2,1000,IF(LEN(Schema!E307)=2,10000,0))))))","v":0},100,{"$f":"IF(A295=\"\",\"\",SUM(Tabel2[[#This Row],[I1]:[I2]]))","v":100},"PP","FV","MP","","","PP/FV/MP",{"$f":"IF(C295=\"\",\"\",IF(LEN(Tabel2[[#This Row],[Entiteit of attribuut]])=2,\"\",Tabel2[[#This Row],[Entiteit]]&\"_\"&Tabel2[[#This Row],[Entiteit of attribuut]]))","v":"MP_POOLPRC"},{"$f":"IF(Schema!K307=\"\",\"\",Schema!K307)","v":""},{"$f":"IF(Schema!L307=\"\",\"\",Schema!L307)","v":""},{"$f":"IF(Schema!M307=\"\",\"\",Schema!M307)","v":""},{"$f":"IF(Schema!N307=\"\",\"\",Schema!N307)","v":""},{"$f":"IF(Schema!P307=\"\",\"\",Schema!P307)","v":"V"}]
[{"$f":"Schema!A308&Schema!B308&Schema!C308&Schema!D308&Schema!E308&Schema!F308","v":"GP"},"GP",{"$f":"IF(A296=\"\",\"\",IF(LEN(Schema!A308)=2,1,IF(LEN(Schema!B308)=2,10,IF(LEN(Schema!C308)=2,100,IF(LEN(Schema!D308)=2,1000,IF(LEN(Schema!E308)=2,10000,0))))))","v":10},10,{"$f":"IF(A296=\"\",\"\",SUM(Tabel2[[#This Row],[I1]:[I2]]))","v":20},"PP","GP","","","","PP/GP",{"$f":"IF(C296=\"\",\"\",IF(LEN(Tabel2[[#This Row],[Entiteit of attribuut]])=2,\"\",Tabel2[[#This Row],[Entiteit]]&\"_\"&Tabel2[[#This Row],[Entiteit of attribuut]]))","v":""},{"$f":"IF(Schema!K308=\"\",\"\",Schema!K308)","v":""},{"$f":"IF(Schema!L308=\"\",\"\",Schema!L308)","v":""},{"$f":"IF(Schema!M308=\"\",\"\",Schema!M308)","v":""},{"$f":"IF(Schema!N308=\"\",\"\",Schema!N308)","v":""},{"$f":"IF(Schema!P308=\"\",\"\",Schema!P308)","v":"O"}]
[{"$f":"Schema!A309&Schema!B309&Schema!C309&Schema!D309&Schema!E309&Schema!F309","v":"BAFWST"},"GP",{"$f":"IF(A297=\"\",\"\",IF(LEN(Schema!A309)=2,1,IF(LEN(Schema!B309)=2,10,IF(LEN(Schema!C309)=2,100,IF(LEN(Schema!D309)=2,1000,IF(LEN(Schema!E309)=2,10000,0))))))","v":0},10,{"$f":"IF(A297=\"\",\"\",SUM(Tabel2[[#This Row],[I1]:[I2]]))","v":10},"PP","GP","","","","PP/GP",{"$f":"IF(C297=\"\",\"\",IF(LEN(Tabel2[[#This Row],[Entiteit of attribuut]])=2,\"\",Tabel2[[#This Row],[Entiteit]]&\"_\"&Tabel2[[#This Row],[Entiteit of attribuut]]))","v":"GP_BAFWST"},{"$f":"IF(Schema!K309=\"\",\"\",Schema!K309)","v":""},{"$f":"IF(Schema!L309=\"\",\"\",Schema!L309)","v":""},{"$f":"IF(Schema!M309=\"\",\"\",Schema!M309)","v":""},{"$f":"IF(Schema!N309=\"\",\"\",Schema!N309)","v":""},{"$f":"IF(Schema!P309=\"\",\"\",Schema!P309)","v":"O"}]
[{"$f":"Schema!A310&Schema!B310&Schema!C310&Schema!D310&Schema!E310&Schema!F310","v":"BTP"},"GP",{"$f":"IF(A298=\"\",\"\",IF(LEN(Schema!A310)=2,1,IF(LEN(Schema!B310)=2,10,IF(LEN(Schema!C310)=2,100,IF(LEN(Schema!D310)=2,1000,IF(LEN(Schema!E310)=2,10000,0))))))","v":0},10,{"$f":"IF(A298=\"\",\"\",SUM(Tabel2[[#This Row],[I1]:[I2]]))","v":10},"PP","GP","","","","PP/GP",{"$f":"IF(C298=\"\",\"\",IF(LEN(Tabel2[[#This Row],[Entiteit of attribuut]])=2,\"\",Tabel2[[#This Row],[Entiteit]]&\"_\"&Tabel2[[#This Row],[Entiteit of attribuut]]))","v":"GP_BTP"},{"$f":"IF(Schema!K310=\"\",\"\",Schema!K310)","v":""},{"$f":"IF(Schema!L310=\"\",\"\",Schema!L310)","v":""},{"$f":"IF(Schema!M310=\"\",\"\",Schema!M310)","v":""},{"$f":"IF(Schema!N310=\"\",\"\",Schema!N310)","v":""},{"$f":"IF(Schema!P310=\"\",\"\",Schema!P310)","v":"LEEG"}]
[{"$f":"Schema!A311&Schema!B311&Schema!C311&Schema!D311&Schema!E311&Schema!F311","v":"CODE"},"GP",{"$f":"IF(A299=\"\",\"\",IF(LEN(Schema!A311)=2,1,IF(LEN(Schema!B311)=2,10,IF(LEN(Schema!C311)=2,100,IF(LEN(Schema!D311)=2,1000,IF(LEN(Schema!E311)=2,10000,0))))))","v":0},10,{"$f":"IF(A299=\"\",\"\",SUM(Tabel2[[#This Row],[I1]:[I2]]))","v":10},"PP","GP","","","","PP/GP",{"$f":"IF(C299=\"\",\"\",IF(LEN(Tabel2[[#This Row],[Entiteit of attribuut]])=2,\"\",Tabel2[[#This Row],[Entiteit]]&\"_\"&Tabel2[[#This Row],[Entiteit of attribuut]]))","v":"GP_CODE"},{"$f":"IF(Schema!K311=\"\",\"\",Schema!K311)","v":""},{"$f":"IF(Schema!L311=\"\",\"\",Schema!L311)","v":""},{"$f":"IF(Schema!M311=\"\",\"\",Schema!M311)","v":""},{"$f":"IF(Schema!N311=\"\",\"\",Schema!N311)","v":""},{"$f":"IF(Schema!P311=\"\",\"\",Schema!P311)","v":"O"}]
[{"$f":"Schema!A312&Schema!B312&Schema!C312&Schema!D312&Schema!E312&Schema!F312","v":"COLFACT"},"GP",{"$f":"IF(A300=\"\",\"\",IF(LEN(Schema!A312)=2,1,IF(LEN(Schema!B312)=2,10,IF(LEN(Schema!C312)=2,100,IF(LEN(Schema!D312)=2,1000,IF(LEN(Schema!E312)=2,10000,0))))))","v":0},10,{"$f":"IF(A300=\"\",\"\",SUM(Tabel2[[#This Row],[I1]:[I2]]))","v":10},"PP","GP","","","","PP/GP",{"$f":"IF(C300=\"\",\"\",IF(LEN(Tabel2[[#This Row],[Entiteit of attribuut]])=2,\"\",Tabel2[[#This Row],[Entiteit]]&\"_\"&Tabel2[[#This Row],[Entiteit of attribuut]]))","v":"GP_COLFACT"},{"$f":"IF(Schema!K312=\"\",\"\",Schema!K312)","v":""},{"$f":"IF(Schema!L312=\"\",\"\",Schema!L312)","v":""},{"$f":"IF(Schema!M312=\"\",\"\",Schema!M312)","v":""},{"$f":"IF(Schema!N312=\"\",\"\",Schema!N312)","v":""},{"$f":"IF(Schema!P312=\"\",\"\",Schema!P312)","v":"O"}]
[{"$f":"Schema!A313&Schema!B313&Schema!C313&Schema!D313&Schema!E313&Schema!F313","v":"ERB"},"GP",{"$f":"IF(A301=\"\",\"\",IF(LEN(Schema!A313)=2,1,IF(LEN(Schema!B313)=2,10,IF(LEN(Schema!C313)=2,100,IF(LEN(Schema!D313)=2,1000,IF(LEN(Schema!E313)=2,10000,0))))))","v":0},10,{"$f":"IF(A301=\"\",\"\",SUM(Tabel2[[#This Row],[I1]:[I2]]))","v":10},"PP","GP","","","","PP/GP",{"$f":"IF(C301=\"\",\"\",IF(LEN(Tabel2[[#This Row],[Entiteit of attribuut]])=2,\"\",Tabel2[[#This Row],[Entiteit]]&\"_\"&Tabel2[[#This Row],[Entiteit of attribuut]]))","v":"GP_ERB"},{"$f":"IF(Schema!K313=\"\",\"\",Schema!K313)","v":""},{"$f":"IF(Schema!L313=\"\",\"\",Schema!L313)","v":""},{"$f":"IF(Schema!M313=\"\",\"\",Schema!M313)","v":""},{"$f":"IF(Schema!N313=\"\",\"\",Schema!N313)","v":""},{"$f":"IF(Schema!P313=\"\",\"\",Schema!P313)","v":"O"}]
[{"$f":"Schema!A314&Schema!B314&Schema!C314&Schema!D314&Schema!E314&Schema!F314","v":"GADEKCD"},"GP",{"$f":"IF(A302=\"\",\"\",IF(LEN(Schema!A314)=2,1,IF(LEN(Schema!B314)=2,10,IF(LEN(Schema!C314)=2,100,IF(LEN(Schema!D314)=2,1000,IF(LEN(Schema!E314)=2,10000,0))))))","v":0},10,{"$f":"IF(A302=\"\",\"\",SUM(Tabel2[[#This Row],[I1]:[I2]]))","v":10},"PP","GP","","","","PP/GP",{"$f":"IF(C302=\"\",\"\",IF(LEN(Tabel2[[#This Row],[Entiteit of attribuut]])=2,\"\",Tabel2[[#This Row],[Entiteit]]&\"_\"&Tabel2[[#This Row],[Entiteit of attribuut]]))","v":"GP_GADEKCD"},{"$f":"IF(Schema!K314=\"\",\"\",Schema!K314)","v":""},{"$f":"IF(Schema!L314=\"\",\"\",Schema!L314)","v":""},{"$f":"IF(Schema!M314=\"\",\"\",Schema!M314)","v":""},{"$f":"IF(Schema!N314=\"\",\"\",Schema!N314)","v":""},{"$f":"IF(Schema!P314=\"\",\"\",Schema!P314)","v":"V"}]
[{"$f":"Schema!A315&Schema!B315&Schema!C315&Schema!D315&Schema!E315&Schema!F315","v":"GADEKCO"},"GP",{"$f":"IF(A303=\"\",\"\",IF(LEN(Schema!A315)=2,1,IF(LEN(Schema!B315)=2,10,IF(LEN(Schema!C315)=2,100,IF(LEN(Schema!D315)=2,1000,IF(LEN(Schema!E315)=2,10000,0))))))","v":0},10,{"$f":"IF(A303=\"\",\"\",SUM(Tabel2[[#This Row],[I1]:[I2]]))","v":10},"PP","GP","","","","PP/GP",{"$f":"IF(C303=\"\",\"\",IF(LEN(Tabel2[[#This Row],[Entiteit of attribuut]])=2,\"\",Tabel2[[#This Row],[Entiteit]]&\"_\"&Tabel2[[#This Row],[Entiteit of attribuut]]))","v":"GP_GADEKCO"},{"$f":"IF(Schema!K315=\"\",\"\",Schema!K315)","v":""},{"$f":"IF(Schema!L315=\"\",\"\",Schema!L315)","v":""},{"$f":"IF(Schema!M315=\"\",\"\",Schema!M315)","v":""},{"$f":"IF(Schema!N315=\"\",\"\",Schema!N315)","v":""},{"$f":"IF(Schema!P315=\"\",\"\",Schema!P315)","v":"V"}]
[{"$f":"Schema!A316&Schema!B316&Schema!C316&Schema!D316&Schema!E316&Schema!F316","v":"MYCODE"},"GP",{"$f":"IF(A304=\"\",\"\",IF(LEN(Schema!A316)=2,1,IF(LEN(Schema!B316)=2,10,IF(LEN(Schema!C316)=2,100,IF(LEN(Schema!D316)=2,1000,IF(LEN(Schema!E316)=2,10000,0))))))","v":0},10,{"$f":"IF(A304=\"\",\"\",SUM(Tabel2[[#This Row],[I1]:[I2]]))","v":10},"PP","GP","","","","PP/GP",{"$f":"IF(C304=\"\",\"\",IF(LEN(Tabel2[[#This Row],[Entiteit of attribuut]])=2,\"\",Tabel2[[#This Row],[Entiteit]]&\"_\"&Tabel2[[#This Row],[Entiteit of attribuut]]))","v":"GP_MYCODE"},{"$f":"IF(Schema!K316=\"\",\"\",Schema!K316)","v":""},{"$f":"IF(Schema!L316=\"\",\"\",Schema!L316)","v":""},{"$f":"IF(Schema!M316=\"\",\"\",Schema!M316)","v":""},{"$f":"IF(Schema!N316=\"\",\"\",Schema!N316)","v":""},{"$f":"IF(Schema!P316=\"\",\"\",Schema!P316)","v":"O"}]
[{"$f":"Schema!A317&Schema!B317&Schema!C317&Schema!D317&Schema!E317&Schema!F317","v":"NJP"},"GP",{"$f":"IF(A305=\"\",\"\",IF(LEN(Schema!A317)=2,1,IF(LEN(Schema!B317)=2,10,IF(LEN(Schema!C317)=2,100,IF(LEN(Schema!D317)=2,1000,IF(LEN(Schema!E317)=2,10000,0))))))","v":0},10,{"$f":"IF(A305=\"\",\"\",SUM(Tabel2[[#This Row],[I1]:[I2]]))","v":10},"PP","GP","","","","PP/GP",{"$f":"IF(C305=\"\",\"\",IF(LEN(Tabel2[[#This Row],[Entiteit of attribuut]])=2,\"\",Tabel2[[#This Row],[Entiteit]]&\"_\"&Tabel2[[#This Row],[Entiteit of attribuut]]))","v":"GP_NJP"},{"$f":"IF(Schema!K317=\"\",\"\",Schema!K317)","v":""},{"$f":"IF(Schema!L317=\"\",\"\",Schema!L317)","v":""},{"$f":"IF(Schema!M317=\"\",\"\",Schema!M317)","v":""},{"$f":"IF(Schema!N317=\"\",\"\",Schema!N317)","v":""},{"$f":"IF(Schema!P317=\"\",\"\",Schema!P317)","v":"O"}]
[{"$f":"Schema!A318&Schema!B318&Schema!C318&Schema!D318&Schema!E318&Schema!F318","v":"PAFWST"},"GP",{"$f":"IF(A306=\"\",\"\",IF(LEN(Schema!A318)=2,1,IF(LEN(Schema!B318)=2,10,IF(LEN(Schema!C318)=2,100,IF(LEN(Schema!D318)=2,1000,IF(LEN(Schema!E318)=2,10000,0))))))","v":0},10,{"$f":"IF(A306=\"\",\"\",SUM(Tabel2[[#This Row],[I1]:[I2]]))","v":10},"PP","GP","","","","PP/GP",{"$f":"IF(C306=\"\",\"\",IF(LEN(Tabel2[[#This Row],[Entiteit of attribuut]])=2,\"\",Tabel2[[#This Row],[Entiteit]]&\"_\"&Tabel2[[#This Row],[Entiteit of attribuut]]))","v":"GP_PAFWST"},{"$f":"IF(Schema!K318=\"\",\"\",Schema!K318)","v":""},{"$f":"IF(Schema!L318=\"\",\"\",Schema!L318)","v":""},{"$f":"IF(Schema!M318=\"\",\"\",Schema!M318)","v":""},{"$f":"IF(Schema!N318=\"\",\"\",Schema!N318)","v":""},{"$f":"IF(Schema!P318=\"\",\"\",Schema!P318)","v":"O"}]
[{"$f":"Schema!A319&Schema!B319&Schema!C319&Schema!D319&Schema!E319&Schema!F319","v":"PPRC"},"GP",{"$f":"IF(A307=\"\",\"\",IF(LEN(Schema!A319)=2,1,IF(LEN(Schema!B319)=2,10,IF(LEN(Schema!C319)=2,100,IF(LEN(Schema!D319)=2,1000,IF(LEN(Schema!E319)=2,10000,0))))))","v":0},10,{"$f":"IF(A307=\"\",\"\",SUM(Tabel2[[#This Row],[I1]:[I2]]))","v":10},"PP","GP","","","","PP/GP",{"$f":"IF(C307=\"\",\"\",IF(LEN(Tabel2[[#This Row],[Entiteit of attribuut]])=2,\"\",Tabel2[[#This Row],[Entiteit]]&\"_\"&Tabel2[[#This Row],[Entiteit of attribuut]]))","v":"GP_PPRC"},{"$f":"IF(Schema!K319=\"\",\"\",Schema!K319)","v":""},{"$f":"IF(Schema!L319=\"\",\"\",Schema!L319)","v":""},{"$f":"IF(Schema!M319=\"\",\"\",Schema!M319)","v":""},{"$f":"IF(Schema!N319=\"\",\"\",Schema!N319)","v":""},{"$f":"IF(Schema!P319=\"\",\"\",Schema!P319)","v":"O"}]
[{"$f":"Schema!A320&Schema!B320&Schema!C320&Schema!D320&Schema!E320&Schema!F320","v":"PRCPKKT"},"GP",{"$f":"IF(A308=\"\",\"\",IF(LEN(Schema!A320)=2,1,IF(LEN(Schema!B320)=2,10,IF(LEN(Schema!C320)=2,100,IF(LEN(Schema!D320)=2,1000,IF(LEN(Schema!E320)=2,10000,0))))))","v":0},10,{"$f":"IF(A308=\"\",\"\",SUM(Tabel2[[#This Row],[I1]:[I2]]))","v":10},"PP","GP","","","","PP/GP",{"$f":"IF(C308=\"\",\"\",IF(LEN(Tabel2[[#This Row],[Entiteit of attribuut]])=2,\"\",Tabel2[[#This Row],[Entiteit]]&\"_\"&Tabel2[[#This Row],[Entiteit of attribuut]]))","v":"GP_PRCPKKT"},{"$f":"IF(Schema!K320=\"\",\"\",Schema!K320)","v":""},{"$f":"IF(Schema!L320=\"\",\"\",Schema!L320)","v":""},{"$f":"IF(Schema!M320=\"\",\"\",Schema!M320)","v":""},{"$f":"IF(Schema!N320=\"\",\"\",Schema!N320)","v":""},{"$f":"IF(Schema!P320=\"\",\"\",Schema!P320)","v":"O"}]
[{"$f":"Schema!A321&Schema!B321&Schema!C321&Schema!D321&Schema!E321&Schema!F321","v":"PRCTEKC"},"GP",{"$f":"IF(A309=\"\",\"\",IF(LEN(Schema!A321)=2,1,IF(LEN(Schema!B321)=2,10,IF(LEN(Schema!C321)=2,100,IF(LEN(Schema!D321)=2,1000,IF(LEN(Schema!E321)=2,10000,0))))))","v":0},10,{"$f":"IF(A309=\"\",\"\",SUM(Tabel2[[#This Row],[I1]:[I2]]))","v":10},"PP","GP","","","","PP/GP",{"$f":"IF(C309=\"\",\"\",IF(LEN(Tabel2[[#This Row],[Entiteit of attribuut]])=2,\"\",Tabel2[[#This Row],[Entiteit]]&\"_\"&Tabel2[[#This Row],[Entiteit of attribuut]]))","v":"GP_PRCTEKC"},{"$f":"IF(Schema!K321=\"\",\"\",Schema!K321)","v":""},{"$f":"IF(Schema!L321=\"\",\"\",Schema!L321)","v":""},{"$f":"IF(Schema!M321=\"\",\"\",Schema!M321)","v":""},{"$f":"IF(Schema!N321=\"\",\"\",Schema!N321)","v":""},{"$f":"IF(Schema!P321=\"\",\"\",Schema!P321)","v":"O"}]
[{"$f":"Schema!A322&Schema!B322&Schema!C322&Schema!D322&Schema!E322&Schema!F322","v":"RELVRH"},"GP",{"$f":"IF(A310=\"\",\"\",IF(LEN(Schema!A322)=2,1,IF(LEN(Schema!B322)=2,10,IF(LEN(Schema!C322)=2,100,IF(LEN(Schema!D322)=2,1000,IF(LEN(Schema!E322)=2,10000,0))))))","v":0},10,{"$f":"IF(A310=\"\",\"\",SUM(Tabel2[[#This Row],[I1]:[I2]]))","v":10},"PP","GP","","","","PP/GP",{"$f":"IF(C310=\"\",\"\",IF(LEN(Tabel2[[#This Row],[Entiteit of attribuut]])=2,\"\",Tabel2[[#This Row],[Entiteit]]&\"_\"&Tabel2[[#This Row],[Entiteit of attribuut]]))","v":"GP_RELVRH"},{"$f":"IF(Schema!K322=\"\",\"\",Schema!K322)","v":""},{"$f":"IF(Schema!L322=\"\",\"\",Schema!L322)","v":""},{"$f":"IF(Schema!M322=\"\",\"\",Schema!M322)","v":""},{"$f":"IF(Schema!N322=\"\",\"\",Schema!N322)","v":""},{"$f":"IF(Schema!P322=\"\",\"\",Schema!P322)","v":"O"}]
[{"$f":"Schema!A323&Schema!B323&Schema!C323&Schema!D323&Schema!E323&Schema!F323","v":"RELVVNR"},"GP",{"$f":"IF(A311=\"\",\"\",IF(LEN(Schema!A323)=2,1,IF(LEN(Schema!B323)=2,10,IF(LEN(Schema!C323)=2,100,IF(LEN(Schema!D323)=2,1000,IF(LEN(Schema!E323)=2,10000,0))))))","v":0},10,{"$f":"IF(A311=\"\",\"\",SUM(Tabel2[[#This Row],[I1]:[I2]]))","v":10},"PP","GP","","","","PP/GP",{"$f":"IF(C311=\"\",\"\",IF(LEN(Tabel2[[#This Row],[Entiteit of attribuut]])=2,\"\",Tabel2[[#This Row],[Entiteit]]&\"_\"&Tabel2[[#This Row],[Entiteit of attribuut]]))","v":"GP_RELVVNR"},{"$f":"IF(Schema!K323=\"\",\"\",Schema!K323)","v":""},{"$f":"IF(Schema!L323=\"\",\"\",Schema!L323)","v":""},{"$f":"IF(Schema!M323=\"\",\"\",Schema!M323)","v":""},{"$f":"IF(Schema!N323=\"\",\"\",Schema!N323)","v":""},{"$f":"IF(Schema!P323=\"\",\"\",Schema!P323)","v":"O"}]
[{"$f":"Schema!A324&Schema!B324&Schema!C324&Schema!D324&Schema!E324&Schema!F324","v":"RJRCOR"},"GP",{"$f":"IF(A312=\"\",\"\",IF(LEN(Schema!A324)=2,1,IF(LEN(Schema!B324)=2,10,IF(LEN(Schema!C324)=2,100,IF(LEN(Schema!D324)=2,1000,IF(LEN(Schema!E324)=2,10000,0))))))","v":0},10,{"$f":"IF(A312=\"\",\"\",SUM(Tabel2[[#This Row],[I1]:[I2]]))","v":10},"PP","GP","","","","PP/GP",{"$f":"IF(C312=\"\",\"\",IF(LEN(Tabel2[[#This Row],[Entiteit of attribuut]])=2,\"\",Tabel2[[#This Row],[Entiteit]]&\"_\"&Tabel2[[#This Row],[Entiteit of attribuut]]))","v":"GP_RJRCOR"},{"$f":"IF(Schema!K324=\"\",\"\",Schema!K324)","v":""},{"$f":"IF(Schema!L324=\"\",\"\",Schema!L324)","v":""},{"$f":"IF(Schema!M324=\"\",\"\",Schema!M324)","v":""},{"$f":"IF(Schema!N324=\"\",\"\",Schema!N324)","v":""},{"$f":"IF(Schema!P324=\"\",\"\",Schema!P324)","v":"O"}]
[{"$f":"Schema!A325&Schema!B325&Schema!C325&Schema!D325&Schema!E325&Schema!F325","v":"TCORBDR"},"GP",{"$f":"IF(A313=\"\",\"\",IF(LEN(Schema!A325)=2,1,IF(LEN(Schema!B325)=2,10,IF(LEN(Schema!C325)=2,100,IF(LEN(Schema!D325)=2,1000,IF(LEN(Schema!E325)=2,10000,0))))))","v":0},10,{"$f":"IF(A313=\"\",\"\",SUM(Tabel2[[#This Row],[I1]:[I2]]))","v":10},"PP","GP","","","","PP/GP",{"$f":"IF(C313=\"\",\"\",IF(LEN(Tabel2[[#This Row],[Entiteit of attribuut]])=2,\"\",Tabel2[[#This Row],[Entiteit]]&\"_\"&Tabel2[[#This Row],[Entiteit of attribuut]]))","v":"GP_TCORBDR"},{"$f":"IF(Schema!K325=\"\",\"\",Schema!K325)","v":""},{"$f":"IF(Schema!L325=\"\",\"\",Schema!L325)","v":""},{"$f":"IF(Schema!M325=\"\",\"\",Schema!M325)","v":""},{"$f":"IF(Schema!N325=\"\",\"\",Schema!N325)","v":""},{"$f":"IF(Schema!P325=\"\",\"\",Schema!P325)","v":"O"}]
[{"$f":"Schema!A326&Schema!B326&Schema!C326&Schema!D326&Schema!E326&Schema!F326","v":"VBGBRSG"},"GP",{"$f":"IF(A314=\"\",\"\",IF(LEN(Schema!A326)=2,1,IF(LEN(Schema!B326)=2,10,IF(LEN(Schema!C326)=2,100,IF(LEN(Schema!D326)=2,1000,IF(LEN(Schema!E326)=2,10000,0))))))","v":0},10,{"$f":"IF(A314=\"\",\"\",SUM(Tabel2[[#This Row],[I1]:[I2]]))","v":10},"PP","GP","","","","PP/GP",{"$f":"IF(C314=\"\",\"\",IF(LEN(Tabel2[[#This Row],[Entiteit of attribuut]])=2,\"\",Tabel2[[#This Row],[Entiteit]]&\"_\"&Tabel2[[#This Row],[Entiteit of attribuut]]))","v":"GP_VBGBRSG"},{"$f":"IF(Schema!K326=\"\",\"\",Schema!K326)","v":""},{"$f":"IF(Schema!L326=\"\",\"\",Schema!L326)","v":""},{"$f":"IF(Schema!M326=\"\",\"\",Schema!M326)","v":""},{"$f":"IF(Schema!N326=\"\",\"\",Schema!N326)","v":""},{"$f":"IF(Schema!P326=\"\",\"\",Schema!P326)","v":"LEEG"}]
[{"$f":"Schema!A327&Schema!B327&Schema!C327&Schema!D327&Schema!E327&Schema!F327","v":"VBGEBOG"},"GP",{"$f":"IF(A315=\"\",\"\",IF(LEN(Schema!A327)=2,1,IF(LEN(Schema!B327)=2,10,IF(LEN(Schema!C327)=2,100,IF(LEN(Schema!D327)=2,1000,IF(LEN(Schema!E327)=2,10000,0))))))","v":0},10,{"$f":"IF(A315=\"\",\"\",SUM(Tabel2[[#This Row],[I1]:[I2]]))","v":10},"PP","GP","","","","PP/GP",{"$f":"IF(C315=\"\",\"\",IF(LEN(Tabel2[[#This Row],[Entiteit of attribuut]])=2,\"\",Tabel2[[#This Row],[Entiteit]]&\"_\"&Tabel2[[#This Row],[Entiteit of attribuut]]))","v":"GP_VBGEBOG"},{"$f":"IF(Schema!K327=\"\",\"\",Schema!K327)","v":""},{"$f":"IF(Schema!L327=\"\",\"\",Schema!L327)","v":""},{"$f":"IF(Schema!M327=\"\",\"\",Schema!M327)","v":""},{"$f":"IF(Schema!N327=\"\",\"\",Schema!N327)","v":""},{"$f":"IF(Schema!P327=\"\",\"\",Schema!P327)","v":"LEEG"}]
[{"$f":"Schema!A328&Schema!B328&Schema!C328&Schema!D328&Schema!E328&Schema!F328","v":"VBGLOOD"},"GP",{"$f":"IF(A316=\"\",\"\",IF(LEN(Schema!A328)=2,1,IF(LEN(Schema!B328)=2,10,IF(LEN(Schema!C328)=2,100,IF(LEN(Schema!D328)=2,1000,IF(LEN(Schema!E328)=2,10000,0))))))","v":0},10,{"$f":"IF(A316=\"\",\"\",SUM(Tabel2[[#This Row],[I1]:[I2]]))","v":10},"PP","GP","","","","PP/GP",{"$f":"IF(C316=\"\",\"\",IF(LEN(Tabel2[[#This Row],[Entiteit of attribuut]])=2,\"\",Tabel2[[#This Row],[Entiteit]]&\"_\"&Tabel2[[#This Row],[Entiteit of attribuut]]))","v":"GP_VBGLOOD"},{"$f":"IF(Schema!K328=\"\",\"\",Schema!K328)","v":""},{"$f":"IF(Schema!L328=\"\",\"\",Schema!L328)","v":""},{"$f":"IF(Schema!M328=\"\",\"\",Schema!M328)","v":""},{"$f":"IF(Schema!N328=\"\",\"\",Schema!N328)","v":""},{"$f":"IF(Schema!P328=\"\",\"\",Schema!P328)","v":"LEEG"}]
[{"$f":"Schema!A329&Schema!B329&Schema!C329&Schema!D329&Schema!E329&Schema!F329","v":"VBZANDG"},"GP",{"$f":"IF(A317=\"\",\"\",IF(LEN(Schema!A329)=2,1,IF(LEN(Schema!B329)=2,10,IF(LEN(Schema!C329)=2,100,IF(LEN(Schema!D329)=2,1000,IF(LEN(Schema!E329)=2,10000,0))))))","v":0},10,{"$f":"IF(A317=\"\",\"\",SUM(Tabel2[[#This Row],[I1]:[I2]]))","v":10},"PP","GP","","","","PP/GP",{"$f":"IF(C317=\"\",\"\",IF(LEN(Tabel2[[#This Row],[Entiteit of attribuut]])=2,\"\",Tabel2[[#This Row],[Entiteit]]&\"_\"&Tabel2[[#This Row],[Entiteit of attribuut]]))","v":"GP_VBZANDG"},{"$f":"IF(Schema!K329=\"\",\"\",Schema!K329)","v":""},{"$f":"IF(Schema!L329=\"\",\"\",Schema!L329)","v":""},{"$f":"IF(Schema!M329=\"\",\"\",Schema!M329)","v":""},{"$f":"IF(Schema!N329=\"\",\"\",Schema!N329)","v":""},{"$f":"IF(Schema!P329=\"\",\"\",Schema!P329)","v":"LEEG"}]
[{"$f":"Schema!A330&Schema!B330&Schema!C330&Schema!D330&Schema!E330&Schema!F330","v":"VERZSOM"},"GP",{"$f":"IF(A318=\"\",\"\",IF(LEN(Schema!A330)=2,1,IF(LEN(Schema!B330)=2,10,IF(LEN(Schema!C330)=2,100,IF(LEN(Schema!D330)=2,1000,IF(LEN(Schema!E330)=2,10000,0))))))","v":0},10,{"$f":"IF(A318=\"\",\"\",SUM(Tabel2[[#This Row],[I1]:[I2]]))","v":10},"PP","GP","","","","PP/GP",{"$f":"IF(C318=\"\",\"\",IF(LEN(Tabel2[[#This Row],[Entiteit of attribuut]])=2,\"\",Tabel2[[#This Row],[Entiteit]]&\"_\"&Tabel2[[#This Row],[Entiteit of attribuut]]))","v":"GP_VERZSOM"},{"$f":"IF(Schema!K330=\"\",\"\",Schema!K330)","v":""},{"$f":"IF(Schema!L330=\"\",\"\",Schema!L330)","v":""},{"$f":"IF(Schema!M330=\"\",\"\",Schema!M330)","v":""},{"$f":"IF(Schema!N330=\"\",\"\",Schema!N330)","v":""},{"$f":"IF(Schema!P330=\"\",\"\",Schema!P330)","v":"O"}]
[{"$f":"Schema!A331&Schema!B331&Schema!C331&Schema!D331&Schema!E331&Schema!F331","v":"VGBRA"},"GP",{"$f":"IF(A319=\"\",\"\",IF(LEN(Schema!A331)=2,1,IF(LEN(Schema!B331)=2,10,IF(LEN(Schema!C331)=2,100,IF(LEN(Schema!D331)=2,1000,IF(LEN(Schema!E331)=2,10000,0))))))","v":0},10,{"$f":"IF(A319=\"\",\"\",SUM(Tabel2[[#This Row],[I1]:[I2]]))","v":10},"PP","GP","","","","PP/GP",{"$f":"IF(C319=\"\",\"\",IF(LEN(Tabel2[[#This Row],[Entiteit of attribuut]])=2,\"\",Tabel2[[#This Row],[Entiteit]]&\"_\"&Tabel2[[#This Row],[Entiteit of attribuut]]))","v":"GP_VGBRA"},{"$f":"IF(Schema!K331=\"\",\"\",Schema!K331)","v":""},{"$f":"IF(Schema!L331=\"\",\"\",Schema!L331)","v":""},{"$f":"IF(Schema!M331=\"\",\"\",Schema!M331)","v":""},{"$f":"IF(Schema!N331=\"\",\"\",Schema!N331)","v":""},{"$f":"IF(Schema!P331=\"\",\"\",Schema!P331)","v":"O"}]
[{"$f":"Schema!A332&Schema!B332&Schema!C332&Schema!D332&Schema!E332&Schema!F332","v":"VOLGNUM"},"GP",{"$f":"IF(A320=\"\",\"\",IF(LEN(Schema!A332)=2,1,IF(LEN(Schema!B332)=2,10,IF(LEN(Schema!C332)=2,100,IF(LEN(Schema!D332)=2,1000,IF(LEN(Schema!E332)=2,10000,0))))))","v":0},10,{"$f":"IF(A320=\"\",\"\",SUM(Tabel2[[#This Row],[I1]:[I2]]))","v":10},"PP","GP","","","","PP/GP",{"$f":"IF(C320=\"\",\"\",IF(LEN(Tabel2[[#This Row],[Entiteit of attribuut]])=2,\"\",Tabel2[[#This Row],[Entiteit]]&\"_\"&Tabel2[[#This Row],[Entiteit of attribuut]]))","v":"GP_VOLGNUM"},{"$f":"IF(Schema!K332=\"\",\"\",Schema!K332)","v":""},{"$f":"IF(Schema!L332=\"\",\"\",Schema!L332)","v":""},{"$f":"IF(Schema!M332=\"\",\"\",Schema!M332)","v":""},{"$f":"IF(Schema!N332=\"\",\"\",Schema!N332)","v":""},{"$f":"IF(Schema!P332=\"\",\"\",Schema!P332)","v":"LEEG"}]
[{"$f":"Schema!A333&Schema!B333&Schema!C333&Schema!D333&Schema!E333&Schema!F333","v":"VRWRKCD"},"GP",{"$f":"IF(A321=\"\",\"\",IF(LEN(Schema!A333)=2,1,IF(LEN(Schema!B333)=2,10,IF(LEN(Schema!C333)=2,100,IF(LEN(Schema!D333)=2,1000,IF(LEN(Schema!E333)=2,10000,0))))))","v":0},10,{"$f":"IF(A321=\"\",\"\",SUM(Tabel2[[#This Row],[I1]:[I2]]))","v":10},"PP","GP","","","","PP/GP",{"$f":"IF(C321=\"\",\"\",IF(LEN(Tabel2[[#This Row],[Entiteit of attribuut]])=2,\"\",Tabel2[[#This Row],[Entiteit]]&\"_\"&Tabel2[[#This Row],[Entiteit of attribuut]]))","v":"GP_VRWRKCD"},{"$f":"IF(Schema!K333=\"\",\"\",Schema!K333)","v":""},{"$f":"IF(Schema!L333=\"\",\"\",Schema!L333)","v":""},{"$f":"IF(Schema!M333=\"\",\"\",Schema!M333)","v":""},{"$f":"IF(Schema!N333=\"\",\"\",Schema!N333)","v":""},{"$f":"IF(Schema!P333=\"\",\"\",Schema!P333)","v":"LEEG"}]
[{"$f":"Schema!A334&Schema!B334&Schema!C334&Schema!D334&Schema!E334&Schema!F334","v":"VZBBEL"},"GP",{"$f":"IF(A322=\"\",\"\",IF(LEN(Schema!A334)=2,1,IF(LEN(Schema!B334)=2,10,IF(LEN(Schema!C334)=2,100,IF(LEN(Schema!D334)=2,1000,IF(LEN(Schema!E334)=2,10000,0))))))","v":0},10,{"$f":"IF(A322=\"\",\"\",SUM(Tabel2[[#This Row],[I1]:[I2]]))","v":10},"PP","GP","","","","PP/GP",{"$f":"IF(C322=\"\",\"\",IF(LEN(Tabel2[[#This Row],[Entiteit of attribuut]])=2,\"\",Tabel2[[#This Row],[Entiteit]]&\"_\"&Tabel2[[#This Row],[Entiteit of attribuut]]))","v":"GP_VZBBEL"},{"$f":"IF(Schema!K334=\"\",\"\",Schema!K334)","v":""},{"$f":"IF(Schema!L334=\"\",\"\",Schema!L334)","v":""},{"$f":"IF(Schema!M334=\"\",\"\",Schema!M334)","v":""},{"$f":"IF(Schema!N334=\"\",\"\",Schema!N334)","v":""},{"$f":"IF(Schema!P334=\"\",\"\",Schema!P334)","v":"LEEG"}]
[{"$f":"Schema!A335&Schema!B335&Schema!C335&Schema!D335&Schema!E335&Schema!F335","v":"WPREMBP"},{"$f":"IF(LEN(A323)=2,A323,IF(A323=\"\",\"Leeg\",B322))","v":"GP"},{"$f":"IF(A323=\"\",\"\",IF(LEN(Schema!A335)=2,1,IF(LEN(Schema!B335)=2,10,IF(LEN(Schema!C335)=2,100,IF(LEN(Schema!D335)=2,1000,IF(LEN(Schema!E335)=2,10000,0))))))","v":0},{"$f":"IF(C323=0,D322,C323)","v":10},{"$f":"IF(A323=\"\",\"\",SUM(Tabel2[[#This Row],[I1]:[I2]]))","v":10},{"$f":"IF(A323=\"\",\"\",IF(C323=1,B323,F322))","v":"PP"},{"$f":"IF(C323=10,A323,IF(OR(C323=0,C323=100,C323=1000,C323=10000),G322,\"\"))","v":"GP"},{"$f":"IF(E323=200,B323,IF(OR(C323=0,C323=100,C323=1000,C323=10000),H322,\"\"))","v":""},{"$f":"IF(E323=2000,B323,IF(OR(C323=0,C323=10000),I322,\"\"))","v":""},{"$f":"IF(E323=20000,B323,IF(OR(C323=0,,C323=10000),J322,\"\"))","v":""},{"$f":"IF(C323=\"\",\"\",IF(OR(E323=1,E323=10,E323=100,E323=1000,E323=10000),K322,IF(E323=2,F323,IF(E323=20,F323&\"/\"&G323,IF(E323=200,F323&\"/\"&G323&\"/\"&H323,IF(E323=2000,F323&\"/\"&G323&\"/\"&H323&\"/\"&I323,IF(E323=20000,F323&\"/\"&G323&\"/\"&H323&\"/\"&I323&\"/\"&J323)))))))","v":"PP/GP"},{"$f":"IF(C323=\"\",\"\",IF(LEN(Tabel2[[#This Row],[Entiteit of attribuut]])=2,\"\",Tabel2[[#This Row],[Entiteit]]&\"_\"&Tabel2[[#This Row],[Entiteit of attribuut]]))","v":"GP_WPREMBP"},{"$f":"IF(Schema!K335=\"\",\"\",Schema!K335)","v":""},{"$f":"IF(Schema!L335=\"\",\"\",Schema!L335)","v":""},{"$f":"IF(Schema!M335=\"\",\"\",Schema!M335)","v":""},{"$f":"IF(Schema!N335=\"\",\"\",Schema!N335)","v":""},{"$f":"IF(Schema!P335=\"\",\"\",Schema!P335)","v":"O"}]
[{"$f":"Schema!A336&Schema!B336&Schema!C336&Schema!D336&Schema!E336&Schema!F336","v":"MP"},"MP",{"$f":"IF(A324=\"\",\"\",IF(LEN(Schema!A336)=2,1,IF(LEN(Schema!B336)=2,10,IF(LEN(Schema!C336)=2,100,IF(LEN(Schema!D336)=2,1000,IF(LEN(Schema!E336)=2,10000,0))))))","v":100},100,{"$f":"IF(A324=\"\",\"\",SUM(Tabel2[[#This Row],[I1]:[I2]]))","v":200},"PP","GP","MP","","","PP/GP/MP",{"$f":"IF(C324=\"\",\"\",IF(LEN(Tabel2[[#This Row],[Entiteit of attribuut]])=2,\"\",Tabel2[[#This Row],[Entiteit]]&\"_\"&Tabel2[[#This Row],[Entiteit of attribuut]]))","v":""},{"$f":"IF(Schema!K336=\"\",\"\",Schema!K336)","v":""},{"$f":"IF(Schema!L336=\"\",\"\",Schema!L336)","v":""},{"$f":"IF(Schema!M336=\"\",\"\",Schema!M336)","v":""},{"$f":"IF(Schema!N336=\"\",\"\",Schema!N336)","v":""},{"$f":"IF(Schema!P336=\"\",\"\",Schema!P336)","v":"O"}]
[{"$f":"Schema!A337&Schema!B337&Schema!C337&Schema!D337&Schema!E337&Schema!F337","v":"MYAAND"},"MP",{"$f":"IF(A325=\"\",\"\",IF(LEN(Schema!A337)=2,1,IF(LEN(Schema!B337)=2,10,IF(LEN(Schema!C337)=2,100,IF(LEN(Schema!D337)=2,1000,IF(LEN(Schema!E337)=2,10000,0))))))","v":0},100,{"$f":"IF(A325=\"\",\"\",SUM(Tabel2[[#This Row],[I1]:[I2]]))","v":100},"PP","GP","MP","","","PP/GP/MP",{"$f":"IF(C325=\"\",\"\",IF(LEN(Tabel2[[#This Row],[Entiteit of attribuut]])=2,\"\",Tabel2[[#This Row],[Entiteit]]&\"_\"&Tabel2[[#This Row],[Entiteit of attribuut]]))","v":"MP_MYAAND"},{"$f":"IF(Schema!K337=\"\",\"\",Schema!K337)","v":""},{"$f":"IF(Schema!L337=\"\",\"\",Schema!L337)","v":""},{"$f":"IF(Schema!M337=\"\",\"\",Schema!M337)","v":""},{"$f":"IF(Schema!N337=\"\",\"\",Schema!N337)","v":""},{"$f":"IF(Schema!P337=\"\",\"\",Schema!P337)","v":"O"}]
[{"$f":"Schema!A338&Schema!B338&Schema!C338&Schema!D338&Schema!E338&Schema!F338","v":"POOLNUM"},"MP",{"$f":"IF(A326=\"\",\"\",IF(LEN(Schema!A338)=2,1,IF(LEN(Schema!B338)=2,10,IF(LEN(Schema!C338)=2,100,IF(LEN(Schema!D338)=2,1000,IF(LEN(Schema!E338)=2,10000,0))))))","v":0},100,{"$f":"IF(A326=\"\",\"\",SUM(Tabel2[[#This Row],[I1]:[I2]]))","v":100},"PP","GP","MP","","","PP/GP/MP",{"$f":"IF(C326=\"\",\"\",IF(LEN(Tabel2[[#This Row],[Entiteit of attribuut]])=2,\"\",Tabel2[[#This Row],[Entiteit]]&\"_\"&Tabel2[[#This Row],[Entiteit of attribuut]]))","v":"MP_POOLNUM"},{"$f":"IF(Schema!K338=\"\",\"\",Schema!K338)","v":""},{"$f":"IF(Schema!L338=\"\",\"\",Schema!L338)","v":""},{"$f":"IF(Schema!M338=\"\",\"\",Schema!M338)","v":""},{"$f":"IF(Schema!N338=\"\",\"\",Schema!N338)","v":""},{"$f":"IF(Schema!P338=\"\",\"\",Schema!P338)","v":"V"}]
[{"$f":"Schema!A339&Schema!B339&Schema!C339&Schema!D339&Schema!E339&Schema!F339","v":"PLLEAD"},"MP",{"$f":"IF(A327=\"\",\"\",IF(LEN(Schema!A339)=2,1,IF(LEN(Schema!B339)=2,10,IF(LEN(Schema!C339)=2,100,IF(LEN(Schema!D339)=2,1000,IF(LEN(Schema!E339)=2,10000,0))))))","v":0},100,{"$f":"IF(A327=\"\",\"\",SUM(Tabel2[[#This Row],[I1]:[I2]]))","v":100},"PP","GP","MP","","","PP/GP/MP",{"$f":"IF(C327=\"\",\"\",IF(LEN(Tabel2[[#This Row],[Entiteit of attribuut]])=2,\"\",Tabel2[[#This Row],[Entiteit]]&\"_\"&Tabel2[[#This Row],[Entiteit of attribuut]]))","v":"MP_PLLEAD"},{"$f":"IF(Schema!K339=\"\",\"\",Schema!K339)","v":""},{"$f":"IF(Schema!L339=\"\",\"\",Schema!L339)","v":""},{"$f":"IF(Schema!M339=\"\",\"\",Schema!M339)","v":""},{"$f":"IF(Schema!N339=\"\",\"\",Schema!N339)","v":""},{"$f":"IF(Schema!P339=\"\",\"\",Schema!P339)","v":"O"}]
[{"$f":"Schema!A340&Schema!B340&Schema!C340&Schema!D340&Schema!E340&Schema!F340","v":"POOLPRC"},"MP",{"$f":"IF(A328=\"\",\"\",IF(LEN(Schema!A340)=2,1,IF(LEN(Schema!B340)=2,10,IF(LEN(Schema!C340)=2,100,IF(LEN(Schema!D340)=2,1000,IF(LEN(Schema!E340)=2,10000,0))))))","v":0},100,{"$f":"IF(A328=\"\",\"\",SUM(Tabel2[[#This Row],[I1]:[I2]]))","v":100},"PP","GP","MP","","","PP/GP/MP",{"$f":"IF(C328=\"\",\"\",IF(LEN(Tabel2[[#This Row],[Entiteit of attribuut]])=2,\"\",Tabel2[[#This Row],[Entiteit]]&\"_\"&Tabel2[[#This Row],[Entiteit of attribuut]]))","v":"MP_POOLPRC"},{"$f":"IF(Schema!K340=\"\",\"\",Schema!K340)","v":""},{"$f":"IF(Schema!L340=\"\",\"\",Schema!L340)","v":""},{"$f":"IF(Schema!M340=\"\",\"\",Schema!M340)","v":""},{"$f":"IF(Schema!N340=\"\",\"\",Schema!N340)","v":""},{"$f":"IF(Schema!P340=\"\",\"\",Schema!P340)","v":"V"}]
[{"$f":"Schema!A341&Schema!B341&Schema!C341&Schema!D341&Schema!E341&Schema!F341","v":"HU"},"HU",{"$f":"IF(A329=\"\",\"\",IF(LEN(Schema!A341)=2,1,IF(LEN(Schema!B341)=2,10,IF(LEN(Schema!C341)=2,100,IF(LEN(Schema!D341)=2,1000,IF(LEN(Schema!E341)=2,10000,0))))))","v":10},10,{"$f":"IF(A329=\"\",\"\",SUM(Tabel2[[#This Row],[I1]:[I2]]))","v":20},"PP","HU","","","","PP/HU",{"$f":"IF(C329=\"\",\"\",IF(LEN(Tabel2[[#This Row],[Entiteit of attribuut]])=2,\"\",Tabel2[[#This Row],[Entiteit]]&\"_\"&Tabel2[[#This Row],[Entiteit of attribuut]]))","v":""},{"$f":"IF(Schema!K341=\"\",\"\",Schema!K341)","v":""},{"$f":"IF(Schema!L341=\"\",\"\",Schema!L341)","v":""},{"$f":"IF(Schema!M341=\"\",\"\",Schema!M341)","v":""},{"$f":"IF(Schema!N341=\"\",\"\",Schema!N341)","v":""},{"$f":"IF(Schema!P341=\"\",\"\",Schema!P341)","v":"O"}]
[{"$f":"Schema!A342&Schema!B342&Schema!C342&Schema!D342&Schema!E342&Schema!F342","v":"BAFWST"},"HU",{"$f":"IF(A330=\"\",\"\",IF(LEN(Schema!A342)=2,1,IF(LEN(Schema!B342)=2,10,IF(LEN(Schema!C342)=2,100,IF(LEN(Schema!D342)=2,1000,IF(LEN(Schema!E342)=2,10000,0))))))","v":0},10,{"$f":"IF(A330=\"\",\"\",SUM(Tabel2[[#This Row],[I1]:[I2]]))","v":10},"PP","HU","","","","PP/HU",{"$f":"IF(C330=\"\",\"\",IF(LEN(Tabel2[[#This Row],[Entiteit of attribuut]])=2,\"\",Tabel2[[#This Row],[Entiteit]]&\"_\"&Tabel2[[#This Row],[Entiteit of attribuut]]))","v":"HU_BAFWST"},{"$f":"IF(Schema!K342=\"\",\"\",Schema!K342)","v":""},{"$f":"IF(Schema!L342=\"\",\"\",Schema!L342)","v":""},{"$f":"IF(Schema!M342=\"\",\"\",Schema!M342)","v":""},{"$f":"IF(Schema!N342=\"\",\"\",Schema!N342)","v":""},{"$f":"IF(Schema!P342=\"\",\"\",Schema!P342)","v":"O"}]
[{"$f":"Schema!A343&Schema!B343&Schema!C343&Schema!D343&Schema!E343&Schema!F343","v":"BTP"},"HU",{"$f":"IF(A331=\"\",\"\",IF(LEN(Schema!A343)=2,1,IF(LEN(Schema!B343)=2,10,IF(LEN(Schema!C343)=2,100,IF(LEN(Schema!D343)=2,1000,IF(LEN(Schema!E343)=2,10000,0))))))","v":0},10,{"$f":"IF(A331=\"\",\"\",SUM(Tabel2[[#This Row],[I1]:[I2]]))","v":10},"PP","HU","","","","PP/HU",{"$f":"IF(C331=\"\",\"\",IF(LEN(Tabel2[[#This Row],[Entiteit of attribuut]])=2,\"\",Tabel2[[#This Row],[Entiteit]]&\"_\"&Tabel2[[#This Row],[Entiteit of attribuut]]))","v":"HU_BTP"},{"$f":"IF(Schema!K343=\"\",\"\",Schema!K343)","v":""},{"$f":"IF(Schema!L343=\"\",\"\",Schema!L343)","v":""},{"$f":"IF(Schema!M343=\"\",\"\",Schema!M343)","v":""},{"$f":"IF(Schema!N343=\"\",\"\",Schema!N343)","v":""},{"$f":"IF(Schema!P343=\"\",\"\",Schema!P343)","v":"LEEG"}]
[{"$f":"Schema!A344&Schema!B344&Schema!C344&Schema!D344&Schema!E344&Schema!F344","v":"CODE"},"HU",{"$f":"IF(A332=\"\",\"\",IF(LEN(Schema!A344)=2,1,IF(LEN(Schema!B344)=2,10,IF(LEN(Schema!C344)=2,100,IF(LEN(Schema!D344)=2,1000,IF(LEN(Schema!E344)=2,10000,0))))))","v":0},10,{"$f":"IF(A332=\"\",\"\",SUM(Tabel2[[#This Row],[I1]:[I2]]))","v":10},"PP","HU","","","","PP/HU",{"$f":"IF(C332=\"\",\"\",IF(LEN(Tabel2[[#This Row],[Entiteit of attribuut]])=2,\"\",Tabel2[[#This Row],[Entiteit]]&\"_\"&Tabel2[[#This Row],[Entiteit of attribuut]]))","v":"HU_CODE"},{"$f":"IF(Schema!K344=\"\",\"\",Schema!K344)","v":""},{"$f":"IF(Schema!L344=\"\",\"\",Schema!L344)","v":""},{"$f":"IF(Schema!M344=\"\",\"\",Schema!M344)","v":""},{"$f":"IF(Schema!N344=\"\",\"\",Schema!N344)","v":""},{"$f":"IF(Schema!P344=\"\",\"\",Schema!P344)","v":"O"}]
[{"$f":"Schema!A345&Schema!B345&Schema!C345&Schema!D345&Schema!E345&Schema!F345","v":"COLFACT"},"HU",{"$f":"IF(A333=\"\",\"\",IF(LEN(Schema!A345)=2,1,IF(LEN(Schema!B345)=2,10,IF(LEN(Schema!C345)=2,100,IF(LEN(Schema!D345)=2,1000,IF(LEN(Schema!E345)=2,10000,0))))))","v":0},10,{"$f":"IF(A333=\"\",\"\",SUM(Tabel2[[#This Row],[I1]:[I2]]))","v":10},"PP","HU","","","","PP/HU",{"$f":"IF(C333=\"\",\"\",IF(LEN(Tabel2[[#This Row],[Entiteit of attribuut]])=2,\"\",Tabel2[[#This Row],[Entiteit]]&\"_\"&Tabel2[[#This Row],[Entiteit of attribuut]]))","v":"HU_COLFACT"},{"$f":"IF(Schema!K345=\"\",\"\",Schema!K345)","v":""},{"$f":"IF(Schema!L345=\"\",\"\",Schema!L345)","v":""},{"$f":"IF(Schema!M345=\"\",\"\",Schema!M345)","v":""},{"$f":"IF(Schema!N345=\"\",\"\",Schema!N345)","v":""},{"$f":"IF(Schema!P345=\"\",\"\",Schema!P345)","v":"O"}]
[{"$f":"Schema!A346&Schema!B346&Schema!C346&Schema!D346&Schema!E346&Schema!F346","v":"ERB"},"HU",{"$f":"IF(A334=\"\",\"\",IF(LEN(Schema!A346)=2,1,IF(LEN(Schema!B346)=2,10,IF(LEN(Schema!C346)=2,100,IF(LEN(Schema!D346)=2,1000,IF(LEN(Schema!E346)=2,10000,0))))))","v":0},10,{"$f":"IF(A334=\"\",\"\",SUM(Tabel2[[#This Row],[I1]:[I2]]))","v":10},"PP","HU","","","","PP/HU",{"$f":"IF(C334=\"\",\"\",IF(LEN(Tabel2[[#This Row],[Entiteit of attribuut]])=2,\"\",Tabel2[[#This Row],[Entiteit]]&\"_\"&Tabel2[[#This Row],[Entiteit of attribuut]]))","v":"HU_ERB"},{"$f":"IF(Schema!K346=\"\",\"\",Schema!K346)","v":""},{"$f":"IF(Schema!L346=\"\",\"\",Schema!L346)","v":""},{"$f":"IF(Schema!M346=\"\",\"\",Schema!M346)","v":""},{"$f":"IF(Schema!N346=\"\",\"\",Schema!N346)","v":""},{"$f":"IF(Schema!P346=\"\",\"\",Schema!P346)","v":"O"}]
[{"$f":"Schema!A347&Schema!B347&Schema!C347&Schema!D347&Schema!E347&Schema!F347","v":"GADEKCD"},"HU",{"$f":"IF(A335=\"\",\"\",IF(LEN(Schema!A347)=2,1,IF(LEN(Schema!B347)=2,10,IF(LEN(Schema!C347)=2,100,IF(LEN(Schema!D347)=2,1000,IF(LEN(Schema!E347)=2,10000,0))))))","v":0},10,{"$f":"IF(A335=\"\",\"\",SUM(Tabel2[[#This Row],[I1]:[I2]]))","v":10},"PP","HU","","","","PP/HU",{"$f":"IF(C335=\"\",\"\",IF(LEN(Tabel2[[#This Row],[Entiteit of attribuut]])=2,\"\",Tabel2[[#This Row],[Entiteit]]&\"_\"&Tabel2[[#This Row],[Entiteit of attribuut]]))","v":"HU_GADEKCD"},{"$f":"IF(Schema!K347=\"\",\"\",Schema!K347)","v":""},{"$f":"IF(Schema!L347=\"\",\"\",Schema!L347)","v":""},{"$f":"IF(Schema!M347=\"\",\"\",Schema!M347)","v":""},{"$f":"IF(Schema!N347=\"\",\"\",Schema!N347)","v":""},{"$f":"IF(Schema!P347=\"\",\"\",Schema!P347)","v":"V"}]
[{"$f":"Schema!A348&Schema!B348&Schema!C348&Schema!D348&Schema!E348&Schema!F348","v":"GADEKCO"},"HU",{"$f":"IF(A336=\"\",\"\",IF(LEN(Schema!A348)=2,1,IF(LEN(Schema!B348)=2,10,IF(LEN(Schema!C348)=2,100,IF(LEN(Schema!D348)=2,1000,IF(LEN(Schema!E348)=2,10000,0))))))","v":0},10,{"$f":"IF(A336=\"\",\"\",SUM(Tabel2[[#This Row],[I1]:[I2]]))","v":10},"PP","HU","","","","PP/HU",{"$f":"IF(C336=\"\",\"\",IF(LEN(Tabel2[[#This Row],[Entiteit of attribuut]])=2,\"\",Tabel2[[#This Row],[Entiteit]]&\"_\"&Tabel2[[#This Row],[Entiteit of attribuut]]))","v":"HU_GADEKCO"},{"$f":"IF(Schema!K348=\"\",\"\",Schema!K348)","v":""},{"$f":"IF(Schema!L348=\"\",\"\",Schema!L348)","v":""},{"$f":"IF(Schema!M348=\"\",\"\",Schema!M348)","v":""},{"$f":"IF(Schema!N348=\"\",\"\",Schema!N348)","v":""},{"$f":"IF(Schema!P348=\"\",\"\",Schema!P348)","v":"V"}]
[{"$f":"Schema!A349&Schema!B349&Schema!C349&Schema!D349&Schema!E349&Schema!F349","v":"MYCODE"},"HU",{"$f":"IF(A337=\"\",\"\",IF(LEN(Schema!A349)=2,1,IF(LEN(Schema!B349)=2,10,IF(LEN(Schema!C349)=2,100,IF(LEN(Schema!D349)=2,1000,IF(LEN(Schema!E349)=2,10000,0))))))","v":0},10,{"$f":"IF(A337=\"\",\"\",SUM(Tabel2[[#This Row],[I1]:[I2]]))","v":10},"PP","HU","","","","PP/HU",{"$f":"IF(C337=\"\",\"\",IF(LEN(Tabel2[[#This Row],[Entiteit of attribuut]])=2,\"\",Tabel2[[#This Row],[Entiteit]]&\"_\"&Tabel2[[#This Row],[Entiteit of attribuut]]))","v":"HU_MYCODE"},{"$f":"IF(Schema!K349=\"\",\"\",Schema!K349)","v":""},{"$f":"IF(Schema!L349=\"\",\"\",Schema!L349)","v":""},{"$f":"IF(Schema!M349=\"\",\"\",Schema!M349)","v":""},{"$f":"IF(Schema!N349=\"\",\"\",Schema!N349)","v":""},{"$f":"IF(Schema!P349=\"\",\"\",Schema!P349)","v":"O"}]
[{"$f":"Schema!A350&Schema!B350&Schema!C350&Schema!D350&Schema!E350&Schema!F350","v":"NJP"},"HU",{"$f":"IF(A338=\"\",\"\",IF(LEN(Schema!A350)=2,1,IF(LEN(Schema!B350)=2,10,IF(LEN(Schema!C350)=2,100,IF(LEN(Schema!D350)=2,1000,IF(LEN(Schema!E350)=2,10000,0))))))","v":0},10,{"$f":"IF(A338=\"\",\"\",SUM(Tabel2[[#This Row],[I1]:[I2]]))","v":10},"PP","HU","","","","PP/HU",{"$f":"IF(C338=\"\",\"\",IF(LEN(Tabel2[[#This Row],[Entiteit of attribuut]])=2,\"\",Tabel2[[#This Row],[Entiteit]]&\"_\"&Tabel2[[#This Row],[Entiteit of attribuut]]))","v":"HU_NJP"},{"$f":"IF(Schema!K350=\"\",\"\",Schema!K350)","v":""},{"$f":"IF(Schema!L350=\"\",\"\",Schema!L350)","v":""},{"$f":"IF(Schema!M350=\"\",\"\",Schema!M350)","v":""},{"$f":"IF(Schema!N350=\"\",\"\",Schema!N350)","v":""},{"$f":"IF(Schema!P350=\"\",\"\",Schema!P350)","v":"O"}]
[{"$f":"Schema!A351&Schema!B351&Schema!C351&Schema!D351&Schema!E351&Schema!F351","v":"PAFWST"},"HU",{"$f":"IF(A339=\"\",\"\",IF(LEN(Schema!A351)=2,1,IF(LEN(Schema!B351)=2,10,IF(LEN(Schema!C351)=2,100,IF(LEN(Schema!D351)=2,1000,IF(LEN(Schema!E351)=2,10000,0))))))","v":0},10,{"$f":"IF(A339=\"\",\"\",SUM(Tabel2[[#This Row],[I1]:[I2]]))","v":10},"PP","HU","","","","PP/HU",{"$f":"IF(C339=\"\",\"\",IF(LEN(Tabel2[[#This Row],[Entiteit of attribuut]])=2,\"\",Tabel2[[#This Row],[Entiteit]]&\"_\"&Tabel2[[#This Row],[Entiteit of attribuut]]))","v":"HU_PAFWST"},{"$f":"IF(Schema!K351=\"\",\"\",Schema!K351)","v":""},{"$f":"IF(Schema!L351=\"\",\"\",Schema!L351)","v":""},{"$f":"IF(Schema!M351=\"\",\"\",Schema!M351)","v":""},{"$f":"IF(Schema!N351=\"\",\"\",Schema!N351)","v":""},{"$f":"IF(Schema!P351=\"\",\"\",Schema!P351)","v":"O"}]
[{"$f":"Schema!A352&Schema!B352&Schema!C352&Schema!D352&Schema!E352&Schema!F352","v":"PPRC"},"HU",{"$f":"IF(A340=\"\",\"\",IF(LEN(Schema!A352)=2,1,IF(LEN(Schema!B352)=2,10,IF(LEN(Schema!C352)=2,100,IF(LEN(Schema!D352)=2,1000,IF(LEN(Schema!E352)=2,10000,0))))))","v":0},10,{"$f":"IF(A340=\"\",\"\",SUM(Tabel2[[#This Row],[I1]:[I2]]))","v":10},"PP","HU","","","","PP/HU",{"$f":"IF(C340=\"\",\"\",IF(LEN(Tabel2[[#This Row],[Entiteit of attribuut]])=2,\"\",Tabel2[[#This Row],[Entiteit]]&\"_\"&Tabel2[[#This Row],[Entiteit of attribuut]]))","v":"HU_PPRC"},{"$f":"IF(Schema!K352=\"\",\"\",Schema!K352)","v":""},{"$f":"IF(Schema!L352=\"\",\"\",Schema!L352)","v":""},{"$f":"IF(Schema!M352=\"\",\"\",Schema!M352)","v":""},{"$f":"IF(Schema!N352=\"\",\"\",Schema!N352)","v":""},{"$f":"IF(Schema!P352=\"\",\"\",Schema!P352)","v":"O"}]
[{"$f":"Schema!A353&Schema!B353&Schema!C353&Schema!D353&Schema!E353&Schema!F353","v":"PRCPKKT"},"HU",{"$f":"IF(A341=\"\",\"\",IF(LEN(Schema!A353)=2,1,IF(LEN(Schema!B353)=2,10,IF(LEN(Schema!C353)=2,100,IF(LEN(Schema!D353)=2,1000,IF(LEN(Schema!E353)=2,10000,0))))))","v":0},10,{"$f":"IF(A341=\"\",\"\",SUM(Tabel2[[#This Row],[I1]:[I2]]))","v":10},"PP","HU","","","","PP/HU",{"$f":"IF(C341=\"\",\"\",IF(LEN(Tabel2[[#This Row],[Entiteit of attribuut]])=2,\"\",Tabel2[[#This Row],[Entiteit]]&\"_\"&Tabel2[[#This Row],[Entiteit of attribuut]]))","v":"HU_PRCPKKT"},{"$f":"IF(Schema!K353=\"\",\"\",Schema!K353)","v":""},{"$f":"IF(Schema!L353=\"\",\"\",Schema!L353)","v":""},{"$f":"IF(Schema!M353=\"\",\"\",Schema!M353)","v":""},{"$f":"IF(Schema!N353=\"\",\"\",Schema!N353)","v":""},{"$f":"IF(Schema!P353=\"\",\"\",Schema!P353)","v":"O"}]
[{"$f":"Schema!A354&Schema!B354&Schema!C354&Schema!D354&Schema!E354&Schema!F354","v":"PRCTEKC"},"HU",{"$f":"IF(A342=\"\",\"\",IF(LEN(Schema!A354)=2,1,IF(LEN(Schema!B354)=2,10,IF(LEN(Schema!C354)=2,100,IF(LEN(Schema!D354)=2,1000,IF(LEN(Schema!E354)=2,10000,0))))))","v":0},10,{"$f":"IF(A342=\"\",\"\",SUM(Tabel2[[#This Row],[I1]:[I2]]))","v":10},"PP","HU","","","","PP/HU",{"$f":"IF(C342=\"\",\"\",IF(LEN(Tabel2[[#This Row],[Entiteit of attribuut]])=2,\"\",Tabel2[[#This Row],[Entiteit]]&\"_\"&Tabel2[[#This Row],[Entiteit of attribuut]]))","v":"HU_PRCTEKC"},{"$f":"IF(Schema!K354=\"\",\"\",Schema!K354)","v":""},{"$f":"IF(Schema!L354=\"\",\"\",Schema!L354)","v":""},{"$f":"IF(Schema!M354=\"\",\"\",Schema!M354)","v":""},{"$f":"IF(Schema!N354=\"\",\"\",Schema!N354)","v":""},{"$f":"IF(Schema!P354=\"\",\"\",Schema!P354)","v":"O"}]
[{"$f":"Schema!A355&Schema!B355&Schema!C355&Schema!D355&Schema!E355&Schema!F355","v":"PRMPROM"},"HU",{"$f":"IF(A343=\"\",\"\",IF(LEN(Schema!A355)=2,1,IF(LEN(Schema!B355)=2,10,IF(LEN(Schema!C355)=2,100,IF(LEN(Schema!D355)=2,1000,IF(LEN(Schema!E355)=2,10000,0))))))","v":0},10,{"$f":"IF(A343=\"\",\"\",SUM(Tabel2[[#This Row],[I1]:[I2]]))","v":10},"PP","HU","","","","PP/HU",{"$f":"IF(C343=\"\",\"\",IF(LEN(Tabel2[[#This Row],[Entiteit of attribuut]])=2,\"\",Tabel2[[#This Row],[Entiteit]]&\"_\"&Tabel2[[#This Row],[Entiteit of attribuut]]))","v":"HU_PRMPROM"},{"$f":"IF(Schema!K355=\"\",\"\",Schema!K355)","v":""},{"$f":"IF(Schema!L355=\"\",\"\",Schema!L355)","v":""},{"$f":"IF(Schema!M355=\"\",\"\",Schema!M355)","v":""},{"$f":"IF(Schema!N355=\"\",\"\",Schema!N355)","v":""},{"$f":"IF(Schema!P355=\"\",\"\",Schema!P355)","v":"O"}]
[{"$f":"Schema!A356&Schema!B356&Schema!C356&Schema!D356&Schema!E356&Schema!F356","v":"RELVRH"},"HU",{"$f":"IF(A344=\"\",\"\",IF(LEN(Schema!A356)=2,1,IF(LEN(Schema!B356)=2,10,IF(LEN(Schema!C356)=2,100,IF(LEN(Schema!D356)=2,1000,IF(LEN(Schema!E356)=2,10000,0))))))","v":0},10,{"$f":"IF(A344=\"\",\"\",SUM(Tabel2[[#This Row],[I1]:[I2]]))","v":10},"PP","HU","","","","PP/HU",{"$f":"IF(C344=\"\",\"\",IF(LEN(Tabel2[[#This Row],[Entiteit of attribuut]])=2,\"\",Tabel2[[#This Row],[Entiteit]]&\"_\"&Tabel2[[#This Row],[Entiteit of attribuut]]))","v":"HU_RELVRH"},{"$f":"IF(Schema!K356=\"\",\"\",Schema!K356)","v":""},{"$f":"IF(Schema!L356=\"\",\"\",Schema!L356)","v":""},{"$f":"IF(Schema!M356=\"\",\"\",Schema!M356)","v":""},{"$f":"IF(Schema!N356=\"\",\"\",Schema!N356)","v":""},{"$f":"IF(Schema!P356=\"\",\"\",Schema!P356)","v":"O"}]
[{"$f":"Schema!A357&Schema!B357&Schema!C357&Schema!D357&Schema!E357&Schema!F357","v":"RELVVNR"},"HU",{"$f":"IF(A345=\"\",\"\",IF(LEN(Schema!A357)=2,1,IF(LEN(Schema!B357)=2,10,IF(LEN(Schema!C357)=2,100,IF(LEN(Schema!D357)=2,1000,IF(LEN(Schema!E357)=2,10000,0))))))","v":0},10,{"$f":"IF(A345=\"\",\"\",SUM(Tabel2[[#This Row],[I1]:[I2]]))","v":10},"PP","HU","","","","PP/HU",{"$f":"IF(C345=\"\",\"\",IF(LEN(Tabel2[[#This Row],[Entiteit of attribuut]])=2,\"\",Tabel2[[#This Row],[Entiteit]]&\"_\"&Tabel2[[#This Row],[Entiteit of attribuut]]))","v":"HU_RELVVNR"},{"$f":"IF(Schema!K357=\"\",\"\",Schema!K357)","v":""},{"$f":"IF(Schema!L357=\"\",\"\",Schema!L357)","v":""},{"$f":"IF(Schema!M357=\"\",\"\",Schema!M357)","v":""},{"$f":"IF(Schema!N357=\"\",\"\",Schema!N357)","v":""},{"$f":"IF(Schema!P357=\"\",\"\",Schema!P357)","v":"O"}]
[{"$f":"Schema!A358&Schema!B358&Schema!C358&Schema!D358&Schema!E358&Schema!F358","v":"RJRCOR"},"HU",{"$f":"IF(A346=\"\",\"\",IF(LEN(Schema!A358)=2,1,IF(LEN(Schema!B358)=2,10,IF(LEN(Schema!C358)=2,100,IF(LEN(Schema!D358)=2,1000,IF(LEN(Schema!E358)=2,10000,0))))))","v":0},10,{"$f":"IF(A346=\"\",\"\",SUM(Tabel2[[#This Row],[I1]:[I2]]))","v":10},"PP","HU","","","","PP/HU",{"$f":"IF(C346=\"\",\"\",IF(LEN(Tabel2[[#This Row],[Entiteit of attribuut]])=2,\"\",Tabel2[[#This Row],[Entiteit]]&\"_\"&Tabel2[[#This Row],[Entiteit of attribuut]]))","v":"HU_RJRCOR"},{"$f":"IF(Schema!K358=\"\",\"\",Schema!K358)","v":""},{"$f":"IF(Schema!L358=\"\",\"\",Schema!L358)","v":""},{"$f":"IF(Schema!M358=\"\",\"\",Schema!M358)","v":""},{"$f":"IF(Schema!N358=\"\",\"\",Schema!N358)","v":""},{"$f":"IF(Schema!P358=\"\",\"\",Schema!P358)","v":"O"}]
[{"$f":"Schema!A359&Schema!B359&Schema!C359&Schema!D359&Schema!E359&Schema!F359","v":"TCORBDR"},"HU",{"$f":"IF(A347=\"\",\"\",IF(LEN(Schema!A359)=2,1,IF(LEN(Schema!B359)=2,10,IF(LEN(Schema!C359)=2,100,IF(LEN(Schema!D359)=2,1000,IF(LEN(Schema!E359)=2,10000,0))))))","v":0},10,{"$f":"IF(A347=\"\",\"\",SUM(Tabel2[[#This Row],[I1]:[I2]]))","v":10},"PP","HU","","","","PP/HU",{"$f":"IF(C347=\"\",\"\",IF(LEN(Tabel2[[#This Row],[Entiteit of attribuut]])=2,\"\",Tabel2[[#This Row],[Entiteit]]&\"_\"&Tabel2[[#This Row],[Entiteit of attribuut]]))","v":"HU_TCORBDR"},{"$f":"IF(Schema!K359=\"\",\"\",Schema!K359)","v":""},{"$f":"IF(Schema!L359=\"\",\"\",Schema!L359)","v":""},{"$f":"IF(Schema!M359=\"\",\"\",Schema!M359)","v":""},{"$f":"IF(Schema!N359=\"\",\"\",Schema!N359)","v":""},{"$f":"IF(Schema!P359=\"\",\"\",Schema!P359)","v":"O"}]
[{"$f":"Schema!A360&Schema!B360&Schema!C360&Schema!D360&Schema!E360&Schema!F360","v":"VERZSOM"},"HU",{"$f":"IF(A348=\"\",\"\",IF(LEN(Schema!A360)=2,1,IF(LEN(Schema!B360)=2,10,IF(LEN(Schema!C360)=2,100,IF(LEN(Schema!D360)=2,1000,IF(LEN(Schema!E360)=2,10000,0))))))","v":0},10,{"$f":"IF(A348=\"\",\"\",SUM(Tabel2[[#This Row],[I1]:[I2]]))","v":10},"PP","HU","","","","PP/HU",{"$f":"IF(C348=\"\",\"\",IF(LEN(Tabel2[[#This Row],[Entiteit of attribuut]])=2,\"\",Tabel2[[#This Row],[Entiteit]]&\"_\"&Tabel2[[#This Row],[Entiteit of attribuut]]))","v":"HU_VERZSOM"},{"$f":"IF(Schema!K360=\"\",\"\",Schema!K360)","v":""},{"$f":"IF(Schema!L360=\"\",\"\",Schema!L360)","v":""},{"$f":"IF(Schema!M360=\"\",\"\",Schema!M360)","v":""},{"$f":"IF(Schema!N360=\"\",\"\",Schema!N360)","v":""},{"$f":"IF(Schema!P360=\"\",\"\",Schema!P360)","v":"O"}]
[{"$f":"Schema!A361&Schema!B361&Schema!C361&Schema!D361&Schema!E361&Schema!F361","v":"VGBRA"},"HU",{"$f":"IF(A349=\"\",\"\",IF(LEN(Schema!A361)=2,1,IF(LEN(Schema!B361)=2,10,IF(LEN(Schema!C361)=2,100,IF(LEN(Schema!D361)=2,1000,IF(LEN(Schema!E361)=2,10000,0))))))","v":0},10,{"$f":"IF(A349=\"\",\"\",SUM(Tabel2[[#This Row],[I1]:[I2]]))","v":10},"PP","HU","","","","PP/HU",{"$f":"IF(C349=\"\",\"\",IF(LEN(Tabel2[[#This Row],[Entiteit of attribuut]])=2,\"\",Tabel2[[#This Row],[Entiteit]]&\"_\"&Tabel2[[#This Row],[Entiteit of attribuut]]))","v":"HU_VGBRA"},{"$f":"IF(Schema!K361=\"\",\"\",Schema!K361)","v":""},{"$f":"IF(Schema!L361=\"\",\"\",Schema!L361)","v":""},{"$f":"IF(Schema!M361=\"\",\"\",Schema!M361)","v":""},{"$f":"IF(Schema!N361=\"\",\"\",Schema!N361)","v":""},{"$f":"IF(Schema!P361=\"\",\"\",Schema!P361)","v":"O"}]
[{"$f":"Schema!A362&Schema!B362&Schema!C362&Schema!D362&Schema!E362&Schema!F362","v":"VOLGNUM"},"HU",{"$f":"IF(A350=\"\",\"\",IF(LEN(Schema!A362)=2,1,IF(LEN(Schema!B362)=2,10,IF(LEN(Schema!C362)=2,100,IF(LEN(Schema!D362)=2,1000,IF(LEN(Schema!E362)=2,10000,0))))))","v":0},10,{"$f":"IF(A350=\"\",\"\",SUM(Tabel2[[#This Row],[I1]:[I2]]))","v":10},"PP","HU","","","","PP/HU",{"$f":"IF(C350=\"\",\"\",IF(LEN(Tabel2[[#This Row],[Entiteit of attribuut]])=2,\"\",Tabel2[[#This Row],[Entiteit]]&\"_\"&Tabel2[[#This Row],[Entiteit of attribuut]]))","v":"HU_VOLGNUM"},{"$f":"IF(Schema!K362=\"\",\"\",Schema!K362)","v":""},{"$f":"IF(Schema!L362=\"\",\"\",Schema!L362)","v":""},{"$f":"IF(Schema!M362=\"\",\"\",Schema!M362)","v":""},{"$f":"IF(Schema!N362=\"\",\"\",Schema!N362)","v":""},{"$f":"IF(Schema!P362=\"\",\"\",Schema!P362)","v":"LEEG"}]
[{"$f":"Schema!A363&Schema!B363&Schema!C363&Schema!D363&Schema!E363&Schema!F363","v":"VRWRKCD"},"HU",{"$f":"IF(A351=\"\",\"\",IF(LEN(Schema!A363)=2,1,IF(LEN(Schema!B363)=2,10,IF(LEN(Schema!C363)=2,100,IF(LEN(Schema!D363)=2,1000,IF(LEN(Schema!E363)=2,10000,0))))))","v":0},10,{"$f":"IF(A351=\"\",\"\",SUM(Tabel2[[#This Row],[I1]:[I2]]))","v":10},"PP","HU","","","","PP/HU",{"$f":"IF(C351=\"\",\"\",IF(LEN(Tabel2[[#This Row],[Entiteit of attribuut]])=2,\"\",Tabel2[[#This Row],[Entiteit]]&\"_\"&Tabel2[[#This Row],[Entiteit of attribuut]]))","v":"HU_VRWRKCD"},{"$f":"IF(Schema!K363=\"\",\"\",Schema!K363)","v":""},{"$f":"IF(Schema!L363=\"\",\"\",Schema!L363)","v":""},{"$f":"IF(Schema!M363=\"\",\"\",Schema!M363)","v":""},{"$f":"IF(Schema!N363=\"\",\"\",Schema!N363)","v":""},{"$f":"IF(Schema!P363=\"\",\"\",Schema!P363)","v":"LEEG"}]
[{"$f":"Schema!A364&Schema!B364&Schema!C364&Schema!D364&Schema!E364&Schema!F364","v":"WPREMBP"},"HU",{"$f":"IF(A352=\"\",\"\",IF(LEN(Schema!A364)=2,1,IF(LEN(Schema!B364)=2,10,IF(LEN(Schema!C364)=2,100,IF(LEN(Schema!D364)=2,1000,IF(LEN(Schema!E364)=2,10000,0))))))","v":0},10,{"$f":"IF(A352=\"\",\"\",SUM(Tabel2[[#This Row],[I1]:[I2]]))","v":10},"PP","HU","","","","PP/HU",{"$f":"IF(C352=\"\",\"\",IF(LEN(Tabel2[[#This Row],[Entiteit of attribuut]])=2,\"\",Tabel2[[#This Row],[Entiteit]]&\"_\"&Tabel2[[#This Row],[Entiteit of attribuut]]))","v":"HU_WPREMBP"},{"$f":"IF(Schema!K364=\"\",\"\",Schema!K364)","v":""},{"$f":"IF(Schema!L364=\"\",\"\",Schema!L364)","v":""},{"$f":"IF(Schema!M364=\"\",\"\",Schema!M364)","v":""},{"$f":"IF(Schema!N364=\"\",\"\",Schema!N364)","v":""},{"$f":"IF(Schema!P364=\"\",\"\",Schema!P364)","v":"O"}]
[{"$f":"Schema!A365&Schema!B365&Schema!C365&Schema!D365&Schema!E365&Schema!F365","v":"MP"},"MP",{"$f":"IF(A353=\"\",\"\",IF(LEN(Schema!A365)=2,1,IF(LEN(Schema!B365)=2,10,IF(LEN(Schema!C365)=2,100,IF(LEN(Schema!D365)=2,1000,IF(LEN(Schema!E365)=2,10000,0))))))","v":100},100,{"$f":"IF(A353=\"\",\"\",SUM(Tabel2[[#This Row],[I1]:[I2]]))","v":200},"PP","HU","MP","","","PP/HU/MP",{"$f":"IF(C353=\"\",\"\",IF(LEN(Tabel2[[#This Row],[Entiteit of attribuut]])=2,\"\",Tabel2[[#This Row],[Entiteit]]&\"_\"&Tabel2[[#This Row],[Entiteit of attribuut]]))","v":""},{"$f":"IF(Schema!K365=\"\",\"\",Schema!K365)","v":""},{"$f":"IF(Schema!L365=\"\",\"\",Schema!L365)","v":""},{"$f":"IF(Schema!M365=\"\",\"\",Schema!M365)","v":""},{"$f":"IF(Schema!N365=\"\",\"\",Schema!N365)","v":""},{"$f":"IF(Schema!P365=\"\",\"\",Schema!P365)","v":"O"}]
[{"$f":"Schema!A366&Schema!B366&Schema!C366&Schema!D366&Schema!E366&Schema!F366","v":"MYAAND"},"MP",{"$f":"IF(A354=\"\",\"\",IF(LEN(Schema!A366)=2,1,IF(LEN(Schema!B366)=2,10,IF(LEN(Schema!C366)=2,100,IF(LEN(Schema!D366)=2,1000,IF(LEN(Schema!E366)=2,10000,0))))))","v":0},100,{"$f":"IF(A354=\"\",\"\",SUM(Tabel2[[#This Row],[I1]:[I2]]))","v":100},"PP","HU","MP","","","PP/HU/MP",{"$f":"IF(C354=\"\",\"\",IF(LEN(Tabel2[[#This Row],[Entiteit of attribuut]])=2,\"\",Tabel2[[#This Row],[Entiteit]]&\"_\"&Tabel2[[#This Row],[Entiteit of attribuut]]))","v":"MP_MYAAND"},{"$f":"IF(Schema!K366=\"\",\"\",Schema!K366)","v":""},{"$f":"IF(Schema!L366=\"\",\"\",Schema!L366)","v":""},{"$f":"IF(Schema!M366=\"\",\"\",Schema!M366)","v":""},{"$f":"IF(Schema!N366=\"\",\"\",Schema!N366)","v":""},{"$f":"IF(Schema!P366=\"\",\"\",Schema!P366)","v":"O"}]
[{"$f":"Schema!A367&Schema!B367&Schema!C367&Schema!D367&Schema!E367&Schema!F367","v":"POOLNUM"},"MP",{"$f":"IF(A355=\"\",\"\",IF(LEN(Schema!A367)=2,1,IF(LEN(Schema!B367)=2,10,IF(LEN(Schema!C367)=2,100,IF(LEN(Schema!D367)=2,1000,IF(LEN(Schema!E367)=2,10000,0))))))","v":0},100,{"$f":"IF(A355=\"\",\"\",SUM(Tabel2[[#This Row],[I1]:[I2]]))","v":100},"PP","HU","MP","","","PP/HU/MP",{"$f":"IF(C355=\"\",\"\",IF(LEN(Tabel2[[#This Row],[Entiteit of attribuut]])=2,\"\",Tabel2[[#This Row],[Entiteit]]&\"_\"&Tabel2[[#This Row],[Entiteit of attribuut]]))","v":"MP_POOLNUM"},{"$f":"IF(Schema!K367=\"\",\"\",Schema!K367)","v":""},{"$f":"IF(Schema!L367=\"\",\"\",Schema!L367)","v":""},{"$f":"IF(Schema!M367=\"\",\"\",Schema!M367)","v":""},{"$f":"IF(Schema!N367=\"\",\"\",Schema!N367)","v":""},{"$f":"IF(Schema!P367=\"\",\"\",Schema!P367)","v":"V"}]
[{"$f":"Schema!A368&Schema!B368&Schema!C368&Schema!D368&Schema!E368&Schema!F368","v":"PLLEAD"},"MP",{"$f":"IF(A356=\"\",\"\",IF(LEN(Schema!A368)=2,1,IF(LEN(Schema!B368)=2,10,IF(LEN(Schema!C368)=2,100,IF(LEN(Schema!D368)=2,1000,IF(LEN(Schema!E368)=2,10000,0))))))","v":0},100,{"$f":"IF(A356=\"\",\"\",SUM(Tabel2[[#This Row],[I1]:[I2]]))","v":100},"PP","HU","MP","","","PP/HU/MP",{"$f":"IF(C356=\"\",\"\",IF(LEN(Tabel2[[#This Row],[Entiteit of attribuut]])=2,\"\",Tabel2[[#This Row],[Entiteit]]&\"_\"&Tabel2[[#This Row],[Entiteit of attribuut]]))","v":"MP_PLLEAD"},{"$f":"IF(Schema!K368=\"\",\"\",Schema!K368)","v":""},{"$f":"IF(Schema!L368=\"\",\"\",Schema!L368)","v":""},{"$f":"IF(Schema!M368=\"\",\"\",Schema!M368)","v":""},{"$f":"IF(Schema!N368=\"\",\"\",Schema!N368)","v":""},{"$f":"IF(Schema!P368=\"\",\"\",Schema!P368)","v":"O"}]
[{"$f":"Schema!A369&Schema!B369&Schema!C369&Schema!D369&Schema!E369&Schema!F369","v":"POOLPRC"},"MP",{"$f":"IF(A357=\"\",\"\",IF(LEN(Schema!A369)=2,1,IF(LEN(Schema!B369)=2,10,IF(LEN(Schema!C369)=2,100,IF(LEN(Schema!D369)=2,1000,IF(LEN(Schema!E369)=2,10000,0))))))","v":0},100,{"$f":"IF(A357=\"\",\"\",SUM(Tabel2[[#This Row],[I1]:[I2]]))","v":100},"PP","HU","MP","","","PP/HU/MP",{"$f":"IF(C357=\"\",\"\",IF(LEN(Tabel2[[#This Row],[Entiteit of attribuut]])=2,\"\",Tabel2[[#This Row],[Entiteit]]&\"_\"&Tabel2[[#This Row],[Entiteit of attribuut]]))","v":"MP_POOLPRC"},{"$f":"IF(Schema!K369=\"\",\"\",Schema!K369)","v":""},{"$f":"IF(Schema!L369=\"\",\"\",Schema!L369)","v":""},{"$f":"IF(Schema!M369=\"\",\"\",Schema!M369)","v":""},{"$f":"IF(Schema!N369=\"\",\"\",Schema!N369)","v":""},{"$f":"IF(Schema!P369=\"\",\"\",Schema!P369)","v":"V"}]
[{"$f":"Schema!A370&Schema!B370&Schema!C370&Schema!D370&Schema!E370&Schema!F370","v":"IN"},"IN",{"$f":"IF(A358=\"\",\"\",IF(LEN(Schema!A370)=2,1,IF(LEN(Schema!B370)=2,10,IF(LEN(Schema!C370)=2,100,IF(LEN(Schema!D370)=2,1000,IF(LEN(Schema!E370)=2,10000,0))))))","v":10},10,{"$f":"IF(A358=\"\",\"\",SUM(Tabel2[[#This Row],[I1]:[I2]]))","v":20},"PP","IN","","","","PP/IN",{"$f":"IF(C358=\"\",\"\",IF(LEN(Tabel2[[#This Row],[Entiteit of attribuut]])=2,\"\",Tabel2[[#This Row],[Entiteit]]&\"_\"&Tabel2[[#This Row],[Entiteit of attribuut]]))","v":""},{"$f":"IF(Schema!K370=\"\",\"\",Schema!K370)","v":""},{"$f":"IF(Schema!L370=\"\",\"\",Schema!L370)","v":""},{"$f":"IF(Schema!M370=\"\",\"\",Schema!M370)","v":""},{"$f":"IF(Schema!N370=\"\",\"\",Schema!N370)","v":""},{"$f":"IF(Schema!P370=\"\",\"\",Schema!P370)","v":"O"}]
[{"$f":"Schema!A371&Schema!B371&Schema!C371&Schema!D371&Schema!E371&Schema!F371","v":"BAFWST"},"IN",{"$f":"IF(A359=\"\",\"\",IF(LEN(Schema!A371)=2,1,IF(LEN(Schema!B371)=2,10,IF(LEN(Schema!C371)=2,100,IF(LEN(Schema!D371)=2,1000,IF(LEN(Schema!E371)=2,10000,0))))))","v":0},10,{"$f":"IF(A359=\"\",\"\",SUM(Tabel2[[#This Row],[I1]:[I2]]))","v":10},"PP","IN","","","","PP/IN",{"$f":"IF(C359=\"\",\"\",IF(LEN(Tabel2[[#This Row],[Entiteit of attribuut]])=2,\"\",Tabel2[[#This Row],[Entiteit]]&\"_\"&Tabel2[[#This Row],[Entiteit of attribuut]]))","v":"IN_BAFWST"},{"$f":"IF(Schema!K371=\"\",\"\",Schema!K371)","v":""},{"$f":"IF(Schema!L371=\"\",\"\",Schema!L371)","v":""},{"$f":"IF(Schema!M371=\"\",\"\",Schema!M371)","v":""},{"$f":"IF(Schema!N371=\"\",\"\",Schema!N371)","v":""},{"$f":"IF(Schema!P371=\"\",\"\",Schema!P371)","v":"O"}]
[{"$f":"Schema!A372&Schema!B372&Schema!C372&Schema!D372&Schema!E372&Schema!F372","v":"BTP"},"IN",{"$f":"IF(A360=\"\",\"\",IF(LEN(Schema!A372)=2,1,IF(LEN(Schema!B372)=2,10,IF(LEN(Schema!C372)=2,100,IF(LEN(Schema!D372)=2,1000,IF(LEN(Schema!E372)=2,10000,0))))))","v":0},10,{"$f":"IF(A360=\"\",\"\",SUM(Tabel2[[#This Row],[I1]:[I2]]))","v":10},"PP","IN","","","","PP/IN",{"$f":"IF(C360=\"\",\"\",IF(LEN(Tabel2[[#This Row],[Entiteit of attribuut]])=2,\"\",Tabel2[[#This Row],[Entiteit]]&\"_\"&Tabel2[[#This Row],[Entiteit of attribuut]]))","v":"IN_BTP"},{"$f":"IF(Schema!K372=\"\",\"\",Schema!K372)","v":""},{"$f":"IF(Schema!L372=\"\",\"\",Schema!L372)","v":""},{"$f":"IF(Schema!M372=\"\",\"\",Schema!M372)","v":""},{"$f":"IF(Schema!N372=\"\",\"\",Schema!N372)","v":""},{"$f":"IF(Schema!P372=\"\",\"\",Schema!P372)","v":"LEEG"}]
[{"$f":"Schema!A373&Schema!B373&Schema!C373&Schema!D373&Schema!E373&Schema!F373","v":"CODE"},"IN",{"$f":"IF(A361=\"\",\"\",IF(LEN(Schema!A373)=2,1,IF(LEN(Schema!B373)=2,10,IF(LEN(Schema!C373)=2,100,IF(LEN(Schema!D373)=2,1000,IF(LEN(Schema!E373)=2,10000,0))))))","v":0},10,{"$f":"IF(A361=\"\",\"\",SUM(Tabel2[[#This Row],[I1]:[I2]]))","v":10},"PP","IN","","","","PP/IN",{"$f":"IF(C361=\"\",\"\",IF(LEN(Tabel2[[#This Row],[Entiteit of attribuut]])=2,\"\",Tabel2[[#This Row],[Entiteit]]&\"_\"&Tabel2[[#This Row],[Entiteit of attribuut]]))","v":"IN_CODE"},{"$f":"IF(Schema!K373=\"\",\"\",Schema!K373)","v":""},{"$f":"IF(Schema!L373=\"\",\"\",Schema!L373)","v":""},{"$f":"IF(Schema!M373=\"\",\"\",Schema!M373)","v":""},{"$f":"IF(Schema!N373=\"\",\"\",Schema!N373)","v":""},{"$f":"IF(Schema!P373=\"\",\"\",Schema!P373)","v":"O"}]
[{"$f":"Schema!A374&Schema!B374&Schema!C374&Schema!D374&Schema!E374&Schema!F374","v":"COLFACT"},"IN",{"$f":"IF(A362=\"\",\"\",IF(LEN(Schema!A374)=2,1,IF(LEN(Schema!B374)=2,10,IF(LEN(Schema!C374)=2,100,IF(LEN(Schema!D374)=2,1000,IF(LEN(Schema!E374)=2,10000,0))))))","v":0},10,{"$f":"IF(A362=\"\",\"\",SUM(Tabel2[[#This Row],[I1]:[I2]]))","v":10},"PP","IN","","","","PP/IN",{"$f":"IF(C362=\"\",\"\",IF(LEN(Tabel2[[#This Row],[Entiteit of attribuut]])=2,\"\",Tabel2[[#This Row],[Entiteit]]&\"_\"&Tabel2[[#This Row],[Entiteit of attribuut]]))","v":"IN_COLFACT"},{"$f":"IF(Schema!K374=\"\",\"\",Schema!K374)","v":""},{"$f":"IF(Schema!L374=\"\",\"\",Schema!L374)","v":""},{"$f":"IF(Schema!M374=\"\",\"\",Schema!M374)","v":""},{"$f":"IF(Schema!N374=\"\",\"\",Schema!N374)","v":""},{"$f":"IF(Schema!P374=\"\",\"\",Schema!P374)","v":"O"}]
[{"$f":"Schema!A375&Schema!B375&Schema!C375&Schema!D375&Schema!E375&Schema!F375","v":"ERB"},"IN",{"$f":"IF(A363=\"\",\"\",IF(LEN(Schema!A375)=2,1,IF(LEN(Schema!B375)=2,10,IF(LEN(Schema!C375)=2,100,IF(LEN(Schema!D375)=2,1000,IF(LEN(Schema!E375)=2,10000,0))))))","v":0},10,{"$f":"IF(A363=\"\",\"\",SUM(Tabel2[[#This Row],[I1]:[I2]]))","v":10},"PP","IN","","","","PP/IN",{"$f":"IF(C363=\"\",\"\",IF(LEN(Tabel2[[#This Row],[Entiteit of attribuut]])=2,\"\",Tabel2[[#This Row],[Entiteit]]&\"_\"&Tabel2[[#This Row],[Entiteit of attribuut]]))","v":"IN_ERB"},{"$f":"IF(Schema!K375=\"\",\"\",Schema!K375)","v":""},{"$f":"IF(Schema!L375=\"\",\"\",Schema!L375)","v":""},{"$f":"IF(Schema!M375=\"\",\"\",Schema!M375)","v":""},{"$f":"IF(Schema!N375=\"\",\"\",Schema!N375)","v":""},{"$f":"IF(Schema!P375=\"\",\"\",Schema!P375)","v":"O"}]
[{"$f":"Schema!A376&Schema!B376&Schema!C376&Schema!D376&Schema!E376&Schema!F376","v":"GADEKCD"},"IN",{"$f":"IF(A364=\"\",\"\",IF(LEN(Schema!A376)=2,1,IF(LEN(Schema!B376)=2,10,IF(LEN(Schema!C376)=2,100,IF(LEN(Schema!D376)=2,1000,IF(LEN(Schema!E376)=2,10000,0))))))","v":0},10,{"$f":"IF(A364=\"\",\"\",SUM(Tabel2[[#This Row],[I1]:[I2]]))","v":10},"PP","IN","","","","PP/IN",{"$f":"IF(C364=\"\",\"\",IF(LEN(Tabel2[[#This Row],[Entiteit of attribuut]])=2,\"\",Tabel2[[#This Row],[Entiteit]]&\"_\"&Tabel2[[#This Row],[Entiteit of attribuut]]))","v":"IN_GADEKCD"},{"$f":"IF(Schema!K376=\"\",\"\",Schema!K376)","v":""},{"$f":"IF(Schema!L376=\"\",\"\",Schema!L376)","v":""},{"$f":"IF(Schema!M376=\"\",\"\",Schema!M376)","v":""},{"$f":"IF(Schema!N376=\"\",\"\",Schema!N376)","v":""},{"$f":"IF(Schema!P376=\"\",\"\",Schema!P376)","v":"V"}]
[{"$f":"Schema!A377&Schema!B377&Schema!C377&Schema!D377&Schema!E377&Schema!F377","v":"GADEKCO"},"IN",{"$f":"IF(A365=\"\",\"\",IF(LEN(Schema!A377)=2,1,IF(LEN(Schema!B377)=2,10,IF(LEN(Schema!C377)=2,100,IF(LEN(Schema!D377)=2,1000,IF(LEN(Schema!E377)=2,10000,0))))))","v":0},10,{"$f":"IF(A365=\"\",\"\",SUM(Tabel2[[#This Row],[I1]:[I2]]))","v":10},"PP","IN","","","","PP/IN",{"$f":"IF(C365=\"\",\"\",IF(LEN(Tabel2[[#This Row],[Entiteit of attribuut]])=2,\"\",Tabel2[[#This Row],[Entiteit]]&\"_\"&Tabel2[[#This Row],[Entiteit of attribuut]]))","v":"IN_GADEKCO"},{"$f":"IF(Schema!K377=\"\",\"\",Schema!K377)","v":""},{"$f":"IF(Schema!L377=\"\",\"\",Schema!L377)","v":""},{"$f":"IF(Schema!M377=\"\",\"\",Schema!M377)","v":""},{"$f":"IF(Schema!N377=\"\",\"\",Schema!N377)","v":""},{"$f":"IF(Schema!P377=\"\",\"\",Schema!P377)","v":"V"}]
[{"$f":"Schema!A378&Schema!B378&Schema!C378&Schema!D378&Schema!E378&Schema!F378","v":"MYCODE"},"IN",{"$f":"IF(A366=\"\",\"\",IF(LEN(Schema!A378)=2,1,IF(LEN(Schema!B378)=2,10,IF(LEN(Schema!C378)=2,100,IF(LEN(Schema!D378)=2,1000,IF(LEN(Schema!E378)=2,10000,0))))))","v":0},10,{"$f":"IF(A366=\"\",\"\",SUM(Tabel2[[#This Row],[I1]:[I2]]))","v":10},"PP","IN","","","","PP/IN",{"$f":"IF(C366=\"\",\"\",IF(LEN(Tabel2[[#This Row],[Entiteit of attribuut]])=2,\"\",Tabel2[[#This Row],[Entiteit]]&\"_\"&Tabel2[[#This Row],[Entiteit of attribuut]]))","v":"IN_MYCODE"},{"$f":"IF(Schema!K378=\"\",\"\",Schema!K378)","v":""},{"$f":"IF(Schema!L378=\"\",\"\",Schema!L378)","v":""},{"$f":"IF(Schema!M378=\"\",\"\",Schema!M378)","v":""},{"$f":"IF(Schema!N378=\"\",\"\",Schema!N378)","v":""},{"$f":"IF(Schema!P378=\"\",\"\",Schema!P378)","v":"O"}]
[{"$f":"Schema!A379&Schema!B379&Schema!C379&Schema!D379&Schema!E379&Schema!F379","v":"NJP"},"IN",{"$f":"IF(A367=\"\",\"\",IF(LEN(Schema!A379)=2,1,IF(LEN(Schema!B379)=2,10,IF(LEN(Schema!C379)=2,100,IF(LEN(Schema!D379)=2,1000,IF(LEN(Schema!E379)=2,10000,0))))))","v":0},10,{"$f":"IF(A367=\"\",\"\",SUM(Tabel2[[#This Row],[I1]:[I2]]))","v":10},"PP","IN","","","","PP/IN",{"$f":"IF(C367=\"\",\"\",IF(LEN(Tabel2[[#This Row],[Entiteit of attribuut]])=2,\"\",Tabel2[[#This Row],[Entiteit]]&\"_\"&Tabel2[[#This Row],[Entiteit of attribuut]]))","v":"IN_NJP"},{"$f":"IF(Schema!K379=\"\",\"\",Schema!K379)","v":""},{"$f":"IF(Schema!L379=\"\",\"\",Schema!L379)","v":""},{"$f":"IF(Schema!M379=\"\",\"\",Schema!M379)","v":""},{"$f":"IF(Schema!N379=\"\",\"\",Schema!N379)","v":""},{"$f":"IF(Schema!P379=\"\",\"\",Schema!P379)","v":"O"}]
[{"$f":"Schema!A380&Schema!B380&Schema!C380&Schema!D380&Schema!E380&Schema!F380","v":"PAFWST"},"IN",{"$f":"IF(A368=\"\",\"\",IF(LEN(Schema!A380)=2,1,IF(LEN(Schema!B380)=2,10,IF(LEN(Schema!C380)=2,100,IF(LEN(Schema!D380)=2,1000,IF(LEN(Schema!E380)=2,10000,0))))))","v":0},10,{"$f":"IF(A368=\"\",\"\",SUM(Tabel2[[#This Row],[I1]:[I2]]))","v":10},"PP","IN","","","","PP/IN",{"$f":"IF(C368=\"\",\"\",IF(LEN(Tabel2[[#This Row],[Entiteit of attribuut]])=2,\"\",Tabel2[[#This Row],[Entiteit]]&\"_\"&Tabel2[[#This Row],[Entiteit of attribuut]]))","v":"IN_PAFWST"},{"$f":"IF(Schema!K380=\"\",\"\",Schema!K380)","v":""},{"$f":"IF(Schema!L380=\"\",\"\",Schema!L380)","v":""},{"$f":"IF(Schema!M380=\"\",\"\",Schema!M380)","v":""},{"$f":"IF(Schema!N380=\"\",\"\",Schema!N380)","v":""},{"$f":"IF(Schema!P380=\"\",\"\",Schema!P380)","v":"O"}]
[{"$f":"Schema!A381&Schema!B381&Schema!C381&Schema!D381&Schema!E381&Schema!F381","v":"PPRC"},"IN",{"$f":"IF(A369=\"\",\"\",IF(LEN(Schema!A381)=2,1,IF(LEN(Schema!B381)=2,10,IF(LEN(Schema!C381)=2,100,IF(LEN(Schema!D381)=2,1000,IF(LEN(Schema!E381)=2,10000,0))))))","v":0},10,{"$f":"IF(A369=\"\",\"\",SUM(Tabel2[[#This Row],[I1]:[I2]]))","v":10},"PP","IN","","","","PP/IN",{"$f":"IF(C369=\"\",\"\",IF(LEN(Tabel2[[#This Row],[Entiteit of attribuut]])=2,\"\",Tabel2[[#This Row],[Entiteit]]&\"_\"&Tabel2[[#This Row],[Entiteit of attribuut]]))","v":"IN_PPRC"},{"$f":"IF(Schema!K381=\"\",\"\",Schema!K381)","v":""},{"$f":"IF(Schema!L381=\"\",\"\",Schema!L381)","v":""},{"$f":"IF(Schema!M381=\"\",\"\",Schema!M381)","v":""},{"$f":"IF(Schema!N381=\"\",\"\",Schema!N381)","v":""},{"$f":"IF(Schema!P381=\"\",\"\",Schema!P381)","v":"O"}]
[{"$f":"Schema!A382&Schema!B382&Schema!C382&Schema!D382&Schema!E382&Schema!F382","v":"PRCPKKT"},"IN",{"$f":"IF(A370=\"\",\"\",IF(LEN(Schema!A382)=2,1,IF(LEN(Schema!B382)=2,10,IF(LEN(Schema!C382)=2,100,IF(LEN(Schema!D382)=2,1000,IF(LEN(Schema!E382)=2,10000,0))))))","v":0},10,{"$f":"IF(A370=\"\",\"\",SUM(Tabel2[[#This Row],[I1]:[I2]]))","v":10},"PP","IN","","","","PP/IN",{"$f":"IF(C370=\"\",\"\",IF(LEN(Tabel2[[#This Row],[Entiteit of attribuut]])=2,\"\",Tabel2[[#This Row],[Entiteit]]&\"_\"&Tabel2[[#This Row],[Entiteit of attribuut]]))","v":"IN_PRCPKKT"},{"$f":"IF(Schema!K382=\"\",\"\",Schema!K382)","v":""},{"$f":"IF(Schema!L382=\"\",\"\",Schema!L382)","v":""},{"$f":"IF(Schema!M382=\"\",\"\",Schema!M382)","v":""},{"$f":"IF(Schema!N382=\"\",\"\",Schema!N382)","v":""},{"$f":"IF(Schema!P382=\"\",\"\",Schema!P382)","v":"O"}]
[{"$f":"Schema!A383&Schema!B383&Schema!C383&Schema!D383&Schema!E383&Schema!F383","v":"PRCTEKC"},"IN",{"$f":"IF(A371=\"\",\"\",IF(LEN(Schema!A383)=2,1,IF(LEN(Schema!B383)=2,10,IF(LEN(Schema!C383)=2,100,IF(LEN(Schema!D383)=2,1000,IF(LEN(Schema!E383)=2,10000,0))))))","v":0},10,{"$f":"IF(A371=\"\",\"\",SUM(Tabel2[[#This Row],[I1]:[I2]]))","v":10},"PP","IN","","","","PP/IN",{"$f":"IF(C371=\"\",\"\",IF(LEN(Tabel2[[#This Row],[Entiteit of attribuut]])=2,\"\",Tabel2[[#This Row],[Entiteit]]&\"_\"&Tabel2[[#This Row],[Entiteit of attribuut]]))","v":"IN_PRCTEKC"},{"$f":"IF(Schema!K383=\"\",\"\",Schema!K383)","v":""},{"$f":"IF(Schema!L383=\"\",\"\",Schema!L383)","v":""},{"$f":"IF(Schema!M383=\"\",\"\",Schema!M383)","v":""},{"$f":"IF(Schema!N383=\"\",\"\",Schema!N383)","v":""},{"$f":"IF(Schema!P383=\"\",\"\",Schema!P383)","v":"O"}]
[{"$f":"Schema!A384&Schema!B384&Schema!C384&Schema!D384&Schema!E384&Schema!F384","v":"RELVRH"},"IN",{"$f":"IF(A372=\"\",\"\",IF(LEN(Schema!A384)=2,1,IF(LEN(Schema!B384)=2,10,IF(LEN(Schema!C384)=2,100,IF(LEN(Schema!D384)=2,1000,IF(LEN(Schema!E384)=2,10000,0))))))","v":0},10,{"$f":"IF(A372=\"\",\"\",SUM(Tabel2[[#This Row],[I1]:[I2]]))","v":10},"PP","IN","","","","PP/IN",{"$f":"IF(C372=\"\",\"\",IF(LEN(Tabel2[[#This Row],[Entiteit of attribuut]])=2,\"\",Tabel2[[#This Row],[Entiteit]]&\"_\"&Tabel2[[#This Row],[Entiteit of attribuut]]))","v":"IN_RELVRH"},{"$f":"IF(Schema!K384=\"\",\"\",Schema!K384)","v":""},{"$f":"IF(Schema!L384=\"\",\"\",Schema!L384)","v":""},{"$f":"IF(Schema!M384=\"\",\"\",Schema!M384)","v":""},{"$f":"IF(Schema!N384=\"\",\"\",Schema!N384)","v":""},{"$f":"IF(Schema!P384=\"\",\"\",Schema!P384)","v":"O"}]
[{"$f":"Schema!A385&Schema!B385&Schema!C385&Schema!D385&Schema!E385&Schema!F385","v":"RELVVNR"},"IN",{"$f":"IF(A373=\"\",\"\",IF(LEN(Schema!A385)=2,1,IF(LEN(Schema!B385)=2,10,IF(LEN(Schema!C385)=2,100,IF(LEN(Schema!D385)=2,1000,IF(LEN(Schema!E385)=2,10000,0))))))","v":0},10,{"$f":"IF(A373=\"\",\"\",SUM(Tabel2[[#This Row],[I1]:[I2]]))","v":10},"PP","IN","","","","PP/IN",{"$f":"IF(C373=\"\",\"\",IF(LEN(Tabel2[[#This Row],[Entiteit of attribuut]])=2,\"\",Tabel2[[#This Row],[Entiteit]]&\"_\"&Tabel2[[#This Row],[Entiteit of attribuut]]))","v":"IN_RELVVNR"},{"$f":"IF(Schema!K385=\"\",\"\",Schema!K385)","v":""},{"$f":"IF(Schema!L385=\"\",\"\",Schema!L385)","v":""},{"$f":"IF(Schema!M385=\"\",\"\",Schema!M385)","v":""},{"$f":"IF(Schema!N385=\"\",\"\",Schema!N385)","v":""},{"$f":"IF(Schema!P385=\"\",\"\",Schema!P385)","v":"O"}]
[{"$f":"Schema!A386&Schema!B386&Schema!C386&Schema!D386&Schema!E386&Schema!F386","v":"RJRCOR"},"IN",{"$f":"IF(A374=\"\",\"\",IF(LEN(Schema!A386)=2,1,IF(LEN(Schema!B386)=2,10,IF(LEN(Schema!C386)=2,100,IF(LEN(Schema!D386)=2,1000,IF(LEN(Schema!E386)=2,10000,0))))))","v":0},10,{"$f":"IF(A374=\"\",\"\",SUM(Tabel2[[#This Row],[I1]:[I2]]))","v":10},"PP","IN","","","","PP/IN",{"$f":"IF(C374=\"\",\"\",IF(LEN(Tabel2[[#This Row],[Entiteit of attribuut]])=2,\"\",Tabel2[[#This Row],[Entiteit]]&\"_\"&Tabel2[[#This Row],[Entiteit of attribuut]]))","v":"IN_RJRCOR"},{"$f":"IF(Schema!K386=\"\",\"\",Schema!K386)","v":""},{"$f":"IF(Schema!L386=\"\",\"\",Schema!L386)","v":""},{"$f":"IF(Schema!M386=\"\",\"\",Schema!M386)","v":""},{"$f":"IF(Schema!N386=\"\",\"\",Schema!N386)","v":""},{"$f":"IF(Schema!P386=\"\",\"\",Schema!P386)","v":"O"}]
[{"$f":"Schema!A387&Schema!B387&Schema!C387&Schema!D387&Schema!E387&Schema!F387","v":"TCORBDR"},"IN",{"$f":"IF(A375=\"\",\"\",IF(LEN(Schema!A387)=2,1,IF(LEN(Schema!B387)=2,10,IF(LEN(Schema!C387)=2,100,IF(LEN(Schema!D387)=2,1000,IF(LEN(Schema!E387)=2,10000,0))))))","v":0},10,{"$f":"IF(A375=\"\",\"\",SUM(Tabel2[[#This Row],[I1]:[I2]]))","v":10},"PP","IN","","","","PP/IN",{"$f":"IF(C375=\"\",\"\",IF(LEN(Tabel2[[#This Row],[Entiteit of attribuut]])=2,\"\",Tabel2[[#This Row],[Entiteit]]&\"_\"&Tabel2[[#This Row],[Entiteit of attribuut]]))","v":"IN_TCORBDR"},{"$f":"IF(Schema!K387=\"\",\"\",Schema!K387)","v":""},{"$f":"IF(Schema!L387=\"\",\"\",Schema!L387)","v":""},{"$f":"IF(Schema!M387=\"\",\"\",Schema!M387)","v":""},{"$f":"IF(Schema!N387=\"\",\"\",Schema!N387)","v":""},{"$f":"IF(Schema!P387=\"\",\"\",Schema!P387)","v":"O"}]
[{"$f":"Schema!A388&Schema!B388&Schema!C388&Schema!D388&Schema!E388&Schema!F388","v":"VERZSOM"},"IN",{"$f":"IF(A376=\"\",\"\",IF(LEN(Schema!A388)=2,1,IF(LEN(Schema!B388)=2,10,IF(LEN(Schema!C388)=2,100,IF(LEN(Schema!D388)=2,1000,IF(LEN(Schema!E388)=2,10000,0))))))","v":0},10,{"$f":"IF(A376=\"\",\"\",SUM(Tabel2[[#This Row],[I1]:[I2]]))","v":10},"PP","IN","","","","PP/IN",{"$f":"IF(C376=\"\",\"\",IF(LEN(Tabel2[[#This Row],[Entiteit of attribuut]])=2,\"\",Tabel2[[#This Row],[Entiteit]]&\"_\"&Tabel2[[#This Row],[Entiteit of attribuut]]))","v":"IN_VERZSOM"},{"$f":"IF(Schema!K388=\"\",\"\",Schema!K388)","v":""},{"$f":"IF(Schema!L388=\"\",\"\",Schema!L388)","v":""},{"$f":"IF(Schema!M388=\"\",\"\",Schema!M388)","v":""},{"$f":"IF(Schema!N388=\"\",\"\",Schema!N388)","v":""},{"$f":"IF(Schema!P388=\"\",\"\",Schema!P388)","v":"O"}]
[{"$f":"Schema!A389&Schema!B389&Schema!C389&Schema!D389&Schema!E389&Schema!F389","v":"VGBRA"},"IN",{"$f":"IF(A377=\"\",\"\",IF(LEN(Schema!A389)=2,1,IF(LEN(Schema!B389)=2,10,IF(LEN(Schema!C389)=2,100,IF(LEN(Schema!D389)=2,1000,IF(LEN(Schema!E389)=2,10000,0))))))","v":0},10,{"$f":"IF(A377=\"\",\"\",SUM(Tabel2[[#This Row],[I1]:[I2]]))","v":10},"PP","IN","","","","PP/IN",{"$f":"IF(C377=\"\",\"\",IF(LEN(Tabel2[[#This Row],[Entiteit of attribuut]])=2,\"\",Tabel2[[#This Row],[Entiteit]]&\"_\"&Tabel2[[#This Row],[Entiteit of attribuut]]))","v":"IN_VGBRA"},{"$f":"IF(Schema!K389=\"\",\"\",Schema!K389)","v":""},{"$f":"IF(Schema!L389=\"\",\"\",Schema!L389)","v":""},{"$f":"IF(Schema!M389=\"\",\"\",Schema!M389)","v":""},{"$f":"IF(Schema!N389=\"\",\"\",Schema!N389)","v":""},{"$f":"IF(Schema!P389=\"\",\"\",Schema!P389)","v":"O"}]
[{"$f":"Schema!A390&Schema!B390&Schema!C390&Schema!D390&Schema!E390&Schema!F390","v":"VOLGNUM"},"IN",{"$f":"IF(A378=\"\",\"\",IF(LEN(Schema!A390)=2,1,IF(LEN(Schema!B390)=2,10,IF(LEN(Schema!C390)=2,100,IF(LEN(Schema!D390)=2,1000,IF(LEN(Schema!E390)=2,10000,0))))))","v":0},10,{"$f":"IF(A378=\"\",\"\",SUM(Tabel2[[#This Row],[I1]:[I2]]))","v":10},"PP","IN","","","","PP/IN",{"$f":"IF(C378=\"\",\"\",IF(LEN(Tabel2[[#This Row],[Entiteit of attribuut]])=2,\"\",Tabel2[[#This Row],[Entiteit]]&\"_\"&Tabel2[[#This Row],[Entiteit of attribuut]]))","v":"IN_VOLGNUM"},{"$f":"IF(Schema!K390=\"\",\"\",Schema!K390)","v":""},{"$f":"IF(Schema!L390=\"\",\"\",Schema!L390)","v":""},{"$f":"IF(Schema!M390=\"\",\"\",Schema!M390)","v":""},{"$f":"IF(Schema!N390=\"\",\"\",Schema!N390)","v":""},{"$f":"IF(Schema!P390=\"\",\"\",Schema!P390)","v":"LEEG"}]
[{"$f":"Schema!A391&Schema!B391&Schema!C391&Schema!D391&Schema!E391&Schema!F391","v":"VRWRKCD"},"IN",{"$f":"IF(A379=\"\",\"\",IF(LEN(Schema!A391)=2,1,IF(LEN(Schema!B391)=2,10,IF(LEN(Schema!C391)=2,100,IF(LEN(Schema!D391)=2,1000,IF(LEN(Schema!E391)=2,10000,0))))))","v":0},10,{"$f":"IF(A379=\"\",\"\",SUM(Tabel2[[#This Row],[I1]:[I2]]))","v":10},"PP","IN","","","","PP/IN",{"$f":"IF(C379=\"\",\"\",IF(LEN(Tabel2[[#This Row],[Entiteit of attribuut]])=2,\"\",Tabel2[[#This Row],[Entiteit]]&\"_\"&Tabel2[[#This Row],[Entiteit of attribuut]]))","v":"IN_VRWRKCD"},{"$f":"IF(Schema!K391=\"\",\"\",Schema!K391)","v":""},{"$f":"IF(Schema!L391=\"\",\"\",Schema!L391)","v":""},{"$f":"IF(Schema!M391=\"\",\"\",Schema!M391)","v":""},{"$f":"IF(Schema!N391=\"\",\"\",Schema!N391)","v":""},{"$f":"IF(Schema!P391=\"\",\"\",Schema!P391)","v":"LEEG"}]
[{"$f":"Schema!A392&Schema!B392&Schema!C392&Schema!D392&Schema!E392&Schema!F392","v":"WPREMBP"},"IN",{"$f":"IF(A380=\"\",\"\",IF(LEN(Schema!A392)=2,1,IF(LEN(Schema!B392)=2,10,IF(LEN(Schema!C392)=2,100,IF(LEN(Schema!D392)=2,1000,IF(LEN(Schema!E392)=2,10000,0))))))","v":0},10,{"$f":"IF(A380=\"\",\"\",SUM(Tabel2[[#This Row],[I1]:[I2]]))","v":10},"PP","IN","","","","PP/IN",{"$f":"IF(C380=\"\",\"\",IF(LEN(Tabel2[[#This Row],[Entiteit of attribuut]])=2,\"\",Tabel2[[#This Row],[Entiteit]]&\"_\"&Tabel2[[#This Row],[Entiteit of attribuut]]))","v":"IN_WPREMBP"},{"$f":"IF(Schema!K392=\"\",\"\",Schema!K392)","v":""},{"$f":"IF(Schema!L392=\"\",\"\",Schema!L392)","v":""},{"$f":"IF(Schema!M392=\"\",\"\",Schema!M392)","v":""},{"$f":"IF(Schema!N392=\"\",\"\",Schema!N392)","v":""},{"$f":"IF(Schema!P392=\"\",\"\",Schema!P392)","v":"O"}]
[{"$f":"Schema!A393&Schema!B393&Schema!C393&Schema!D393&Schema!E393&Schema!F393","v":"MP"},"MP",{"$f":"IF(A381=\"\",\"\",IF(LEN(Schema!A393)=2,1,IF(LEN(Schema!B393)=2,10,IF(LEN(Schema!C393)=2,100,IF(LEN(Schema!D393)=2,1000,IF(LEN(Schema!E393)=2,10000,0))))))","v":100},100,{"$f":"IF(A381=\"\",\"\",SUM(Tabel2[[#This Row],[I1]:[I2]]))","v":200},"PP","IN","MP","","","PP/IN/MP",{"$f":"IF(C381=\"\",\"\",IF(LEN(Tabel2[[#This Row],[Entiteit of attribuut]])=2,\"\",Tabel2[[#This Row],[Entiteit]]&\"_\"&Tabel2[[#This Row],[Entiteit of attribuut]]))","v":""},{"$f":"IF(Schema!K393=\"\",\"\",Schema!K393)","v":""},{"$f":"IF(Schema!L393=\"\",\"\",Schema!L393)","v":""},{"$f":"IF(Schema!M393=\"\",\"\",Schema!M393)","v":""},{"$f":"IF(Schema!N393=\"\",\"\",Schema!N393)","v":""},{"$f":"IF(Schema!P393=\"\",\"\",Schema!P393)","v":"O"}]
[{"$f":"Schema!A394&Schema!B394&Schema!C394&Schema!D394&Schema!E394&Schema!F394","v":"MYAAND"},"MP",{"$f":"IF(A382=\"\",\"\",IF(LEN(Schema!A394)=2,1,IF(LEN(Schema!B394)=2,10,IF(LEN(Schema!C394)=2,100,IF(LEN(Schema!D394)=2,1000,IF(LEN(Schema!E394)=2,10000,0))))))","v":0},100,{"$f":"IF(A382=\"\",\"\",SUM(Tabel2[[#This Row],[I1]:[I2]]))","v":100},"PP","IN","MP","","","PP/IN/MP",{"$f":"IF(C382=\"\",\"\",IF(LEN(Tabel2[[#This Row],[Entiteit of attribuut]])=2,\"\",Tabel2[[#This Row],[Entiteit]]&\"_\"&Tabel2[[#This Row],[Entiteit of attribuut]]))","v":"MP_MYAAND"},{"$f":"IF(Schema!K394=\"\",\"\",Schema!K394)","v":""},{"$f":"IF(Schema!L394=\"\",\"\",Schema!L394)","v":""},{"$f":"IF(Schema!M394=\"\",\"\",Schema!M394)","v":""},{"$f":"IF(Schema!N394=\"\",\"\",Schema!N394)","v":""},{"$f":"IF(Schema!P394=\"\",\"\",Schema!P394)","v":"O"}]
[{"$f":"Schema!A395&Schema!B395&Schema!C395&Schema!D395&Schema!E395&Schema!F395","v":"POOLNUM"},"MP",{"$f":"IF(A383=\"\",\"\",IF(LEN(Schema!A395)=2,1,IF(LEN(Schema!B395)=2,10,IF(LEN(Schema!C395)=2,100,IF(LEN(Schema!D395)=2,1000,IF(LEN(Schema!E395)=2,10000,0))))))","v":0},100,{"$f":"IF(A383=\"\",\"\",SUM(Tabel2[[#This Row],[I1]:[I2]]))","v":100},"PP","IN","MP","","","PP/IN/MP",{"$f":"IF(C383=\"\",\"\",IF(LEN(Tabel2[[#This Row],[Entiteit of attribuut]])=2,\"\",Tabel2[[#This Row],[Entiteit]]&\"_\"&Tabel2[[#This Row],[Entiteit of attribuut]]))","v":"MP_POOLNUM"},{"$f":"IF(Schema!K395=\"\",\"\",Schema!K395)","v":""},{"$f":"IF(Schema!L395=\"\",\"\",Schema!L395)","v":""},{"$f":"IF(Schema!M395=\"\",\"\",Schema!M395)","v":""},{"$f":"IF(Schema!N395=\"\",\"\",Schema!N395)","v":""},{"$f":"IF(Schema!P395=\"\",\"\",Schema!P395)","v":"V"}]
[{"$f":"Schema!A396&Schema!B396&Schema!C396&Schema!D396&Schema!E396&Schema!F396","v":"PLLEAD"},"MP",{"$f":"IF(A384=\"\",\"\",IF(LEN(Schema!A396)=2,1,IF(LEN(Schema!B396)=2,10,IF(LEN(Schema!C396)=2,100,IF(LEN(Schema!D396)=2,1000,IF(LEN(Schema!E396)=2,10000,0))))))","v":0},100,{"$f":"IF(A384=\"\",\"\",SUM(Tabel2[[#This Row],[I1]:[I2]]))","v":100},"PP","IN","MP","","","PP/IN/MP",{"$f":"IF(C384=\"\",\"\",IF(LEN(Tabel2[[#This Row],[Entiteit of attribuut]])=2,\"\",Tabel2[[#This Row],[Entiteit]]&\"_\"&Tabel2[[#This Row],[Entiteit of attribuut]]))","v":"MP_PLLEAD"},{"$f":"IF(Schema!K396=\"\",\"\",Schema!K396)","v":""},{"$f":"IF(Schema!L396=\"\",\"\",Schema!L396)","v":""},{"$f":"IF(Schema!M396=\"\",\"\",Schema!M396)","v":""},{"$f":"IF(Schema!N396=\"\",\"\",Schema!N396)","v":""},{"$f":"IF(Schema!P396=\"\",\"\",Schema!P396)","v":"O"}]
[{"$f":"Schema!A397&Schema!B397&Schema!C397&Schema!D397&Schema!E397&Schema!F397","v":"POOLPRC"},"MP",{"$f":"IF(A385=\"\",\"\",IF(LEN(Schema!A397)=2,1,IF(LEN(Schema!B397)=2,10,IF(LEN(Schema!C397)=2,100,IF(LEN(Schema!D397)=2,1000,IF(LEN(Schema!E397)=2,10000,0))))))","v":0},100,{"$f":"IF(A385=\"\",\"\",SUM(Tabel2[[#This Row],[I1]:[I2]]))","v":100},"PP","IN","MP","","","PP/IN/MP",{"$f":"IF(C385=\"\",\"\",IF(LEN(Tabel2[[#This Row],[Entiteit of attribuut]])=2,\"\",Tabel2[[#This Row],[Entiteit]]&\"_\"&Tabel2[[#This Row],[Entiteit of attribuut]]))","v":"MP_POOLPRC"},{"$f":"IF(Schema!K397=\"\",\"\",Schema!K397)","v":""},{"$f":"IF(Schema!L397=\"\",\"\",Schema!L397)","v":""},{"$f":"IF(Schema!M397=\"\",\"\",Schema!M397)","v":""},{"$f":"IF(Schema!N397=\"\",\"\",Schema!N397)","v":""},{"$f":"IF(Schema!P397=\"\",\"\",Schema!P397)","v":"V"}]
[{"$f":"Schema!A398&Schema!B398&Schema!C398&Schema!D398&Schema!E398&Schema!F398","v":"MS"},"MS",{"$f":"IF(A386=\"\",\"\",IF(LEN(Schema!A398)=2,1,IF(LEN(Schema!B398)=2,10,IF(LEN(Schema!C398)=2,100,IF(LEN(Schema!D398)=2,1000,IF(LEN(Schema!E398)=2,10000,0))))))","v":10},10,{"$f":"IF(A386=\"\",\"\",SUM(Tabel2[[#This Row],[I1]:[I2]]))","v":20},"PP","MS","","","","PP/MS",{"$f":"IF(C386=\"\",\"\",IF(LEN(Tabel2[[#This Row],[Entiteit of attribuut]])=2,\"\",Tabel2[[#This Row],[Entiteit]]&\"_\"&Tabel2[[#This Row],[Entiteit of attribuut]]))","v":""},{"$f":"IF(Schema!K398=\"\",\"\",Schema!K398)","v":""},{"$f":"IF(Schema!L398=\"\",\"\",Schema!L398)","v":""},{"$f":"IF(Schema!M398=\"\",\"\",Schema!M398)","v":""},{"$f":"IF(Schema!N398=\"\",\"\",Schema!N398)","v":""},{"$f":"IF(Schema!P398=\"\",\"\",Schema!P398)","v":"O"}]
[{"$f":"Schema!A399&Schema!B399&Schema!C399&Schema!D399&Schema!E399&Schema!F399","v":"BAFWST"},{"$f":"IF(LEN(A387)=2,A387,IF(A387=\"\",\"Leeg\",B386))","v":"MS"},{"$f":"IF(A387=\"\",\"\",IF(LEN(Schema!A399)=2,1,IF(LEN(Schema!B399)=2,10,IF(LEN(Schema!C399)=2,100,IF(LEN(Schema!D399)=2,1000,IF(LEN(Schema!E399)=2,10000,0))))))","v":0},{"$f":"IF(C387=0,D386,C387)","v":10},{"$f":"IF(A387=\"\",\"\",SUM(Tabel2[[#This Row],[I1]:[I2]]))","v":10},{"$f":"IF(A387=\"\",\"\",IF(C387=1,B387,F386))","v":"PP"},{"$f":"IF(C387=10,A387,IF(OR(C387=0,C387=100,C387=1000,C387=10000),G386,\"\"))","v":"MS"},{"$f":"IF(E387=200,B387,IF(OR(C387=0,C387=100,C387=1000,C387=10000),H386,\"\"))","v":""},{"$f":"IF(E387=2000,B387,IF(OR(C387=0,C387=10000),I386,\"\"))","v":""},{"$f":"IF(E387=20000,B387,IF(OR(C387=0,,C387=10000),J386,\"\"))","v":""},{"$f":"IF(C387=\"\",\"\",IF(OR(E387=1,E387=10,E387=100,E387=1000,E387=10000),K386,IF(E387=2,F387,IF(E387=20,F387&\"/\"&G387,IF(E387=200,F387&\"/\"&G387&\"/\"&H387,IF(E387=2000,F387&\"/\"&G387&\"/\"&H387&\"/\"&I387,IF(E387=20000,F387&\"/\"&G387&\"/\"&H387&\"/\"&I387&\"/\"&J387)))))))","v":"PP/MS"},{"$f":"IF(C387=\"\",\"\",IF(LEN(Tabel2[[#This Row],[Entiteit of attribuut]])=2,\"\",Tabel2[[#This Row],[Entiteit]]&\"_\"&Tabel2[[#This Row],[Entiteit of attribuut]]))","v":"MS_BAFWST"},{"$f":"IF(Schema!K399=\"\",\"\",Schema!K399)","v":""},{"$f":"IF(Schema!L399=\"\",\"\",Schema!L399)","v":""},{"$f":"IF(Schema!M399=\"\",\"\",Schema!M399)","v":""},{"$f":"IF(Schema!N399=\"\",\"\",Schema!N399)","v":""},{"$f":"IF(Schema!P399=\"\",\"\",Schema!P399)","v":"O"}]
[{"$f":"Schema!A400&Schema!B400&Schema!C400&Schema!D400&Schema!E400&Schema!F400","v":"BTP"},"MS",{"$f":"IF(A388=\"\",\"\",IF(LEN(Schema!A400)=2,1,IF(LEN(Schema!B400)=2,10,IF(LEN(Schema!C400)=2,100,IF(LEN(Schema!D400)=2,1000,IF(LEN(Schema!E400)=2,10000,0))))))","v":0},10,{"$f":"IF(A388=\"\",\"\",SUM(Tabel2[[#This Row],[I1]:[I2]]))","v":10},"PP","MS","","","","PP/MS",{"$f":"IF(C388=\"\",\"\",IF(LEN(Tabel2[[#This Row],[Entiteit of attribuut]])=2,\"\",Tabel2[[#This Row],[Entiteit]]&\"_\"&Tabel2[[#This Row],[Entiteit of attribuut]]))","v":"MS_BTP"},{"$f":"IF(Schema!K400=\"\",\"\",Schema!K400)","v":""},{"$f":"IF(Schema!L400=\"\",\"\",Schema!L400)","v":""},{"$f":"IF(Schema!M400=\"\",\"\",Schema!M400)","v":""},{"$f":"IF(Schema!N400=\"\",\"\",Schema!N400)","v":""},{"$f":"IF(Schema!P400=\"\",\"\",Schema!P400)","v":"LEEG"}]
[{"$f":"Schema!A401&Schema!B401&Schema!C401&Schema!D401&Schema!E401&Schema!F401","v":"CODE"},"MS",{"$f":"IF(A389=\"\",\"\",IF(LEN(Schema!A401)=2,1,IF(LEN(Schema!B401)=2,10,IF(LEN(Schema!C401)=2,100,IF(LEN(Schema!D401)=2,1000,IF(LEN(Schema!E401)=2,10000,0))))))","v":0},10,{"$f":"IF(A389=\"\",\"\",SUM(Tabel2[[#This Row],[I1]:[I2]]))","v":10},"PP","MS","","","","PP/MS",{"$f":"IF(C389=\"\",\"\",IF(LEN(Tabel2[[#This Row],[Entiteit of attribuut]])=2,\"\",Tabel2[[#This Row],[Entiteit]]&\"_\"&Tabel2[[#This Row],[Entiteit of attribuut]]))","v":"MS_CODE"},{"$f":"IF(Schema!K401=\"\",\"\",Schema!K401)","v":""},{"$f":"IF(Schema!L401=\"\",\"\",Schema!L401)","v":""},{"$f":"IF(Schema!M401=\"\",\"\",Schema!M401)","v":""},{"$f":"IF(Schema!N401=\"\",\"\",Schema!N401)","v":""},{"$f":"IF(Schema!P401=\"\",\"\",Schema!P401)","v":"O"}]
[{"$f":"Schema!A402&Schema!B402&Schema!C402&Schema!D402&Schema!E402&Schema!F402","v":"COLFACT"},"MS",{"$f":"IF(A390=\"\",\"\",IF(LEN(Schema!A402)=2,1,IF(LEN(Schema!B402)=2,10,IF(LEN(Schema!C402)=2,100,IF(LEN(Schema!D402)=2,1000,IF(LEN(Schema!E402)=2,10000,0))))))","v":0},10,{"$f":"IF(A390=\"\",\"\",SUM(Tabel2[[#This Row],[I1]:[I2]]))","v":10},"PP","MS","","","","PP/MS",{"$f":"IF(C390=\"\",\"\",IF(LEN(Tabel2[[#This Row],[Entiteit of attribuut]])=2,\"\",Tabel2[[#This Row],[Entiteit]]&\"_\"&Tabel2[[#This Row],[Entiteit of attribuut]]))","v":"MS_COLFACT"},{"$f":"IF(Schema!K402=\"\",\"\",Schema!K402)","v":""},{"$f":"IF(Schema!L402=\"\",\"\",Schema!L402)","v":""},{"$f":"IF(Schema!M402=\"\",\"\",Schema!M402)","v":""},{"$f":"IF(Schema!N402=\"\",\"\",Schema!N402)","v":""},{"$f":"IF(Schema!P402=\"\",\"\",Schema!P402)","v":"O"}]
[{"$f":"Schema!A403&Schema!B403&Schema!C403&Schema!D403&Schema!E403&Schema!F403","v":"ERB"},"MS",{"$f":"IF(A391=\"\",\"\",IF(LEN(Schema!A403)=2,1,IF(LEN(Schema!B403)=2,10,IF(LEN(Schema!C403)=2,100,IF(LEN(Schema!D403)=2,1000,IF(LEN(Schema!E403)=2,10000,0))))))","v":0},10,{"$f":"IF(A391=\"\",\"\",SUM(Tabel2[[#This Row],[I1]:[I2]]))","v":10},"PP","MS","","","","PP/MS",{"$f":"IF(C391=\"\",\"\",IF(LEN(Tabel2[[#This Row],[Entiteit of attribuut]])=2,\"\",Tabel2[[#This Row],[Entiteit]]&\"_\"&Tabel2[[#This Row],[Entiteit of attribuut]]))","v":"MS_ERB"},{"$f":"IF(Schema!K403=\"\",\"\",Schema!K403)","v":""},{"$f":"IF(Schema!L403=\"\",\"\",Schema!L403)","v":""},{"$f":"IF(Schema!M403=\"\",\"\",Schema!M403)","v":""},{"$f":"IF(Schema!N403=\"\",\"\",Schema!N403)","v":""},{"$f":"IF(Schema!P403=\"\",\"\",Schema!P403)","v":"O"}]
[{"$f":"Schema!A404&Schema!B404&Schema!C404&Schema!D404&Schema!E404&Schema!F404","v":"GADEKCD"},"MS",{"$f":"IF(A392=\"\",\"\",IF(LEN(Schema!A404)=2,1,IF(LEN(Schema!B404)=2,10,IF(LEN(Schema!C404)=2,100,IF(LEN(Schema!D404)=2,1000,IF(LEN(Schema!E404)=2,10000,0))))))","v":0},10,{"$f":"IF(A392=\"\",\"\",SUM(Tabel2[[#This Row],[I1]:[I2]]))","v":10},"PP","MS","","","","PP/MS",{"$f":"IF(C392=\"\",\"\",IF(LEN(Tabel2[[#This Row],[Entiteit of attribuut]])=2,\"\",Tabel2[[#This Row],[Entiteit]]&\"_\"&Tabel2[[#This Row],[Entiteit of attribuut]]))","v":"MS_GADEKCD"},{"$f":"IF(Schema!K404=\"\",\"\",Schema!K404)","v":""},{"$f":"IF(Schema!L404=\"\",\"\",Schema!L404)","v":""},{"$f":"IF(Schema!M404=\"\",\"\",Schema!M404)","v":""},{"$f":"IF(Schema!N404=\"\",\"\",Schema!N404)","v":""},{"$f":"IF(Schema!P404=\"\",\"\",Schema!P404)","v":"V"}]
[{"$f":"Schema!A405&Schema!B405&Schema!C405&Schema!D405&Schema!E405&Schema!F405","v":"GADEKCO"},"MS",{"$f":"IF(A393=\"\",\"\",IF(LEN(Schema!A405)=2,1,IF(LEN(Schema!B405)=2,10,IF(LEN(Schema!C405)=2,100,IF(LEN(Schema!D405)=2,1000,IF(LEN(Schema!E405)=2,10000,0))))))","v":0},10,{"$f":"IF(A393=\"\",\"\",SUM(Tabel2[[#This Row],[I1]:[I2]]))","v":10},"PP","MS","","","","PP/MS",{"$f":"IF(C393=\"\",\"\",IF(LEN(Tabel2[[#This Row],[Entiteit of attribuut]])=2,\"\",Tabel2[[#This Row],[Entiteit]]&\"_\"&Tabel2[[#This Row],[Entiteit of attribuut]]))","v":"MS_GADEKCO"},{"$f":"IF(Schema!K405=\"\",\"\",Schema!K405)","v":""},{"$f":"IF(Schema!L405=\"\",\"\",Schema!L405)","v":""},{"$f":"IF(Schema!M405=\"\",\"\",Schema!M405)","v":""},{"$f":"IF(Schema!N405=\"\",\"\",Schema!N405)","v":""},{"$f":"IF(Schema!P405=\"\",\"\",Schema!P405)","v":"V"}]
[{"$f":"Schema!A406&Schema!B406&Schema!C406&Schema!D406&Schema!E406&Schema!F406","v":"MVZVRH"},"MS",{"$f":"IF(A394=\"\",\"\",IF(LEN(Schema!A406)=2,1,IF(LEN(Schema!B406)=2,10,IF(LEN(Schema!C406)=2,100,IF(LEN(Schema!D406)=2,1000,IF(LEN(Schema!E406)=2,10000,0))))))","v":0},10,{"$f":"IF(A394=\"\",\"\",SUM(Tabel2[[#This Row],[I1]:[I2]]))","v":10},"PP","MS","","","","PP/MS",{"$f":"IF(C394=\"\",\"\",IF(LEN(Tabel2[[#This Row],[Entiteit of attribuut]])=2,\"\",Tabel2[[#This Row],[Entiteit]]&\"_\"&Tabel2[[#This Row],[Entiteit of attribuut]]))","v":"MS_MVZVRH"},{"$f":"IF(Schema!K406=\"\",\"\",Schema!K406)","v":""},{"$f":"IF(Schema!L406=\"\",\"\",Schema!L406)","v":""},{"$f":"IF(Schema!M406=\"\",\"\",Schema!M406)","v":""},{"$f":"IF(Schema!N406=\"\",\"\",Schema!N406)","v":""},{"$f":"IF(Schema!P406=\"\",\"\",Schema!P406)","v":"LEEG"}]
[{"$f":"Schema!A407&Schema!B407&Schema!C407&Schema!D407&Schema!E407&Schema!F407","v":"MYCODE"},"MS",{"$f":"IF(A395=\"\",\"\",IF(LEN(Schema!A407)=2,1,IF(LEN(Schema!B407)=2,10,IF(LEN(Schema!C407)=2,100,IF(LEN(Schema!D407)=2,1000,IF(LEN(Schema!E407)=2,10000,0))))))","v":0},10,{"$f":"IF(A395=\"\",\"\",SUM(Tabel2[[#This Row],[I1]:[I2]]))","v":10},"PP","MS","","","","PP/MS",{"$f":"IF(C395=\"\",\"\",IF(LEN(Tabel2[[#This Row],[Entiteit of attribuut]])=2,\"\",Tabel2[[#This Row],[Entiteit]]&\"_\"&Tabel2[[#This Row],[Entiteit of attribuut]]))","v":"MS_MYCODE"},{"$f":"IF(Schema!K407=\"\",\"\",Schema!K407)","v":""},{"$f":"IF(Schema!L407=\"\",\"\",Schema!L407)","v":""},{"$f":"IF(Schema!M407=\"\",\"\",Schema!M407)","v":""},{"$f":"IF(Schema!N407=\"\",\"\",Schema!N407)","v":""},{"$f":"IF(Schema!P407=\"\",\"\",Schema!P407)","v":"O"}]
[{"$f":"Schema!A408&Schema!B408&Schema!C408&Schema!D408&Schema!E408&Schema!F408","v":"NJP"},"MS",{"$f":"IF(A396=\"\",\"\",IF(LEN(Schema!A408)=2,1,IF(LEN(Schema!B408)=2,10,IF(LEN(Schema!C408)=2,100,IF(LEN(Schema!D408)=2,1000,IF(LEN(Schema!E408)=2,10000,0))))))","v":0},10,{"$f":"IF(A396=\"\",\"\",SUM(Tabel2[[#This Row],[I1]:[I2]]))","v":10},"PP","MS","","","","PP/MS",{"$f":"IF(C396=\"\",\"\",IF(LEN(Tabel2[[#This Row],[Entiteit of attribuut]])=2,\"\",Tabel2[[#This Row],[Entiteit]]&\"_\"&Tabel2[[#This Row],[Entiteit of attribuut]]))","v":"MS_NJP"},{"$f":"IF(Schema!K408=\"\",\"\",Schema!K408)","v":""},{"$f":"IF(Schema!L408=\"\",\"\",Schema!L408)","v":""},{"$f":"IF(Schema!M408=\"\",\"\",Schema!M408)","v":""},{"$f":"IF(Schema!N408=\"\",\"\",Schema!N408)","v":""},{"$f":"IF(Schema!P408=\"\",\"\",Schema!P408)","v":"O"}]
[{"$f":"Schema!A409&Schema!B409&Schema!C409&Schema!D409&Schema!E409&Schema!F409","v":"PAFWST"},"MS",{"$f":"IF(A397=\"\",\"\",IF(LEN(Schema!A409)=2,1,IF(LEN(Schema!B409)=2,10,IF(LEN(Schema!C409)=2,100,IF(LEN(Schema!D409)=2,1000,IF(LEN(Schema!E409)=2,10000,0))))))","v":0},10,{"$f":"IF(A397=\"\",\"\",SUM(Tabel2[[#This Row],[I1]:[I2]]))","v":10},"PP","MS","","","","PP/MS",{"$f":"IF(C397=\"\",\"\",IF(LEN(Tabel2[[#This Row],[Entiteit of attribuut]])=2,\"\",Tabel2[[#This Row],[Entiteit]]&\"_\"&Tabel2[[#This Row],[Entiteit of attribuut]]))","v":"MS_PAFWST"},{"$f":"IF(Schema!K409=\"\",\"\",Schema!K409)","v":""},{"$f":"IF(Schema!L409=\"\",\"\",Schema!L409)","v":""},{"$f":"IF(Schema!M409=\"\",\"\",Schema!M409)","v":""},{"$f":"IF(Schema!N409=\"\",\"\",Schema!N409)","v":""},{"$f":"IF(Schema!P409=\"\",\"\",Schema!P409)","v":"O"}]
[{"$f":"Schema!A410&Schema!B410&Schema!C410&Schema!D410&Schema!E410&Schema!F410","v":"PPRC"},"MS",{"$f":"IF(A398=\"\",\"\",IF(LEN(Schema!A410)=2,1,IF(LEN(Schema!B410)=2,10,IF(LEN(Schema!C410)=2,100,IF(LEN(Schema!D410)=2,1000,IF(LEN(Schema!E410)=2,10000,0))))))","v":0},10,{"$f":"IF(A398=\"\",\"\",SUM(Tabel2[[#This Row],[I1]:[I2]]))","v":10},"PP","MS","","","","PP/MS",{"$f":"IF(C398=\"\",\"\",IF(LEN(Tabel2[[#This Row],[Entiteit of attribuut]])=2,\"\",Tabel2[[#This Row],[Entiteit]]&\"_\"&Tabel2[[#This Row],[Entiteit of attribuut]]))","v":"MS_PPRC"},{"$f":"IF(Schema!K410=\"\",\"\",Schema!K410)","v":""},{"$f":"IF(Schema!L410=\"\",\"\",Schema!L410)","v":""},{"$f":"IF(Schema!M410=\"\",\"\",Schema!M410)","v":""},{"$f":"IF(Schema!N410=\"\",\"\",Schema!N410)","v":""},{"$f":"IF(Schema!P410=\"\",\"\",Schema!P410)","v":"O"}]
[{"$f":"Schema!A411&Schema!B411&Schema!C411&Schema!D411&Schema!E411&Schema!F411","v":"PRCPKKT"},"MS",{"$f":"IF(A399=\"\",\"\",IF(LEN(Schema!A411)=2,1,IF(LEN(Schema!B411)=2,10,IF(LEN(Schema!C411)=2,100,IF(LEN(Schema!D411)=2,1000,IF(LEN(Schema!E411)=2,10000,0))))))","v":0},10,{"$f":"IF(A399=\"\",\"\",SUM(Tabel2[[#This Row],[I1]:[I2]]))","v":10},"PP","MS","","","","PP/MS",{"$f":"IF(C399=\"\",\"\",IF(LEN(Tabel2[[#This Row],[Entiteit of attribuut]])=2,\"\",Tabel2[[#This Row],[Entiteit]]&\"_\"&Tabel2[[#This Row],[Entiteit of attribuut]]))","v":"MS_PRCPKKT"},{"$f":"IF(Schema!K411=\"\",\"\",Schema!K411)","v":""},{"$f":"IF(Schema!L411=\"\",\"\",Schema!L411)","v":""},{"$f":"IF(Schema!M411=\"\",\"\",Schema!M411)","v":""},{"$f":"IF(Schema!N411=\"\",\"\",Schema!N411)","v":""},{"$f":"IF(Schema!P411=\"\",\"\",Schema!P411)","v":"O"}]
[{"$f":"Schema!A412&Schema!B412&Schema!C412&Schema!D412&Schema!E412&Schema!F412","v":"PRCTEKC"},"MS",{"$f":"IF(A400=\"\",\"\",IF(LEN(Schema!A412)=2,1,IF(LEN(Schema!B412)=2,10,IF(LEN(Schema!C412)=2,100,IF(LEN(Schema!D412)=2,1000,IF(LEN(Schema!E412)=2,10000,0))))))","v":0},10,{"$f":"IF(A400=\"\",\"\",SUM(Tabel2[[#This Row],[I1]:[I2]]))","v":10},"PP","MS","","","","PP/MS",{"$f":"IF(C400=\"\",\"\",IF(LEN(Tabel2[[#This Row],[Entiteit of attribuut]])=2,\"\",Tabel2[[#This Row],[Entiteit]]&\"_\"&Tabel2[[#This Row],[Entiteit of attribuut]]))","v":"MS_PRCTEKC"},{"$f":"IF(Schema!K412=\"\",\"\",Schema!K412)","v":""},{"$f":"IF(Schema!L412=\"\",\"\",Schema!L412)","v":""},{"$f":"IF(Schema!M412=\"\",\"\",Schema!M412)","v":""},{"$f":"IF(Schema!N412=\"\",\"\",Schema!N412)","v":""},{"$f":"IF(Schema!P412=\"\",\"\",Schema!P412)","v":"O"}]
[{"$f":"Schema!A413&Schema!B413&Schema!C413&Schema!D413&Schema!E413&Schema!F413","v":"PRMPROM"},"MS",{"$f":"IF(A401=\"\",\"\",IF(LEN(Schema!A413)=2,1,IF(LEN(Schema!B413)=2,10,IF(LEN(Schema!C413)=2,100,IF(LEN(Schema!D413)=2,1000,IF(LEN(Schema!E413)=2,10000,0))))))","v":0},10,{"$f":"IF(A401=\"\",\"\",SUM(Tabel2[[#This Row],[I1]:[I2]]))","v":10},"PP","MS","","","","PP/MS",{"$f":"IF(C401=\"\",\"\",IF(LEN(Tabel2[[#This Row],[Entiteit of attribuut]])=2,\"\",Tabel2[[#This Row],[Entiteit]]&\"_\"&Tabel2[[#This Row],[Entiteit of attribuut]]))","v":"MS_PRMPROM"},{"$f":"IF(Schema!K413=\"\",\"\",Schema!K413)","v":""},{"$f":"IF(Schema!L413=\"\",\"\",Schema!L413)","v":""},{"$f":"IF(Schema!M413=\"\",\"\",Schema!M413)","v":""},{"$f":"IF(Schema!N413=\"\",\"\",Schema!N413)","v":""},{"$f":"IF(Schema!P413=\"\",\"\",Schema!P413)","v":"O"}]
[{"$f":"Schema!A414&Schema!B414&Schema!C414&Schema!D414&Schema!E414&Schema!F414","v":"RELVRH"},"MS",{"$f":"IF(A402=\"\",\"\",IF(LEN(Schema!A414)=2,1,IF(LEN(Schema!B414)=2,10,IF(LEN(Schema!C414)=2,100,IF(LEN(Schema!D414)=2,1000,IF(LEN(Schema!E414)=2,10000,0))))))","v":0},10,{"$f":"IF(A402=\"\",\"\",SUM(Tabel2[[#This Row],[I1]:[I2]]))","v":10},"PP","MS","","","","PP/MS",{"$f":"IF(C402=\"\",\"\",IF(LEN(Tabel2[[#This Row],[Entiteit of attribuut]])=2,\"\",Tabel2[[#This Row],[Entiteit]]&\"_\"&Tabel2[[#This Row],[Entiteit of attribuut]]))","v":"MS_RELVRH"},{"$f":"IF(Schema!K414=\"\",\"\",Schema!K414)","v":""},{"$f":"IF(Schema!L414=\"\",\"\",Schema!L414)","v":""},{"$f":"IF(Schema!M414=\"\",\"\",Schema!M414)","v":""},{"$f":"IF(Schema!N414=\"\",\"\",Schema!N414)","v":""},{"$f":"IF(Schema!P414=\"\",\"\",Schema!P414)","v":"O"}]
[{"$f":"Schema!A415&Schema!B415&Schema!C415&Schema!D415&Schema!E415&Schema!F415","v":"RELVVNR"},"MS",{"$f":"IF(A403=\"\",\"\",IF(LEN(Schema!A415)=2,1,IF(LEN(Schema!B415)=2,10,IF(LEN(Schema!C415)=2,100,IF(LEN(Schema!D415)=2,1000,IF(LEN(Schema!E415)=2,10000,0))))))","v":0},10,{"$f":"IF(A403=\"\",\"\",SUM(Tabel2[[#This Row],[I1]:[I2]]))","v":10},"PP","MS","","","","PP/MS",{"$f":"IF(C403=\"\",\"\",IF(LEN(Tabel2[[#This Row],[Entiteit of attribuut]])=2,\"\",Tabel2[[#This Row],[Entiteit]]&\"_\"&Tabel2[[#This Row],[Entiteit of attribuut]]))","v":"MS_RELVVNR"},{"$f":"IF(Schema!K415=\"\",\"\",Schema!K415)","v":""},{"$f":"IF(Schema!L415=\"\",\"\",Schema!L415)","v":""},{"$f":"IF(Schema!M415=\"\",\"\",Schema!M415)","v":""},{"$f":"IF(Schema!N415=\"\",\"\",Schema!N415)","v":""},{"$f":"IF(Schema!P415=\"\",\"\",Schema!P415)","v":"O"}]
[{"$f":"Schema!A416&Schema!B416&Schema!C416&Schema!D416&Schema!E416&Schema!F416","v":"RJRCOR"},"MS",{"$f":"IF(A404=\"\",\"\",IF(LEN(Schema!A416)=2,1,IF(LEN(Schema!B416)=2,10,IF(LEN(Schema!C416)=2,100,IF(LEN(Schema!D416)=2,1000,IF(LEN(Schema!E416)=2,10000,0))))))","v":0},10,{"$f":"IF(A404=\"\",\"\",SUM(Tabel2[[#This Row],[I1]:[I2]]))","v":10},"PP","MS","","","","PP/MS",{"$f":"IF(C404=\"\",\"\",IF(LEN(Tabel2[[#This Row],[Entiteit of attribuut]])=2,\"\",Tabel2[[#This Row],[Entiteit]]&\"_\"&Tabel2[[#This Row],[Entiteit of attribuut]]))","v":"MS_RJRCOR"},{"$f":"IF(Schema!K416=\"\",\"\",Schema!K416)","v":""},{"$f":"IF(Schema!L416=\"\",\"\",Schema!L416)","v":""},{"$f":"IF(Schema!M416=\"\",\"\",Schema!M416)","v":""},{"$f":"IF(Schema!N416=\"\",\"\",Schema!N416)","v":""},{"$f":"IF(Schema!P416=\"\",\"\",Schema!P416)","v":"O"}]
[{"$f":"Schema!A417&Schema!B417&Schema!C417&Schema!D417&Schema!E417&Schema!F417","v":"TCORBDR"},"MS",{"$f":"IF(A405=\"\",\"\",IF(LEN(Schema!A417)=2,1,IF(LEN(Schema!B417)=2,10,IF(LEN(Schema!C417)=2,100,IF(LEN(Schema!D417)=2,1000,IF(LEN(Schema!E417)=2,10000,0))))))","v":0},10,{"$f":"IF(A405=\"\",\"\",SUM(Tabel2[[#This Row],[I1]:[I2]]))","v":10},"PP","MS","","","","PP/MS",{"$f":"IF(C405=\"\",\"\",IF(LEN(Tabel2[[#This Row],[Entiteit of attribuut]])=2,\"\",Tabel2[[#This Row],[Entiteit]]&\"_\"&Tabel2[[#This Row],[Entiteit of attribuut]]))","v":"MS_TCORBDR"},{"$f":"IF(Schema!K417=\"\",\"\",Schema!K417)","v":""},{"$f":"IF(Schema!L417=\"\",\"\",Schema!L417)","v":""},{"$f":"IF(Schema!M417=\"\",\"\",Schema!M417)","v":""},{"$f":"IF(Schema!N417=\"\",\"\",Schema!N417)","v":""},{"$f":"IF(Schema!P417=\"\",\"\",Schema!P417)","v":"O"}]
[{"$f":"Schema!A418&Schema!B418&Schema!C418&Schema!D418&Schema!E418&Schema!F418","v":"VERZSOM"},"MS",{"$f":"IF(A406=\"\",\"\",IF(LEN(Schema!A418)=2,1,IF(LEN(Schema!B418)=2,10,IF(LEN(Schema!C418)=2,100,IF(LEN(Schema!D418)=2,1000,IF(LEN(Schema!E418)=2,10000,0))))))","v":0},10,{"$f":"IF(A406=\"\",\"\",SUM(Tabel2[[#This Row],[I1]:[I2]]))","v":10},"PP","MS","","","","PP/MS",{"$f":"IF(C406=\"\",\"\",IF(LEN(Tabel2[[#This Row],[Entiteit of attribuut]])=2,\"\",Tabel2[[#This Row],[Entiteit]]&\"_\"&Tabel2[[#This Row],[Entiteit of attribuut]]))","v":"MS_VERZSOM"},{"$f":"IF(Schema!K418=\"\",\"\",Schema!K418)","v":""},{"$f":"IF(Schema!L418=\"\",\"\",Schema!L418)","v":""},{"$f":"IF(Schema!M418=\"\",\"\",Schema!M418)","v":""},{"$f":"IF(Schema!N418=\"\",\"\",Schema!N418)","v":""},{"$f":"IF(Schema!P418=\"\",\"\",Schema!P418)","v":"O"}]
[{"$f":"Schema!A419&Schema!B419&Schema!C419&Schema!D419&Schema!E419&Schema!F419","v":"VGBRA"},"MS",{"$f":"IF(A407=\"\",\"\",IF(LEN(Schema!A419)=2,1,IF(LEN(Schema!B419)=2,10,IF(LEN(Schema!C419)=2,100,IF(LEN(Schema!D419)=2,1000,IF(LEN(Schema!E419)=2,10000,0))))))","v":0},10,{"$f":"IF(A407=\"\",\"\",SUM(Tabel2[[#This Row],[I1]:[I2]]))","v":10},"PP","MS","","","","PP/MS",{"$f":"IF(C407=\"\",\"\",IF(LEN(Tabel2[[#This Row],[Entiteit of attribuut]])=2,\"\",Tabel2[[#This Row],[Entiteit]]&\"_\"&Tabel2[[#This Row],[Entiteit of attribuut]]))","v":"MS_VGBRA"},{"$f":"IF(Schema!K419=\"\",\"\",Schema!K419)","v":""},{"$f":"IF(Schema!L419=\"\",\"\",Schema!L419)","v":""},{"$f":"IF(Schema!M419=\"\",\"\",Schema!M419)","v":""},{"$f":"IF(Schema!N419=\"\",\"\",Schema!N419)","v":""},{"$f":"IF(Schema!P419=\"\",\"\",Schema!P419)","v":"O"}]
[{"$f":"Schema!A420&Schema!B420&Schema!C420&Schema!D420&Schema!E420&Schema!F420","v":"VOLGNUM"},"MS",{"$f":"IF(A408=\"\",\"\",IF(LEN(Schema!A420)=2,1,IF(LEN(Schema!B420)=2,10,IF(LEN(Schema!C420)=2,100,IF(LEN(Schema!D420)=2,1000,IF(LEN(Schema!E420)=2,10000,0))))))","v":0},10,{"$f":"IF(A408=\"\",\"\",SUM(Tabel2[[#This Row],[I1]:[I2]]))","v":10},"PP","MS","","","","PP/MS",{"$f":"IF(C408=\"\",\"\",IF(LEN(Tabel2[[#This Row],[Entiteit of attribuut]])=2,\"\",Tabel2[[#This Row],[Entiteit]]&\"_\"&Tabel2[[#This Row],[Entiteit of attribuut]]))","v":"MS_VOLGNUM"},{"$f":"IF(Schema!K420=\"\",\"\",Schema!K420)","v":""},{"$f":"IF(Schema!L420=\"\",\"\",Schema!L420)","v":""},{"$f":"IF(Schema!M420=\"\",\"\",Schema!M420)","v":""},{"$f":"IF(Schema!N420=\"\",\"\",Schema!N420)","v":""},{"$f":"IF(Schema!P420=\"\",\"\",Schema!P420)","v":"LEEG"}]
[{"$f":"Schema!A421&Schema!B421&Schema!C421&Schema!D421&Schema!E421&Schema!F421","v":"VOMZET"},"MS",{"$f":"IF(A409=\"\",\"\",IF(LEN(Schema!A421)=2,1,IF(LEN(Schema!B421)=2,10,IF(LEN(Schema!C421)=2,100,IF(LEN(Schema!D421)=2,1000,IF(LEN(Schema!E421)=2,10000,0))))))","v":0},10,{"$f":"IF(A409=\"\",\"\",SUM(Tabel2[[#This Row],[I1]:[I2]]))","v":10},"PP","MS","","","","PP/MS",{"$f":"IF(C409=\"\",\"\",IF(LEN(Tabel2[[#This Row],[Entiteit of attribuut]])=2,\"\",Tabel2[[#This Row],[Entiteit]]&\"_\"&Tabel2[[#This Row],[Entiteit of attribuut]]))","v":"MS_VOMZET"},{"$f":"IF(Schema!K421=\"\",\"\",Schema!K421)","v":""},{"$f":"IF(Schema!L421=\"\",\"\",Schema!L421)","v":""},{"$f":"IF(Schema!M421=\"\",\"\",Schema!M421)","v":""},{"$f":"IF(Schema!N421=\"\",\"\",Schema!N421)","v":""},{"$f":"IF(Schema!P421=\"\",\"\",Schema!P421)","v":"O"}]
[{"$f":"Schema!A422&Schema!B422&Schema!C422&Schema!D422&Schema!E422&Schema!F422","v":"VRWRKCD"},"MS",{"$f":"IF(A410=\"\",\"\",IF(LEN(Schema!A422)=2,1,IF(LEN(Schema!B422)=2,10,IF(LEN(Schema!C422)=2,100,IF(LEN(Schema!D422)=2,1000,IF(LEN(Schema!E422)=2,10000,0))))))","v":0},10,{"$f":"IF(A410=\"\",\"\",SUM(Tabel2[[#This Row],[I1]:[I2]]))","v":10},"PP","MS","","","","PP/MS",{"$f":"IF(C410=\"\",\"\",IF(LEN(Tabel2[[#This Row],[Entiteit of attribuut]])=2,\"\",Tabel2[[#This Row],[Entiteit]]&\"_\"&Tabel2[[#This Row],[Entiteit of attribuut]]))","v":"MS_VRWRKCD"},{"$f":"IF(Schema!K422=\"\",\"\",Schema!K422)","v":""},{"$f":"IF(Schema!L422=\"\",\"\",Schema!L422)","v":""},{"$f":"IF(Schema!M422=\"\",\"\",Schema!M422)","v":""},{"$f":"IF(Schema!N422=\"\",\"\",Schema!N422)","v":""},{"$f":"IF(Schema!P422=\"\",\"\",Schema!P422)","v":"LEEG"}]
[{"$f":"Schema!A423&Schema!B423&Schema!C423&Schema!D423&Schema!E423&Schema!F423","v":"WPREMBP"},"MS",{"$f":"IF(A411=\"\",\"\",IF(LEN(Schema!A423)=2,1,IF(LEN(Schema!B423)=2,10,IF(LEN(Schema!C423)=2,100,IF(LEN(Schema!D423)=2,1000,IF(LEN(Schema!E423)=2,10000,0))))))","v":0},10,{"$f":"IF(A411=\"\",\"\",SUM(Tabel2[[#This Row],[I1]:[I2]]))","v":10},"PP","MS","","","","PP/MS",{"$f":"IF(C411=\"\",\"\",IF(LEN(Tabel2[[#This Row],[Entiteit of attribuut]])=2,\"\",Tabel2[[#This Row],[Entiteit]]&\"_\"&Tabel2[[#This Row],[Entiteit of attribuut]]))","v":"MS_WPREMBP"},{"$f":"IF(Schema!K423=\"\",\"\",Schema!K423)","v":""},{"$f":"IF(Schema!L423=\"\",\"\",Schema!L423)","v":""},{"$f":"IF(Schema!M423=\"\",\"\",Schema!M423)","v":""},{"$f":"IF(Schema!N423=\"\",\"\",Schema!N423)","v":""},{"$f":"IF(Schema!P423=\"\",\"\",Schema!P423)","v":"O"}]
[{"$f":"Schema!A424&Schema!B424&Schema!C424&Schema!D424&Schema!E424&Schema!F424","v":"MP"},"MP",{"$f":"IF(A412=\"\",\"\",IF(LEN(Schema!A424)=2,1,IF(LEN(Schema!B424)=2,10,IF(LEN(Schema!C424)=2,100,IF(LEN(Schema!D424)=2,1000,IF(LEN(Schema!E424)=2,10000,0))))))","v":100},100,{"$f":"IF(A412=\"\",\"\",SUM(Tabel2[[#This Row],[I1]:[I2]]))","v":200},"PP","MS","MP","","","PP/MS/MP",{"$f":"IF(C412=\"\",\"\",IF(LEN(Tabel2[[#This Row],[Entiteit of attribuut]])=2,\"\",Tabel2[[#This Row],[Entiteit]]&\"_\"&Tabel2[[#This Row],[Entiteit of attribuut]]))","v":""},{"$f":"IF(Schema!K424=\"\",\"\",Schema!K424)","v":""},{"$f":"IF(Schema!L424=\"\",\"\",Schema!L424)","v":""},{"$f":"IF(Schema!M424=\"\",\"\",Schema!M424)","v":""},{"$f":"IF(Schema!N424=\"\",\"\",Schema!N424)","v":""},{"$f":"IF(Schema!P424=\"\",\"\",Schema!P424)","v":"O"}]
[{"$f":"Schema!A425&Schema!B425&Schema!C425&Schema!D425&Schema!E425&Schema!F425","v":"MYAAND"},"MP",{"$f":"IF(A413=\"\",\"\",IF(LEN(Schema!A425)=2,1,IF(LEN(Schema!B425)=2,10,IF(LEN(Schema!C425)=2,100,IF(LEN(Schema!D425)=2,1000,IF(LEN(Schema!E425)=2,10000,0))))))","v":0},100,{"$f":"IF(A413=\"\",\"\",SUM(Tabel2[[#This Row],[I1]:[I2]]))","v":100},"PP","MS","MP","","","PP/MS/MP",{"$f":"IF(C413=\"\",\"\",IF(LEN(Tabel2[[#This Row],[Entiteit of attribuut]])=2,\"\",Tabel2[[#This Row],[Entiteit]]&\"_\"&Tabel2[[#This Row],[Entiteit of attribuut]]))","v":"MP_MYAAND"},{"$f":"IF(Schema!K425=\"\",\"\",Schema!K425)","v":""},{"$f":"IF(Schema!L425=\"\",\"\",Schema!L425)","v":""},{"$f":"IF(Schema!M425=\"\",\"\",Schema!M425)","v":""},{"$f":"IF(Schema!N425=\"\",\"\",Schema!N425)","v":""},{"$f":"IF(Schema!P425=\"\",\"\",Schema!P425)","v":"O"}]
[{"$f":"Schema!A426&Schema!B426&Schema!C426&Schema!D426&Schema!E426&Schema!F426","v":"POOLNUM"},"MP",{"$f":"IF(A414=\"\",\"\",IF(LEN(Schema!A426)=2,1,IF(LEN(Schema!B426)=2,10,IF(LEN(Schema!C426)=2,100,IF(LEN(Schema!D426)=2,1000,IF(LEN(Schema!E426)=2,10000,0))))))","v":0},100,{"$f":"IF(A414=\"\",\"\",SUM(Tabel2[[#This Row],[I1]:[I2]]))","v":100},"PP","MS","MP","","","PP/MS/MP",{"$f":"IF(C414=\"\",\"\",IF(LEN(Tabel2[[#This Row],[Entiteit of attribuut]])=2,\"\",Tabel2[[#This Row],[Entiteit]]&\"_\"&Tabel2[[#This Row],[Entiteit of attribuut]]))","v":"MP_POOLNUM"},{"$f":"IF(Schema!K426=\"\",\"\",Schema!K426)","v":""},{"$f":"IF(Schema!L426=\"\",\"\",Schema!L426)","v":""},{"$f":"IF(Schema!M426=\"\",\"\",Schema!M426)","v":""},{"$f":"IF(Schema!N426=\"\",\"\",Schema!N426)","v":""},{"$f":"IF(Schema!P426=\"\",\"\",Schema!P426)","v":"V"}]
[{"$f":"Schema!A427&Schema!B427&Schema!C427&Schema!D427&Schema!E427&Schema!F427","v":"PLLEAD"},"MP",{"$f":"IF(A415=\"\",\"\",IF(LEN(Schema!A427)=2,1,IF(LEN(Schema!B427)=2,10,IF(LEN(Schema!C427)=2,100,IF(LEN(Schema!D427)=2,1000,IF(LEN(Schema!E427)=2,10000,0))))))","v":0},100,{"$f":"IF(A415=\"\",\"\",SUM(Tabel2[[#This Row],[I1]:[I2]]))","v":100},"PP","MS","MP","","","PP/MS/MP",{"$f":"IF(C415=\"\",\"\",IF(LEN(Tabel2[[#This Row],[Entiteit of attribuut]])=2,\"\",Tabel2[[#This Row],[Entiteit]]&\"_\"&Tabel2[[#This Row],[Entiteit of attribuut]]))","v":"MP_PLLEAD"},{"$f":"IF(Schema!K427=\"\",\"\",Schema!K427)","v":""},{"$f":"IF(Schema!L427=\"\",\"\",Schema!L427)","v":""},{"$f":"IF(Schema!M427=\"\",\"\",Schema!M427)","v":""},{"$f":"IF(Schema!N427=\"\",\"\",Schema!N427)","v":""},{"$f":"IF(Schema!P427=\"\",\"\",Schema!P427)","v":"O"}]
[{"$f":"Schema!A428&Schema!B428&Schema!C428&Schema!D428&Schema!E428&Schema!F428","v":"POOLPRC"},"MP",{"$f":"IF(A416=\"\",\"\",IF(LEN(Schema!A428)=2,1,IF(LEN(Schema!B428)=2,10,IF(LEN(Schema!C428)=2,100,IF(LEN(Schema!D428)=2,1000,IF(LEN(Schema!E428)=2,10000,0))))))","v":0},100,{"$f":"IF(A416=\"\",\"\",SUM(Tabel2[[#This Row],[I1]:[I2]]))","v":100},"PP","MS","MP","","","PP/MS/MP",{"$f":"IF(C416=\"\",\"\",IF(LEN(Tabel2[[#This Row],[Entiteit of attribuut]])=2,\"\",Tabel2[[#This Row],[Entiteit]]&\"_\"&Tabel2[[#This Row],[Entiteit of attribuut]]))","v":"MP_POOLPRC"},{"$f":"IF(Schema!K428=\"\",\"\",Schema!K428)","v":""},{"$f":"IF(Schema!L428=\"\",\"\",Schema!L428)","v":""},{"$f":"IF(Schema!M428=\"\",\"\",Schema!M428)","v":""},{"$f":"IF(Schema!N428=\"\",\"\",Schema!N428)","v":""},{"$f":"IF(Schema!P428=\"\",\"\",Schema!P428)","v":"V"}]
[{"$f":"Schema!A429&Schema!B429&Schema!C429&Schema!D429&Schema!E429&Schema!F429","v":"OD"},"OD",{"$f":"IF(A417=\"\",\"\",IF(LEN(Schema!A429)=2,1,IF(LEN(Schema!B429)=2,10,IF(LEN(Schema!C429)=2,100,IF(LEN(Schema!D429)=2,1000,IF(LEN(Schema!E429)=2,10000,0))))))","v":10},10,{"$f":"IF(A417=\"\",\"\",SUM(Tabel2[[#This Row],[I1]:[I2]]))","v":20},"PP","OD","","","","PP/OD",{"$f":"IF(C417=\"\",\"\",IF(LEN(Tabel2[[#This Row],[Entiteit of attribuut]])=2,\"\",Tabel2[[#This Row],[Entiteit]]&\"_\"&Tabel2[[#This Row],[Entiteit of attribuut]]))","v":""},{"$f":"IF(Schema!K429=\"\",\"\",Schema!K429)","v":""},{"$f":"IF(Schema!L429=\"\",\"\",Schema!L429)","v":""},{"$f":"IF(Schema!M429=\"\",\"\",Schema!M429)","v":""},{"$f":"IF(Schema!N429=\"\",\"\",Schema!N429)","v":""},{"$f":"IF(Schema!P429=\"\",\"\",Schema!P429)","v":"O"}]
[{"$f":"Schema!A430&Schema!B430&Schema!C430&Schema!D430&Schema!E430&Schema!F430","v":"BAFWST"},"OD",{"$f":"IF(A418=\"\",\"\",IF(LEN(Schema!A430)=2,1,IF(LEN(Schema!B430)=2,10,IF(LEN(Schema!C430)=2,100,IF(LEN(Schema!D430)=2,1000,IF(LEN(Schema!E430)=2,10000,0))))))","v":0},10,{"$f":"IF(A418=\"\",\"\",SUM(Tabel2[[#This Row],[I1]:[I2]]))","v":10},"PP","OD","","","","PP/OD",{"$f":"IF(C418=\"\",\"\",IF(LEN(Tabel2[[#This Row],[Entiteit of attribuut]])=2,\"\",Tabel2[[#This Row],[Entiteit]]&\"_\"&Tabel2[[#This Row],[Entiteit of attribuut]]))","v":"OD_BAFWST"},{"$f":"IF(Schema!K430=\"\",\"\",Schema!K430)","v":""},{"$f":"IF(Schema!L430=\"\",\"\",Schema!L430)","v":""},{"$f":"IF(Schema!M430=\"\",\"\",Schema!M430)","v":""},{"$f":"IF(Schema!N430=\"\",\"\",Schema!N430)","v":""},{"$f":"IF(Schema!P430=\"\",\"\",Schema!P430)","v":"O"}]
[{"$f":"Schema!A431&Schema!B431&Schema!C431&Schema!D431&Schema!E431&Schema!F431","v":"BTP"},"OD",{"$f":"IF(A419=\"\",\"\",IF(LEN(Schema!A431)=2,1,IF(LEN(Schema!B431)=2,10,IF(LEN(Schema!C431)=2,100,IF(LEN(Schema!D431)=2,1000,IF(LEN(Schema!E431)=2,10000,0))))))","v":0},10,{"$f":"IF(A419=\"\",\"\",SUM(Tabel2[[#This Row],[I1]:[I2]]))","v":10},"PP","OD","","","","PP/OD",{"$f":"IF(C419=\"\",\"\",IF(LEN(Tabel2[[#This Row],[Entiteit of attribuut]])=2,\"\",Tabel2[[#This Row],[Entiteit]]&\"_\"&Tabel2[[#This Row],[Entiteit of attribuut]]))","v":"OD_BTP"},{"$f":"IF(Schema!K431=\"\",\"\",Schema!K431)","v":""},{"$f":"IF(Schema!L431=\"\",\"\",Schema!L431)","v":""},{"$f":"IF(Schema!M431=\"\",\"\",Schema!M431)","v":""},{"$f":"IF(Schema!N431=\"\",\"\",Schema!N431)","v":""},{"$f":"IF(Schema!P431=\"\",\"\",Schema!P431)","v":"LEEG"}]
[{"$f":"Schema!A432&Schema!B432&Schema!C432&Schema!D432&Schema!E432&Schema!F432","v":"CODE"},"OD",{"$f":"IF(A420=\"\",\"\",IF(LEN(Schema!A432)=2,1,IF(LEN(Schema!B432)=2,10,IF(LEN(Schema!C432)=2,100,IF(LEN(Schema!D432)=2,1000,IF(LEN(Schema!E432)=2,10000,0))))))","v":0},10,{"$f":"IF(A420=\"\",\"\",SUM(Tabel2[[#This Row],[I1]:[I2]]))","v":10},"PP","OD","","","","PP/OD",{"$f":"IF(C420=\"\",\"\",IF(LEN(Tabel2[[#This Row],[Entiteit of attribuut]])=2,\"\",Tabel2[[#This Row],[Entiteit]]&\"_\"&Tabel2[[#This Row],[Entiteit of attribuut]]))","v":"OD_CODE"},{"$f":"IF(Schema!K432=\"\",\"\",Schema!K432)","v":""},{"$f":"IF(Schema!L432=\"\",\"\",Schema!L432)","v":""},{"$f":"IF(Schema!M432=\"\",\"\",Schema!M432)","v":""},{"$f":"IF(Schema!N432=\"\",\"\",Schema!N432)","v":""},{"$f":"IF(Schema!P432=\"\",\"\",Schema!P432)","v":"O"}]
[{"$f":"Schema!A433&Schema!B433&Schema!C433&Schema!D433&Schema!E433&Schema!F433","v":"COLFACT"},"OD",{"$f":"IF(A421=\"\",\"\",IF(LEN(Schema!A433)=2,1,IF(LEN(Schema!B433)=2,10,IF(LEN(Schema!C433)=2,100,IF(LEN(Schema!D433)=2,1000,IF(LEN(Schema!E433)=2,10000,0))))))","v":0},10,{"$f":"IF(A421=\"\",\"\",SUM(Tabel2[[#This Row],[I1]:[I2]]))","v":10},"PP","OD","","","","PP/OD",{"$f":"IF(C421=\"\",\"\",IF(LEN(Tabel2[[#This Row],[Entiteit of attribuut]])=2,\"\",Tabel2[[#This Row],[Entiteit]]&\"_\"&Tabel2[[#This Row],[Entiteit of attribuut]]))","v":"OD_COLFACT"},{"$f":"IF(Schema!K433=\"\",\"\",Schema!K433)","v":""},{"$f":"IF(Schema!L433=\"\",\"\",Schema!L433)","v":""},{"$f":"IF(Schema!M433=\"\",\"\",Schema!M433)","v":""},{"$f":"IF(Schema!N433=\"\",\"\",Schema!N433)","v":""},{"$f":"IF(Schema!P433=\"\",\"\",Schema!P433)","v":"O"}]
[{"$f":"Schema!A434&Schema!B434&Schema!C434&Schema!D434&Schema!E434&Schema!F434","v":"ERB"},"OD",{"$f":"IF(A422=\"\",\"\",IF(LEN(Schema!A434)=2,1,IF(LEN(Schema!B434)=2,10,IF(LEN(Schema!C434)=2,100,IF(LEN(Schema!D434)=2,1000,IF(LEN(Schema!E434)=2,10000,0))))))","v":0},10,{"$f":"IF(A422=\"\",\"\",SUM(Tabel2[[#This Row],[I1]:[I2]]))","v":10},"PP","OD","","","","PP/OD",{"$f":"IF(C422=\"\",\"\",IF(LEN(Tabel2[[#This Row],[Entiteit of attribuut]])=2,\"\",Tabel2[[#This Row],[Entiteit]]&\"_\"&Tabel2[[#This Row],[Entiteit of attribuut]]))","v":"OD_ERB"},{"$f":"IF(Schema!K434=\"\",\"\",Schema!K434)","v":""},{"$f":"IF(Schema!L434=\"\",\"\",Schema!L434)","v":""},{"$f":"IF(Schema!M434=\"\",\"\",Schema!M434)","v":""},{"$f":"IF(Schema!N434=\"\",\"\",Schema!N434)","v":""},{"$f":"IF(Schema!P434=\"\",\"\",Schema!P434)","v":"O"}]
[{"$f":"Schema!A435&Schema!B435&Schema!C435&Schema!D435&Schema!E435&Schema!F435","v":"GADEKCD"},"OD",{"$f":"IF(A423=\"\",\"\",IF(LEN(Schema!A435)=2,1,IF(LEN(Schema!B435)=2,10,IF(LEN(Schema!C435)=2,100,IF(LEN(Schema!D435)=2,1000,IF(LEN(Schema!E435)=2,10000,0))))))","v":0},10,{"$f":"IF(A423=\"\",\"\",SUM(Tabel2[[#This Row],[I1]:[I2]]))","v":10},"PP","OD","","","","PP/OD",{"$f":"IF(C423=\"\",\"\",IF(LEN(Tabel2[[#This Row],[Entiteit of attribuut]])=2,\"\",Tabel2[[#This Row],[Entiteit]]&\"_\"&Tabel2[[#This Row],[Entiteit of attribuut]]))","v":"OD_GADEKCD"},{"$f":"IF(Schema!K435=\"\",\"\",Schema!K435)","v":""},{"$f":"IF(Schema!L435=\"\",\"\",Schema!L435)","v":""},{"$f":"IF(Schema!M435=\"\",\"\",Schema!M435)","v":""},{"$f":"IF(Schema!N435=\"\",\"\",Schema!N435)","v":""},{"$f":"IF(Schema!P435=\"\",\"\",Schema!P435)","v":"V"}]
[{"$f":"Schema!A436&Schema!B436&Schema!C436&Schema!D436&Schema!E436&Schema!F436","v":"GADEKCO"},"OD",{"$f":"IF(A424=\"\",\"\",IF(LEN(Schema!A436)=2,1,IF(LEN(Schema!B436)=2,10,IF(LEN(Schema!C436)=2,100,IF(LEN(Schema!D436)=2,1000,IF(LEN(Schema!E436)=2,10000,0))))))","v":0},10,{"$f":"IF(A424=\"\",\"\",SUM(Tabel2[[#This Row],[I1]:[I2]]))","v":10},"PP","OD","","","","PP/OD",{"$f":"IF(C424=\"\",\"\",IF(LEN(Tabel2[[#This Row],[Entiteit of attribuut]])=2,\"\",Tabel2[[#This Row],[Entiteit]]&\"_\"&Tabel2[[#This Row],[Entiteit of attribuut]]))","v":"OD_GADEKCO"},{"$f":"IF(Schema!K436=\"\",\"\",Schema!K436)","v":""},{"$f":"IF(Schema!L436=\"\",\"\",Schema!L436)","v":""},{"$f":"IF(Schema!M436=\"\",\"\",Schema!M436)","v":""},{"$f":"IF(Schema!N436=\"\",\"\",Schema!N436)","v":""},{"$f":"IF(Schema!P436=\"\",\"\",Schema!P436)","v":"V"}]
[{"$f":"Schema!A437&Schema!B437&Schema!C437&Schema!D437&Schema!E437&Schema!F437","v":"MYCODE"},"OD",{"$f":"IF(A425=\"\",\"\",IF(LEN(Schema!A437)=2,1,IF(LEN(Schema!B437)=2,10,IF(LEN(Schema!C437)=2,100,IF(LEN(Schema!D437)=2,1000,IF(LEN(Schema!E437)=2,10000,0))))))","v":0},10,{"$f":"IF(A425=\"\",\"\",SUM(Tabel2[[#This Row],[I1]:[I2]]))","v":10},"PP","OD","","","","PP/OD",{"$f":"IF(C425=\"\",\"\",IF(LEN(Tabel2[[#This Row],[Entiteit of attribuut]])=2,\"\",Tabel2[[#This Row],[Entiteit]]&\"_\"&Tabel2[[#This Row],[Entiteit of attribuut]]))","v":"OD_MYCODE"},{"$f":"IF(Schema!K437=\"\",\"\",Schema!K437)","v":""},{"$f":"IF(Schema!L437=\"\",\"\",Schema!L437)","v":""},{"$f":"IF(Schema!M437=\"\",\"\",Schema!M437)","v":""},{"$f":"IF(Schema!N437=\"\",\"\",Schema!N437)","v":""},{"$f":"IF(Schema!P437=\"\",\"\",Schema!P437)","v":"O"}]
[{"$f":"Schema!A438&Schema!B438&Schema!C438&Schema!D438&Schema!E438&Schema!F438","v":"NJP"},"OD",{"$f":"IF(A426=\"\",\"\",IF(LEN(Schema!A438)=2,1,IF(LEN(Schema!B438)=2,10,IF(LEN(Schema!C438)=2,100,IF(LEN(Schema!D438)=2,1000,IF(LEN(Schema!E438)=2,10000,0))))))","v":0},10,{"$f":"IF(A426=\"\",\"\",SUM(Tabel2[[#This Row],[I1]:[I2]]))","v":10},"PP","OD","","","","PP/OD",{"$f":"IF(C426=\"\",\"\",IF(LEN(Tabel2[[#This Row],[Entiteit of attribuut]])=2,\"\",Tabel2[[#This Row],[Entiteit]]&\"_\"&Tabel2[[#This Row],[Entiteit of attribuut]]))","v":"OD_NJP"},{"$f":"IF(Schema!K438=\"\",\"\",Schema!K438)","v":""},{"$f":"IF(Schema!L438=\"\",\"\",Schema!L438)","v":""},{"$f":"IF(Schema!M438=\"\",\"\",Schema!M438)","v":""},{"$f":"IF(Schema!N438=\"\",\"\",Schema!N438)","v":""},{"$f":"IF(Schema!P438=\"\",\"\",Schema!P438)","v":"O"}]
[{"$f":"Schema!A439&Schema!B439&Schema!C439&Schema!D439&Schema!E439&Schema!F439","v":"PAFWST"},"OD",{"$f":"IF(A427=\"\",\"\",IF(LEN(Schema!A439)=2,1,IF(LEN(Schema!B439)=2,10,IF(LEN(Schema!C439)=2,100,IF(LEN(Schema!D439)=2,1000,IF(LEN(Schema!E439)=2,10000,0))))))","v":0},10,{"$f":"IF(A427=\"\",\"\",SUM(Tabel2[[#This Row],[I1]:[I2]]))","v":10},"PP","OD","","","","PP/OD",{"$f":"IF(C427=\"\",\"\",IF(LEN(Tabel2[[#This Row],[Entiteit of attribuut]])=2,\"\",Tabel2[[#This Row],[Entiteit]]&\"_\"&Tabel2[[#This Row],[Entiteit of attribuut]]))","v":"OD_PAFWST"},{"$f":"IF(Schema!K439=\"\",\"\",Schema!K439)","v":""},{"$f":"IF(Schema!L439=\"\",\"\",Schema!L439)","v":""},{"$f":"IF(Schema!M439=\"\",\"\",Schema!M439)","v":""},{"$f":"IF(Schema!N439=\"\",\"\",Schema!N439)","v":""},{"$f":"IF(Schema!P439=\"\",\"\",Schema!P439)","v":"O"}]
[{"$f":"Schema!A440&Schema!B440&Schema!C440&Schema!D440&Schema!E440&Schema!F440","v":"PPRC"},"OD",{"$f":"IF(A428=\"\",\"\",IF(LEN(Schema!A440)=2,1,IF(LEN(Schema!B440)=2,10,IF(LEN(Schema!C440)=2,100,IF(LEN(Schema!D440)=2,1000,IF(LEN(Schema!E440)=2,10000,0))))))","v":0},10,{"$f":"IF(A428=\"\",\"\",SUM(Tabel2[[#This Row],[I1]:[I2]]))","v":10},"PP","OD","","","","PP/OD",{"$f":"IF(C428=\"\",\"\",IF(LEN(Tabel2[[#This Row],[Entiteit of attribuut]])=2,\"\",Tabel2[[#This Row],[Entiteit]]&\"_\"&Tabel2[[#This Row],[Entiteit of attribuut]]))","v":"OD_PPRC"},{"$f":"IF(Schema!K440=\"\",\"\",Schema!K440)","v":""},{"$f":"IF(Schema!L440=\"\",\"\",Schema!L440)","v":""},{"$f":"IF(Schema!M440=\"\",\"\",Schema!M440)","v":""},{"$f":"IF(Schema!N440=\"\",\"\",Schema!N440)","v":""},{"$f":"IF(Schema!P440=\"\",\"\",Schema!P440)","v":"O"}]
[{"$f":"Schema!A441&Schema!B441&Schema!C441&Schema!D441&Schema!E441&Schema!F441","v":"PRCPKKT"},"OD",{"$f":"IF(A429=\"\",\"\",IF(LEN(Schema!A441)=2,1,IF(LEN(Schema!B441)=2,10,IF(LEN(Schema!C441)=2,100,IF(LEN(Schema!D441)=2,1000,IF(LEN(Schema!E441)=2,10000,0))))))","v":0},10,{"$f":"IF(A429=\"\",\"\",SUM(Tabel2[[#This Row],[I1]:[I2]]))","v":10},"PP","OD","","","","PP/OD",{"$f":"IF(C429=\"\",\"\",IF(LEN(Tabel2[[#This Row],[Entiteit of attribuut]])=2,\"\",Tabel2[[#This Row],[Entiteit]]&\"_\"&Tabel2[[#This Row],[Entiteit of attribuut]]))","v":"OD_PRCPKKT"},{"$f":"IF(Schema!K441=\"\",\"\",Schema!K441)","v":""},{"$f":"IF(Schema!L441=\"\",\"\",Schema!L441)","v":""},{"$f":"IF(Schema!M441=\"\",\"\",Schema!M441)","v":""},{"$f":"IF(Schema!N441=\"\",\"\",Schema!N441)","v":""},{"$f":"IF(Schema!P441=\"\",\"\",Schema!P441)","v":"O"}]
[{"$f":"Schema!A442&Schema!B442&Schema!C442&Schema!D442&Schema!E442&Schema!F442","v":"PRCTEKC"},"OD",{"$f":"IF(A430=\"\",\"\",IF(LEN(Schema!A442)=2,1,IF(LEN(Schema!B442)=2,10,IF(LEN(Schema!C442)=2,100,IF(LEN(Schema!D442)=2,1000,IF(LEN(Schema!E442)=2,10000,0))))))","v":0},10,{"$f":"IF(A430=\"\",\"\",SUM(Tabel2[[#This Row],[I1]:[I2]]))","v":10},"PP","OD","","","","PP/OD",{"$f":"IF(C430=\"\",\"\",IF(LEN(Tabel2[[#This Row],[Entiteit of attribuut]])=2,\"\",Tabel2[[#This Row],[Entiteit]]&\"_\"&Tabel2[[#This Row],[Entiteit of attribuut]]))","v":"OD_PRCTEKC"},{"$f":"IF(Schema!K442=\"\",\"\",Schema!K442)","v":""},{"$f":"IF(Schema!L442=\"\",\"\",Schema!L442)","v":""},{"$f":"IF(Schema!M442=\"\",\"\",Schema!M442)","v":""},{"$f":"IF(Schema!N442=\"\",\"\",Schema!N442)","v":""},{"$f":"IF(Schema!P442=\"\",\"\",Schema!P442)","v":"O"}]
[{"$f":"Schema!A443&Schema!B443&Schema!C443&Schema!D443&Schema!E443&Schema!F443","v":"PRMPROM"},"OD",{"$f":"IF(A431=\"\",\"\",IF(LEN(Schema!A443)=2,1,IF(LEN(Schema!B443)=2,10,IF(LEN(Schema!C443)=2,100,IF(LEN(Schema!D443)=2,1000,IF(LEN(Schema!E443)=2,10000,0))))))","v":0},10,{"$f":"IF(A431=\"\",\"\",SUM(Tabel2[[#This Row],[I1]:[I2]]))","v":10},"PP","OD","","","","PP/OD",{"$f":"IF(C431=\"\",\"\",IF(LEN(Tabel2[[#This Row],[Entiteit of attribuut]])=2,\"\",Tabel2[[#This Row],[Entiteit]]&\"_\"&Tabel2[[#This Row],[Entiteit of attribuut]]))","v":"OD_PRMPROM"},{"$f":"IF(Schema!K443=\"\",\"\",Schema!K443)","v":""},{"$f":"IF(Schema!L443=\"\",\"\",Schema!L443)","v":""},{"$f":"IF(Schema!M443=\"\",\"\",Schema!M443)","v":""},{"$f":"IF(Schema!N443=\"\",\"\",Schema!N443)","v":""},{"$f":"IF(Schema!P443=\"\",\"\",Schema!P443)","v":"O"}]
[{"$f":"Schema!A444&Schema!B444&Schema!C444&Schema!D444&Schema!E444&Schema!F444","v":"RELVRH"},"OD",{"$f":"IF(A432=\"\",\"\",IF(LEN(Schema!A444)=2,1,IF(LEN(Schema!B444)=2,10,IF(LEN(Schema!C444)=2,100,IF(LEN(Schema!D444)=2,1000,IF(LEN(Schema!E444)=2,10000,0))))))","v":0},10,{"$f":"IF(A432=\"\",\"\",SUM(Tabel2[[#This Row],[I1]:[I2]]))","v":10},"PP","OD","","","","PP/OD",{"$f":"IF(C432=\"\",\"\",IF(LEN(Tabel2[[#This Row],[Entiteit of attribuut]])=2,\"\",Tabel2[[#This Row],[Entiteit]]&\"_\"&Tabel2[[#This Row],[Entiteit of attribuut]]))","v":"OD_RELVRH"},{"$f":"IF(Schema!K444=\"\",\"\",Schema!K444)","v":""},{"$f":"IF(Schema!L444=\"\",\"\",Schema!L444)","v":""},{"$f":"IF(Schema!M444=\"\",\"\",Schema!M444)","v":""},{"$f":"IF(Schema!N444=\"\",\"\",Schema!N444)","v":""},{"$f":"IF(Schema!P444=\"\",\"\",Schema!P444)","v":"O"}]
[{"$f":"Schema!A445&Schema!B445&Schema!C445&Schema!D445&Schema!E445&Schema!F445","v":"RELVVNR"},"OD",{"$f":"IF(A433=\"\",\"\",IF(LEN(Schema!A445)=2,1,IF(LEN(Schema!B445)=2,10,IF(LEN(Schema!C445)=2,100,IF(LEN(Schema!D445)=2,1000,IF(LEN(Schema!E445)=2,10000,0))))))","v":0},10,{"$f":"IF(A433=\"\",\"\",SUM(Tabel2[[#This Row],[I1]:[I2]]))","v":10},"PP","OD","","","","PP/OD",{"$f":"IF(C433=\"\",\"\",IF(LEN(Tabel2[[#This Row],[Entiteit of attribuut]])=2,\"\",Tabel2[[#This Row],[Entiteit]]&\"_\"&Tabel2[[#This Row],[Entiteit of attribuut]]))","v":"OD_RELVVNR"},{"$f":"IF(Schema!K445=\"\",\"\",Schema!K445)","v":""},{"$f":"IF(Schema!L445=\"\",\"\",Schema!L445)","v":""},{"$f":"IF(Schema!M445=\"\",\"\",Schema!M445)","v":""},{"$f":"IF(Schema!N445=\"\",\"\",Schema!N445)","v":""},{"$f":"IF(Schema!P445=\"\",\"\",Schema!P445)","v":"O"}]
[{"$f":"Schema!A446&Schema!B446&Schema!C446&Schema!D446&Schema!E446&Schema!F446","v":"RJRCOR"},"OD",{"$f":"IF(A434=\"\",\"\",IF(LEN(Schema!A446)=2,1,IF(LEN(Schema!B446)=2,10,IF(LEN(Schema!C446)=2,100,IF(LEN(Schema!D446)=2,1000,IF(LEN(Schema!E446)=2,10000,0))))))","v":0},10,{"$f":"IF(A434=\"\",\"\",SUM(Tabel2[[#This Row],[I1]:[I2]]))","v":10},"PP","OD","","","","PP/OD",{"$f":"IF(C434=\"\",\"\",IF(LEN(Tabel2[[#This Row],[Entiteit of attribuut]])=2,\"\",Tabel2[[#This Row],[Entiteit]]&\"_\"&Tabel2[[#This Row],[Entiteit of attribuut]]))","v":"OD_RJRCOR"},{"$f":"IF(Schema!K446=\"\",\"\",Schema!K446)","v":""},{"$f":"IF(Schema!L446=\"\",\"\",Schema!L446)","v":""},{"$f":"IF(Schema!M446=\"\",\"\",Schema!M446)","v":""},{"$f":"IF(Schema!N446=\"\",\"\",Schema!N446)","v":""},{"$f":"IF(Schema!P446=\"\",\"\",Schema!P446)","v":"O"}]
[{"$f":"Schema!A447&Schema!B447&Schema!C447&Schema!D447&Schema!E447&Schema!F447","v":"TCORBDR"},"OD",{"$f":"IF(A435=\"\",\"\",IF(LEN(Schema!A447)=2,1,IF(LEN(Schema!B447)=2,10,IF(LEN(Schema!C447)=2,100,IF(LEN(Schema!D447)=2,1000,IF(LEN(Schema!E447)=2,10000,0))))))","v":0},10,{"$f":"IF(A435=\"\",\"\",SUM(Tabel2[[#This Row],[I1]:[I2]]))","v":10},"PP","OD","","","","PP/OD",{"$f":"IF(C435=\"\",\"\",IF(LEN(Tabel2[[#This Row],[Entiteit of attribuut]])=2,\"\",Tabel2[[#This Row],[Entiteit]]&\"_\"&Tabel2[[#This Row],[Entiteit of attribuut]]))","v":"OD_TCORBDR"},{"$f":"IF(Schema!K447=\"\",\"\",Schema!K447)","v":""},{"$f":"IF(Schema!L447=\"\",\"\",Schema!L447)","v":""},{"$f":"IF(Schema!M447=\"\",\"\",Schema!M447)","v":""},{"$f":"IF(Schema!N447=\"\",\"\",Schema!N447)","v":""},{"$f":"IF(Schema!P447=\"\",\"\",Schema!P447)","v":"O"}]
[{"$f":"Schema!A448&Schema!B448&Schema!C448&Schema!D448&Schema!E448&Schema!F448","v":"VERZSOM"},"OD",{"$f":"IF(A436=\"\",\"\",IF(LEN(Schema!A448)=2,1,IF(LEN(Schema!B448)=2,10,IF(LEN(Schema!C448)=2,100,IF(LEN(Schema!D448)=2,1000,IF(LEN(Schema!E448)=2,10000,0))))))","v":0},10,{"$f":"IF(A436=\"\",\"\",SUM(Tabel2[[#This Row],[I1]:[I2]]))","v":10},"PP","OD","","","","PP/OD",{"$f":"IF(C436=\"\",\"\",IF(LEN(Tabel2[[#This Row],[Entiteit of attribuut]])=2,\"\",Tabel2[[#This Row],[Entiteit]]&\"_\"&Tabel2[[#This Row],[Entiteit of attribuut]]))","v":"OD_VERZSOM"},{"$f":"IF(Schema!K448=\"\",\"\",Schema!K448)","v":""},{"$f":"IF(Schema!L448=\"\",\"\",Schema!L448)","v":""},{"$f":"IF(Schema!M448=\"\",\"\",Schema!M448)","v":""},{"$f":"IF(Schema!N448=\"\",\"\",Schema!N448)","v":""},{"$f":"IF(Schema!P448=\"\",\"\",Schema!P448)","v":"O"}]
[{"$f":"Schema!A449&Schema!B449&Schema!C449&Schema!D449&Schema!E449&Schema!F449","v":"VGBRA"},"OD",{"$f":"IF(A437=\"\",\"\",IF(LEN(Schema!A449)=2,1,IF(LEN(Schema!B449)=2,10,IF(LEN(Schema!C449)=2,100,IF(LEN(Schema!D449)=2,1000,IF(LEN(Schema!E449)=2,10000,0))))))","v":0},10,{"$f":"IF(A437=\"\",\"\",SUM(Tabel2[[#This Row],[I1]:[I2]]))","v":10},"PP","OD","","","","PP/OD",{"$f":"IF(C437=\"\",\"\",IF(LEN(Tabel2[[#This Row],[Entiteit of attribuut]])=2,\"\",Tabel2[[#This Row],[Entiteit]]&\"_\"&Tabel2[[#This Row],[Entiteit of attribuut]]))","v":"OD_VGBRA"},{"$f":"IF(Schema!K449=\"\",\"\",Schema!K449)","v":""},{"$f":"IF(Schema!L449=\"\",\"\",Schema!L449)","v":""},{"$f":"IF(Schema!M449=\"\",\"\",Schema!M449)","v":""},{"$f":"IF(Schema!N449=\"\",\"\",Schema!N449)","v":""},{"$f":"IF(Schema!P449=\"\",\"\",Schema!P449)","v":"O"}]
[{"$f":"Schema!A450&Schema!B450&Schema!C450&Schema!D450&Schema!E450&Schema!F450","v":"VOLGNUM"},"OD",{"$f":"IF(A438=\"\",\"\",IF(LEN(Schema!A450)=2,1,IF(LEN(Schema!B450)=2,10,IF(LEN(Schema!C450)=2,100,IF(LEN(Schema!D450)=2,1000,IF(LEN(Schema!E450)=2,10000,0))))))","v":0},10,{"$f":"IF(A438=\"\",\"\",SUM(Tabel2[[#This Row],[I1]:[I2]]))","v":10},"PP","OD","","","","PP/OD",{"$f":"IF(C438=\"\",\"\",IF(LEN(Tabel2[[#This Row],[Entiteit of attribuut]])=2,\"\",Tabel2[[#This Row],[Entiteit]]&\"_\"&Tabel2[[#This Row],[Entiteit of attribuut]]))","v":"OD_VOLGNUM"},{"$f":"IF(Schema!K450=\"\",\"\",Schema!K450)","v":""},{"$f":"IF(Schema!L450=\"\",\"\",Schema!L450)","v":""},{"$f":"IF(Schema!M450=\"\",\"\",Schema!M450)","v":""},{"$f":"IF(Schema!N450=\"\",\"\",Schema!N450)","v":""},{"$f":"IF(Schema!P450=\"\",\"\",Schema!P450)","v":"LEEG"}]
[{"$f":"Schema!A451&Schema!B451&Schema!C451&Schema!D451&Schema!E451&Schema!F451","v":"VRWRKCD"},"OD",{"$f":"IF(A439=\"\",\"\",IF(LEN(Schema!A451)=2,1,IF(LEN(Schema!B451)=2,10,IF(LEN(Schema!C451)=2,100,IF(LEN(Schema!D451)=2,1000,IF(LEN(Schema!E451)=2,10000,0))))))","v":0},10,{"$f":"IF(A439=\"\",\"\",SUM(Tabel2[[#This Row],[I1]:[I2]]))","v":10},"PP","OD","","","","PP/OD",{"$f":"IF(C439=\"\",\"\",IF(LEN(Tabel2[[#This Row],[Entiteit of attribuut]])=2,\"\",Tabel2[[#This Row],[Entiteit]]&\"_\"&Tabel2[[#This Row],[Entiteit of attribuut]]))","v":"OD_VRWRKCD"},{"$f":"IF(Schema!K451=\"\",\"\",Schema!K451)","v":""},{"$f":"IF(Schema!L451=\"\",\"\",Schema!L451)","v":""},{"$f":"IF(Schema!M451=\"\",\"\",Schema!M451)","v":""},{"$f":"IF(Schema!N451=\"\",\"\",Schema!N451)","v":""},{"$f":"IF(Schema!P451=\"\",\"\",Schema!P451)","v":"LEEG"}]
[{"$f":"Schema!A452&Schema!B452&Schema!C452&Schema!D452&Schema!E452&Schema!F452","v":"WACHTTY"},"OD",{"$f":"IF(A440=\"\",\"\",IF(LEN(Schema!A452)=2,1,IF(LEN(Schema!B452)=2,10,IF(LEN(Schema!C452)=2,100,IF(LEN(Schema!D452)=2,1000,IF(LEN(Schema!E452)=2,10000,0))))))","v":0},10,{"$f":"IF(A440=\"\",\"\",SUM(Tabel2[[#This Row],[I1]:[I2]]))","v":10},"PP","OD","","","","PP/OD",{"$f":"IF(C440=\"\",\"\",IF(LEN(Tabel2[[#This Row],[Entiteit of attribuut]])=2,\"\",Tabel2[[#This Row],[Entiteit]]&\"_\"&Tabel2[[#This Row],[Entiteit of attribuut]]))","v":"OD_WACHTTY"},{"$f":"IF(Schema!K452=\"\",\"\",Schema!K452)","v":""},{"$f":"IF(Schema!L452=\"\",\"\",Schema!L452)","v":""},{"$f":"IF(Schema!M452=\"\",\"\",Schema!M452)","v":""},{"$f":"IF(Schema!N452=\"\",\"\",Schema!N452)","v":""},{"$f":"IF(Schema!P452=\"\",\"\",Schema!P452)","v":"O"}]
[{"$f":"Schema!A453&Schema!B453&Schema!C453&Schema!D453&Schema!E453&Schema!F453","v":"WPREMBP"},"OD",{"$f":"IF(A441=\"\",\"\",IF(LEN(Schema!A453)=2,1,IF(LEN(Schema!B453)=2,10,IF(LEN(Schema!C453)=2,100,IF(LEN(Schema!D453)=2,1000,IF(LEN(Schema!E453)=2,10000,0))))))","v":0},10,{"$f":"IF(A441=\"\",\"\",SUM(Tabel2[[#This Row],[I1]:[I2]]))","v":10},"PP","OD","","","","PP/OD",{"$f":"IF(C441=\"\",\"\",IF(LEN(Tabel2[[#This Row],[Entiteit of attribuut]])=2,\"\",Tabel2[[#This Row],[Entiteit]]&\"_\"&Tabel2[[#This Row],[Entiteit of attribuut]]))","v":"OD_WPREMBP"},{"$f":"IF(Schema!K453=\"\",\"\",Schema!K453)","v":""},{"$f":"IF(Schema!L453=\"\",\"\",Schema!L453)","v":""},{"$f":"IF(Schema!M453=\"\",\"\",Schema!M453)","v":""},{"$f":"IF(Schema!N453=\"\",\"\",Schema!N453)","v":""},{"$f":"IF(Schema!P453=\"\",\"\",Schema!P453)","v":"O"}]
[{"$f":"Schema!A454&Schema!B454&Schema!C454&Schema!D454&Schema!E454&Schema!F454","v":"MP"},"MP",{"$f":"IF(A442=\"\",\"\",IF(LEN(Schema!A454)=2,1,IF(LEN(Schema!B454)=2,10,IF(LEN(Schema!C454)=2,100,IF(LEN(Schema!D454)=2,1000,IF(LEN(Schema!E454)=2,10000,0))))))","v":100},100,{"$f":"IF(A442=\"\",\"\",SUM(Tabel2[[#This Row],[I1]:[I2]]))","v":200},"PP","OD","MP","","","PP/OD/MP",{"$f":"IF(C442=\"\",\"\",IF(LEN(Tabel2[[#This Row],[Entiteit of attribuut]])=2,\"\",Tabel2[[#This Row],[Entiteit]]&\"_\"&Tabel2[[#This Row],[Entiteit of attribuut]]))","v":""},{"$f":"IF(Schema!K454=\"\",\"\",Schema!K454)","v":""},{"$f":"IF(Schema!L454=\"\",\"\",Schema!L454)","v":""},{"$f":"IF(Schema!M454=\"\",\"\",Schema!M454)","v":""},{"$f":"IF(Schema!N454=\"\",\"\",Schema!N454)","v":""},{"$f":"IF(Schema!P454=\"\",\"\",Schema!P454)","v":"O"}]
[{"$f":"Schema!A455&Schema!B455&Schema!C455&Schema!D455&Schema!E455&Schema!F455","v":"MYAAND"},"MP",{"$f":"IF(A443=\"\",\"\",IF(LEN(Schema!A455)=2,1,IF(LEN(Schema!B455)=2,10,IF(LEN(Schema!C455)=2,100,IF(LEN(Schema!D455)=2,1000,IF(LEN(Schema!E455)=2,10000,0))))))","v":0},100,{"$f":"IF(A443=\"\",\"\",SUM(Tabel2[[#This Row],[I1]:[I2]]))","v":100},"PP","OD","MP","","","PP/OD/MP",{"$f":"IF(C443=\"\",\"\",IF(LEN(Tabel2[[#This Row],[Entiteit of attribuut]])=2,\"\",Tabel2[[#This Row],[Entiteit]]&\"_\"&Tabel2[[#This Row],[Entiteit of attribuut]]))","v":"MP_MYAAND"},{"$f":"IF(Schema!K455=\"\",\"\",Schema!K455)","v":""},{"$f":"IF(Schema!L455=\"\",\"\",Schema!L455)","v":""},{"$f":"IF(Schema!M455=\"\",\"\",Schema!M455)","v":""},{"$f":"IF(Schema!N455=\"\",\"\",Schema!N455)","v":""},{"$f":"IF(Schema!P455=\"\",\"\",Schema!P455)","v":"O"}]
[{"$f":"Schema!A456&Schema!B456&Schema!C456&Schema!D456&Schema!E456&Schema!F456","v":"POOLNUM"},"MP",{"$f":"IF(A444=\"\",\"\",IF(LEN(Schema!A456)=2,1,IF(LEN(Schema!B456)=2,10,IF(LEN(Schema!C456)=2,100,IF(LEN(Schema!D456)=2,1000,IF(LEN(Schema!E456)=2,10000,0))))))","v":0},100,{"$f":"IF(A444=\"\",\"\",SUM(Tabel2[[#This Row],[I1]:[I2]]))","v":100},"PP","OD","MP","","","PP/OD/MP",{"$f":"IF(C444=\"\",\"\",IF(LEN(Tabel2[[#This Row],[Entiteit of attribuut]])=2,\"\",Tabel2[[#This Row],[Entiteit]]&\"_\"&Tabel2[[#This Row],[Entiteit of attribuut]]))","v":"MP_POOLNUM"},{"$f":"IF(Schema!K456=\"\",\"\",Schema!K456)","v":""},{"$f":"IF(Schema!L456=\"\",\"\",Schema!L456)","v":""},{"$f":"IF(Schema!M456=\"\",\"\",Schema!M456)","v":""},{"$f":"IF(Schema!N456=\"\",\"\",Schema!N456)","v":""},{"$f":"IF(Schema!P456=\"\",\"\",Schema!P456)","v":"V"}]
[{"$f":"Schema!A457&Schema!B457&Schema!C457&Schema!D457&Schema!E457&Schema!F457","v":"PLLEAD"},"MP",{"$f":"IF(A445=\"\",\"\",IF(LEN(Schema!A457)=2,1,IF(LEN(Schema!B457)=2,10,IF(LEN(Schema!C457)=2,100,IF(LEN(Schema!D457)=2,1000,IF(LEN(Schema!E457)=2,10000,0))))))","v":0},100,{"$f":"IF(A445=\"\",\"\",SUM(Tabel2[[#This Row],[I1]:[I2]]))","v":100},"PP","OD","MP","","","PP/OD/MP",{"$f":"IF(C445=\"\",\"\",IF(LEN(Tabel2[[#This Row],[Entiteit of attribuut]])=2,\"\",Tabel2[[#This Row],[Entiteit]]&\"_\"&Tabel2[[#This Row],[Entiteit of attribuut]]))","v":"MP_PLLEAD"},{"$f":"IF(Schema!K457=\"\",\"\",Schema!K457)","v":""},{"$f":"IF(Schema!L457=\"\",\"\",Schema!L457)","v":""},{"$f":"IF(Schema!M457=\"\",\"\",Schema!M457)","v":""},{"$f":"IF(Schema!N457=\"\",\"\",Schema!N457)","v":""},{"$f":"IF(Schema!P457=\"\",\"\",Schema!P457)","v":"O"}]
[{"$f":"Schema!A458&Schema!B458&Schema!C458&Schema!D458&Schema!E458&Schema!F458","v":"POOLPRC"},"MP",{"$f":"IF(A446=\"\",\"\",IF(LEN(Schema!A458)=2,1,IF(LEN(Schema!B458)=2,10,IF(LEN(Schema!C458)=2,100,IF(LEN(Schema!D458)=2,1000,IF(LEN(Schema!E458)=2,10000,0))))))","v":0},100,{"$f":"IF(A446=\"\",\"\",SUM(Tabel2[[#This Row],[I1]:[I2]]))","v":100},"PP","OD","MP","","","PP/OD/MP",{"$f":"IF(C446=\"\",\"\",IF(LEN(Tabel2[[#This Row],[Entiteit of attribuut]])=2,\"\",Tabel2[[#This Row],[Entiteit]]&\"_\"&Tabel2[[#This Row],[Entiteit of attribuut]]))","v":"MP_POOLPRC"},{"$f":"IF(Schema!K458=\"\",\"\",Schema!K458)","v":""},{"$f":"IF(Schema!L458=\"\",\"\",Schema!L458)","v":""},{"$f":"IF(Schema!M458=\"\",\"\",Schema!M458)","v":""},{"$f":"IF(Schema!N458=\"\",\"\",Schema!N458)","v":""},{"$f":"IF(Schema!P458=\"\",\"\",Schema!P458)","v":"V"}]
[{"$f":"Schema!A459&Schema!B459&Schema!C459&Schema!D459&Schema!E459&Schema!F459","v":"OP"},"OP",{"$f":"IF(A447=\"\",\"\",IF(LEN(Schema!A459)=2,1,IF(LEN(Schema!B459)=2,10,IF(LEN(Schema!C459)=2,100,IF(LEN(Schema!D459)=2,1000,IF(LEN(Schema!E459)=2,10000,0))))))","v":10},10,{"$f":"IF(A447=\"\",\"\",SUM(Tabel2[[#This Row],[I1]:[I2]]))","v":20},"PP","OP","","","","PP/OP",{"$f":"IF(C447=\"\",\"\",IF(LEN(Tabel2[[#This Row],[Entiteit of attribuut]])=2,\"\",Tabel2[[#This Row],[Entiteit]]&\"_\"&Tabel2[[#This Row],[Entiteit of attribuut]]))","v":""},{"$f":"IF(Schema!K459=\"\",\"\",Schema!K459)","v":""},{"$f":"IF(Schema!L459=\"\",\"\",Schema!L459)","v":""},{"$f":"IF(Schema!M459=\"\",\"\",Schema!M459)","v":""},{"$f":"IF(Schema!N459=\"\",\"\",Schema!N459)","v":""},{"$f":"IF(Schema!P459=\"\",\"\",Schema!P459)","v":"O"}]
[{"$f":"Schema!A460&Schema!B460&Schema!C460&Schema!D460&Schema!E460&Schema!F460","v":"AANVDEK"},"OP",{"$f":"IF(A448=\"\",\"\",IF(LEN(Schema!A460)=2,1,IF(LEN(Schema!B460)=2,10,IF(LEN(Schema!C460)=2,100,IF(LEN(Schema!D460)=2,1000,IF(LEN(Schema!E460)=2,10000,0))))))","v":0},10,{"$f":"IF(A448=\"\",\"\",SUM(Tabel2[[#This Row],[I1]:[I2]]))","v":10},"PP","OP","","","","PP/OP",{"$f":"IF(C448=\"\",\"\",IF(LEN(Tabel2[[#This Row],[Entiteit of attribuut]])=2,\"\",Tabel2[[#This Row],[Entiteit]]&\"_\"&Tabel2[[#This Row],[Entiteit of attribuut]]))","v":"OP_AANVDEK"},{"$f":"IF(Schema!K460=\"\",\"\",Schema!K460)","v":""},{"$f":"IF(Schema!L460=\"\",\"\",Schema!L460)","v":""},{"$f":"IF(Schema!M460=\"\",\"\",Schema!M460)","v":""},{"$f":"IF(Schema!N460=\"\",\"\",Schema!N460)","v":""},{"$f":"IF(Schema!P460=\"\",\"\",Schema!P460)","v":"LEEG"}]
[{"$f":"Schema!A461&Schema!B461&Schema!C461&Schema!D461&Schema!E461&Schema!F461","v":"AFKSER"},"OP",{"$f":"IF(A449=\"\",\"\",IF(LEN(Schema!A461)=2,1,IF(LEN(Schema!B461)=2,10,IF(LEN(Schema!C461)=2,100,IF(LEN(Schema!D461)=2,1000,IF(LEN(Schema!E461)=2,10000,0))))))","v":0},10,{"$f":"IF(A449=\"\",\"\",SUM(Tabel2[[#This Row],[I1]:[I2]]))","v":10},"PP","OP","","","","PP/OP",{"$f":"IF(C449=\"\",\"\",IF(LEN(Tabel2[[#This Row],[Entiteit of attribuut]])=2,\"\",Tabel2[[#This Row],[Entiteit]]&\"_\"&Tabel2[[#This Row],[Entiteit of attribuut]]))","v":"OP_AFKSER"},{"$f":"IF(Schema!K461=\"\",\"\",Schema!K461)","v":""},{"$f":"IF(Schema!L461=\"\",\"\",Schema!L461)","v":""},{"$f":"IF(Schema!M461=\"\",\"\",Schema!M461)","v":""},{"$f":"IF(Schema!N461=\"\",\"\",Schema!N461)","v":""},{"$f":"IF(Schema!P461=\"\",\"\",Schema!P461)","v":"LEEG"}]
[{"$f":"Schema!A462&Schema!B462&Schema!C462&Schema!D462&Schema!E462&Schema!F462","v":"BAFWST"},"OP",{"$f":"IF(A450=\"\",\"\",IF(LEN(Schema!A462)=2,1,IF(LEN(Schema!B462)=2,10,IF(LEN(Schema!C462)=2,100,IF(LEN(Schema!D462)=2,1000,IF(LEN(Schema!E462)=2,10000,0))))))","v":0},10,{"$f":"IF(A450=\"\",\"\",SUM(Tabel2[[#This Row],[I1]:[I2]]))","v":10},"PP","OP","","","","PP/OP",{"$f":"IF(C450=\"\",\"\",IF(LEN(Tabel2[[#This Row],[Entiteit of attribuut]])=2,\"\",Tabel2[[#This Row],[Entiteit]]&\"_\"&Tabel2[[#This Row],[Entiteit of attribuut]]))","v":"OP_BAFWST"},{"$f":"IF(Schema!K462=\"\",\"\",Schema!K462)","v":""},{"$f":"IF(Schema!L462=\"\",\"\",Schema!L462)","v":""},{"$f":"IF(Schema!M462=\"\",\"\",Schema!M462)","v":""},{"$f":"IF(Schema!N462=\"\",\"\",Schema!N462)","v":""},{"$f":"IF(Schema!P462=\"\",\"\",Schema!P462)","v":"O"}]
[{"$f":"Schema!A463&Schema!B463&Schema!C463&Schema!D463&Schema!E463&Schema!F463","v":"BTP"},{"$f":"IF(LEN(A451)=2,A451,IF(A451=\"\",\"Leeg\",B450))","v":"OP"},{"$f":"IF(A451=\"\",\"\",IF(LEN(Schema!A463)=2,1,IF(LEN(Schema!B463)=2,10,IF(LEN(Schema!C463)=2,100,IF(LEN(Schema!D463)=2,1000,IF(LEN(Schema!E463)=2,10000,0))))))","v":0},{"$f":"IF(C451=0,D450,C451)","v":10},{"$f":"IF(A451=\"\",\"\",SUM(Tabel2[[#This Row],[I1]:[I2]]))","v":10},{"$f":"IF(A451=\"\",\"\",IF(C451=1,B451,F450))","v":"PP"},{"$f":"IF(C451=10,A451,IF(OR(C451=0,C451=100,C451=1000,C451=10000),G450,\"\"))","v":"OP"},{"$f":"IF(E451=200,B451,IF(OR(C451=0,C451=100,C451=1000,C451=10000),H450,\"\"))","v":""},{"$f":"IF(E451=2000,B451,IF(OR(C451=0,C451=10000),I450,\"\"))","v":""},{"$f":"IF(E451=20000,B451,IF(OR(C451=0,,C451=10000),J450,\"\"))","v":""},{"$f":"IF(C451=\"\",\"\",IF(OR(E451=1,E451=10,E451=100,E451=1000,E451=10000),K450,IF(E451=2,F451,IF(E451=20,F451&\"/\"&G451,IF(E451=200,F451&\"/\"&G451&\"/\"&H451,IF(E451=2000,F451&\"/\"&G451&\"/\"&H451&\"/\"&I451,IF(E451=20000,F451&\"/\"&G451&\"/\"&H451&\"/\"&I451&\"/\"&J451)))))))","v":"PP/OP"},{"$f":"IF(C451=\"\",\"\",IF(LEN(Tabel2[[#This Row],[Entiteit of attribuut]])=2,\"\",Tabel2[[#This Row],[Entiteit]]&\"_\"&Tabel2[[#This Row],[Entiteit of attribuut]]))","v":"OP_BTP"},{"$f":"IF(Schema!K463=\"\",\"\",Schema!K463)","v":""},{"$f":"IF(Schema!L463=\"\",\"\",Schema!L463)","v":""},{"$f":"IF(Schema!M463=\"\",\"\",Schema!M463)","v":""},{"$f":"IF(Schema!N463=\"\",\"\",Schema!N463)","v":""},{"$f":"IF(Schema!P463=\"\",\"\",Schema!P463)","v":"LEEG"}]
[{"$f":"Schema!A464&Schema!B464&Schema!C464&Schema!D464&Schema!E464&Schema!F464","v":"CODE"},"OP",{"$f":"IF(A452=\"\",\"\",IF(LEN(Schema!A464)=2,1,IF(LEN(Schema!B464)=2,10,IF(LEN(Schema!C464)=2,100,IF(LEN(Schema!D464)=2,1000,IF(LEN(Schema!E464)=2,10000,0))))))","v":0},10,{"$f":"IF(A452=\"\",\"\",SUM(Tabel2[[#This Row],[I1]:[I2]]))","v":10},"PP","OP","","","","PP/OP",{"$f":"IF(C452=\"\",\"\",IF(LEN(Tabel2[[#This Row],[Entiteit of attribuut]])=2,\"\",Tabel2[[#This Row],[Entiteit]]&\"_\"&Tabel2[[#This Row],[Entiteit of attribuut]]))","v":"OP_CODE"},{"$f":"IF(Schema!K464=\"\",\"\",Schema!K464)","v":""},{"$f":"IF(Schema!L464=\"\",\"\",Schema!L464)","v":""},{"$f":"IF(Schema!M464=\"\",\"\",Schema!M464)","v":""},{"$f":"IF(Schema!N464=\"\",\"\",Schema!N464)","v":""},{"$f":"IF(Schema!P464=\"\",\"\",Schema!P464)","v":"O"}]
[{"$f":"Schema!A465&Schema!B465&Schema!C465&Schema!D465&Schema!E465&Schema!F465","v":"COLFACT"},"OP",{"$f":"IF(A453=\"\",\"\",IF(LEN(Schema!A465)=2,1,IF(LEN(Schema!B465)=2,10,IF(LEN(Schema!C465)=2,100,IF(LEN(Schema!D465)=2,1000,IF(LEN(Schema!E465)=2,10000,0))))))","v":0},10,{"$f":"IF(A453=\"\",\"\",SUM(Tabel2[[#This Row],[I1]:[I2]]))","v":10},"PP","OP","","","","PP/OP",{"$f":"IF(C453=\"\",\"\",IF(LEN(Tabel2[[#This Row],[Entiteit of attribuut]])=2,\"\",Tabel2[[#This Row],[Entiteit]]&\"_\"&Tabel2[[#This Row],[Entiteit of attribuut]]))","v":"OP_COLFACT"},{"$f":"IF(Schema!K465=\"\",\"\",Schema!K465)","v":""},{"$f":"IF(Schema!L465=\"\",\"\",Schema!L465)","v":""},{"$f":"IF(Schema!M465=\"\",\"\",Schema!M465)","v":""},{"$f":"IF(Schema!N465=\"\",\"\",Schema!N465)","v":""},{"$f":"IF(Schema!P465=\"\",\"\",Schema!P465)","v":"O"}]
[{"$f":"Schema!A466&Schema!B466&Schema!C466&Schema!D466&Schema!E466&Schema!F466","v":"ERB"},"OP",{"$f":"IF(A454=\"\",\"\",IF(LEN(Schema!A466)=2,1,IF(LEN(Schema!B466)=2,10,IF(LEN(Schema!C466)=2,100,IF(LEN(Schema!D466)=2,1000,IF(LEN(Schema!E466)=2,10000,0))))))","v":0},10,{"$f":"IF(A454=\"\",\"\",SUM(Tabel2[[#This Row],[I1]:[I2]]))","v":10},"PP","OP","","","","PP/OP",{"$f":"IF(C454=\"\",\"\",IF(LEN(Tabel2[[#This Row],[Entiteit of attribuut]])=2,\"\",Tabel2[[#This Row],[Entiteit]]&\"_\"&Tabel2[[#This Row],[Entiteit of attribuut]]))","v":"OP_ERB"},{"$f":"IF(Schema!K466=\"\",\"\",Schema!K466)","v":""},{"$f":"IF(Schema!L466=\"\",\"\",Schema!L466)","v":""},{"$f":"IF(Schema!M466=\"\",\"\",Schema!M466)","v":""},{"$f":"IF(Schema!N466=\"\",\"\",Schema!N466)","v":""},{"$f":"IF(Schema!P466=\"\",\"\",Schema!P466)","v":"O"}]
[{"$f":"Schema!A467&Schema!B467&Schema!C467&Schema!D467&Schema!E467&Schema!F467","v":"FUNDAME"},"OP",{"$f":"IF(A455=\"\",\"\",IF(LEN(Schema!A467)=2,1,IF(LEN(Schema!B467)=2,10,IF(LEN(Schema!C467)=2,100,IF(LEN(Schema!D467)=2,1000,IF(LEN(Schema!E467)=2,10000,0))))))","v":0},10,{"$f":"IF(A455=\"\",\"\",SUM(Tabel2[[#This Row],[I1]:[I2]]))","v":10},"PP","OP","","","","PP/OP",{"$f":"IF(C455=\"\",\"\",IF(LEN(Tabel2[[#This Row],[Entiteit of attribuut]])=2,\"\",Tabel2[[#This Row],[Entiteit]]&\"_\"&Tabel2[[#This Row],[Entiteit of attribuut]]))","v":"OP_FUNDAME"},{"$f":"IF(Schema!K467=\"\",\"\",Schema!K467)","v":""},{"$f":"IF(Schema!L467=\"\",\"\",Schema!L467)","v":""},{"$f":"IF(Schema!M467=\"\",\"\",Schema!M467)","v":""},{"$f":"IF(Schema!N467=\"\",\"\",Schema!N467)","v":""},{"$f":"IF(Schema!P467=\"\",\"\",Schema!P467)","v":"LEEG"}]
[{"$f":"Schema!A468&Schema!B468&Schema!C468&Schema!D468&Schema!E468&Schema!F468","v":"GADEKCD"},"OP",{"$f":"IF(A456=\"\",\"\",IF(LEN(Schema!A468)=2,1,IF(LEN(Schema!B468)=2,10,IF(LEN(Schema!C468)=2,100,IF(LEN(Schema!D468)=2,1000,IF(LEN(Schema!E468)=2,10000,0))))))","v":0},10,{"$f":"IF(A456=\"\",\"\",SUM(Tabel2[[#This Row],[I1]:[I2]]))","v":10},"PP","OP","","","","PP/OP",{"$f":"IF(C456=\"\",\"\",IF(LEN(Tabel2[[#This Row],[Entiteit of attribuut]])=2,\"\",Tabel2[[#This Row],[Entiteit]]&\"_\"&Tabel2[[#This Row],[Entiteit of attribuut]]))","v":"OP_GADEKCD"},{"$f":"IF(Schema!K468=\"\",\"\",Schema!K468)","v":""},{"$f":"IF(Schema!L468=\"\",\"\",Schema!L468)","v":""},{"$f":"IF(Schema!M468=\"\",\"\",Schema!M468)","v":""},{"$f":"IF(Schema!N468=\"\",\"\",Schema!N468)","v":""},{"$f":"IF(Schema!P468=\"\",\"\",Schema!P468)","v":"V"}]
[{"$f":"Schema!A469&Schema!B469&Schema!C469&Schema!D469&Schema!E469&Schema!F469","v":"GADEKCO"},"OP",{"$f":"IF(A457=\"\",\"\",IF(LEN(Schema!A469)=2,1,IF(LEN(Schema!B469)=2,10,IF(LEN(Schema!C469)=2,100,IF(LEN(Schema!D469)=2,1000,IF(LEN(Schema!E469)=2,10000,0))))))","v":0},10,{"$f":"IF(A457=\"\",\"\",SUM(Tabel2[[#This Row],[I1]:[I2]]))","v":10},"PP","OP","","","","PP/OP",{"$f":"IF(C457=\"\",\"\",IF(LEN(Tabel2[[#This Row],[Entiteit of attribuut]])=2,\"\",Tabel2[[#This Row],[Entiteit]]&\"_\"&Tabel2[[#This Row],[Entiteit of attribuut]]))","v":"OP_GADEKCO"},{"$f":"IF(Schema!K469=\"\",\"\",Schema!K469)","v":""},{"$f":"IF(Schema!L469=\"\",\"\",Schema!L469)","v":""},{"$f":"IF(Schema!M469=\"\",\"\",Schema!M469)","v":""},{"$f":"IF(Schema!N469=\"\",\"\",Schema!N469)","v":""},{"$f":"IF(Schema!P469=\"\",\"\",Schema!P469)","v":"V"}]
[{"$f":"Schema!A470&Schema!B470&Schema!C470&Schema!D470&Schema!E470&Schema!F470","v":"GARINB"},"OP",{"$f":"IF(A458=\"\",\"\",IF(LEN(Schema!A470)=2,1,IF(LEN(Schema!B470)=2,10,IF(LEN(Schema!C470)=2,100,IF(LEN(Schema!D470)=2,1000,IF(LEN(Schema!E470)=2,10000,0))))))","v":0},10,{"$f":"IF(A458=\"\",\"\",SUM(Tabel2[[#This Row],[I1]:[I2]]))","v":10},"PP","OP","","","","PP/OP",{"$f":"IF(C458=\"\",\"\",IF(LEN(Tabel2[[#This Row],[Entiteit of attribuut]])=2,\"\",Tabel2[[#This Row],[Entiteit]]&\"_\"&Tabel2[[#This Row],[Entiteit of attribuut]]))","v":"OP_GARINB"},{"$f":"IF(Schema!K470=\"\",\"\",Schema!K470)","v":""},{"$f":"IF(Schema!L470=\"\",\"\",Schema!L470)","v":""},{"$f":"IF(Schema!M470=\"\",\"\",Schema!M470)","v":""},{"$f":"IF(Schema!N470=\"\",\"\",Schema!N470)","v":""},{"$f":"IF(Schema!P470=\"\",\"\",Schema!P470)","v":"LEEG"}]
[{"$f":"Schema!A471&Schema!B471&Schema!C471&Schema!D471&Schema!E471&Schema!F471","v":"MVZEIGB"},"OP",{"$f":"IF(A459=\"\",\"\",IF(LEN(Schema!A471)=2,1,IF(LEN(Schema!B471)=2,10,IF(LEN(Schema!C471)=2,100,IF(LEN(Schema!D471)=2,1000,IF(LEN(Schema!E471)=2,10000,0))))))","v":0},10,{"$f":"IF(A459=\"\",\"\",SUM(Tabel2[[#This Row],[I1]:[I2]]))","v":10},"PP","OP","","","","PP/OP",{"$f":"IF(C459=\"\",\"\",IF(LEN(Tabel2[[#This Row],[Entiteit of attribuut]])=2,\"\",Tabel2[[#This Row],[Entiteit]]&\"_\"&Tabel2[[#This Row],[Entiteit of attribuut]]))","v":"OP_MVZEIGB"},{"$f":"IF(Schema!K471=\"\",\"\",Schema!K471)","v":""},{"$f":"IF(Schema!L471=\"\",\"\",Schema!L471)","v":""},{"$f":"IF(Schema!M471=\"\",\"\",Schema!M471)","v":""},{"$f":"IF(Schema!N471=\"\",\"\",Schema!N471)","v":""},{"$f":"IF(Schema!P471=\"\",\"\",Schema!P471)","v":"LEEG"}]
[{"$f":"Schema!A472&Schema!B472&Schema!C472&Schema!D472&Schema!E472&Schema!F472","v":"MVZGLAS"},"OP",{"$f":"IF(A460=\"\",\"\",IF(LEN(Schema!A472)=2,1,IF(LEN(Schema!B472)=2,10,IF(LEN(Schema!C472)=2,100,IF(LEN(Schema!D472)=2,1000,IF(LEN(Schema!E472)=2,10000,0))))))","v":0},10,{"$f":"IF(A460=\"\",\"\",SUM(Tabel2[[#This Row],[I1]:[I2]]))","v":10},"PP","OP","","","","PP/OP",{"$f":"IF(C460=\"\",\"\",IF(LEN(Tabel2[[#This Row],[Entiteit of attribuut]])=2,\"\",Tabel2[[#This Row],[Entiteit]]&\"_\"&Tabel2[[#This Row],[Entiteit of attribuut]]))","v":"OP_MVZGLAS"},{"$f":"IF(Schema!K472=\"\",\"\",Schema!K472)","v":""},{"$f":"IF(Schema!L472=\"\",\"\",Schema!L472)","v":""},{"$f":"IF(Schema!M472=\"\",\"\",Schema!M472)","v":""},{"$f":"IF(Schema!N472=\"\",\"\",Schema!N472)","v":""},{"$f":"IF(Schema!P472=\"\",\"\",Schema!P472)","v":"LEEG"}]
[{"$f":"Schema!A473&Schema!B473&Schema!C473&Schema!D473&Schema!E473&Schema!F473","v":"MVZSZS"},"OP",{"$f":"IF(A461=\"\",\"\",IF(LEN(Schema!A473)=2,1,IF(LEN(Schema!B473)=2,10,IF(LEN(Schema!C473)=2,100,IF(LEN(Schema!D473)=2,1000,IF(LEN(Schema!E473)=2,10000,0))))))","v":0},10,{"$f":"IF(A461=\"\",\"\",SUM(Tabel2[[#This Row],[I1]:[I2]]))","v":10},"PP","OP","","","","PP/OP",{"$f":"IF(C461=\"\",\"\",IF(LEN(Tabel2[[#This Row],[Entiteit of attribuut]])=2,\"\",Tabel2[[#This Row],[Entiteit]]&\"_\"&Tabel2[[#This Row],[Entiteit of attribuut]]))","v":"OP_MVZSZS"},{"$f":"IF(Schema!K473=\"\",\"\",Schema!K473)","v":""},{"$f":"IF(Schema!L473=\"\",\"\",Schema!L473)","v":""},{"$f":"IF(Schema!M473=\"\",\"\",Schema!M473)","v":""},{"$f":"IF(Schema!N473=\"\",\"\",Schema!N473)","v":""},{"$f":"IF(Schema!P473=\"\",\"\",Schema!P473)","v":"LEEG"}]
[{"$f":"Schema!A474&Schema!B474&Schema!C474&Schema!D474&Schema!E474&Schema!F474","v":"MVZVKH"},"OP",{"$f":"IF(A462=\"\",\"\",IF(LEN(Schema!A474)=2,1,IF(LEN(Schema!B474)=2,10,IF(LEN(Schema!C474)=2,100,IF(LEN(Schema!D474)=2,1000,IF(LEN(Schema!E474)=2,10000,0))))))","v":0},10,{"$f":"IF(A462=\"\",\"\",SUM(Tabel2[[#This Row],[I1]:[I2]]))","v":10},"PP","OP","","","","PP/OP",{"$f":"IF(C462=\"\",\"\",IF(LEN(Tabel2[[#This Row],[Entiteit of attribuut]])=2,\"\",Tabel2[[#This Row],[Entiteit]]&\"_\"&Tabel2[[#This Row],[Entiteit of attribuut]]))","v":"OP_MVZVKH"},{"$f":"IF(Schema!K474=\"\",\"\",Schema!K474)","v":""},{"$f":"IF(Schema!L474=\"\",\"\",Schema!L474)","v":""},{"$f":"IF(Schema!M474=\"\",\"\",Schema!M474)","v":""},{"$f":"IF(Schema!N474=\"\",\"\",Schema!N474)","v":""},{"$f":"IF(Schema!P474=\"\",\"\",Schema!P474)","v":"LEEG"}]
[{"$f":"Schema!A475&Schema!B475&Schema!C475&Schema!D475&Schema!E475&Schema!F475","v":"MVZVSUI"},"OP",{"$f":"IF(A463=\"\",\"\",IF(LEN(Schema!A475)=2,1,IF(LEN(Schema!B475)=2,10,IF(LEN(Schema!C475)=2,100,IF(LEN(Schema!D475)=2,1000,IF(LEN(Schema!E475)=2,10000,0))))))","v":0},10,{"$f":"IF(A463=\"\",\"\",SUM(Tabel2[[#This Row],[I1]:[I2]]))","v":10},"PP","OP","","","","PP/OP",{"$f":"IF(C463=\"\",\"\",IF(LEN(Tabel2[[#This Row],[Entiteit of attribuut]])=2,\"\",Tabel2[[#This Row],[Entiteit]]&\"_\"&Tabel2[[#This Row],[Entiteit of attribuut]]))","v":"OP_MVZVSUI"},{"$f":"IF(Schema!K475=\"\",\"\",Schema!K475)","v":""},{"$f":"IF(Schema!L475=\"\",\"\",Schema!L475)","v":""},{"$f":"IF(Schema!M475=\"\",\"\",Schema!M475)","v":""},{"$f":"IF(Schema!N475=\"\",\"\",Schema!N475)","v":""},{"$f":"IF(Schema!P475=\"\",\"\",Schema!P475)","v":"LEEG"}]
[{"$f":"Schema!A476&Schema!B476&Schema!C476&Schema!D476&Schema!E476&Schema!F476","v":"MYCODE"},"OP",{"$f":"IF(A464=\"\",\"\",IF(LEN(Schema!A476)=2,1,IF(LEN(Schema!B476)=2,10,IF(LEN(Schema!C476)=2,100,IF(LEN(Schema!D476)=2,1000,IF(LEN(Schema!E476)=2,10000,0))))))","v":0},10,{"$f":"IF(A464=\"\",\"\",SUM(Tabel2[[#This Row],[I1]:[I2]]))","v":10},"PP","OP","","","","PP/OP",{"$f":"IF(C464=\"\",\"\",IF(LEN(Tabel2[[#This Row],[Entiteit of attribuut]])=2,\"\",Tabel2[[#This Row],[Entiteit]]&\"_\"&Tabel2[[#This Row],[Entiteit of attribuut]]))","v":"OP_MYCODE"},{"$f":"IF(Schema!K476=\"\",\"\",Schema!K476)","v":""},{"$f":"IF(Schema!L476=\"\",\"\",Schema!L476)","v":""},{"$f":"IF(Schema!M476=\"\",\"\",Schema!M476)","v":""},{"$f":"IF(Schema!N476=\"\",\"\",Schema!N476)","v":""},{"$f":"IF(Schema!P476=\"\",\"\",Schema!P476)","v":"O"}]
[{"$f":"Schema!A477&Schema!B477&Schema!C477&Schema!D477&Schema!E477&Schema!F477","v":"NJP"},"OP",{"$f":"IF(A465=\"\",\"\",IF(LEN(Schema!A477)=2,1,IF(LEN(Schema!B477)=2,10,IF(LEN(Schema!C477)=2,100,IF(LEN(Schema!D477)=2,1000,IF(LEN(Schema!E477)=2,10000,0))))))","v":0},10,{"$f":"IF(A465=\"\",\"\",SUM(Tabel2[[#This Row],[I1]:[I2]]))","v":10},"PP","OP","","","","PP/OP",{"$f":"IF(C465=\"\",\"\",IF(LEN(Tabel2[[#This Row],[Entiteit of attribuut]])=2,\"\",Tabel2[[#This Row],[Entiteit]]&\"_\"&Tabel2[[#This Row],[Entiteit of attribuut]]))","v":"OP_NJP"},{"$f":"IF(Schema!K477=\"\",\"\",Schema!K477)","v":""},{"$f":"IF(Schema!L477=\"\",\"\",Schema!L477)","v":""},{"$f":"IF(Schema!M477=\"\",\"\",Schema!M477)","v":""},{"$f":"IF(Schema!N477=\"\",\"\",Schema!N477)","v":""},{"$f":"IF(Schema!P477=\"\",\"\",Schema!P477)","v":"O"}]
[{"$f":"Schema!A478&Schema!B478&Schema!C478&Schema!D478&Schema!E478&Schema!F478","v":"PAFWST"},"OP",{"$f":"IF(A466=\"\",\"\",IF(LEN(Schema!A478)=2,1,IF(LEN(Schema!B478)=2,10,IF(LEN(Schema!C478)=2,100,IF(LEN(Schema!D478)=2,1000,IF(LEN(Schema!E478)=2,10000,0))))))","v":0},10,{"$f":"IF(A466=\"\",\"\",SUM(Tabel2[[#This Row],[I1]:[I2]]))","v":10},"PP","OP","","","","PP/OP",{"$f":"IF(C466=\"\",\"\",IF(LEN(Tabel2[[#This Row],[Entiteit of attribuut]])=2,\"\",Tabel2[[#This Row],[Entiteit]]&\"_\"&Tabel2[[#This Row],[Entiteit of attribuut]]))","v":"OP_PAFWST"},{"$f":"IF(Schema!K478=\"\",\"\",Schema!K478)","v":""},{"$f":"IF(Schema!L478=\"\",\"\",Schema!L478)","v":""},{"$f":"IF(Schema!M478=\"\",\"\",Schema!M478)","v":""},{"$f":"IF(Schema!N478=\"\",\"\",Schema!N478)","v":""},{"$f":"IF(Schema!P478=\"\",\"\",Schema!P478)","v":"O"}]
[{"$f":"Schema!A479&Schema!B479&Schema!C479&Schema!D479&Schema!E479&Schema!F479","v":"PPRC"},"OP",{"$f":"IF(A467=\"\",\"\",IF(LEN(Schema!A479)=2,1,IF(LEN(Schema!B479)=2,10,IF(LEN(Schema!C479)=2,100,IF(LEN(Schema!D479)=2,1000,IF(LEN(Schema!E479)=2,10000,0))))))","v":0},10,{"$f":"IF(A467=\"\",\"\",SUM(Tabel2[[#This Row],[I1]:[I2]]))","v":10},"PP","OP","","","","PP/OP",{"$f":"IF(C467=\"\",\"\",IF(LEN(Tabel2[[#This Row],[Entiteit of attribuut]])=2,\"\",Tabel2[[#This Row],[Entiteit]]&\"_\"&Tabel2[[#This Row],[Entiteit of attribuut]]))","v":"OP_PPRC"},{"$f":"IF(Schema!K479=\"\",\"\",Schema!K479)","v":""},{"$f":"IF(Schema!L479=\"\",\"\",Schema!L479)","v":""},{"$f":"IF(Schema!M479=\"\",\"\",Schema!M479)","v":""},{"$f":"IF(Schema!N479=\"\",\"\",Schema!N479)","v":""},{"$f":"IF(Schema!P479=\"\",\"\",Schema!P479)","v":"O"}]
[{"$f":"Schema!A480&Schema!B480&Schema!C480&Schema!D480&Schema!E480&Schema!F480","v":"PRCPKKT"},"OP",{"$f":"IF(A468=\"\",\"\",IF(LEN(Schema!A480)=2,1,IF(LEN(Schema!B480)=2,10,IF(LEN(Schema!C480)=2,100,IF(LEN(Schema!D480)=2,1000,IF(LEN(Schema!E480)=2,10000,0))))))","v":0},10,{"$f":"IF(A468=\"\",\"\",SUM(Tabel2[[#This Row],[I1]:[I2]]))","v":10},"PP","OP","","","","PP/OP",{"$f":"IF(C468=\"\",\"\",IF(LEN(Tabel2[[#This Row],[Entiteit of attribuut]])=2,\"\",Tabel2[[#This Row],[Entiteit]]&\"_\"&Tabel2[[#This Row],[Entiteit of attribuut]]))","v":"OP_PRCPKKT"},{"$f":"IF(Schema!K480=\"\",\"\",Schema!K480)","v":""},{"$f":"IF(Schema!L480=\"\",\"\",Schema!L480)","v":""},{"$f":"IF(Schema!M480=\"\",\"\",Schema!M480)","v":""},{"$f":"IF(Schema!N480=\"\",\"\",Schema!N480)","v":""},{"$f":"IF(Schema!P480=\"\",\"\",Schema!P480)","v":"O"}]
[{"$f":"Schema!A481&Schema!B481&Schema!C481&Schema!D481&Schema!E481&Schema!F481","v":"PRCTEKC"},"OP",{"$f":"IF(A469=\"\",\"\",IF(LEN(Schema!A481)=2,1,IF(LEN(Schema!B481)=2,10,IF(LEN(Schema!C481)=2,100,IF(LEN(Schema!D481)=2,1000,IF(LEN(Schema!E481)=2,10000,0))))))","v":0},10,{"$f":"IF(A469=\"\",\"\",SUM(Tabel2[[#This Row],[I1]:[I2]]))","v":10},"PP","OP","","","","PP/OP",{"$f":"IF(C469=\"\",\"\",IF(LEN(Tabel2[[#This Row],[Entiteit of attribuut]])=2,\"\",Tabel2[[#This Row],[Entiteit]]&\"_\"&Tabel2[[#This Row],[Entiteit of attribuut]]))","v":"OP_PRCTEKC"},{"$f":"IF(Schema!K481=\"\",\"\",Schema!K481)","v":""},{"$f":"IF(Schema!L481=\"\",\"\",Schema!L481)","v":""},{"$f":"IF(Schema!M481=\"\",\"\",Schema!M481)","v":""},{"$f":"IF(Schema!N481=\"\",\"\",Schema!N481)","v":""},{"$f":"IF(Schema!P481=\"\",\"\",Schema!P481)","v":"O"}]
[{"$f":"Schema!A482&Schema!B482&Schema!C482&Schema!D482&Schema!E482&Schema!F482","v":"PRMPROM"},"OP",{"$f":"IF(A470=\"\",\"\",IF(LEN(Schema!A482)=2,1,IF(LEN(Schema!B482)=2,10,IF(LEN(Schema!C482)=2,100,IF(LEN(Schema!D482)=2,1000,IF(LEN(Schema!E482)=2,10000,0))))))","v":0},10,{"$f":"IF(A470=\"\",\"\",SUM(Tabel2[[#This Row],[I1]:[I2]]))","v":10},"PP","OP","","","","PP/OP",{"$f":"IF(C470=\"\",\"\",IF(LEN(Tabel2[[#This Row],[Entiteit of attribuut]])=2,\"\",Tabel2[[#This Row],[Entiteit]]&\"_\"&Tabel2[[#This Row],[Entiteit of attribuut]]))","v":"OP_PRMPROM"},{"$f":"IF(Schema!K482=\"\",\"\",Schema!K482)","v":""},{"$f":"IF(Schema!L482=\"\",\"\",Schema!L482)","v":""},{"$f":"IF(Schema!M482=\"\",\"\",Schema!M482)","v":""},{"$f":"IF(Schema!N482=\"\",\"\",Schema!N482)","v":""},{"$f":"IF(Schema!P482=\"\",\"\",Schema!P482)","v":"O"}]
[{"$f":"Schema!A483&Schema!B483&Schema!C483&Schema!D483&Schema!E483&Schema!F483","v":"RELVRH"},"OP",{"$f":"IF(A471=\"\",\"\",IF(LEN(Schema!A483)=2,1,IF(LEN(Schema!B483)=2,10,IF(LEN(Schema!C483)=2,100,IF(LEN(Schema!D483)=2,1000,IF(LEN(Schema!E483)=2,10000,0))))))","v":0},10,{"$f":"IF(A471=\"\",\"\",SUM(Tabel2[[#This Row],[I1]:[I2]]))","v":10},"PP","OP","","","","PP/OP",{"$f":"IF(C471=\"\",\"\",IF(LEN(Tabel2[[#This Row],[Entiteit of attribuut]])=2,\"\",Tabel2[[#This Row],[Entiteit]]&\"_\"&Tabel2[[#This Row],[Entiteit of attribuut]]))","v":"OP_RELVRH"},{"$f":"IF(Schema!K483=\"\",\"\",Schema!K483)","v":""},{"$f":"IF(Schema!L483=\"\",\"\",Schema!L483)","v":""},{"$f":"IF(Schema!M483=\"\",\"\",Schema!M483)","v":""},{"$f":"IF(Schema!N483=\"\",\"\",Schema!N483)","v":""},{"$f":"IF(Schema!P483=\"\",\"\",Schema!P483)","v":"O"}]
[{"$f":"Schema!A484&Schema!B484&Schema!C484&Schema!D484&Schema!E484&Schema!F484","v":"RELVVNR"},"OP",{"$f":"IF(A472=\"\",\"\",IF(LEN(Schema!A484)=2,1,IF(LEN(Schema!B484)=2,10,IF(LEN(Schema!C484)=2,100,IF(LEN(Schema!D484)=2,1000,IF(LEN(Schema!E484)=2,10000,0))))))","v":0},10,{"$f":"IF(A472=\"\",\"\",SUM(Tabel2[[#This Row],[I1]:[I2]]))","v":10},"PP","OP","","","","PP/OP",{"$f":"IF(C472=\"\",\"\",IF(LEN(Tabel2[[#This Row],[Entiteit of attribuut]])=2,\"\",Tabel2[[#This Row],[Entiteit]]&\"_\"&Tabel2[[#This Row],[Entiteit of attribuut]]))","v":"OP_RELVVNR"},{"$f":"IF(Schema!K484=\"\",\"\",Schema!K484)","v":""},{"$f":"IF(Schema!L484=\"\",\"\",Schema!L484)","v":""},{"$f":"IF(Schema!M484=\"\",\"\",Schema!M484)","v":""},{"$f":"IF(Schema!N484=\"\",\"\",Schema!N484)","v":""},{"$f":"IF(Schema!P484=\"\",\"\",Schema!P484)","v":"O"}]
[{"$f":"Schema!A485&Schema!B485&Schema!C485&Schema!D485&Schema!E485&Schema!F485","v":"RJRCOR"},"OP",{"$f":"IF(A473=\"\",\"\",IF(LEN(Schema!A485)=2,1,IF(LEN(Schema!B485)=2,10,IF(LEN(Schema!C485)=2,100,IF(LEN(Schema!D485)=2,1000,IF(LEN(Schema!E485)=2,10000,0))))))","v":0},10,{"$f":"IF(A473=\"\",\"\",SUM(Tabel2[[#This Row],[I1]:[I2]]))","v":10},"PP","OP","","","","PP/OP",{"$f":"IF(C473=\"\",\"\",IF(LEN(Tabel2[[#This Row],[Entiteit of attribuut]])=2,\"\",Tabel2[[#This Row],[Entiteit]]&\"_\"&Tabel2[[#This Row],[Entiteit of attribuut]]))","v":"OP_RJRCOR"},{"$f":"IF(Schema!K485=\"\",\"\",Schema!K485)","v":""},{"$f":"IF(Schema!L485=\"\",\"\",Schema!L485)","v":""},{"$f":"IF(Schema!M485=\"\",\"\",Schema!M485)","v":""},{"$f":"IF(Schema!N485=\"\",\"\",Schema!N485)","v":""},{"$f":"IF(Schema!P485=\"\",\"\",Schema!P485)","v":"O"}]
[{"$f":"Schema!A486&Schema!B486&Schema!C486&Schema!D486&Schema!E486&Schema!F486","v":"TCORBDR"},"OP",{"$f":"IF(A474=\"\",\"\",IF(LEN(Schema!A486)=2,1,IF(LEN(Schema!B486)=2,10,IF(LEN(Schema!C486)=2,100,IF(LEN(Schema!D486)=2,1000,IF(LEN(Schema!E486)=2,10000,0))))))","v":0},10,{"$f":"IF(A474=\"\",\"\",SUM(Tabel2[[#This Row],[I1]:[I2]]))","v":10},"PP","OP","","","","PP/OP",{"$f":"IF(C474=\"\",\"\",IF(LEN(Tabel2[[#This Row],[Entiteit of attribuut]])=2,\"\",Tabel2[[#This Row],[Entiteit]]&\"_\"&Tabel2[[#This Row],[Entiteit of attribuut]]))","v":"OP_TCORBDR"},{"$f":"IF(Schema!K486=\"\",\"\",Schema!K486)","v":""},{"$f":"IF(Schema!L486=\"\",\"\",Schema!L486)","v":""},{"$f":"IF(Schema!M486=\"\",\"\",Schema!M486)","v":""},{"$f":"IF(Schema!N486=\"\",\"\",Schema!N486)","v":""},{"$f":"IF(Schema!P486=\"\",\"\",Schema!P486)","v":"O"}]
[{"$f":"Schema!A487&Schema!B487&Schema!C487&Schema!D487&Schema!E487&Schema!F487","v":"VEERB"},"OP",{"$f":"IF(A475=\"\",\"\",IF(LEN(Schema!A487)=2,1,IF(LEN(Schema!B487)=2,10,IF(LEN(Schema!C487)=2,100,IF(LEN(Schema!D487)=2,1000,IF(LEN(Schema!E487)=2,10000,0))))))","v":0},10,{"$f":"IF(A475=\"\",\"\",SUM(Tabel2[[#This Row],[I1]:[I2]]))","v":10},"PP","OP","","","","PP/OP",{"$f":"IF(C475=\"\",\"\",IF(LEN(Tabel2[[#This Row],[Entiteit of attribuut]])=2,\"\",Tabel2[[#This Row],[Entiteit]]&\"_\"&Tabel2[[#This Row],[Entiteit of attribuut]]))","v":"OP_VEERB"},{"$f":"IF(Schema!K487=\"\",\"\",Schema!K487)","v":""},{"$f":"IF(Schema!L487=\"\",\"\",Schema!L487)","v":""},{"$f":"IF(Schema!M487=\"\",\"\",Schema!M487)","v":""},{"$f":"IF(Schema!N487=\"\",\"\",Schema!N487)","v":""},{"$f":"IF(Schema!P487=\"\",\"\",Schema!P487)","v":"LEEG"}]
[{"$f":"Schema!A488&Schema!B488&Schema!C488&Schema!D488&Schema!E488&Schema!F488","v":"VERZSOM"},"OP",{"$f":"IF(A476=\"\",\"\",IF(LEN(Schema!A488)=2,1,IF(LEN(Schema!B488)=2,10,IF(LEN(Schema!C488)=2,100,IF(LEN(Schema!D488)=2,1000,IF(LEN(Schema!E488)=2,10000,0))))))","v":0},10,{"$f":"IF(A476=\"\",\"\",SUM(Tabel2[[#This Row],[I1]:[I2]]))","v":10},"PP","OP","","","","PP/OP",{"$f":"IF(C476=\"\",\"\",IF(LEN(Tabel2[[#This Row],[Entiteit of attribuut]])=2,\"\",Tabel2[[#This Row],[Entiteit]]&\"_\"&Tabel2[[#This Row],[Entiteit of attribuut]]))","v":"OP_VERZSOM"},{"$f":"IF(Schema!K488=\"\",\"\",Schema!K488)","v":""},{"$f":"IF(Schema!L488=\"\",\"\",Schema!L488)","v":""},{"$f":"IF(Schema!M488=\"\",\"\",Schema!M488)","v":""},{"$f":"IF(Schema!N488=\"\",\"\",Schema!N488)","v":""},{"$f":"IF(Schema!P488=\"\",\"\",Schema!P488)","v":"O"}]
[{"$f":"Schema!A489&Schema!B489&Schema!C489&Schema!D489&Schema!E489&Schema!F489","v":"VGBRA"},"OP",{"$f":"IF(A477=\"\",\"\",IF(LEN(Schema!A489)=2,1,IF(LEN(Schema!B489)=2,10,IF(LEN(Schema!C489)=2,100,IF(LEN(Schema!D489)=2,1000,IF(LEN(Schema!E489)=2,10000,0))))))","v":0},10,{"$f":"IF(A477=\"\",\"\",SUM(Tabel2[[#This Row],[I1]:[I2]]))","v":10},"PP","OP","","","","PP/OP",{"$f":"IF(C477=\"\",\"\",IF(LEN(Tabel2[[#This Row],[Entiteit of attribuut]])=2,\"\",Tabel2[[#This Row],[Entiteit]]&\"_\"&Tabel2[[#This Row],[Entiteit of attribuut]]))","v":"OP_VGBRA"},{"$f":"IF(Schema!K489=\"\",\"\",Schema!K489)","v":""},{"$f":"IF(Schema!L489=\"\",\"\",Schema!L489)","v":""},{"$f":"IF(Schema!M489=\"\",\"\",Schema!M489)","v":""},{"$f":"IF(Schema!N489=\"\",\"\",Schema!N489)","v":""},{"$f":"IF(Schema!P489=\"\",\"\",Schema!P489)","v":"O"}]
[{"$f":"Schema!A490&Schema!B490&Schema!C490&Schema!D490&Schema!E490&Schema!F490","v":"VOLGNUM"},"OP",{"$f":"IF(A478=\"\",\"\",IF(LEN(Schema!A490)=2,1,IF(LEN(Schema!B490)=2,10,IF(LEN(Schema!C490)=2,100,IF(LEN(Schema!D490)=2,1000,IF(LEN(Schema!E490)=2,10000,0))))))","v":0},10,{"$f":"IF(A478=\"\",\"\",SUM(Tabel2[[#This Row],[I1]:[I2]]))","v":10},"PP","OP","","","","PP/OP",{"$f":"IF(C478=\"\",\"\",IF(LEN(Tabel2[[#This Row],[Entiteit of attribuut]])=2,\"\",Tabel2[[#This Row],[Entiteit]]&\"_\"&Tabel2[[#This Row],[Entiteit of attribuut]]))","v":"OP_VOLGNUM"},{"$f":"IF(Schema!K490=\"\",\"\",Schema!K490)","v":""},{"$f":"IF(Schema!L490=\"\",\"\",Schema!L490)","v":""},{"$f":"IF(Schema!M490=\"\",\"\",Schema!M490)","v":""},{"$f":"IF(Schema!N490=\"\",\"\",Schema!N490)","v":""},{"$f":"IF(Schema!P490=\"\",\"\",Schema!P490)","v":"LEEG"}]
[{"$f":"Schema!A491&Schema!B491&Schema!C491&Schema!D491&Schema!E491&Schema!F491","v":"VRWRKCD"},"OP",{"$f":"IF(A479=\"\",\"\",IF(LEN(Schema!A491)=2,1,IF(LEN(Schema!B491)=2,10,IF(LEN(Schema!C491)=2,100,IF(LEN(Schema!D491)=2,1000,IF(LEN(Schema!E491)=2,10000,0))))))","v":0},10,{"$f":"IF(A479=\"\",\"\",SUM(Tabel2[[#This Row],[I1]:[I2]]))","v":10},"PP","OP","","","","PP/OP",{"$f":"IF(C479=\"\",\"\",IF(LEN(Tabel2[[#This Row],[Entiteit of attribuut]])=2,\"\",Tabel2[[#This Row],[Entiteit]]&\"_\"&Tabel2[[#This Row],[Entiteit of attribuut]]))","v":"OP_VRWRKCD"},{"$f":"IF(Schema!K491=\"\",\"\",Schema!K491)","v":""},{"$f":"IF(Schema!L491=\"\",\"\",Schema!L491)","v":""},{"$f":"IF(Schema!M491=\"\",\"\",Schema!M491)","v":""},{"$f":"IF(Schema!N491=\"\",\"\",Schema!N491)","v":""},{"$f":"IF(Schema!P491=\"\",\"\",Schema!P491)","v":"LEEG"}]
[{"$f":"Schema!A492&Schema!B492&Schema!C492&Schema!D492&Schema!E492&Schema!F492","v":"VZBEIGB"},"OP",{"$f":"IF(A480=\"\",\"\",IF(LEN(Schema!A492)=2,1,IF(LEN(Schema!B492)=2,10,IF(LEN(Schema!C492)=2,100,IF(LEN(Schema!D492)=2,1000,IF(LEN(Schema!E492)=2,10000,0))))))","v":0},10,{"$f":"IF(A480=\"\",\"\",SUM(Tabel2[[#This Row],[I1]:[I2]]))","v":10},"PP","OP","","","","PP/OP",{"$f":"IF(C480=\"\",\"\",IF(LEN(Tabel2[[#This Row],[Entiteit of attribuut]])=2,\"\",Tabel2[[#This Row],[Entiteit]]&\"_\"&Tabel2[[#This Row],[Entiteit of attribuut]]))","v":"OP_VZBEIGB"},{"$f":"IF(Schema!K492=\"\",\"\",Schema!K492)","v":""},{"$f":"IF(Schema!L492=\"\",\"\",Schema!L492)","v":""},{"$f":"IF(Schema!M492=\"\",\"\",Schema!M492)","v":""},{"$f":"IF(Schema!N492=\"\",\"\",Schema!N492)","v":""},{"$f":"IF(Schema!P492=\"\",\"\",Schema!P492)","v":"LEEG"}]
[{"$f":"Schema!A493&Schema!B493&Schema!C493&Schema!D493&Schema!E493&Schema!F493","v":"VZSHBWO"},"OP",{"$f":"IF(A481=\"\",\"\",IF(LEN(Schema!A493)=2,1,IF(LEN(Schema!B493)=2,10,IF(LEN(Schema!C493)=2,100,IF(LEN(Schema!D493)=2,1000,IF(LEN(Schema!E493)=2,10000,0))))))","v":0},10,{"$f":"IF(A481=\"\",\"\",SUM(Tabel2[[#This Row],[I1]:[I2]]))","v":10},"PP","OP","","","","PP/OP",{"$f":"IF(C481=\"\",\"\",IF(LEN(Tabel2[[#This Row],[Entiteit of attribuut]])=2,\"\",Tabel2[[#This Row],[Entiteit]]&\"_\"&Tabel2[[#This Row],[Entiteit of attribuut]]))","v":"OP_VZSHBWO"},{"$f":"IF(Schema!K493=\"\",\"\",Schema!K493)","v":""},{"$f":"IF(Schema!L493=\"\",\"\",Schema!L493)","v":""},{"$f":"IF(Schema!M493=\"\",\"\",Schema!M493)","v":""},{"$f":"IF(Schema!N493=\"\",\"\",Schema!N493)","v":""},{"$f":"IF(Schema!P493=\"\",\"\",Schema!P493)","v":"LEEG"}]
[{"$f":"Schema!A494&Schema!B494&Schema!C494&Schema!D494&Schema!E494&Schema!F494","v":"WPREMBP"},"OP",{"$f":"IF(A482=\"\",\"\",IF(LEN(Schema!A494)=2,1,IF(LEN(Schema!B494)=2,10,IF(LEN(Schema!C494)=2,100,IF(LEN(Schema!D494)=2,1000,IF(LEN(Schema!E494)=2,10000,0))))))","v":0},10,{"$f":"IF(A482=\"\",\"\",SUM(Tabel2[[#This Row],[I1]:[I2]]))","v":10},"PP","OP","","","","PP/OP",{"$f":"IF(C482=\"\",\"\",IF(LEN(Tabel2[[#This Row],[Entiteit of attribuut]])=2,\"\",Tabel2[[#This Row],[Entiteit]]&\"_\"&Tabel2[[#This Row],[Entiteit of attribuut]]))","v":"OP_WPREMBP"},{"$f":"IF(Schema!K494=\"\",\"\",Schema!K494)","v":""},{"$f":"IF(Schema!L494=\"\",\"\",Schema!L494)","v":""},{"$f":"IF(Schema!M494=\"\",\"\",Schema!M494)","v":""},{"$f":"IF(Schema!N494=\"\",\"\",Schema!N494)","v":""},{"$f":"IF(Schema!P494=\"\",\"\",Schema!P494)","v":"O"}]
[{"$f":"Schema!A495&Schema!B495&Schema!C495&Schema!D495&Schema!E495&Schema!F495","v":"MP"},"MP",{"$f":"IF(A483=\"\",\"\",IF(LEN(Schema!A495)=2,1,IF(LEN(Schema!B495)=2,10,IF(LEN(Schema!C495)=2,100,IF(LEN(Schema!D495)=2,1000,IF(LEN(Schema!E495)=2,10000,0))))))","v":100},100,{"$f":"IF(A483=\"\",\"\",SUM(Tabel2[[#This Row],[I1]:[I2]]))","v":200},"PP","OP","MP","","","PP/OP/MP",{"$f":"IF(C483=\"\",\"\",IF(LEN(Tabel2[[#This Row],[Entiteit of attribuut]])=2,\"\",Tabel2[[#This Row],[Entiteit]]&\"_\"&Tabel2[[#This Row],[Entiteit of attribuut]]))","v":""},{"$f":"IF(Schema!K495=\"\",\"\",Schema!K495)","v":""},{"$f":"IF(Schema!L495=\"\",\"\",Schema!L495)","v":""},{"$f":"IF(Schema!M495=\"\",\"\",Schema!M495)","v":""},{"$f":"IF(Schema!N495=\"\",\"\",Schema!N495)","v":""},{"$f":"IF(Schema!P495=\"\",\"\",Schema!P495)","v":"O"}]
[{"$f":"Schema!A496&Schema!B496&Schema!C496&Schema!D496&Schema!E496&Schema!F496","v":"MYAAND"},"MP",{"$f":"IF(A484=\"\",\"\",IF(LEN(Schema!A496)=2,1,IF(LEN(Schema!B496)=2,10,IF(LEN(Schema!C496)=2,100,IF(LEN(Schema!D496)=2,1000,IF(LEN(Schema!E496)=2,10000,0))))))","v":0},100,{"$f":"IF(A484=\"\",\"\",SUM(Tabel2[[#This Row],[I1]:[I2]]))","v":100},"PP","OP","MP","","","PP/OP/MP",{"$f":"IF(C484=\"\",\"\",IF(LEN(Tabel2[[#This Row],[Entiteit of attribuut]])=2,\"\",Tabel2[[#This Row],[Entiteit]]&\"_\"&Tabel2[[#This Row],[Entiteit of attribuut]]))","v":"MP_MYAAND"},{"$f":"IF(Schema!K496=\"\",\"\",Schema!K496)","v":""},{"$f":"IF(Schema!L496=\"\",\"\",Schema!L496)","v":""},{"$f":"IF(Schema!M496=\"\",\"\",Schema!M496)","v":""},{"$f":"IF(Schema!N496=\"\",\"\",Schema!N496)","v":""},{"$f":"IF(Schema!P496=\"\",\"\",Schema!P496)","v":"O"}]
[{"$f":"Schema!A497&Schema!B497&Schema!C497&Schema!D497&Schema!E497&Schema!F497","v":"POOLNUM"},"MP",{"$f":"IF(A485=\"\",\"\",IF(LEN(Schema!A497)=2,1,IF(LEN(Schema!B497)=2,10,IF(LEN(Schema!C497)=2,100,IF(LEN(Schema!D497)=2,1000,IF(LEN(Schema!E497)=2,10000,0))))))","v":0},100,{"$f":"IF(A485=\"\",\"\",SUM(Tabel2[[#This Row],[I1]:[I2]]))","v":100},"PP","OP","MP","","","PP/OP/MP",{"$f":"IF(C485=\"\",\"\",IF(LEN(Tabel2[[#This Row],[Entiteit of attribuut]])=2,\"\",Tabel2[[#This Row],[Entiteit]]&\"_\"&Tabel2[[#This Row],[Entiteit of attribuut]]))","v":"MP_POOLNUM"},{"$f":"IF(Schema!K497=\"\",\"\",Schema!K497)","v":""},{"$f":"IF(Schema!L497=\"\",\"\",Schema!L497)","v":""},{"$f":"IF(Schema!M497=\"\",\"\",Schema!M497)","v":""},{"$f":"IF(Schema!N497=\"\",\"\",Schema!N497)","v":""},{"$f":"IF(Schema!P497=\"\",\"\",Schema!P497)","v":"V"}]
[{"$f":"Schema!A498&Schema!B498&Schema!C498&Schema!D498&Schema!E498&Schema!F498","v":"PLLEAD"},"MP",{"$f":"IF(A486=\"\",\"\",IF(LEN(Schema!A498)=2,1,IF(LEN(Schema!B498)=2,10,IF(LEN(Schema!C498)=2,100,IF(LEN(Schema!D498)=2,1000,IF(LEN(Schema!E498)=2,10000,0))))))","v":0},100,{"$f":"IF(A486=\"\",\"\",SUM(Tabel2[[#This Row],[I1]:[I2]]))","v":100},"PP","OP","MP","","","PP/OP/MP",{"$f":"IF(C486=\"\",\"\",IF(LEN(Tabel2[[#This Row],[Entiteit of attribuut]])=2,\"\",Tabel2[[#This Row],[Entiteit]]&\"_\"&Tabel2[[#This Row],[Entiteit of attribuut]]))","v":"MP_PLLEAD"},{"$f":"IF(Schema!K498=\"\",\"\",Schema!K498)","v":""},{"$f":"IF(Schema!L498=\"\",\"\",Schema!L498)","v":""},{"$f":"IF(Schema!M498=\"\",\"\",Schema!M498)","v":""},{"$f":"IF(Schema!N498=\"\",\"\",Schema!N498)","v":""},{"$f":"IF(Schema!P498=\"\",\"\",Schema!P498)","v":"O"}]
[{"$f":"Schema!A499&Schema!B499&Schema!C499&Schema!D499&Schema!E499&Schema!F499","v":"POOLPRC"},"MP",{"$f":"IF(A487=\"\",\"\",IF(LEN(Schema!A499)=2,1,IF(LEN(Schema!B499)=2,10,IF(LEN(Schema!C499)=2,100,IF(LEN(Schema!D499)=2,1000,IF(LEN(Schema!E499)=2,10000,0))))))","v":0},100,{"$f":"IF(A487=\"\",\"\",SUM(Tabel2[[#This Row],[I1]:[I2]]))","v":100},"PP","OP","MP","","","PP/OP/MP",{"$f":"IF(C487=\"\",\"\",IF(LEN(Tabel2[[#This Row],[Entiteit of attribuut]])=2,\"\",Tabel2[[#This Row],[Entiteit]]&\"_\"&Tabel2[[#This Row],[Entiteit of attribuut]]))","v":"MP_POOLPRC"},{"$f":"IF(Schema!K499=\"\",\"\",Schema!K499)","v":""},{"$f":"IF(Schema!L499=\"\",\"\",Schema!L499)","v":""},{"$f":"IF(Schema!M499=\"\",\"\",Schema!M499)","v":""},{"$f":"IF(Schema!N499=\"\",\"\",Schema!N499)","v":""},{"$f":"IF(Schema!P499=\"\",\"\",Schema!P499)","v":"V"}]
[{"$f":"Schema!A500&Schema!B500&Schema!C500&Schema!D500&Schema!E500&Schema!F500","v":"RP"},"RP",{"$f":"IF(A488=\"\",\"\",IF(LEN(Schema!A500)=2,1,IF(LEN(Schema!B500)=2,10,IF(LEN(Schema!C500)=2,100,IF(LEN(Schema!D500)=2,1000,IF(LEN(Schema!E500)=2,10000,0))))))","v":10},10,{"$f":"IF(A488=\"\",\"\",SUM(Tabel2[[#This Row],[I1]:[I2]]))","v":20},"PP","RP","","","","PP/RP",{"$f":"IF(C488=\"\",\"\",IF(LEN(Tabel2[[#This Row],[Entiteit of attribuut]])=2,\"\",Tabel2[[#This Row],[Entiteit]]&\"_\"&Tabel2[[#This Row],[Entiteit of attribuut]]))","v":""},{"$f":"IF(Schema!K500=\"\",\"\",Schema!K500)","v":""},{"$f":"IF(Schema!L500=\"\",\"\",Schema!L500)","v":""},{"$f":"IF(Schema!M500=\"\",\"\",Schema!M500)","v":""},{"$f":"IF(Schema!N500=\"\",\"\",Schema!N500)","v":""},{"$f":"IF(Schema!P500=\"\",\"\",Schema!P500)","v":"O"}]
[{"$f":"Schema!A501&Schema!B501&Schema!C501&Schema!D501&Schema!E501&Schema!F501","v":"BAFWST"},"RP",{"$f":"IF(A489=\"\",\"\",IF(LEN(Schema!A501)=2,1,IF(LEN(Schema!B501)=2,10,IF(LEN(Schema!C501)=2,100,IF(LEN(Schema!D501)=2,1000,IF(LEN(Schema!E501)=2,10000,0))))))","v":0},10,{"$f":"IF(A489=\"\",\"\",SUM(Tabel2[[#This Row],[I1]:[I2]]))","v":10},"PP","RP","","","","PP/RP",{"$f":"IF(C489=\"\",\"\",IF(LEN(Tabel2[[#This Row],[Entiteit of attribuut]])=2,\"\",Tabel2[[#This Row],[Entiteit]]&\"_\"&Tabel2[[#This Row],[Entiteit of attribuut]]))","v":"RP_BAFWST"},{"$f":"IF(Schema!K501=\"\",\"\",Schema!K501)","v":""},{"$f":"IF(Schema!L501=\"\",\"\",Schema!L501)","v":""},{"$f":"IF(Schema!M501=\"\",\"\",Schema!M501)","v":""},{"$f":"IF(Schema!N501=\"\",\"\",Schema!N501)","v":""},{"$f":"IF(Schema!P501=\"\",\"\",Schema!P501)","v":"O"}]
[{"$f":"Schema!A502&Schema!B502&Schema!C502&Schema!D502&Schema!E502&Schema!F502","v":"BTP"},"RP",{"$f":"IF(A490=\"\",\"\",IF(LEN(Schema!A502)=2,1,IF(LEN(Schema!B502)=2,10,IF(LEN(Schema!C502)=2,100,IF(LEN(Schema!D502)=2,1000,IF(LEN(Schema!E502)=2,10000,0))))))","v":0},10,{"$f":"IF(A490=\"\",\"\",SUM(Tabel2[[#This Row],[I1]:[I2]]))","v":10},"PP","RP","","","","PP/RP",{"$f":"IF(C490=\"\",\"\",IF(LEN(Tabel2[[#This Row],[Entiteit of attribuut]])=2,\"\",Tabel2[[#This Row],[Entiteit]]&\"_\"&Tabel2[[#This Row],[Entiteit of attribuut]]))","v":"RP_BTP"},{"$f":"IF(Schema!K502=\"\",\"\",Schema!K502)","v":""},{"$f":"IF(Schema!L502=\"\",\"\",Schema!L502)","v":""},{"$f":"IF(Schema!M502=\"\",\"\",Schema!M502)","v":""},{"$f":"IF(Schema!N502=\"\",\"\",Schema!N502)","v":""},{"$f":"IF(Schema!P502=\"\",\"\",Schema!P502)","v":"LEEG"}]
[{"$f":"Schema!A503&Schema!B503&Schema!C503&Schema!D503&Schema!E503&Schema!F503","v":"CODE"},"RP",{"$f":"IF(A491=\"\",\"\",IF(LEN(Schema!A503)=2,1,IF(LEN(Schema!B503)=2,10,IF(LEN(Schema!C503)=2,100,IF(LEN(Schema!D503)=2,1000,IF(LEN(Schema!E503)=2,10000,0))))))","v":0},10,{"$f":"IF(A491=\"\",\"\",SUM(Tabel2[[#This Row],[I1]:[I2]]))","v":10},"PP","RP","","","","PP/RP",{"$f":"IF(C491=\"\",\"\",IF(LEN(Tabel2[[#This Row],[Entiteit of attribuut]])=2,\"\",Tabel2[[#This Row],[Entiteit]]&\"_\"&Tabel2[[#This Row],[Entiteit of attribuut]]))","v":"RP_CODE"},{"$f":"IF(Schema!K503=\"\",\"\",Schema!K503)","v":""},{"$f":"IF(Schema!L503=\"\",\"\",Schema!L503)","v":""},{"$f":"IF(Schema!M503=\"\",\"\",Schema!M503)","v":""},{"$f":"IF(Schema!N503=\"\",\"\",Schema!N503)","v":""},{"$f":"IF(Schema!P503=\"\",\"\",Schema!P503)","v":"O"}]
[{"$f":"Schema!A504&Schema!B504&Schema!C504&Schema!D504&Schema!E504&Schema!F504","v":"COLFACT"},"RP",{"$f":"IF(A492=\"\",\"\",IF(LEN(Schema!A504)=2,1,IF(LEN(Schema!B504)=2,10,IF(LEN(Schema!C504)=2,100,IF(LEN(Schema!D504)=2,1000,IF(LEN(Schema!E504)=2,10000,0))))))","v":0},10,{"$f":"IF(A492=\"\",\"\",SUM(Tabel2[[#This Row],[I1]:[I2]]))","v":10},"PP","RP","","","","PP/RP",{"$f":"IF(C492=\"\",\"\",IF(LEN(Tabel2[[#This Row],[Entiteit of attribuut]])=2,\"\",Tabel2[[#This Row],[Entiteit]]&\"_\"&Tabel2[[#This Row],[Entiteit of attribuut]]))","v":"RP_COLFACT"},{"$f":"IF(Schema!K504=\"\",\"\",Schema!K504)","v":""},{"$f":"IF(Schema!L504=\"\",\"\",Schema!L504)","v":""},{"$f":"IF(Schema!M504=\"\",\"\",Schema!M504)","v":""},{"$f":"IF(Schema!N504=\"\",\"\",Schema!N504)","v":""},{"$f":"IF(Schema!P504=\"\",\"\",Schema!P504)","v":"O"}]
[{"$f":"Schema!A505&Schema!B505&Schema!C505&Schema!D505&Schema!E505&Schema!F505","v":"ERB"},"RP",{"$f":"IF(A493=\"\",\"\",IF(LEN(Schema!A505)=2,1,IF(LEN(Schema!B505)=2,10,IF(LEN(Schema!C505)=2,100,IF(LEN(Schema!D505)=2,1000,IF(LEN(Schema!E505)=2,10000,0))))))","v":0},10,{"$f":"IF(A493=\"\",\"\",SUM(Tabel2[[#This Row],[I1]:[I2]]))","v":10},"PP","RP","","","","PP/RP",{"$f":"IF(C493=\"\",\"\",IF(LEN(Tabel2[[#This Row],[Entiteit of attribuut]])=2,\"\",Tabel2[[#This Row],[Entiteit]]&\"_\"&Tabel2[[#This Row],[Entiteit of attribuut]]))","v":"RP_ERB"},{"$f":"IF(Schema!K505=\"\",\"\",Schema!K505)","v":""},{"$f":"IF(Schema!L505=\"\",\"\",Schema!L505)","v":""},{"$f":"IF(Schema!M505=\"\",\"\",Schema!M505)","v":""},{"$f":"IF(Schema!N505=\"\",\"\",Schema!N505)","v":""},{"$f":"IF(Schema!P505=\"\",\"\",Schema!P505)","v":"O"}]
[{"$f":"Schema!A506&Schema!B506&Schema!C506&Schema!D506&Schema!E506&Schema!F506","v":"GADEKCD"},"RP",{"$f":"IF(A494=\"\",\"\",IF(LEN(Schema!A506)=2,1,IF(LEN(Schema!B506)=2,10,IF(LEN(Schema!C506)=2,100,IF(LEN(Schema!D506)=2,1000,IF(LEN(Schema!E506)=2,10000,0))))))","v":0},10,{"$f":"IF(A494=\"\",\"\",SUM(Tabel2[[#This Row],[I1]:[I2]]))","v":10},"PP","RP","","","","PP/RP",{"$f":"IF(C494=\"\",\"\",IF(LEN(Tabel2[[#This Row],[Entiteit of attribuut]])=2,\"\",Tabel2[[#This Row],[Entiteit]]&\"_\"&Tabel2[[#This Row],[Entiteit of attribuut]]))","v":"RP_GADEKCD"},{"$f":"IF(Schema!K506=\"\",\"\",Schema!K506)","v":""},{"$f":"IF(Schema!L506=\"\",\"\",Schema!L506)","v":""},{"$f":"IF(Schema!M506=\"\",\"\",Schema!M506)","v":""},{"$f":"IF(Schema!N506=\"\",\"\",Schema!N506)","v":""},{"$f":"IF(Schema!P506=\"\",\"\",Schema!P506)","v":"V"}]
[{"$f":"Schema!A507&Schema!B507&Schema!C507&Schema!D507&Schema!E507&Schema!F507","v":"GADEKCO"},"RP",{"$f":"IF(A495=\"\",\"\",IF(LEN(Schema!A507)=2,1,IF(LEN(Schema!B507)=2,10,IF(LEN(Schema!C507)=2,100,IF(LEN(Schema!D507)=2,1000,IF(LEN(Schema!E507)=2,10000,0))))))","v":0},10,{"$f":"IF(A495=\"\",\"\",SUM(Tabel2[[#This Row],[I1]:[I2]]))","v":10},"PP","RP","","","","PP/RP",{"$f":"IF(C495=\"\",\"\",IF(LEN(Tabel2[[#This Row],[Entiteit of attribuut]])=2,\"\",Tabel2[[#This Row],[Entiteit]]&\"_\"&Tabel2[[#This Row],[Entiteit of attribuut]]))","v":"RP_GADEKCO"},{"$f":"IF(Schema!K507=\"\",\"\",Schema!K507)","v":""},{"$f":"IF(Schema!L507=\"\",\"\",Schema!L507)","v":""},{"$f":"IF(Schema!M507=\"\",\"\",Schema!M507)","v":""},{"$f":"IF(Schema!N507=\"\",\"\",Schema!N507)","v":""},{"$f":"IF(Schema!P507=\"\",\"\",Schema!P507)","v":"V"}]
[{"$f":"Schema!A508&Schema!B508&Schema!C508&Schema!D508&Schema!E508&Schema!F508","v":"GSS"},"RP",{"$f":"IF(A496=\"\",\"\",IF(LEN(Schema!A508)=2,1,IF(LEN(Schema!B508)=2,10,IF(LEN(Schema!C508)=2,100,IF(LEN(Schema!D508)=2,1000,IF(LEN(Schema!E508)=2,10000,0))))))","v":0},10,{"$f":"IF(A496=\"\",\"\",SUM(Tabel2[[#This Row],[I1]:[I2]]))","v":10},"PP","RP","","","","PP/RP",{"$f":"IF(C496=\"\",\"\",IF(LEN(Tabel2[[#This Row],[Entiteit of attribuut]])=2,\"\",Tabel2[[#This Row],[Entiteit]]&\"_\"&Tabel2[[#This Row],[Entiteit of attribuut]]))","v":"RP_GSS"},{"$f":"IF(Schema!K508=\"\",\"\",Schema!K508)","v":""},{"$f":"IF(Schema!L508=\"\",\"\",Schema!L508)","v":""},{"$f":"IF(Schema!M508=\"\",\"\",Schema!M508)","v":""},{"$f":"IF(Schema!N508=\"\",\"\",Schema!N508)","v":""},{"$f":"IF(Schema!P508=\"\",\"\",Schema!P508)","v":"LEEG"}]
[{"$f":"Schema!A509&Schema!B509&Schema!C509&Schema!D509&Schema!E509&Schema!F509","v":"MVZMDAN"},"RP",{"$f":"IF(A497=\"\",\"\",IF(LEN(Schema!A509)=2,1,IF(LEN(Schema!B509)=2,10,IF(LEN(Schema!C509)=2,100,IF(LEN(Schema!D509)=2,1000,IF(LEN(Schema!E509)=2,10000,0))))))","v":0},10,{"$f":"IF(A497=\"\",\"\",SUM(Tabel2[[#This Row],[I1]:[I2]]))","v":10},"PP","RP","","","","PP/RP",{"$f":"IF(C497=\"\",\"\",IF(LEN(Tabel2[[#This Row],[Entiteit of attribuut]])=2,\"\",Tabel2[[#This Row],[Entiteit]]&\"_\"&Tabel2[[#This Row],[Entiteit of attribuut]]))","v":"RP_MVZMDAN"},{"$f":"IF(Schema!K509=\"\",\"\",Schema!K509)","v":""},{"$f":"IF(Schema!L509=\"\",\"\",Schema!L509)","v":""},{"$f":"IF(Schema!M509=\"\",\"\",Schema!M509)","v":""},{"$f":"IF(Schema!N509=\"\",\"\",Schema!N509)","v":""},{"$f":"IF(Schema!P509=\"\",\"\",Schema!P509)","v":"LEEG"}]
[{"$f":"Schema!A510&Schema!B510&Schema!C510&Schema!D510&Schema!E510&Schema!F510","v":"MYCODE"},"RP",{"$f":"IF(A498=\"\",\"\",IF(LEN(Schema!A510)=2,1,IF(LEN(Schema!B510)=2,10,IF(LEN(Schema!C510)=2,100,IF(LEN(Schema!D510)=2,1000,IF(LEN(Schema!E510)=2,10000,0))))))","v":0},10,{"$f":"IF(A498=\"\",\"\",SUM(Tabel2[[#This Row],[I1]:[I2]]))","v":10},"PP","RP","","","","PP/RP",{"$f":"IF(C498=\"\",\"\",IF(LEN(Tabel2[[#This Row],[Entiteit of attribuut]])=2,\"\",Tabel2[[#This Row],[Entiteit]]&\"_\"&Tabel2[[#This Row],[Entiteit of attribuut]]))","v":"RP_MYCODE"},{"$f":"IF(Schema!K510=\"\",\"\",Schema!K510)","v":""},{"$f":"IF(Schema!L510=\"\",\"\",Schema!L510)","v":""},{"$f":"IF(Schema!M510=\"\",\"\",Schema!M510)","v":""},{"$f":"IF(Schema!N510=\"\",\"\",Schema!N510)","v":""},{"$f":"IF(Schema!P510=\"\",\"\",Schema!P510)","v":"O"}]
[{"$f":"Schema!A511&Schema!B511&Schema!C511&Schema!D511&Schema!E511&Schema!F511","v":"NJP"},"RP",{"$f":"IF(A499=\"\",\"\",IF(LEN(Schema!A511)=2,1,IF(LEN(Schema!B511)=2,10,IF(LEN(Schema!C511)=2,100,IF(LEN(Schema!D511)=2,1000,IF(LEN(Schema!E511)=2,10000,0))))))","v":0},10,{"$f":"IF(A499=\"\",\"\",SUM(Tabel2[[#This Row],[I1]:[I2]]))","v":10},"PP","RP","","","","PP/RP",{"$f":"IF(C499=\"\",\"\",IF(LEN(Tabel2[[#This Row],[Entiteit of attribuut]])=2,\"\",Tabel2[[#This Row],[Entiteit]]&\"_\"&Tabel2[[#This Row],[Entiteit of attribuut]]))","v":"RP_NJP"},{"$f":"IF(Schema!K511=\"\",\"\",Schema!K511)","v":""},{"$f":"IF(Schema!L511=\"\",\"\",Schema!L511)","v":""},{"$f":"IF(Schema!M511=\"\",\"\",Schema!M511)","v":""},{"$f":"IF(Schema!N511=\"\",\"\",Schema!N511)","v":""},{"$f":"IF(Schema!P511=\"\",\"\",Schema!P511)","v":"O"}]
[{"$f":"Schema!A512&Schema!B512&Schema!C512&Schema!D512&Schema!E512&Schema!F512","v":"PAFWST"},"RP",{"$f":"IF(A500=\"\",\"\",IF(LEN(Schema!A512)=2,1,IF(LEN(Schema!B512)=2,10,IF(LEN(Schema!C512)=2,100,IF(LEN(Schema!D512)=2,1000,IF(LEN(Schema!E512)=2,10000,0))))))","v":0},10,{"$f":"IF(A500=\"\",\"\",SUM(Tabel2[[#This Row],[I1]:[I2]]))","v":10},"PP","RP","","","","PP/RP",{"$f":"IF(C500=\"\",\"\",IF(LEN(Tabel2[[#This Row],[Entiteit of attribuut]])=2,\"\",Tabel2[[#This Row],[Entiteit]]&\"_\"&Tabel2[[#This Row],[Entiteit of attribuut]]))","v":"RP_PAFWST"},{"$f":"IF(Schema!K512=\"\",\"\",Schema!K512)","v":""},{"$f":"IF(Schema!L512=\"\",\"\",Schema!L512)","v":""},{"$f":"IF(Schema!M512=\"\",\"\",Schema!M512)","v":""},{"$f":"IF(Schema!N512=\"\",\"\",Schema!N512)","v":""},{"$f":"IF(Schema!P512=\"\",\"\",Schema!P512)","v":"O"}]
[{"$f":"Schema!A513&Schema!B513&Schema!C513&Schema!D513&Schema!E513&Schema!F513","v":"PPRC"},"RP",{"$f":"IF(A501=\"\",\"\",IF(LEN(Schema!A513)=2,1,IF(LEN(Schema!B513)=2,10,IF(LEN(Schema!C513)=2,100,IF(LEN(Schema!D513)=2,1000,IF(LEN(Schema!E513)=2,10000,0))))))","v":0},10,{"$f":"IF(A501=\"\",\"\",SUM(Tabel2[[#This Row],[I1]:[I2]]))","v":10},"PP","RP","","","","PP/RP",{"$f":"IF(C501=\"\",\"\",IF(LEN(Tabel2[[#This Row],[Entiteit of attribuut]])=2,\"\",Tabel2[[#This Row],[Entiteit]]&\"_\"&Tabel2[[#This Row],[Entiteit of attribuut]]))","v":"RP_PPRC"},{"$f":"IF(Schema!K513=\"\",\"\",Schema!K513)","v":""},{"$f":"IF(Schema!L513=\"\",\"\",Schema!L513)","v":""},{"$f":"IF(Schema!M513=\"\",\"\",Schema!M513)","v":""},{"$f":"IF(Schema!N513=\"\",\"\",Schema!N513)","v":""},{"$f":"IF(Schema!P513=\"\",\"\",Schema!P513)","v":"O"}]
[{"$f":"Schema!A514&Schema!B514&Schema!C514&Schema!D514&Schema!E514&Schema!F514","v":"PRCPKKT"},"RP",{"$f":"IF(A502=\"\",\"\",IF(LEN(Schema!A514)=2,1,IF(LEN(Schema!B514)=2,10,IF(LEN(Schema!C514)=2,100,IF(LEN(Schema!D514)=2,1000,IF(LEN(Schema!E514)=2,10000,0))))))","v":0},10,{"$f":"IF(A502=\"\",\"\",SUM(Tabel2[[#This Row],[I1]:[I2]]))","v":10},"PP","RP","","","","PP/RP",{"$f":"IF(C502=\"\",\"\",IF(LEN(Tabel2[[#This Row],[Entiteit of attribuut]])=2,\"\",Tabel2[[#This Row],[Entiteit]]&\"_\"&Tabel2[[#This Row],[Entiteit of attribuut]]))","v":"RP_PRCPKKT"},{"$f":"IF(Schema!K514=\"\",\"\",Schema!K514)","v":""},{"$f":"IF(Schema!L514=\"\",\"\",Schema!L514)","v":""},{"$f":"IF(Schema!M514=\"\",\"\",Schema!M514)","v":""},{"$f":"IF(Schema!N514=\"\",\"\",Schema!N514)","v":""},{"$f":"IF(Schema!P514=\"\",\"\",Schema!P514)","v":"O"}]
[{"$f":"Schema!A515&Schema!B515&Schema!C515&Schema!D515&Schema!E515&Schema!F515","v":"PRCTEKC"},"RP",{"$f":"IF(A503=\"\",\"\",IF(LEN(Schema!A515)=2,1,IF(LEN(Schema!B515)=2,10,IF(LEN(Schema!C515)=2,100,IF(LEN(Schema!D515)=2,1000,IF(LEN(Schema!E515)=2,10000,0))))))","v":0},10,{"$f":"IF(A503=\"\",\"\",SUM(Tabel2[[#This Row],[I1]:[I2]]))","v":10},"PP","RP","","","","PP/RP",{"$f":"IF(C503=\"\",\"\",IF(LEN(Tabel2[[#This Row],[Entiteit of attribuut]])=2,\"\",Tabel2[[#This Row],[Entiteit]]&\"_\"&Tabel2[[#This Row],[Entiteit of attribuut]]))","v":"RP_PRCTEKC"},{"$f":"IF(Schema!K515=\"\",\"\",Schema!K515)","v":""},{"$f":"IF(Schema!L515=\"\",\"\",Schema!L515)","v":""},{"$f":"IF(Schema!M515=\"\",\"\",Schema!M515)","v":""},{"$f":"IF(Schema!N515=\"\",\"\",Schema!N515)","v":""},{"$f":"IF(Schema!P515=\"\",\"\",Schema!P515)","v":"O"}]
[{"$f":"Schema!A516&Schema!B516&Schema!C516&Schema!D516&Schema!E516&Schema!F516","v":"RELVRH"},"RP",{"$f":"IF(A504=\"\",\"\",IF(LEN(Schema!A516)=2,1,IF(LEN(Schema!B516)=2,10,IF(LEN(Schema!C516)=2,100,IF(LEN(Schema!D516)=2,1000,IF(LEN(Schema!E516)=2,10000,0))))))","v":0},10,{"$f":"IF(A504=\"\",\"\",SUM(Tabel2[[#This Row],[I1]:[I2]]))","v":10},"PP","RP","","","","PP/RP",{"$f":"IF(C504=\"\",\"\",IF(LEN(Tabel2[[#This Row],[Entiteit of attribuut]])=2,\"\",Tabel2[[#This Row],[Entiteit]]&\"_\"&Tabel2[[#This Row],[Entiteit of attribuut]]))","v":"RP_RELVRH"},{"$f":"IF(Schema!K516=\"\",\"\",Schema!K516)","v":""},{"$f":"IF(Schema!L516=\"\",\"\",Schema!L516)","v":""},{"$f":"IF(Schema!M516=\"\",\"\",Schema!M516)","v":""},{"$f":"IF(Schema!N516=\"\",\"\",Schema!N516)","v":""},{"$f":"IF(Schema!P516=\"\",\"\",Schema!P516)","v":"O"}]
[{"$f":"Schema!A517&Schema!B517&Schema!C517&Schema!D517&Schema!E517&Schema!F517","v":"RELVVNR"},"RP",{"$f":"IF(A505=\"\",\"\",IF(LEN(Schema!A517)=2,1,IF(LEN(Schema!B517)=2,10,IF(LEN(Schema!C517)=2,100,IF(LEN(Schema!D517)=2,1000,IF(LEN(Schema!E517)=2,10000,0))))))","v":0},10,{"$f":"IF(A505=\"\",\"\",SUM(Tabel2[[#This Row],[I1]:[I2]]))","v":10},"PP","RP","","","","PP/RP",{"$f":"IF(C505=\"\",\"\",IF(LEN(Tabel2[[#This Row],[Entiteit of attribuut]])=2,\"\",Tabel2[[#This Row],[Entiteit]]&\"_\"&Tabel2[[#This Row],[Entiteit of attribuut]]))","v":"RP_RELVVNR"},{"$f":"IF(Schema!K517=\"\",\"\",Schema!K517)","v":""},{"$f":"IF(Schema!L517=\"\",\"\",Schema!L517)","v":""},{"$f":"IF(Schema!M517=\"\",\"\",Schema!M517)","v":""},{"$f":"IF(Schema!N517=\"\",\"\",Schema!N517)","v":""},{"$f":"IF(Schema!P517=\"\",\"\",Schema!P517)","v":"O"}]
[{"$f":"Schema!A518&Schema!B518&Schema!C518&Schema!D518&Schema!E518&Schema!F518","v":"RJRCOR"},"RP",{"$f":"IF(A506=\"\",\"\",IF(LEN(Schema!A518)=2,1,IF(LEN(Schema!B518)=2,10,IF(LEN(Schema!C518)=2,100,IF(LEN(Schema!D518)=2,1000,IF(LEN(Schema!E518)=2,10000,0))))))","v":0},10,{"$f":"IF(A506=\"\",\"\",SUM(Tabel2[[#This Row],[I1]:[I2]]))","v":10},"PP","RP","","","","PP/RP",{"$f":"IF(C506=\"\",\"\",IF(LEN(Tabel2[[#This Row],[Entiteit of attribuut]])=2,\"\",Tabel2[[#This Row],[Entiteit]]&\"_\"&Tabel2[[#This Row],[Entiteit of attribuut]]))","v":"RP_RJRCOR"},{"$f":"IF(Schema!K518=\"\",\"\",Schema!K518)","v":""},{"$f":"IF(Schema!L518=\"\",\"\",Schema!L518)","v":""},{"$f":"IF(Schema!M518=\"\",\"\",Schema!M518)","v":""},{"$f":"IF(Schema!N518=\"\",\"\",Schema!N518)","v":""},{"$f":"IF(Schema!P518=\"\",\"\",Schema!P518)","v":"O"}]
[{"$f":"Schema!A519&Schema!B519&Schema!C519&Schema!D519&Schema!E519&Schema!F519","v":"TCORBDR"},"RP",{"$f":"IF(A507=\"\",\"\",IF(LEN(Schema!A519)=2,1,IF(LEN(Schema!B519)=2,10,IF(LEN(Schema!C519)=2,100,IF(LEN(Schema!D519)=2,1000,IF(LEN(Schema!E519)=2,10000,0))))))","v":0},10,{"$f":"IF(A507=\"\",\"\",SUM(Tabel2[[#This Row],[I1]:[I2]]))","v":10},"PP","RP","","","","PP/RP",{"$f":"IF(C507=\"\",\"\",IF(LEN(Tabel2[[#This Row],[Entiteit of attribuut]])=2,\"\",Tabel2[[#This Row],[Entiteit]]&\"_\"&Tabel2[[#This Row],[Entiteit of attribuut]]))","v":"RP_TCORBDR"},{"$f":"IF(Schema!K519=\"\",\"\",Schema!K519)","v":""},{"$f":"IF(Schema!L519=\"\",\"\",Schema!L519)","v":""},{"$f":"IF(Schema!M519=\"\",\"\",Schema!M519)","v":""},{"$f":"IF(Schema!N519=\"\",\"\",Schema!N519)","v":""},{"$f":"IF(Schema!P519=\"\",\"\",Schema!P519)","v":"O"}]
[{"$f":"Schema!A520&Schema!B520&Schema!C520&Schema!D520&Schema!E520&Schema!F520","v":"VERZSOM"},"RP",{"$f":"IF(A508=\"\",\"\",IF(LEN(Schema!A520)=2,1,IF(LEN(Schema!B520)=2,10,IF(LEN(Schema!C520)=2,100,IF(LEN(Schema!D520)=2,1000,IF(LEN(Schema!E520)=2,10000,0))))))","v":0},10,{"$f":"IF(A508=\"\",\"\",SUM(Tabel2[[#This Row],[I1]:[I2]]))","v":10},"PP","RP","","","","PP/RP",{"$f":"IF(C508=\"\",\"\",IF(LEN(Tabel2[[#This Row],[Entiteit of attribuut]])=2,\"\",Tabel2[[#This Row],[Entiteit]]&\"_\"&Tabel2[[#This Row],[Entiteit of attribuut]]))","v":"RP_VERZSOM"},{"$f":"IF(Schema!K520=\"\",\"\",Schema!K520)","v":""},{"$f":"IF(Schema!L520=\"\",\"\",Schema!L520)","v":""},{"$f":"IF(Schema!M520=\"\",\"\",Schema!M520)","v":""},{"$f":"IF(Schema!N520=\"\",\"\",Schema!N520)","v":""},{"$f":"IF(Schema!P520=\"\",\"\",Schema!P520)","v":"O"}]
[{"$f":"Schema!A521&Schema!B521&Schema!C521&Schema!D521&Schema!E521&Schema!F521","v":"VGBRA"},"RP",{"$f":"IF(A509=\"\",\"\",IF(LEN(Schema!A521)=2,1,IF(LEN(Schema!B521)=2,10,IF(LEN(Schema!C521)=2,100,IF(LEN(Schema!D521)=2,1000,IF(LEN(Schema!E521)=2,10000,0))))))","v":0},10,{"$f":"IF(A509=\"\",\"\",SUM(Tabel2[[#This Row],[I1]:[I2]]))","v":10},"PP","RP","","","","PP/RP",{"$f":"IF(C509=\"\",\"\",IF(LEN(Tabel2[[#This Row],[Entiteit of attribuut]])=2,\"\",Tabel2[[#This Row],[Entiteit]]&\"_\"&Tabel2[[#This Row],[Entiteit of attribuut]]))","v":"RP_VGBRA"},{"$f":"IF(Schema!K521=\"\",\"\",Schema!K521)","v":""},{"$f":"IF(Schema!L521=\"\",\"\",Schema!L521)","v":""},{"$f":"IF(Schema!M521=\"\",\"\",Schema!M521)","v":""},{"$f":"IF(Schema!N521=\"\",\"\",Schema!N521)","v":""},{"$f":"IF(Schema!P521=\"\",\"\",Schema!P521)","v":"O"}]
[{"$f":"Schema!A522&Schema!B522&Schema!C522&Schema!D522&Schema!E522&Schema!F522","v":"VOLGNUM"},"RP",{"$f":"IF(A510=\"\",\"\",IF(LEN(Schema!A522)=2,1,IF(LEN(Schema!B522)=2,10,IF(LEN(Schema!C522)=2,100,IF(LEN(Schema!D522)=2,1000,IF(LEN(Schema!E522)=2,10000,0))))))","v":0},10,{"$f":"IF(A510=\"\",\"\",SUM(Tabel2[[#This Row],[I1]:[I2]]))","v":10},"PP","RP","","","","PP/RP",{"$f":"IF(C510=\"\",\"\",IF(LEN(Tabel2[[#This Row],[Entiteit of attribuut]])=2,\"\",Tabel2[[#This Row],[Entiteit]]&\"_\"&Tabel2[[#This Row],[Entiteit of attribuut]]))","v":"RP_VOLGNUM"},{"$f":"IF(Schema!K522=\"\",\"\",Schema!K522)","v":""},{"$f":"IF(Schema!L522=\"\",\"\",Schema!L522)","v":""},{"$f":"IF(Schema!M522=\"\",\"\",Schema!M522)","v":""},{"$f":"IF(Schema!N522=\"\",\"\",Schema!N522)","v":""},{"$f":"IF(Schema!P522=\"\",\"\",Schema!P522)","v":"LEEG"}]
[{"$f":"Schema!A523&Schema!B523&Schema!C523&Schema!D523&Schema!E523&Schema!F523","v":"VRWRKCD"},"RP",{"$f":"IF(A511=\"\",\"\",IF(LEN(Schema!A523)=2,1,IF(LEN(Schema!B523)=2,10,IF(LEN(Schema!C523)=2,100,IF(LEN(Schema!D523)=2,1000,IF(LEN(Schema!E523)=2,10000,0))))))","v":0},10,{"$f":"IF(A511=\"\",\"\",SUM(Tabel2[[#This Row],[I1]:[I2]]))","v":10},"PP","RP","","","","PP/RP",{"$f":"IF(C511=\"\",\"\",IF(LEN(Tabel2[[#This Row],[Entiteit of attribuut]])=2,\"\",Tabel2[[#This Row],[Entiteit]]&\"_\"&Tabel2[[#This Row],[Entiteit of attribuut]]))","v":"RP_VRWRKCD"},{"$f":"IF(Schema!K523=\"\",\"\",Schema!K523)","v":""},{"$f":"IF(Schema!L523=\"\",\"\",Schema!L523)","v":""},{"$f":"IF(Schema!M523=\"\",\"\",Schema!M523)","v":""},{"$f":"IF(Schema!N523=\"\",\"\",Schema!N523)","v":""},{"$f":"IF(Schema!P523=\"\",\"\",Schema!P523)","v":"LEEG"}]
[{"$f":"Schema!A524&Schema!B524&Schema!C524&Schema!D524&Schema!E524&Schema!F524","v":"VZBFRNS"},"RP",{"$f":"IF(A512=\"\",\"\",IF(LEN(Schema!A524)=2,1,IF(LEN(Schema!B524)=2,10,IF(LEN(Schema!C524)=2,100,IF(LEN(Schema!D524)=2,1000,IF(LEN(Schema!E524)=2,10000,0))))))","v":0},10,{"$f":"IF(A512=\"\",\"\",SUM(Tabel2[[#This Row],[I1]:[I2]]))","v":10},"PP","RP","","","","PP/RP",{"$f":"IF(C512=\"\",\"\",IF(LEN(Tabel2[[#This Row],[Entiteit of attribuut]])=2,\"\",Tabel2[[#This Row],[Entiteit]]&\"_\"&Tabel2[[#This Row],[Entiteit of attribuut]]))","v":"RP_VZBFRNS"},{"$f":"IF(Schema!K524=\"\",\"\",Schema!K524)","v":""},{"$f":"IF(Schema!L524=\"\",\"\",Schema!L524)","v":""},{"$f":"IF(Schema!M524=\"\",\"\",Schema!M524)","v":""},{"$f":"IF(Schema!N524=\"\",\"\",Schema!N524)","v":""},{"$f":"IF(Schema!P524=\"\",\"\",Schema!P524)","v":"LEEG"}]
[{"$f":"Schema!A525&Schema!B525&Schema!C525&Schema!D525&Schema!E525&Schema!F525","v":"WPREMBP"},"RP",{"$f":"IF(A513=\"\",\"\",IF(LEN(Schema!A525)=2,1,IF(LEN(Schema!B525)=2,10,IF(LEN(Schema!C525)=2,100,IF(LEN(Schema!D525)=2,1000,IF(LEN(Schema!E525)=2,10000,0))))))","v":0},10,{"$f":"IF(A513=\"\",\"\",SUM(Tabel2[[#This Row],[I1]:[I2]]))","v":10},"PP","RP","","","","PP/RP",{"$f":"IF(C513=\"\",\"\",IF(LEN(Tabel2[[#This Row],[Entiteit of attribuut]])=2,\"\",Tabel2[[#This Row],[Entiteit]]&\"_\"&Tabel2[[#This Row],[Entiteit of attribuut]]))","v":"RP_WPREMBP"},{"$f":"IF(Schema!K525=\"\",\"\",Schema!K525)","v":""},{"$f":"IF(Schema!L525=\"\",\"\",Schema!L525)","v":""},{"$f":"IF(Schema!M525=\"\",\"\",Schema!M525)","v":""},{"$f":"IF(Schema!N525=\"\",\"\",Schema!N525)","v":""},{"$f":"IF(Schema!P525=\"\",\"\",Schema!P525)","v":"O"}]
[{"$f":"Schema!A526&Schema!B526&Schema!C526&Schema!D526&Schema!E526&Schema!F526","v":"MP"},"MP",{"$f":"IF(A514=\"\",\"\",IF(LEN(Schema!A526)=2,1,IF(LEN(Schema!B526)=2,10,IF(LEN(Schema!C526)=2,100,IF(LEN(Schema!D526)=2,1000,IF(LEN(Schema!E526)=2,10000,0))))))","v":100},100,{"$f":"IF(A514=\"\",\"\",SUM(Tabel2[[#This Row],[I1]:[I2]]))","v":200},"PP","RP","MP","","","PP/RP/MP",{"$f":"IF(C514=\"\",\"\",IF(LEN(Tabel2[[#This Row],[Entiteit of attribuut]])=2,\"\",Tabel2[[#This Row],[Entiteit]]&\"_\"&Tabel2[[#This Row],[Entiteit of attribuut]]))","v":""},{"$f":"IF(Schema!K526=\"\",\"\",Schema!K526)","v":""},{"$f":"IF(Schema!L526=\"\",\"\",Schema!L526)","v":""},{"$f":"IF(Schema!M526=\"\",\"\",Schema!M526)","v":""},{"$f":"IF(Schema!N526=\"\",\"\",Schema!N526)","v":""},{"$f":"IF(Schema!P526=\"\",\"\",Schema!P526)","v":"O"}]
[{"$f":"Schema!A527&Schema!B527&Schema!C527&Schema!D527&Schema!E527&Schema!F527","v":"MYAAND"},{"$f":"IF(LEN(A515)=2,A515,IF(A515=\"\",\"Leeg\",B514))","v":"MP"},{"$f":"IF(A515=\"\",\"\",IF(LEN(Schema!A527)=2,1,IF(LEN(Schema!B527)=2,10,IF(LEN(Schema!C527)=2,100,IF(LEN(Schema!D527)=2,1000,IF(LEN(Schema!E527)=2,10000,0))))))","v":0},{"$f":"IF(C515=0,D514,C515)","v":100},{"$f":"IF(A515=\"\",\"\",SUM(Tabel2[[#This Row],[I1]:[I2]]))","v":100},{"$f":"IF(A515=\"\",\"\",IF(C515=1,B515,F514))","v":"PP"},{"$f":"IF(C515=10,A515,IF(OR(C515=0,C515=100,C515=1000,C515=10000),G514,\"\"))","v":"RP"},{"$f":"IF(E515=200,B515,IF(OR(C515=0,C515=100,C515=1000,C515=10000),H514,\"\"))","v":"MP"},{"$f":"IF(E515=2000,B515,IF(OR(C515=0,C515=10000),I514,\"\"))","v":""},{"$f":"IF(E515=20000,B515,IF(OR(C515=0,,C515=10000),J514,\"\"))","v":""},{"$f":"IF(C515=\"\",\"\",IF(OR(E515=1,E515=10,E515=100,E515=1000,E515=10000),K514,IF(E515=2,F515,IF(E515=20,F515&\"/\"&G515,IF(E515=200,F515&\"/\"&G515&\"/\"&H515,IF(E515=2000,F515&\"/\"&G515&\"/\"&H515&\"/\"&I515,IF(E515=20000,F515&\"/\"&G515&\"/\"&H515&\"/\"&I515&\"/\"&J515)))))))","v":"PP/RP/MP"},{"$f":"IF(C515=\"\",\"\",IF(LEN(Tabel2[[#This Row],[Entiteit of attribuut]])=2,\"\",Tabel2[[#This Row],[Entiteit]]&\"_\"&Tabel2[[#This Row],[Entiteit of attribuut]]))","v":"MP_MYAAND"},{"$f":"IF(Schema!K527=\"\",\"\",Schema!K527)","v":""},{"$f":"IF(Schema!L527=\"\",\"\",Schema!L527)","v":""},{"$f":"IF(Schema!M527=\"\",\"\",Schema!M527)","v":""},{"$f":"IF(Schema!N527=\"\",\"\",Schema!N527)","v":""},{"$f":"IF(Schema!P527=\"\",\"\",Schema!P527)","v":"O"}]
[{"$f":"Schema!A528&Schema!B528&Schema!C528&Schema!D528&Schema!E528&Schema!F528","v":"POOLNUM"},"MP",{"$f":"IF(A516=\"\",\"\",IF(LEN(Schema!A528)=2,1,IF(LEN(Schema!B528)=2,10,IF(LEN(Schema!C528)=2,100,IF(LEN(Schema!D528)=2,1000,IF(LEN(Schema!E528)=2,10000,0))))))","v":0},100,{"$f":"IF(A516=\"\",\"\",SUM(Tabel2[[#This Row],[I1]:[I2]]))","v":100},"PP","RP","MP","","","PP/RP/MP",{"$f":"IF(C516=\"\",\"\",IF(LEN(Tabel2[[#This Row],[Entiteit of attribuut]])=2,\"\",Tabel2[[#This Row],[Entiteit]]&\"_\"&Tabel2[[#This Row],[Entiteit of attribuut]]))","v":"MP_POOLNUM"},{"$f":"IF(Schema!K528=\"\",\"\",Schema!K528)","v":""},{"$f":"IF(Schema!L528=\"\",\"\",Schema!L528)","v":""},{"$f":"IF(Schema!M528=\"\",\"\",Schema!M528)","v":""},{"$f":"IF(Schema!N528=\"\",\"\",Schema!N528)","v":""},{"$f":"IF(Schema!P528=\"\",\"\",Schema!P528)","v":"V"}]
[{"$f":"Schema!A529&Schema!B529&Schema!C529&Schema!D529&Schema!E529&Schema!F529","v":"PLLEAD"},"MP",{"$f":"IF(A517=\"\",\"\",IF(LEN(Schema!A529)=2,1,IF(LEN(Schema!B529)=2,10,IF(LEN(Schema!C529)=2,100,IF(LEN(Schema!D529)=2,1000,IF(LEN(Schema!E529)=2,10000,0))))))","v":0},100,{"$f":"IF(A517=\"\",\"\",SUM(Tabel2[[#This Row],[I1]:[I2]]))","v":100},"PP","RP","MP","","","PP/RP/MP",{"$f":"IF(C517=\"\",\"\",IF(LEN(Tabel2[[#This Row],[Entiteit of attribuut]])=2,\"\",Tabel2[[#This Row],[Entiteit]]&\"_\"&Tabel2[[#This Row],[Entiteit of attribuut]]))","v":"MP_PLLEAD"},{"$f":"IF(Schema!K529=\"\",\"\",Schema!K529)","v":""},{"$f":"IF(Schema!L529=\"\",\"\",Schema!L529)","v":""},{"$f":"IF(Schema!M529=\"\",\"\",Schema!M529)","v":""},{"$f":"IF(Schema!N529=\"\",\"\",Schema!N529)","v":""},{"$f":"IF(Schema!P529=\"\",\"\",Schema!P529)","v":"O"}]
[{"$f":"Schema!A530&Schema!B530&Schema!C530&Schema!D530&Schema!E530&Schema!F530","v":"POOLPRC"},"MP",{"$f":"IF(A518=\"\",\"\",IF(LEN(Schema!A530)=2,1,IF(LEN(Schema!B530)=2,10,IF(LEN(Schema!C530)=2,100,IF(LEN(Schema!D530)=2,1000,IF(LEN(Schema!E530)=2,10000,0))))))","v":0},100,{"$f":"IF(A518=\"\",\"\",SUM(Tabel2[[#This Row],[I1]:[I2]]))","v":100},"PP","RP","MP","","","PP/RP/MP",{"$f":"IF(C518=\"\",\"\",IF(LEN(Tabel2[[#This Row],[Entiteit of attribuut]])=2,\"\",Tabel2[[#This Row],[Entiteit]]&\"_\"&Tabel2[[#This Row],[Entiteit of attribuut]]))","v":"MP_POOLPRC"},{"$f":"IF(Schema!K530=\"\",\"\",Schema!K530)","v":""},{"$f":"IF(Schema!L530=\"\",\"\",Schema!L530)","v":""},{"$f":"IF(Schema!M530=\"\",\"\",Schema!M530)","v":""},{"$f":"IF(Schema!N530=\"\",\"\",Schema!N530)","v":""},{"$f":"IF(Schema!P530=\"\",\"\",Schema!P530)","v":"V"}]
[{"$f":"Schema!A531&Schema!B531&Schema!C531&Schema!D531&Schema!E531&Schema!F531","v":"WC"},"WC",{"$f":"IF(A519=\"\",\"\",IF(LEN(Schema!A531)=2,1,IF(LEN(Schema!B531)=2,10,IF(LEN(Schema!C531)=2,100,IF(LEN(Schema!D531)=2,1000,IF(LEN(Schema!E531)=2,10000,0))))))","v":10},10,{"$f":"IF(A519=\"\",\"\",SUM(Tabel2[[#This Row],[I1]:[I2]]))","v":20},"PP","WC","","","","PP/WC",{"$f":"IF(C519=\"\",\"\",IF(LEN(Tabel2[[#This Row],[Entiteit of attribuut]])=2,\"\",Tabel2[[#This Row],[Entiteit]]&\"_\"&Tabel2[[#This Row],[Entiteit of attribuut]]))","v":""},{"$f":"IF(Schema!K531=\"\",\"\",Schema!K531)","v":""},{"$f":"IF(Schema!L531=\"\",\"\",Schema!L531)","v":""},{"$f":"IF(Schema!M531=\"\",\"\",Schema!M531)","v":""},{"$f":"IF(Schema!N531=\"\",\"\",Schema!N531)","v":""},{"$f":"IF(Schema!P531=\"\",\"\",Schema!P531)","v":"O"}]
[{"$f":"Schema!A532&Schema!B532&Schema!C532&Schema!D532&Schema!E532&Schema!F532","v":"BAFWST"},"WC",{"$f":"IF(A520=\"\",\"\",IF(LEN(Schema!A532)=2,1,IF(LEN(Schema!B532)=2,10,IF(LEN(Schema!C532)=2,100,IF(LEN(Schema!D532)=2,1000,IF(LEN(Schema!E532)=2,10000,0))))))","v":0},10,{"$f":"IF(A520=\"\",\"\",SUM(Tabel2[[#This Row],[I1]:[I2]]))","v":10},"PP","WC","","","","PP/WC",{"$f":"IF(C520=\"\",\"\",IF(LEN(Tabel2[[#This Row],[Entiteit of attribuut]])=2,\"\",Tabel2[[#This Row],[Entiteit]]&\"_\"&Tabel2[[#This Row],[Entiteit of attribuut]]))","v":"WC_BAFWST"},{"$f":"IF(Schema!K532=\"\",\"\",Schema!K532)","v":""},{"$f":"IF(Schema!L532=\"\",\"\",Schema!L532)","v":""},{"$f":"IF(Schema!M532=\"\",\"\",Schema!M532)","v":""},{"$f":"IF(Schema!N532=\"\",\"\",Schema!N532)","v":""},{"$f":"IF(Schema!P532=\"\",\"\",Schema!P532)","v":"O"}]
[{"$f":"Schema!A533&Schema!B533&Schema!C533&Schema!D533&Schema!E533&Schema!F533","v":"BTP"},"WC",{"$f":"IF(A521=\"\",\"\",IF(LEN(Schema!A533)=2,1,IF(LEN(Schema!B533)=2,10,IF(LEN(Schema!C533)=2,100,IF(LEN(Schema!D533)=2,1000,IF(LEN(Schema!E533)=2,10000,0))))))","v":0},10,{"$f":"IF(A521=\"\",\"\",SUM(Tabel2[[#This Row],[I1]:[I2]]))","v":10},"PP","WC","","","","PP/WC",{"$f":"IF(C521=\"\",\"\",IF(LEN(Tabel2[[#This Row],[Entiteit of attribuut]])=2,\"\",Tabel2[[#This Row],[Entiteit]]&\"_\"&Tabel2[[#This Row],[Entiteit of attribuut]]))","v":"WC_BTP"},{"$f":"IF(Schema!K533=\"\",\"\",Schema!K533)","v":""},{"$f":"IF(Schema!L533=\"\",\"\",Schema!L533)","v":""},{"$f":"IF(Schema!M533=\"\",\"\",Schema!M533)","v":""},{"$f":"IF(Schema!N533=\"\",\"\",Schema!N533)","v":""},{"$f":"IF(Schema!P533=\"\",\"\",Schema!P533)","v":"LEEG"}]
[{"$f":"Schema!A534&Schema!B534&Schema!C534&Schema!D534&Schema!E534&Schema!F534","v":"CODE"},"WC",{"$f":"IF(A522=\"\",\"\",IF(LEN(Schema!A534)=2,1,IF(LEN(Schema!B534)=2,10,IF(LEN(Schema!C534)=2,100,IF(LEN(Schema!D534)=2,1000,IF(LEN(Schema!E534)=2,10000,0))))))","v":0},10,{"$f":"IF(A522=\"\",\"\",SUM(Tabel2[[#This Row],[I1]:[I2]]))","v":10},"PP","WC","","","","PP/WC",{"$f":"IF(C522=\"\",\"\",IF(LEN(Tabel2[[#This Row],[Entiteit of attribuut]])=2,\"\",Tabel2[[#This Row],[Entiteit]]&\"_\"&Tabel2[[#This Row],[Entiteit of attribuut]]))","v":"WC_CODE"},{"$f":"IF(Schema!K534=\"\",\"\",Schema!K534)","v":""},{"$f":"IF(Schema!L534=\"\",\"\",Schema!L534)","v":""},{"$f":"IF(Schema!M534=\"\",\"\",Schema!M534)","v":""},{"$f":"IF(Schema!N534=\"\",\"\",Schema!N534)","v":""},{"$f":"IF(Schema!P534=\"\",\"\",Schema!P534)","v":"O"}]
[{"$f":"Schema!A535&Schema!B535&Schema!C535&Schema!D535&Schema!E535&Schema!F535","v":"COLFACT"},"WC",{"$f":"IF(A523=\"\",\"\",IF(LEN(Schema!A535)=2,1,IF(LEN(Schema!B535)=2,10,IF(LEN(Schema!C535)=2,100,IF(LEN(Schema!D535)=2,1000,IF(LEN(Schema!E535)=2,10000,0))))))","v":0},10,{"$f":"IF(A523=\"\",\"\",SUM(Tabel2[[#This Row],[I1]:[I2]]))","v":10},"PP","WC","","","","PP/WC",{"$f":"IF(C523=\"\",\"\",IF(LEN(Tabel2[[#This Row],[Entiteit of attribuut]])=2,\"\",Tabel2[[#This Row],[Entiteit]]&\"_\"&Tabel2[[#This Row],[Entiteit of attribuut]]))","v":"WC_COLFACT"},{"$f":"IF(Schema!K535=\"\",\"\",Schema!K535)","v":""},{"$f":"IF(Schema!L535=\"\",\"\",Schema!L535)","v":""},{"$f":"IF(Schema!M535=\"\",\"\",Schema!M535)","v":""},{"$f":"IF(Schema!N535=\"\",\"\",Schema!N535)","v":""},{"$f":"IF(Schema!P535=\"\",\"\",Schema!P535)","v":"O"}]
[{"$f":"Schema!A536&Schema!B536&Schema!C536&Schema!D536&Schema!E536&Schema!F536","v":"ERB"},"WC",{"$f":"IF(A524=\"\",\"\",IF(LEN(Schema!A536)=2,1,IF(LEN(Schema!B536)=2,10,IF(LEN(Schema!C536)=2,100,IF(LEN(Schema!D536)=2,1000,IF(LEN(Schema!E536)=2,10000,0))))))","v":0},10,{"$f":"IF(A524=\"\",\"\",SUM(Tabel2[[#This Row],[I1]:[I2]]))","v":10},"PP","WC","","","","PP/WC",{"$f":"IF(C524=\"\",\"\",IF(LEN(Tabel2[[#This Row],[Entiteit of attribuut]])=2,\"\",Tabel2[[#This Row],[Entiteit]]&\"_\"&Tabel2[[#This Row],[Entiteit of attribuut]]))","v":"WC_ERB"},{"$f":"IF(Schema!K536=\"\",\"\",Schema!K536)","v":""},{"$f":"IF(Schema!L536=\"\",\"\",Schema!L536)","v":""},{"$f":"IF(Schema!M536=\"\",\"\",Schema!M536)","v":""},{"$f":"IF(Schema!N536=\"\",\"\",Schema!N536)","v":""},{"$f":"IF(Schema!P536=\"\",\"\",Schema!P536)","v":"O"}]
[{"$f":"Schema!A537&Schema!B537&Schema!C537&Schema!D537&Schema!E537&Schema!F537","v":"GADEKCD"},"WC",{"$f":"IF(A525=\"\",\"\",IF(LEN(Schema!A537)=2,1,IF(LEN(Schema!B537)=2,10,IF(LEN(Schema!C537)=2,100,IF(LEN(Schema!D537)=2,1000,IF(LEN(Schema!E537)=2,10000,0))))))","v":0},10,{"$f":"IF(A525=\"\",\"\",SUM(Tabel2[[#This Row],[I1]:[I2]]))","v":10},"PP","WC","","","","PP/WC",{"$f":"IF(C525=\"\",\"\",IF(LEN(Tabel2[[#This Row],[Entiteit of attribuut]])=2,\"\",Tabel2[[#This Row],[Entiteit]]&\"_\"&Tabel2[[#This Row],[Entiteit of attribuut]]))","v":"WC_GADEKCD"},{"$f":"IF(Schema!K537=\"\",\"\",Schema!K537)","v":""},{"$f":"IF(Schema!L537=\"\",\"\",Schema!L537)","v":""},{"$f":"IF(Schema!M537=\"\",\"\",Schema!M537)","v":""},{"$f":"IF(Schema!N537=\"\",\"\",Schema!N537)","v":""},{"$f":"IF(Schema!P537=\"\",\"\",Schema!P537)","v":"V"}]
[{"$f":"Schema!A538&Schema!B538&Schema!C538&Schema!D538&Schema!E538&Schema!F538","v":"GADEKCO"},"WC",{"$f":"IF(A526=\"\",\"\",IF(LEN(Schema!A538)=2,1,IF(LEN(Schema!B538)=2,10,IF(LEN(Schema!C538)=2,100,IF(LEN(Schema!D538)=2,1000,IF(LEN(Schema!E538)=2,10000,0))))))","v":0},10,{"$f":"IF(A526=\"\",\"\",SUM(Tabel2[[#This Row],[I1]:[I2]]))","v":10},"PP","WC","","","","PP/WC",{"$f":"IF(C526=\"\",\"\",IF(LEN(Tabel2[[#This Row],[Entiteit of attribuut]])=2,\"\",Tabel2[[#This Row],[Entiteit]]&\"_\"&Tabel2[[#This Row],[Entiteit of attribuut]]))","v":"WC_GADEKCO"},{"$f":"IF(Schema!K538=\"\",\"\",Schema!K538)","v":""},{"$f":"IF(Schema!L538=\"\",\"\",Schema!L538)","v":""},{"$f":"IF(Schema!M538=\"\",\"\",Schema!M538)","v":""},{"$f":"IF(Schema!N538=\"\",\"\",Schema!N538)","v":""},{"$f":"IF(Schema!P538=\"\",\"\",Schema!P538)","v":"V"}]
[{"$f":"Schema!A539&Schema!B539&Schema!C539&Schema!D539&Schema!E539&Schema!F539","v":"MYCODE"},"WC",{"$f":"IF(A527=\"\",\"\",IF(LEN(Schema!A539)=2,1,IF(LEN(Schema!B539)=2,10,IF(LEN(Schema!C539)=2,100,IF(LEN(Schema!D539)=2,1000,IF(LEN(Schema!E539)=2,10000,0))))))","v":0},10,{"$f":"IF(A527=\"\",\"\",SUM(Tabel2[[#This Row],[I1]:[I2]]))","v":10},"PP","WC","","","","PP/WC",{"$f":"IF(C527=\"\",\"\",IF(LEN(Tabel2[[#This Row],[Entiteit of attribuut]])=2,\"\",Tabel2[[#This Row],[Entiteit]]&\"_\"&Tabel2[[#This Row],[Entiteit of attribuut]]))","v":"WC_MYCODE"},{"$f":"IF(Schema!K539=\"\",\"\",Schema!K539)","v":""},{"$f":"IF(Schema!L539=\"\",\"\",Schema!L539)","v":""},{"$f":"IF(Schema!M539=\"\",\"\",Schema!M539)","v":""},{"$f":"IF(Schema!N539=\"\",\"\",Schema!N539)","v":""},{"$f":"IF(Schema!P539=\"\",\"\",Schema!P539)","v":"O"}]
[{"$f":"Schema!A540&Schema!B540&Schema!C540&Schema!D540&Schema!E540&Schema!F540","v":"NJP"},"WC",{"$f":"IF(A528=\"\",\"\",IF(LEN(Schema!A540)=2,1,IF(LEN(Schema!B540)=2,10,IF(LEN(Schema!C540)=2,100,IF(LEN(Schema!D540)=2,1000,IF(LEN(Schema!E540)=2,10000,0))))))","v":0},10,{"$f":"IF(A528=\"\",\"\",SUM(Tabel2[[#This Row],[I1]:[I2]]))","v":10},"PP","WC","","","","PP/WC",{"$f":"IF(C528=\"\",\"\",IF(LEN(Tabel2[[#This Row],[Entiteit of attribuut]])=2,\"\",Tabel2[[#This Row],[Entiteit]]&\"_\"&Tabel2[[#This Row],[Entiteit of attribuut]]))","v":"WC_NJP"},{"$f":"IF(Schema!K540=\"\",\"\",Schema!K540)","v":""},{"$f":"IF(Schema!L540=\"\",\"\",Schema!L540)","v":""},{"$f":"IF(Schema!M540=\"\",\"\",Schema!M540)","v":""},{"$f":"IF(Schema!N540=\"\",\"\",Schema!N540)","v":""},{"$f":"IF(Schema!P540=\"\",\"\",Schema!P540)","v":"O"}]
[{"$f":"Schema!A541&Schema!B541&Schema!C541&Schema!D541&Schema!E541&Schema!F541","v":"PAFWST"},"WC",{"$f":"IF(A529=\"\",\"\",IF(LEN(Schema!A541)=2,1,IF(LEN(Schema!B541)=2,10,IF(LEN(Schema!C541)=2,100,IF(LEN(Schema!D541)=2,1000,IF(LEN(Schema!E541)=2,10000,0))))))","v":0},10,{"$f":"IF(A529=\"\",\"\",SUM(Tabel2[[#This Row],[I1]:[I2]]))","v":10},"PP","WC","","","","PP/WC",{"$f":"IF(C529=\"\",\"\",IF(LEN(Tabel2[[#This Row],[Entiteit of attribuut]])=2,\"\",Tabel2[[#This Row],[Entiteit]]&\"_\"&Tabel2[[#This Row],[Entiteit of attribuut]]))","v":"WC_PAFWST"},{"$f":"IF(Schema!K541=\"\",\"\",Schema!K541)","v":""},{"$f":"IF(Schema!L541=\"\",\"\",Schema!L541)","v":""},{"$f":"IF(Schema!M541=\"\",\"\",Schema!M541)","v":""},{"$f":"IF(Schema!N541=\"\",\"\",Schema!N541)","v":""},{"$f":"IF(Schema!P541=\"\",\"\",Schema!P541)","v":"O"}]
[{"$f":"Schema!A542&Schema!B542&Schema!C542&Schema!D542&Schema!E542&Schema!F542","v":"PPRC"},"WC",{"$f":"IF(A530=\"\",\"\",IF(LEN(Schema!A542)=2,1,IF(LEN(Schema!B542)=2,10,IF(LEN(Schema!C542)=2,100,IF(LEN(Schema!D542)=2,1000,IF(LEN(Schema!E542)=2,10000,0))))))","v":0},10,{"$f":"IF(A530=\"\",\"\",SUM(Tabel2[[#This Row],[I1]:[I2]]))","v":10},"PP","WC","","","","PP/WC",{"$f":"IF(C530=\"\",\"\",IF(LEN(Tabel2[[#This Row],[Entiteit of attribuut]])=2,\"\",Tabel2[[#This Row],[Entiteit]]&\"_\"&Tabel2[[#This Row],[Entiteit of attribuut]]))","v":"WC_PPRC"},{"$f":"IF(Schema!K542=\"\",\"\",Schema!K542)","v":""},{"$f":"IF(Schema!L542=\"\",\"\",Schema!L542)","v":""},{"$f":"IF(Schema!M542=\"\",\"\",Schema!M542)","v":""},{"$f":"IF(Schema!N542=\"\",\"\",Schema!N542)","v":""},{"$f":"IF(Schema!P542=\"\",\"\",Schema!P542)","v":"O"}]
[{"$f":"Schema!A543&Schema!B543&Schema!C543&Schema!D543&Schema!E543&Schema!F543","v":"PRCPKKT"},"WC",{"$f":"IF(A531=\"\",\"\",IF(LEN(Schema!A543)=2,1,IF(LEN(Schema!B543)=2,10,IF(LEN(Schema!C543)=2,100,IF(LEN(Schema!D543)=2,1000,IF(LEN(Schema!E543)=2,10000,0))))))","v":0},10,{"$f":"IF(A531=\"\",\"\",SUM(Tabel2[[#This Row],[I1]:[I2]]))","v":10},"PP","WC","","","","PP/WC",{"$f":"IF(C531=\"\",\"\",IF(LEN(Tabel2[[#This Row],[Entiteit of attribuut]])=2,\"\",Tabel2[[#This Row],[Entiteit]]&\"_\"&Tabel2[[#This Row],[Entiteit of attribuut]]))","v":"WC_PRCPKKT"},{"$f":"IF(Schema!K543=\"\",\"\",Schema!K543)","v":""},{"$f":"IF(Schema!L543=\"\",\"\",Schema!L543)","v":""},{"$f":"IF(Schema!M543=\"\",\"\",Schema!M543)","v":""},{"$f":"IF(Schema!N543=\"\",\"\",Schema!N543)","v":""},{"$f":"IF(Schema!P543=\"\",\"\",Schema!P543)","v":"O"}]
[{"$f":"Schema!A544&Schema!B544&Schema!C544&Schema!D544&Schema!E544&Schema!F544","v":"PRCTEKC"},"WC",{"$f":"IF(A532=\"\",\"\",IF(LEN(Schema!A544)=2,1,IF(LEN(Schema!B544)=2,10,IF(LEN(Schema!C544)=2,100,IF(LEN(Schema!D544)=2,1000,IF(LEN(Schema!E544)=2,10000,0))))))","v":0},10,{"$f":"IF(A532=\"\",\"\",SUM(Tabel2[[#This Row],[I1]:[I2]]))","v":10},"PP","WC","","","","PP/WC",{"$f":"IF(C532=\"\",\"\",IF(LEN(Tabel2[[#This Row],[Entiteit of attribuut]])=2,\"\",Tabel2[[#This Row],[Entiteit]]&\"_\"&Tabel2[[#This Row],[Entiteit of attribuut]]))","v":"WC_PRCTEKC"},{"$f":"IF(Schema!K544=\"\",\"\",Schema!K544)","v":""},{"$f":"IF(Schema!L544=\"\",\"\",Schema!L544)","v":""},{"$f":"IF(Schema!M544=\"\",\"\",Schema!M544)","v":""},{"$f":"IF(Schema!N544=\"\",\"\",Schema!N544)","v":""},{"$f":"IF(Schema!P544=\"\",\"\",Schema!P544)","v":"O"}]
[{"$f":"Schema!A545&Schema!B545&Schema!C545&Schema!D545&Schema!E545&Schema!F545","v":"RELVRH"},"WC",{"$f":"IF(A533=\"\",\"\",IF(LEN(Schema!A545)=2,1,IF(LEN(Schema!B545)=2,10,IF(LEN(Schema!C545)=2,100,IF(LEN(Schema!D545)=2,1000,IF(LEN(Schema!E545)=2,10000,0))))))","v":0},10,{"$f":"IF(A533=\"\",\"\",SUM(Tabel2[[#This Row],[I1]:[I2]]))","v":10},"PP","WC","","","","PP/WC",{"$f":"IF(C533=\"\",\"\",IF(LEN(Tabel2[[#This Row],[Entiteit of attribuut]])=2,\"\",Tabel2[[#This Row],[Entiteit]]&\"_\"&Tabel2[[#This Row],[Entiteit of attribuut]]))","v":"WC_RELVRH"},{"$f":"IF(Schema!K545=\"\",\"\",Schema!K545)","v":""},{"$f":"IF(Schema!L545=\"\",\"\",Schema!L545)","v":""},{"$f":"IF(Schema!M545=\"\",\"\",Schema!M545)","v":""},{"$f":"IF(Schema!N545=\"\",\"\",Schema!N545)","v":""},{"$f":"IF(Schema!P545=\"\",\"\",Schema!P545)","v":"O"}]
[{"$f":"Schema!A546&Schema!B546&Schema!C546&Schema!D546&Schema!E546&Schema!F546","v":"RELVVNR"},"WC",{"$f":"IF(A534=\"\",\"\",IF(LEN(Schema!A546)=2,1,IF(LEN(Schema!B546)=2,10,IF(LEN(Schema!C546)=2,100,IF(LEN(Schema!D546)=2,1000,IF(LEN(Schema!E546)=2,10000,0))))))","v":0},10,{"$f":"IF(A534=\"\",\"\",SUM(Tabel2[[#This Row],[I1]:[I2]]))","v":10},"PP","WC","","","","PP/WC",{"$f":"IF(C534=\"\",\"\",IF(LEN(Tabel2[[#This Row],[Entiteit of attribuut]])=2,\"\",Tabel2[[#This Row],[Entiteit]]&\"_\"&Tabel2[[#This Row],[Entiteit of attribuut]]))","v":"WC_RELVVNR"},{"$f":"IF(Schema!K546=\"\",\"\",Schema!K546)","v":""},{"$f":"IF(Schema!L546=\"\",\"\",Schema!L546)","v":""},{"$f":"IF(Schema!M546=\"\",\"\",Schema!M546)","v":""},{"$f":"IF(Schema!N546=\"\",\"\",Schema!N546)","v":""},{"$f":"IF(Schema!P546=\"\",\"\",Schema!P546)","v":"O"}]
[{"$f":"Schema!A547&Schema!B547&Schema!C547&Schema!D547&Schema!E547&Schema!F547","v":"RJRCOR"},"WC",{"$f":"IF(A535=\"\",\"\",IF(LEN(Schema!A547)=2,1,IF(LEN(Schema!B547)=2,10,IF(LEN(Schema!C547)=2,100,IF(LEN(Schema!D547)=2,1000,IF(LEN(Schema!E547)=2,10000,0))))))","v":0},10,{"$f":"IF(A535=\"\",\"\",SUM(Tabel2[[#This Row],[I1]:[I2]]))","v":10},"PP","WC","","","","PP/WC",{"$f":"IF(C535=\"\",\"\",IF(LEN(Tabel2[[#This Row],[Entiteit of attribuut]])=2,\"\",Tabel2[[#This Row],[Entiteit]]&\"_\"&Tabel2[[#This Row],[Entiteit of attribuut]]))","v":"WC_RJRCOR"},{"$f":"IF(Schema!K547=\"\",\"\",Schema!K547)","v":""},{"$f":"IF(Schema!L547=\"\",\"\",Schema!L547)","v":""},{"$f":"IF(Schema!M547=\"\",\"\",Schema!M547)","v":""},{"$f":"IF(Schema!N547=\"\",\"\",Schema!N547)","v":""},{"$f":"IF(Schema!P547=\"\",\"\",Schema!P547)","v":"O"}]
[{"$f":"Schema!A548&Schema!B548&Schema!C548&Schema!D548&Schema!E548&Schema!F548","v":"TCORBDR"},"WC",{"$f":"IF(A536=\"\",\"\",IF(LEN(Schema!A548)=2,1,IF(LEN(Schema!B548)=2,10,IF(LEN(Schema!C548)=2,100,IF(LEN(Schema!D548)=2,1000,IF(LEN(Schema!E548)=2,10000,0))))))","v":0},10,{"$f":"IF(A536=\"\",\"\",SUM(Tabel2[[#This Row],[I1]:[I2]]))","v":10},"PP","WC","","","","PP/WC",{"$f":"IF(C536=\"\",\"\",IF(LEN(Tabel2[[#This Row],[Entiteit of attribuut]])=2,\"\",Tabel2[[#This Row],[Entiteit]]&\"_\"&Tabel2[[#This Row],[Entiteit of attribuut]]))","v":"WC_TCORBDR"},{"$f":"IF(Schema!K548=\"\",\"\",Schema!K548)","v":""},{"$f":"IF(Schema!L548=\"\",\"\",Schema!L548)","v":""},{"$f":"IF(Schema!M548=\"\",\"\",Schema!M548)","v":""},{"$f":"IF(Schema!N548=\"\",\"\",Schema!N548)","v":""},{"$f":"IF(Schema!P548=\"\",\"\",Schema!P548)","v":"O"}]
[{"$f":"Schema!A549&Schema!B549&Schema!C549&Schema!D549&Schema!E549&Schema!F549","v":"VERZSOM"},"WC",{"$f":"IF(A537=\"\",\"\",IF(LEN(Schema!A549)=2,1,IF(LEN(Schema!B549)=2,10,IF(LEN(Schema!C549)=2,100,IF(LEN(Schema!D549)=2,1000,IF(LEN(Schema!E549)=2,10000,0))))))","v":0},10,{"$f":"IF(A537=\"\",\"\",SUM(Tabel2[[#This Row],[I1]:[I2]]))","v":10},"PP","WC","","","","PP/WC",{"$f":"IF(C537=\"\",\"\",IF(LEN(Tabel2[[#This Row],[Entiteit of attribuut]])=2,\"\",Tabel2[[#This Row],[Entiteit]]&\"_\"&Tabel2[[#This Row],[Entiteit of attribuut]]))","v":"WC_VERZSOM"},{"$f":"IF(Schema!K549=\"\",\"\",Schema!K549)","v":""},{"$f":"IF(Schema!L549=\"\",\"\",Schema!L549)","v":""},{"$f":"IF(Schema!M549=\"\",\"\",Schema!M549)","v":""},{"$f":"IF(Schema!N549=\"\",\"\",Schema!N549)","v":""},{"$f":"IF(Schema!P549=\"\",\"\",Schema!P549)","v":"O"}]
[{"$f":"Schema!A550&Schema!B550&Schema!C550&Schema!D550&Schema!E550&Schema!F550","v":"VGBRA"},"WC",{"$f":"IF(A538=\"\",\"\",IF(LEN(Schema!A550)=2,1,IF(LEN(Schema!B550)=2,10,IF(LEN(Schema!C550)=2,100,IF(LEN(Schema!D550)=2,1000,IF(LEN(Schema!E550)=2,10000,0))))))","v":0},10,{"$f":"IF(A538=\"\",\"\",SUM(Tabel2[[#This Row],[I1]:[I2]]))","v":10},"PP","WC","","","","PP/WC",{"$f":"IF(C538=\"\",\"\",IF(LEN(Tabel2[[#This Row],[Entiteit of attribuut]])=2,\"\",Tabel2[[#This Row],[Entiteit]]&\"_\"&Tabel2[[#This Row],[Entiteit of attribuut]]))","v":"WC_VGBRA"},{"$f":"IF(Schema!K550=\"\",\"\",Schema!K550)","v":""},{"$f":"IF(Schema!L550=\"\",\"\",Schema!L550)","v":""},{"$f":"IF(Schema!M550=\"\",\"\",Schema!M550)","v":""},{"$f":"IF(Schema!N550=\"\",\"\",Schema!N550)","v":""},{"$f":"IF(Schema!P550=\"\",\"\",Schema!P550)","v":"O"}]
[{"$f":"Schema!A551&Schema!B551&Schema!C551&Schema!D551&Schema!E551&Schema!F551","v":"VOLGNUM"},"WC",{"$f":"IF(A539=\"\",\"\",IF(LEN(Schema!A551)=2,1,IF(LEN(Schema!B551)=2,10,IF(LEN(Schema!C551)=2,100,IF(LEN(Schema!D551)=2,1000,IF(LEN(Schema!E551)=2,10000,0))))))","v":0},10,{"$f":"IF(A539=\"\",\"\",SUM(Tabel2[[#This Row],[I1]:[I2]]))","v":10},"PP","WC","","","","PP/WC",{"$f":"IF(C539=\"\",\"\",IF(LEN(Tabel2[[#This Row],[Entiteit of attribuut]])=2,\"\",Tabel2[[#This Row],[Entiteit]]&\"_\"&Tabel2[[#This Row],[Entiteit of attribuut]]))","v":"WC_VOLGNUM"},{"$f":"IF(Schema!K551=\"\",\"\",Schema!K551)","v":""},{"$f":"IF(Schema!L551=\"\",\"\",Schema!L551)","v":""},{"$f":"IF(Schema!M551=\"\",\"\",Schema!M551)","v":""},{"$f":"IF(Schema!N551=\"\",\"\",Schema!N551)","v":""},{"$f":"IF(Schema!P551=\"\",\"\",Schema!P551)","v":"LEEG"}]
[{"$f":"Schema!A552&Schema!B552&Schema!C552&Schema!D552&Schema!E552&Schema!F552","v":"VRWRKCD"},"WC",{"$f":"IF(A540=\"\",\"\",IF(LEN(Schema!A552)=2,1,IF(LEN(Schema!B552)=2,10,IF(LEN(Schema!C552)=2,100,IF(LEN(Schema!D552)=2,1000,IF(LEN(Schema!E552)=2,10000,0))))))","v":0},10,{"$f":"IF(A540=\"\",\"\",SUM(Tabel2[[#This Row],[I1]:[I2]]))","v":10},"PP","WC","","","","PP/WC",{"$f":"IF(C540=\"\",\"\",IF(LEN(Tabel2[[#This Row],[Entiteit of attribuut]])=2,\"\",Tabel2[[#This Row],[Entiteit]]&\"_\"&Tabel2[[#This Row],[Entiteit of attribuut]]))","v":"WC_VRWRKCD"},{"$f":"IF(Schema!K552=\"\",\"\",Schema!K552)","v":""},{"$f":"IF(Schema!L552=\"\",\"\",Schema!L552)","v":""},{"$f":"IF(Schema!M552=\"\",\"\",Schema!M552)","v":""},{"$f":"IF(Schema!N552=\"\",\"\",Schema!N552)","v":""},{"$f":"IF(Schema!P552=\"\",\"\",Schema!P552)","v":"LEEG"}]
[{"$f":"Schema!A553&Schema!B553&Schema!C553&Schema!D553&Schema!E553&Schema!F553","v":"WPREMBP"},"WC",{"$f":"IF(A541=\"\",\"\",IF(LEN(Schema!A553)=2,1,IF(LEN(Schema!B553)=2,10,IF(LEN(Schema!C553)=2,100,IF(LEN(Schema!D553)=2,1000,IF(LEN(Schema!E553)=2,10000,0))))))","v":0},10,{"$f":"IF(A541=\"\",\"\",SUM(Tabel2[[#This Row],[I1]:[I2]]))","v":10},"PP","WC","","","","PP/WC",{"$f":"IF(C541=\"\",\"\",IF(LEN(Tabel2[[#This Row],[Entiteit of attribuut]])=2,\"\",Tabel2[[#This Row],[Entiteit]]&\"_\"&Tabel2[[#This Row],[Entiteit of attribuut]]))","v":"WC_WPREMBP"},{"$f":"IF(Schema!K553=\"\",\"\",Schema!K553)","v":""},{"$f":"IF(Schema!L553=\"\",\"\",Schema!L553)","v":""},{"$f":"IF(Schema!M553=\"\",\"\",Schema!M553)","v":""},{"$f":"IF(Schema!N553=\"\",\"\",Schema!N553)","v":""},{"$f":"IF(Schema!P553=\"\",\"\",Schema!P553)","v":"O"}]
[{"$f":"Schema!A554&Schema!B554&Schema!C554&Schema!D554&Schema!E554&Schema!F554","v":"MP"},"MP",{"$f":"IF(A542=\"\",\"\",IF(LEN(Schema!A554)=2,1,IF(LEN(Schema!B554)=2,10,IF(LEN(Schema!C554)=2,100,IF(LEN(Schema!D554)=2,1000,IF(LEN(Schema!E554)=2,10000,0))))))","v":100},100,{"$f":"IF(A542=\"\",\"\",SUM(Tabel2[[#This Row],[I1]:[I2]]))","v":200},"PP","WC","MP","","","PP/WC/MP",{"$f":"IF(C542=\"\",\"\",IF(LEN(Tabel2[[#This Row],[Entiteit of attribuut]])=2,\"\",Tabel2[[#This Row],[Entiteit]]&\"_\"&Tabel2[[#This Row],[Entiteit of attribuut]]))","v":""},{"$f":"IF(Schema!K554=\"\",\"\",Schema!K554)","v":""},{"$f":"IF(Schema!L554=\"\",\"\",Schema!L554)","v":""},{"$f":"IF(Schema!M554=\"\",\"\",Schema!M554)","v":""},{"$f":"IF(Schema!N554=\"\",\"\",Schema!N554)","v":""},{"$f":"IF(Schema!P554=\"\",\"\",Schema!P554)","v":"O"}]
[{"$f":"Schema!A555&Schema!B555&Schema!C555&Schema!D555&Schema!E555&Schema!F555","v":"MYAAND"},"MP",{"$f":"IF(A543=\"\",\"\",IF(LEN(Schema!A555)=2,1,IF(LEN(Schema!B555)=2,10,IF(LEN(Schema!C555)=2,100,IF(LEN(Schema!D555)=2,1000,IF(LEN(Schema!E555)=2,10000,0))))))","v":0},100,{"$f":"IF(A543=\"\",\"\",SUM(Tabel2[[#This Row],[I1]:[I2]]))","v":100},"PP","WC","MP","","","PP/WC/MP",{"$f":"IF(C543=\"\",\"\",IF(LEN(Tabel2[[#This Row],[Entiteit of attribuut]])=2,\"\",Tabel2[[#This Row],[Entiteit]]&\"_\"&Tabel2[[#This Row],[Entiteit of attribuut]]))","v":"MP_MYAAND"},{"$f":"IF(Schema!K555=\"\",\"\",Schema!K555)","v":""},{"$f":"IF(Schema!L555=\"\",\"\",Schema!L555)","v":""},{"$f":"IF(Schema!M555=\"\",\"\",Schema!M555)","v":""},{"$f":"IF(Schema!N555=\"\",\"\",Schema!N555)","v":""},{"$f":"IF(Schema!P555=\"\",\"\",Schema!P555)","v":"O"}]
[{"$f":"Schema!A556&Schema!B556&Schema!C556&Schema!D556&Schema!E556&Schema!F556","v":"POOLNUM"},"MP",{"$f":"IF(A544=\"\",\"\",IF(LEN(Schema!A556)=2,1,IF(LEN(Schema!B556)=2,10,IF(LEN(Schema!C556)=2,100,IF(LEN(Schema!D556)=2,1000,IF(LEN(Schema!E556)=2,10000,0))))))","v":0},100,{"$f":"IF(A544=\"\",\"\",SUM(Tabel2[[#This Row],[I1]:[I2]]))","v":100},"PP","WC","MP","","","PP/WC/MP",{"$f":"IF(C544=\"\",\"\",IF(LEN(Tabel2[[#This Row],[Entiteit of attribuut]])=2,\"\",Tabel2[[#This Row],[Entiteit]]&\"_\"&Tabel2[[#This Row],[Entiteit of attribuut]]))","v":"MP_POOLNUM"},{"$f":"IF(Schema!K556=\"\",\"\",Schema!K556)","v":""},{"$f":"IF(Schema!L556=\"\",\"\",Schema!L556)","v":""},{"$f":"IF(Schema!M556=\"\",\"\",Schema!M556)","v":""},{"$f":"IF(Schema!N556=\"\",\"\",Schema!N556)","v":""},{"$f":"IF(Schema!P556=\"\",\"\",Schema!P556)","v":"V"}]
[{"$f":"Schema!A557&Schema!B557&Schema!C557&Schema!D557&Schema!E557&Schema!F557","v":"PLLEAD"},"MP",{"$f":"IF(A545=\"\",\"\",IF(LEN(Schema!A557)=2,1,IF(LEN(Schema!B557)=2,10,IF(LEN(Schema!C557)=2,100,IF(LEN(Schema!D557)=2,1000,IF(LEN(Schema!E557)=2,10000,0))))))","v":0},100,{"$f":"IF(A545=\"\",\"\",SUM(Tabel2[[#This Row],[I1]:[I2]]))","v":100},"PP","WC","MP","","","PP/WC/MP",{"$f":"IF(C545=\"\",\"\",IF(LEN(Tabel2[[#This Row],[Entiteit of attribuut]])=2,\"\",Tabel2[[#This Row],[Entiteit]]&\"_\"&Tabel2[[#This Row],[Entiteit of attribuut]]))","v":"MP_PLLEAD"},{"$f":"IF(Schema!K557=\"\",\"\",Schema!K557)","v":""},{"$f":"IF(Schema!L557=\"\",\"\",Schema!L557)","v":""},{"$f":"IF(Schema!M557=\"\",\"\",Schema!M557)","v":""},{"$f":"IF(Schema!N557=\"\",\"\",Schema!N557)","v":""},{"$f":"IF(Schema!P557=\"\",\"\",Schema!P557)","v":"O"}]
[{"$f":"Schema!A558&Schema!B558&Schema!C558&Schema!D558&Schema!E558&Schema!F558","v":"POOLPRC"},"MP",{"$f":"IF(A546=\"\",\"\",IF(LEN(Schema!A558)=2,1,IF(LEN(Schema!B558)=2,10,IF(LEN(Schema!C558)=2,100,IF(LEN(Schema!D558)=2,1000,IF(LEN(Schema!E558)=2,10000,0))))))","v":0},100,{"$f":"IF(A546=\"\",\"\",SUM(Tabel2[[#This Row],[I1]:[I2]]))","v":100},"PP","WC","MP","","","PP/WC/MP",{"$f":"IF(C546=\"\",\"\",IF(LEN(Tabel2[[#This Row],[Entiteit of attribuut]])=2,\"\",Tabel2[[#This Row],[Entiteit]]&\"_\"&Tabel2[[#This Row],[Entiteit of attribuut]]))","v":"MP_POOLPRC"},{"$f":"IF(Schema!K558=\"\",\"\",Schema!K558)","v":""},{"$f":"IF(Schema!L558=\"\",\"\",Schema!L558)","v":""},{"$f":"IF(Schema!M558=\"\",\"\",Schema!M558)","v":""},{"$f":"IF(Schema!N558=\"\",\"\",Schema!N558)","v":""},{"$f":"IF(Schema!P558=\"\",\"\",Schema!P558)","v":"V"}]
[{"$f":"Schema!A559&Schema!B559&Schema!C559&Schema!D559&Schema!E559&Schema!F559","v":"CL"},"CL",{"$f":"IF(A547=\"\",\"\",IF(LEN(Schema!A559)=2,1,IF(LEN(Schema!B559)=2,10,IF(LEN(Schema!C559)=2,100,IF(LEN(Schema!D559)=2,1000,IF(LEN(Schema!E559)=2,10000,0))))))","v":10},10,{"$f":"IF(A547=\"\",\"\",SUM(Tabel2[[#This Row],[I1]:[I2]]))","v":20},"PP","CL","","","","PP/CL",{"$f":"IF(C547=\"\",\"\",IF(LEN(Tabel2[[#This Row],[Entiteit of attribuut]])=2,\"\",Tabel2[[#This Row],[Entiteit]]&\"_\"&Tabel2[[#This Row],[Entiteit of attribuut]]))","v":""},{"$f":"IF(Schema!K559=\"\",\"\",Schema!K559)","v":""},{"$f":"IF(Schema!L559=\"\",\"\",Schema!L559)","v":""},{"$f":"IF(Schema!M559=\"\",\"\",Schema!M559)","v":""},{"$f":"IF(Schema!N559=\"\",\"\",Schema!N559)","v":""},{"$f":"IF(Schema!P559=\"\",\"\",Schema!P559)","v":"LEEG"}]
[{"$f":"Schema!A560&Schema!B560&Schema!C560&Schema!D560&Schema!E560&Schema!F560","v":"CLAUSNR"},"CL",{"$f":"IF(A548=\"\",\"\",IF(LEN(Schema!A560)=2,1,IF(LEN(Schema!B560)=2,10,IF(LEN(Schema!C560)=2,100,IF(LEN(Schema!D560)=2,1000,IF(LEN(Schema!E560)=2,10000,0))))))","v":0},10,{"$f":"IF(A548=\"\",\"\",SUM(Tabel2[[#This Row],[I1]:[I2]]))","v":10},"PP","CL","","","","PP/CL",{"$f":"IF(C548=\"\",\"\",IF(LEN(Tabel2[[#This Row],[Entiteit of attribuut]])=2,\"\",Tabel2[[#This Row],[Entiteit]]&\"_\"&Tabel2[[#This Row],[Entiteit of attribuut]]))","v":"CL_CLAUSNR"},{"$f":"IF(Schema!K560=\"\",\"\",Schema!K560)","v":""},{"$f":"IF(Schema!L560=\"\",\"\",Schema!L560)","v":""},{"$f":"IF(Schema!M560=\"\",\"\",Schema!M560)","v":""},{"$f":"IF(Schema!N560=\"\",\"\",Schema!N560)","v":""},{"$f":"IF(Schema!P560=\"\",\"\",Schema!P560)","v":"LEEG"}]
[{"$f":"Schema!A561&Schema!B561&Schema!C561&Schema!D561&Schema!E561&Schema!F561","v":"CLAUSOM"},"CL",{"$f":"IF(A549=\"\",\"\",IF(LEN(Schema!A561)=2,1,IF(LEN(Schema!B561)=2,10,IF(LEN(Schema!C561)=2,100,IF(LEN(Schema!D561)=2,1000,IF(LEN(Schema!E561)=2,10000,0))))))","v":0},10,{"$f":"IF(A549=\"\",\"\",SUM(Tabel2[[#This Row],[I1]:[I2]]))","v":10},"PP","CL","","","","PP/CL",{"$f":"IF(C549=\"\",\"\",IF(LEN(Tabel2[[#This Row],[Entiteit of attribuut]])=2,\"\",Tabel2[[#This Row],[Entiteit]]&\"_\"&Tabel2[[#This Row],[Entiteit of attribuut]]))","v":"CL_CLAUSOM"},{"$f":"IF(Schema!K561=\"\",\"\",Schema!K561)","v":""},{"$f":"IF(Schema!L561=\"\",\"\",Schema!L561)","v":""},{"$f":"IF(Schema!M561=\"\",\"\",Schema!M561)","v":""},{"$f":"IF(Schema!N561=\"\",\"\",Schema!N561)","v":""},{"$f":"IF(Schema!P561=\"\",\"\",Schema!P561)","v":"LEEG"}]
[{"$f":"Schema!A562&Schema!B562&Schema!C562&Schema!D562&Schema!E562&Schema!F562","v":"CLAUTXT"},"CL",{"$f":"IF(A550=\"\",\"\",IF(LEN(Schema!A562)=2,1,IF(LEN(Schema!B562)=2,10,IF(LEN(Schema!C562)=2,100,IF(LEN(Schema!D562)=2,1000,IF(LEN(Schema!E562)=2,10000,0))))))","v":0},10,{"$f":"IF(A550=\"\",\"\",SUM(Tabel2[[#This Row],[I1]:[I2]]))","v":10},"PP","CL","","","","PP/CL",{"$f":"IF(C550=\"\",\"\",IF(LEN(Tabel2[[#This Row],[Entiteit of attribuut]])=2,\"\",Tabel2[[#This Row],[Entiteit]]&\"_\"&Tabel2[[#This Row],[Entiteit of attribuut]]))","v":"CL_CLAUTXT"},{"$f":"IF(Schema!K562=\"\",\"\",Schema!K562)","v":""},{"$f":"IF(Schema!L562=\"\",\"\",Schema!L562)","v":""},{"$f":"IF(Schema!M562=\"\",\"\",Schema!M562)","v":""},{"$f":"IF(Schema!N562=\"\",\"\",Schema!N562)","v":""},{"$f":"IF(Schema!P562=\"\",\"\",Schema!P562)","v":"LEEG"}]
[{"$f":"Schema!A563&Schema!B563&Schema!C563&Schema!D563&Schema!E563&Schema!F563","v":"VERSIEC"},"CL",{"$f":"IF(A551=\"\",\"\",IF(LEN(Schema!A563)=2,1,IF(LEN(Schema!B563)=2,10,IF(LEN(Schema!C563)=2,100,IF(LEN(Schema!D563)=2,1000,IF(LEN(Schema!E563)=2,10000,0))))))","v":0},10,{"$f":"IF(A551=\"\",\"\",SUM(Tabel2[[#This Row],[I1]:[I2]]))","v":10},"PP","CL","","","","PP/CL",{"$f":"IF(C551=\"\",\"\",IF(LEN(Tabel2[[#This Row],[Entiteit of attribuut]])=2,\"\",Tabel2[[#This Row],[Entiteit]]&\"_\"&Tabel2[[#This Row],[Entiteit of attribuut]]))","v":"CL_VERSIEC"},{"$f":"IF(Schema!K563=\"\",\"\",Schema!K563)","v":""},{"$f":"IF(Schema!L563=\"\",\"\",Schema!L563)","v":""},{"$f":"IF(Schema!M563=\"\",\"\",Schema!M563)","v":""},{"$f":"IF(Schema!N563=\"\",\"\",Schema!N563)","v":""},{"$f":"IF(Schema!P563=\"\",\"\",Schema!P563)","v":"LEEG"}]
[{"$f":"Schema!A564&Schema!B564&Schema!C564&Schema!D564&Schema!E564&Schema!F564","v":"VOLGNUM"},"CL",{"$f":"IF(A552=\"\",\"\",IF(LEN(Schema!A564)=2,1,IF(LEN(Schema!B564)=2,10,IF(LEN(Schema!C564)=2,100,IF(LEN(Schema!D564)=2,1000,IF(LEN(Schema!E564)=2,10000,0))))))","v":0},10,{"$f":"IF(A552=\"\",\"\",SUM(Tabel2[[#This Row],[I1]:[I2]]))","v":10},"PP","CL","","","","PP/CL",{"$f":"IF(C552=\"\",\"\",IF(LEN(Tabel2[[#This Row],[Entiteit of attribuut]])=2,\"\",Tabel2[[#This Row],[Entiteit]]&\"_\"&Tabel2[[#This Row],[Entiteit of attribuut]]))","v":"CL_VOLGNUM"},{"$f":"IF(Schema!K564=\"\",\"\",Schema!K564)","v":""},{"$f":"IF(Schema!L564=\"\",\"\",Schema!L564)","v":""},{"$f":"IF(Schema!M564=\"\",\"\",Schema!M564)","v":""},{"$f":"IF(Schema!N564=\"\",\"\",Schema!N564)","v":""},{"$f":"IF(Schema!P564=\"\",\"\",Schema!P564)","v":"LEEG"}]
[{"$f":"Schema!A565&Schema!B565&Schema!C565&Schema!D565&Schema!E565&Schema!F565","v":"VRWRKCD"},"CL",{"$f":"IF(A553=\"\",\"\",IF(LEN(Schema!A565)=2,1,IF(LEN(Schema!B565)=2,10,IF(LEN(Schema!C565)=2,100,IF(LEN(Schema!D565)=2,1000,IF(LEN(Schema!E565)=2,10000,0))))))","v":0},10,{"$f":"IF(A553=\"\",\"\",SUM(Tabel2[[#This Row],[I1]:[I2]]))","v":10},"PP","CL","","","","PP/CL",{"$f":"IF(C553=\"\",\"\",IF(LEN(Tabel2[[#This Row],[Entiteit of attribuut]])=2,\"\",Tabel2[[#This Row],[Entiteit]]&\"_\"&Tabel2[[#This Row],[Entiteit of attribuut]]))","v":"CL_VRWRKCD"},{"$f":"IF(Schema!K565=\"\",\"\",Schema!K565)","v":""},{"$f":"IF(Schema!L565=\"\",\"\",Schema!L565)","v":""},{"$f":"IF(Schema!M565=\"\",\"\",Schema!M565)","v":""},{"$f":"IF(Schema!N565=\"\",\"\",Schema!N565)","v":""},{"$f":"IF(Schema!P565=\"\",\"\",Schema!P565)","v":"LEEG"}]
[{"$f":"Schema!A566&Schema!B566&Schema!C566&Schema!D566&Schema!E566&Schema!F566","v":"VW"},"VW",{"$f":"IF(A554=\"\",\"\",IF(LEN(Schema!A566)=2,1,IF(LEN(Schema!B566)=2,10,IF(LEN(Schema!C566)=2,100,IF(LEN(Schema!D566)=2,1000,IF(LEN(Schema!E566)=2,10000,0))))))","v":10},10,{"$f":"IF(A554=\"\",\"\",SUM(Tabel2[[#This Row],[I1]:[I2]]))","v":20},"PP","VW","","","","PP/VW",{"$f":"IF(C554=\"\",\"\",IF(LEN(Tabel2[[#This Row],[Entiteit of attribuut]])=2,\"\",Tabel2[[#This Row],[Entiteit]]&\"_\"&Tabel2[[#This Row],[Entiteit of attribuut]]))","v":""},{"$f":"IF(Schema!K566=\"\",\"\",Schema!K566)","v":""},{"$f":"IF(Schema!L566=\"\",\"\",Schema!L566)","v":""},{"$f":"IF(Schema!M566=\"\",\"\",Schema!M566)","v":""},{"$f":"IF(Schema!N566=\"\",\"\",Schema!N566)","v":""},{"$f":"IF(Schema!P566=\"\",\"\",Schema!P566)","v":"LEEG"}]
[{"$f":"Schema!A567&Schema!B567&Schema!C567&Schema!D567&Schema!E567&Schema!F567","v":"VOLGNUM"},"VW",{"$f":"IF(A555=\"\",\"\",IF(LEN(Schema!A567)=2,1,IF(LEN(Schema!B567)=2,10,IF(LEN(Schema!C567)=2,100,IF(LEN(Schema!D567)=2,1000,IF(LEN(Schema!E567)=2,10000,0))))))","v":0},10,{"$f":"IF(A555=\"\",\"\",SUM(Tabel2[[#This Row],[I1]:[I2]]))","v":10},"PP","VW","","","","PP/VW",{"$f":"IF(C555=\"\",\"\",IF(LEN(Tabel2[[#This Row],[Entiteit of attribuut]])=2,\"\",Tabel2[[#This Row],[Entiteit]]&\"_\"&Tabel2[[#This Row],[Entiteit of attribuut]]))","v":"VW_VOLGNUM"},{"$f":"IF(Schema!K567=\"\",\"\",Schema!K567)","v":""},{"$f":"IF(Schema!L567=\"\",\"\",Schema!L567)","v":""},{"$f":"IF(Schema!M567=\"\",\"\",Schema!M567)","v":""},{"$f":"IF(Schema!N567=\"\",\"\",Schema!N567)","v":""},{"$f":"IF(Schema!P567=\"\",\"\",Schema!P567)","v":"LEEG"}]
[{"$f":"Schema!A568&Schema!B568&Schema!C568&Schema!D568&Schema!E568&Schema!F568","v":"VRWNR"},"VW",{"$f":"IF(A556=\"\",\"\",IF(LEN(Schema!A568)=2,1,IF(LEN(Schema!B568)=2,10,IF(LEN(Schema!C568)=2,100,IF(LEN(Schema!D568)=2,1000,IF(LEN(Schema!E568)=2,10000,0))))))","v":0},10,{"$f":"IF(A556=\"\",\"\",SUM(Tabel2[[#This Row],[I1]:[I2]]))","v":10},"PP","VW","","","","PP/VW",{"$f":"IF(C556=\"\",\"\",IF(LEN(Tabel2[[#This Row],[Entiteit of attribuut]])=2,\"\",Tabel2[[#This Row],[Entiteit]]&\"_\"&Tabel2[[#This Row],[Entiteit of attribuut]]))","v":"VW_VRWNR"},{"$f":"IF(Schema!K568=\"\",\"\",Schema!K568)","v":""},{"$f":"IF(Schema!L568=\"\",\"\",Schema!L568)","v":""},{"$f":"IF(Schema!M568=\"\",\"\",Schema!M568)","v":""},{"$f":"IF(Schema!N568=\"\",\"\",Schema!N568)","v":""},{"$f":"IF(Schema!P568=\"\",\"\",Schema!P568)","v":"LEEG"}]
[{"$f":"Schema!A569&Schema!B569&Schema!C569&Schema!D569&Schema!E569&Schema!F569","v":"VRWOM"},"VW",{"$f":"IF(A557=\"\",\"\",IF(LEN(Schema!A569)=2,1,IF(LEN(Schema!B569)=2,10,IF(LEN(Schema!C569)=2,100,IF(LEN(Schema!D569)=2,1000,IF(LEN(Schema!E569)=2,10000,0))))))","v":0},10,{"$f":"IF(A557=\"\",\"\",SUM(Tabel2[[#This Row],[I1]:[I2]]))","v":10},"PP","VW","","","","PP/VW",{"$f":"IF(C557=\"\",\"\",IF(LEN(Tabel2[[#This Row],[Entiteit of attribuut]])=2,\"\",Tabel2[[#This Row],[Entiteit]]&\"_\"&Tabel2[[#This Row],[Entiteit of attribuut]]))","v":"VW_VRWOM"},{"$f":"IF(Schema!K569=\"\",\"\",Schema!K569)","v":""},{"$f":"IF(Schema!L569=\"\",\"\",Schema!L569)","v":""},{"$f":"IF(Schema!M569=\"\",\"\",Schema!M569)","v":""},{"$f":"IF(Schema!N569=\"\",\"\",Schema!N569)","v":""},{"$f":"IF(Schema!P569=\"\",\"\",Schema!P569)","v":"LEEG"}]
[{"$f":"Schema!A570&Schema!B570&Schema!C570&Schema!D570&Schema!E570&Schema!F570","v":"VRWRKCD"},"VW",{"$f":"IF(A558=\"\",\"\",IF(LEN(Schema!A570)=2,1,IF(LEN(Schema!B570)=2,10,IF(LEN(Schema!C570)=2,100,IF(LEN(Schema!D570)=2,1000,IF(LEN(Schema!E570)=2,10000,0))))))","v":0},10,{"$f":"IF(A558=\"\",\"\",SUM(Tabel2[[#This Row],[I1]:[I2]]))","v":10},"PP","VW","","","","PP/VW",{"$f":"IF(C558=\"\",\"\",IF(LEN(Tabel2[[#This Row],[Entiteit of attribuut]])=2,\"\",Tabel2[[#This Row],[Entiteit]]&\"_\"&Tabel2[[#This Row],[Entiteit of attribuut]]))","v":"VW_VRWRKCD"},{"$f":"IF(Schema!K570=\"\",\"\",Schema!K570)","v":""},{"$f":"IF(Schema!L570=\"\",\"\",Schema!L570)","v":""},{"$f":"IF(Schema!M570=\"\",\"\",Schema!M570)","v":""},{"$f":"IF(Schema!N570=\"\",\"\",Schema!N570)","v":""},{"$f":"IF(Schema!P570=\"\",\"\",Schema!P570)","v":"LEEG"}]
[{"$f":"Schema!A571&Schema!B571&Schema!C571&Schema!D571&Schema!E571&Schema!F571","v":"VRWVERS"},"VW",{"$f":"IF(A559=\"\",\"\",IF(LEN(Schema!A571)=2,1,IF(LEN(Schema!B571)=2,10,IF(LEN(Schema!C571)=2,100,IF(LEN(Schema!D571)=2,1000,IF(LEN(Schema!E571)=2,10000,0))))))","v":0},10,{"$f":"IF(A559=\"\",\"\",SUM(Tabel2[[#This Row],[I1]:[I2]]))","v":10},"PP","VW","","","","PP/VW",{"$f":"IF(C559=\"\",\"\",IF(LEN(Tabel2[[#This Row],[Entiteit of attribuut]])=2,\"\",Tabel2[[#This Row],[Entiteit]]&\"_\"&Tabel2[[#This Row],[Entiteit of attribuut]]))","v":"VW_VRWVERS"},{"$f":"IF(Schema!K571=\"\",\"\",Schema!K571)","v":""},{"$f":"IF(Schema!L571=\"\",\"\",Schema!L571)","v":""},{"$f":"IF(Schema!M571=\"\",\"\",Schema!M571)","v":""},{"$f":"IF(Schema!N571=\"\",\"\",Schema!N571)","v":""},{"$f":"IF(Schema!P571=\"\",\"\",Schema!P571)","v":"LEEG"}]
[{"$f":"Schema!A572&Schema!B572&Schema!C572&Schema!D572&Schema!E572&Schema!F572","v":"LV"},"LV",{"$f":"IF(A560=\"\",\"\",IF(LEN(Schema!A572)=2,1,IF(LEN(Schema!B572)=2,10,IF(LEN(Schema!C572)=2,100,IF(LEN(Schema!D572)=2,1000,IF(LEN(Schema!E572)=2,10000,0))))))","v":10},10,{"$f":"IF(A560=\"\",\"\",SUM(Tabel2[[#This Row],[I1]:[I2]]))","v":20},"PP","LV","","","","PP/LV",{"$f":"IF(C560=\"\",\"\",IF(LEN(Tabel2[[#This Row],[Entiteit of attribuut]])=2,\"\",Tabel2[[#This Row],[Entiteit]]&\"_\"&Tabel2[[#This Row],[Entiteit of attribuut]]))","v":""},{"$f":"IF(Schema!K572=\"\",\"\",Schema!K572)","v":""},{"$f":"IF(Schema!L572=\"\",\"\",Schema!L572)","v":""},{"$f":"IF(Schema!M572=\"\",\"\",Schema!M572)","v":""},{"$f":"IF(Schema!N572=\"\",\"\",Schema!N572)","v":""},{"$f":"IF(Schema!P572=\"\",\"\",Schema!P572)","v":"LEEG"}]
[{"$f":"Schema!A573&Schema!B573&Schema!C573&Schema!D573&Schema!E573&Schema!F573","v":"ANAAM"},"LV",{"$f":"IF(A561=\"\",\"\",IF(LEN(Schema!A573)=2,1,IF(LEN(Schema!B573)=2,10,IF(LEN(Schema!C573)=2,100,IF(LEN(Schema!D573)=2,1000,IF(LEN(Schema!E573)=2,10000,0))))))","v":0},10,{"$f":"IF(A561=\"\",\"\",SUM(Tabel2[[#This Row],[I1]:[I2]]))","v":10},"PP","LV","","","","PP/LV",{"$f":"IF(C561=\"\",\"\",IF(LEN(Tabel2[[#This Row],[Entiteit of attribuut]])=2,\"\",Tabel2[[#This Row],[Entiteit]]&\"_\"&Tabel2[[#This Row],[Entiteit of attribuut]]))","v":"LV_ANAAM"},{"$f":"IF(Schema!K573=\"\",\"\",Schema!K573)","v":""},{"$f":"IF(Schema!L573=\"\",\"\",Schema!L573)","v":""},{"$f":"IF(Schema!M573=\"\",\"\",Schema!M573)","v":""},{"$f":"IF(Schema!N573=\"\",\"\",Schema!N573)","v":""},{"$f":"IF(Schema!P573=\"\",\"\",Schema!P573)","v":"LEEG"}]
[{"$f":"Schema!A574&Schema!B574&Schema!C574&Schema!D574&Schema!E574&Schema!F574","v":"ENTITEI"},"LV",{"$f":"IF(A562=\"\",\"\",IF(LEN(Schema!A574)=2,1,IF(LEN(Schema!B574)=2,10,IF(LEN(Schema!C574)=2,100,IF(LEN(Schema!D574)=2,1000,IF(LEN(Schema!E574)=2,10000,0))))))","v":0},10,{"$f":"IF(A562=\"\",\"\",SUM(Tabel2[[#This Row],[I1]:[I2]]))","v":10},"PP","LV","","","","PP/LV",{"$f":"IF(C562=\"\",\"\",IF(LEN(Tabel2[[#This Row],[Entiteit of attribuut]])=2,\"\",Tabel2[[#This Row],[Entiteit]]&\"_\"&Tabel2[[#This Row],[Entiteit of attribuut]]))","v":"LV_ENTITEI"},{"$f":"IF(Schema!K574=\"\",\"\",Schema!K574)","v":""},{"$f":"IF(Schema!L574=\"\",\"\",Schema!L574)","v":""},{"$f":"IF(Schema!M574=\"\",\"\",Schema!M574)","v":""},{"$f":"IF(Schema!N574=\"\",\"\",Schema!N574)","v":""},{"$f":"IF(Schema!P574=\"\",\"\",Schema!P574)","v":"LEEG"}]
[{"$f":"Schema!A575&Schema!B575&Schema!C575&Schema!D575&Schema!E575&Schema!F575","v":"VRWRKCD"},"LV",{"$f":"IF(A563=\"\",\"\",IF(LEN(Schema!A575)=2,1,IF(LEN(Schema!B575)=2,10,IF(LEN(Schema!C575)=2,100,IF(LEN(Schema!D575)=2,1000,IF(LEN(Schema!E575)=2,10000,0))))))","v":0},10,{"$f":"IF(A563=\"\",\"\",SUM(Tabel2[[#This Row],[I1]:[I2]]))","v":10},"PP","LV","","","","PP/LV",{"$f":"IF(C563=\"\",\"\",IF(LEN(Tabel2[[#This Row],[Entiteit of attribuut]])=2,\"\",Tabel2[[#This Row],[Entiteit]]&\"_\"&Tabel2[[#This Row],[Entiteit of attribuut]]))","v":"LV_VRWRKCD"},{"$f":"IF(Schema!K575=\"\",\"\",Schema!K575)","v":""},{"$f":"IF(Schema!L575=\"\",\"\",Schema!L575)","v":""},{"$f":"IF(Schema!M575=\"\",\"\",Schema!M575)","v":""},{"$f":"IF(Schema!N575=\"\",\"\",Schema!N575)","v":""},{"$f":"IF(Schema!P575=\"\",\"\",Schema!P575)","v":"LEEG"}]
[{"$f":"Schema!A576&Schema!B576&Schema!C576&Schema!D576&Schema!E576&Schema!F576","v":"KP"},"KP",{"$f":"IF(A564=\"\",\"\",IF(LEN(Schema!A576)=2,1,IF(LEN(Schema!B576)=2,10,IF(LEN(Schema!C576)=2,100,IF(LEN(Schema!D576)=2,1000,IF(LEN(Schema!E576)=2,10000,0))))))","v":100},100,{"$f":"IF(A564=\"\",\"\",SUM(Tabel2[[#This Row],[I1]:[I2]]))","v":200},"PP","LV","KP","","","PP/LV/KP",{"$f":"IF(C564=\"\",\"\",IF(LEN(Tabel2[[#This Row],[Entiteit of attribuut]])=2,\"\",Tabel2[[#This Row],[Entiteit]]&\"_\"&Tabel2[[#This Row],[Entiteit of attribuut]]))","v":""},{"$f":"IF(Schema!K576=\"\",\"\",Schema!K576)","v":""},{"$f":"IF(Schema!L576=\"\",\"\",Schema!L576)","v":""},{"$f":"IF(Schema!M576=\"\",\"\",Schema!M576)","v":""},{"$f":"IF(Schema!N576=\"\",\"\",Schema!N576)","v":""},{"$f":"IF(Schema!P576=\"\",\"\",Schema!P576)","v":"LEEG"}]
[{"$f":"Schema!A577&Schema!B577&Schema!C577&Schema!D577&Schema!E577&Schema!F577","v":"ANAAM"},"KP",{"$f":"IF(A565=\"\",\"\",IF(LEN(Schema!A577)=2,1,IF(LEN(Schema!B577)=2,10,IF(LEN(Schema!C577)=2,100,IF(LEN(Schema!D577)=2,1000,IF(LEN(Schema!E577)=2,10000,0))))))","v":0},100,{"$f":"IF(A565=\"\",\"\",SUM(Tabel2[[#This Row],[I1]:[I2]]))","v":100},"PP","LV","KP","","","PP/LV/KP",{"$f":"IF(C565=\"\",\"\",IF(LEN(Tabel2[[#This Row],[Entiteit of attribuut]])=2,\"\",Tabel2[[#This Row],[Entiteit]]&\"_\"&Tabel2[[#This Row],[Entiteit of attribuut]]))","v":"KP_ANAAM"},{"$f":"IF(Schema!K577=\"\",\"\",Schema!K577)","v":""},{"$f":"IF(Schema!L577=\"\",\"\",Schema!L577)","v":""},{"$f":"IF(Schema!M577=\"\",\"\",Schema!M577)","v":""},{"$f":"IF(Schema!N577=\"\",\"\",Schema!N577)","v":""},{"$f":"IF(Schema!P577=\"\",\"\",Schema!P577)","v":"LEEG"}]
[{"$f":"Schema!A578&Schema!B578&Schema!C578&Schema!D578&Schema!E578&Schema!F578","v":"EMAIL"},"KP",{"$f":"IF(A566=\"\",\"\",IF(LEN(Schema!A578)=2,1,IF(LEN(Schema!B578)=2,10,IF(LEN(Schema!C578)=2,100,IF(LEN(Schema!D578)=2,1000,IF(LEN(Schema!E578)=2,10000,0))))))","v":0},100,{"$f":"IF(A566=\"\",\"\",SUM(Tabel2[[#This Row],[I1]:[I2]]))","v":100},"PP","LV","KP","","","PP/LV/KP",{"$f":"IF(C566=\"\",\"\",IF(LEN(Tabel2[[#This Row],[Entiteit of attribuut]])=2,\"\",Tabel2[[#This Row],[Entiteit]]&\"_\"&Tabel2[[#This Row],[Entiteit of attribuut]]))","v":"KP_EMAIL"},{"$f":"IF(Schema!K578=\"\",\"\",Schema!K578)","v":""},{"$f":"IF(Schema!L578=\"\",\"\",Schema!L578)","v":""},{"$f":"IF(Schema!M578=\"\",\"\",Schema!M578)","v":""},{"$f":"IF(Schema!N578=\"\",\"\",Schema!N578)","v":""},{"$f":"IF(Schema!P578=\"\",\"\",Schema!P578)","v":"LEEG"}]
[{"$f":"Schema!A579&Schema!B579&Schema!C579&Schema!D579&Schema!E579&Schema!F579","v":"ENTITEI"},"KP",{"$f":"IF(A567=\"\",\"\",IF(LEN(Schema!A579)=2,1,IF(LEN(Schema!B579)=2,10,IF(LEN(Schema!C579)=2,100,IF(LEN(Schema!D579)=2,1000,IF(LEN(Schema!E579)=2,10000,0))))))","v":0},100,{"$f":"IF(A567=\"\",\"\",SUM(Tabel2[[#This Row],[I1]:[I2]]))","v":100},"PP","LV","KP","","","PP/LV/KP",{"$f":"IF(C567=\"\",\"\",IF(LEN(Tabel2[[#This Row],[Entiteit of attribuut]])=2,\"\",Tabel2[[#This Row],[Entiteit]]&\"_\"&Tabel2[[#This Row],[Entiteit of attribuut]]))","v":"KP_ENTITEI"},{"$f":"IF(Schema!K579=\"\",\"\",Schema!K579)","v":""},{"$f":"IF(Schema!L579=\"\",\"\",Schema!L579)","v":""},{"$f":"IF(Schema!M579=\"\",\"\",Schema!M579)","v":""},{"$f":"IF(Schema!N579=\"\",\"\",Schema!N579)","v":""},{"$f":"IF(Schema!P579=\"\",\"\",Schema!P579)","v":"LEEG"}]
[{"$f":"Schema!A580&Schema!B580&Schema!C580&Schema!D580&Schema!E580&Schema!F580","v":"VRWRKCD"},"KP",{"$f":"IF(A568=\"\",\"\",IF(LEN(Schema!A580)=2,1,IF(LEN(Schema!B580)=2,10,IF(LEN(Schema!C580)=2,100,IF(LEN(Schema!D580)=2,1000,IF(LEN(Schema!E580)=2,10000,0))))))","v":0},100,{"$f":"IF(A568=\"\",\"\",SUM(Tabel2[[#This Row],[I1]:[I2]]))","v":100},"PP","LV","KP","","","PP/LV/KP",{"$f":"IF(C568=\"\",\"\",IF(LEN(Tabel2[[#This Row],[Entiteit of attribuut]])=2,\"\",Tabel2[[#This Row],[Entiteit]]&\"_\"&Tabel2[[#This Row],[Entiteit of attribuut]]))","v":"KP_VRWRKCD"},{"$f":"IF(Schema!K580=\"\",\"\",Schema!K580)","v":""},{"$f":"IF(Schema!L580=\"\",\"\",Schema!L580)","v":""},{"$f":"IF(Schema!M580=\"\",\"\",Schema!M580)","v":""},{"$f":"IF(Schema!N580=\"\",\"\",Schema!N580)","v":""},{"$f":"IF(Schema!P580=\"\",\"\",Schema!P580)","v":"LEEG"}]
[{"$f":"Schema!A581&Schema!B581&Schema!C581&Schema!D581&Schema!E581&Schema!F581","v":"OG"},"OG",{"$f":"IF(A569=\"\",\"\",IF(LEN(Schema!A581)=2,1,IF(LEN(Schema!B581)=2,10,IF(LEN(Schema!C581)=2,100,IF(LEN(Schema!D581)=2,1000,IF(LEN(Schema!E581)=2,10000,0))))))","v":10},10,{"$f":"IF(A569=\"\",\"\",SUM(Tabel2[[#This Row],[I1]:[I2]]))","v":20},"PP","OG","","","","PP/OG",{"$f":"IF(C569=\"\",\"\",IF(LEN(Tabel2[[#This Row],[Entiteit of attribuut]])=2,\"\",Tabel2[[#This Row],[Entiteit]]&\"_\"&Tabel2[[#This Row],[Entiteit of attribuut]]))","v":""},{"$f":"IF(Schema!K581=\"\",\"\",Schema!K581)","v":""},{"$f":"IF(Schema!L581=\"\",\"\",Schema!L581)","v":""},{"$f":"IF(Schema!M581=\"\",\"\",Schema!M581)","v":""},{"$f":"IF(Schema!N581=\"\",\"\",Schema!N581)","v":""},{"$f":"IF(Schema!P581=\"\",\"\",Schema!P581)","v":"O"}]
[{"$f":"Schema!A582&Schema!B582&Schema!C582&Schema!D582&Schema!E582&Schema!F582","v":"AANTHUU"},"OG",{"$f":"IF(A570=\"\",\"\",IF(LEN(Schema!A582)=2,1,IF(LEN(Schema!B582)=2,10,IF(LEN(Schema!C582)=2,100,IF(LEN(Schema!D582)=2,1000,IF(LEN(Schema!E582)=2,10000,0))))))","v":0},10,{"$f":"IF(A570=\"\",\"\",SUM(Tabel2[[#This Row],[I1]:[I2]]))","v":10},"PP","OG","","","","PP/OG",{"$f":"IF(C570=\"\",\"\",IF(LEN(Tabel2[[#This Row],[Entiteit of attribuut]])=2,\"\",Tabel2[[#This Row],[Entiteit]]&\"_\"&Tabel2[[#This Row],[Entiteit of attribuut]]))","v":"OG_AANTHUU"},{"$f":"IF(Schema!K582=\"\",\"\",Schema!K582)","v":""},{"$f":"IF(Schema!L582=\"\",\"\",Schema!L582)","v":""},{"$f":"IF(Schema!M582=\"\",\"\",Schema!M582)","v":""},{"$f":"IF(Schema!N582=\"\",\"\",Schema!N582)","v":""},{"$f":"IF(Schema!P582=\"\",\"\",Schema!P582)","v":"LEEG"}]
[{"$f":"Schema!A583&Schema!B583&Schema!C583&Schema!D583&Schema!E583&Schema!F583","v":"AANTLED"},"OG",{"$f":"IF(A571=\"\",\"\",IF(LEN(Schema!A583)=2,1,IF(LEN(Schema!B583)=2,10,IF(LEN(Schema!C583)=2,100,IF(LEN(Schema!D583)=2,1000,IF(LEN(Schema!E583)=2,10000,0))))))","v":0},10,{"$f":"IF(A571=\"\",\"\",SUM(Tabel2[[#This Row],[I1]:[I2]]))","v":10},"PP","OG","","","","PP/OG",{"$f":"IF(C571=\"\",\"\",IF(LEN(Tabel2[[#This Row],[Entiteit of attribuut]])=2,\"\",Tabel2[[#This Row],[Entiteit]]&\"_\"&Tabel2[[#This Row],[Entiteit of attribuut]]))","v":"OG_AANTLED"},{"$f":"IF(Schema!K583=\"\",\"\",Schema!K583)","v":""},{"$f":"IF(Schema!L583=\"\",\"\",Schema!L583)","v":""},{"$f":"IF(Schema!M583=\"\",\"\",Schema!M583)","v":""},{"$f":"IF(Schema!N583=\"\",\"\",Schema!N583)","v":""},{"$f":"IF(Schema!P583=\"\",\"\",Schema!P583)","v":"LEEG"}]
[{"$f":"Schema!A584&Schema!B584&Schema!C584&Schema!D584&Schema!E584&Schema!F584","v":"AANTPL"},"OG",{"$f":"IF(A572=\"\",\"\",IF(LEN(Schema!A584)=2,1,IF(LEN(Schema!B584)=2,10,IF(LEN(Schema!C584)=2,100,IF(LEN(Schema!D584)=2,1000,IF(LEN(Schema!E584)=2,10000,0))))))","v":0},10,{"$f":"IF(A572=\"\",\"\",SUM(Tabel2[[#This Row],[I1]:[I2]]))","v":10},"PP","OG","","","","PP/OG",{"$f":"IF(C572=\"\",\"\",IF(LEN(Tabel2[[#This Row],[Entiteit of attribuut]])=2,\"\",Tabel2[[#This Row],[Entiteit]]&\"_\"&Tabel2[[#This Row],[Entiteit of attribuut]]))","v":"OG_AANTPL"},{"$f":"IF(Schema!K584=\"\",\"\",Schema!K584)","v":""},{"$f":"IF(Schema!L584=\"\",\"\",Schema!L584)","v":""},{"$f":"IF(Schema!M584=\"\",\"\",Schema!M584)","v":""},{"$f":"IF(Schema!N584=\"\",\"\",Schema!N584)","v":""},{"$f":"IF(Schema!P584=\"\",\"\",Schema!P584)","v":"LEEG"}]
[{"$f":"Schema!A585&Schema!B585&Schema!C585&Schema!D585&Schema!E585&Schema!F585","v":"AFVHHE"},"OG",{"$f":"IF(A573=\"\",\"\",IF(LEN(Schema!A585)=2,1,IF(LEN(Schema!B585)=2,10,IF(LEN(Schema!C585)=2,100,IF(LEN(Schema!D585)=2,1000,IF(LEN(Schema!E585)=2,10000,0))))))","v":0},10,{"$f":"IF(A573=\"\",\"\",SUM(Tabel2[[#This Row],[I1]:[I2]]))","v":10},"PP","OG","","","","PP/OG",{"$f":"IF(C573=\"\",\"\",IF(LEN(Tabel2[[#This Row],[Entiteit of attribuut]])=2,\"\",Tabel2[[#This Row],[Entiteit]]&\"_\"&Tabel2[[#This Row],[Entiteit of attribuut]]))","v":"OG_AFVHHE"},{"$f":"IF(Schema!K585=\"\",\"\",Schema!K585)","v":""},{"$f":"IF(Schema!L585=\"\",\"\",Schema!L585)","v":""},{"$f":"IF(Schema!M585=\"\",\"\",Schema!M585)","v":""},{"$f":"IF(Schema!N585=\"\",\"\",Schema!N585)","v":""},{"$f":"IF(Schema!P585=\"\",\"\",Schema!P585)","v":"LEEG"}]
[{"$f":"Schema!A586&Schema!B586&Schema!C586&Schema!D586&Schema!E586&Schema!F586","v":"BRNDWE"},"OG",{"$f":"IF(A574=\"\",\"\",IF(LEN(Schema!A586)=2,1,IF(LEN(Schema!B586)=2,10,IF(LEN(Schema!C586)=2,100,IF(LEN(Schema!D586)=2,1000,IF(LEN(Schema!E586)=2,10000,0))))))","v":0},10,{"$f":"IF(A574=\"\",\"\",SUM(Tabel2[[#This Row],[I1]:[I2]]))","v":10},"PP","OG","","","","PP/OG",{"$f":"IF(C574=\"\",\"\",IF(LEN(Tabel2[[#This Row],[Entiteit of attribuut]])=2,\"\",Tabel2[[#This Row],[Entiteit]]&\"_\"&Tabel2[[#This Row],[Entiteit of attribuut]]))","v":"OG_BRNDWE"},{"$f":"IF(Schema!K586=\"\",\"\",Schema!K586)","v":""},{"$f":"IF(Schema!L586=\"\",\"\",Schema!L586)","v":""},{"$f":"IF(Schema!M586=\"\",\"\",Schema!M586)","v":""},{"$f":"IF(Schema!N586=\"\",\"\",Schema!N586)","v":""},{"$f":"IF(Schema!P586=\"\",\"\",Schema!P586)","v":"LEEG"}]
[{"$f":"Schema!A587&Schema!B587&Schema!C587&Schema!D587&Schema!E587&Schema!F587","v":"CEACODE"},"OG",{"$f":"IF(A575=\"\",\"\",IF(LEN(Schema!A587)=2,1,IF(LEN(Schema!B587)=2,10,IF(LEN(Schema!C587)=2,100,IF(LEN(Schema!D587)=2,1000,IF(LEN(Schema!E587)=2,10000,0))))))","v":0},10,{"$f":"IF(A575=\"\",\"\",SUM(Tabel2[[#This Row],[I1]:[I2]]))","v":10},"PP","OG","","","","PP/OG",{"$f":"IF(C575=\"\",\"\",IF(LEN(Tabel2[[#This Row],[Entiteit of attribuut]])=2,\"\",Tabel2[[#This Row],[Entiteit]]&\"_\"&Tabel2[[#This Row],[Entiteit of attribuut]]))","v":"OG_CEACODE"},{"$f":"IF(Schema!K587=\"\",\"\",Schema!K587)","v":""},{"$f":"IF(Schema!L587=\"\",\"\",Schema!L587)","v":""},{"$f":"IF(Schema!M587=\"\",\"\",Schema!M587)","v":""},{"$f":"IF(Schema!N587=\"\",\"\",Schema!N587)","v":""},{"$f":"IF(Schema!P587=\"\",\"\",Schema!P587)","v":"O"}]
[{"$f":"Schema!A588&Schema!B588&Schema!C588&Schema!D588&Schema!E588&Schema!F588","v":"ELINSE"},"OG",{"$f":"IF(A576=\"\",\"\",IF(LEN(Schema!A588)=2,1,IF(LEN(Schema!B588)=2,10,IF(LEN(Schema!C588)=2,100,IF(LEN(Schema!D588)=2,1000,IF(LEN(Schema!E588)=2,10000,0))))))","v":0},10,{"$f":"IF(A576=\"\",\"\",SUM(Tabel2[[#This Row],[I1]:[I2]]))","v":10},"PP","OG","","","","PP/OG",{"$f":"IF(C576=\"\",\"\",IF(LEN(Tabel2[[#This Row],[Entiteit of attribuut]])=2,\"\",Tabel2[[#This Row],[Entiteit]]&\"_\"&Tabel2[[#This Row],[Entiteit of attribuut]]))","v":"OG_ELINSE"},{"$f":"IF(Schema!K588=\"\",\"\",Schema!K588)","v":""},{"$f":"IF(Schema!L588=\"\",\"\",Schema!L588)","v":""},{"$f":"IF(Schema!M588=\"\",\"\",Schema!M588)","v":""},{"$f":"IF(Schema!N588=\"\",\"\",Schema!N588)","v":""},{"$f":"IF(Schema!P588=\"\",\"\",Schema!P588)","v":"LEEG"}]
[{"$f":"Schema!A589&Schema!B589&Schema!C589&Schema!D589&Schema!E589&Schema!F589","v":"EXINBTW"},"OG",{"$f":"IF(A577=\"\",\"\",IF(LEN(Schema!A589)=2,1,IF(LEN(Schema!B589)=2,10,IF(LEN(Schema!C589)=2,100,IF(LEN(Schema!D589)=2,1000,IF(LEN(Schema!E589)=2,10000,0))))))","v":0},10,{"$f":"IF(A577=\"\",\"\",SUM(Tabel2[[#This Row],[I1]:[I2]]))","v":10},"PP","OG","","","","PP/OG",{"$f":"IF(C577=\"\",\"\",IF(LEN(Tabel2[[#This Row],[Entiteit of attribuut]])=2,\"\",Tabel2[[#This Row],[Entiteit]]&\"_\"&Tabel2[[#This Row],[Entiteit of attribuut]]))","v":"OG_EXINBTW"},{"$f":"IF(Schema!K589=\"\",\"\",Schema!K589)","v":""},{"$f":"IF(Schema!L589=\"\",\"\",Schema!L589)","v":""},{"$f":"IF(Schema!M589=\"\",\"\",Schema!M589)","v":""},{"$f":"IF(Schema!N589=\"\",\"\",Schema!N589)","v":""},{"$f":"IF(Schema!P589=\"\",\"\",Schema!P589)","v":"LEEG"}]
[{"$f":"Schema!A590&Schema!B590&Schema!C590&Schema!D590&Schema!E590&Schema!F590","v":"HWTBG"},"OG",{"$f":"IF(A578=\"\",\"\",IF(LEN(Schema!A590)=2,1,IF(LEN(Schema!B590)=2,10,IF(LEN(Schema!C590)=2,100,IF(LEN(Schema!D590)=2,1000,IF(LEN(Schema!E590)=2,10000,0))))))","v":0},10,{"$f":"IF(A578=\"\",\"\",SUM(Tabel2[[#This Row],[I1]:[I2]]))","v":10},"PP","OG","","","","PP/OG",{"$f":"IF(C578=\"\",\"\",IF(LEN(Tabel2[[#This Row],[Entiteit of attribuut]])=2,\"\",Tabel2[[#This Row],[Entiteit]]&\"_\"&Tabel2[[#This Row],[Entiteit of attribuut]]))","v":"OG_HWTBG"},{"$f":"IF(Schema!K590=\"\",\"\",Schema!K590)","v":""},{"$f":"IF(Schema!L590=\"\",\"\",Schema!L590)","v":""},{"$f":"IF(Schema!M590=\"\",\"\",Schema!M590)","v":""},{"$f":"IF(Schema!N590=\"\",\"\",Schema!N590)","v":""},{"$f":"IF(Schema!P590=\"\",\"\",Schema!P590)","v":"LEEG"}]
[{"$f":"Schema!A591&Schema!B591&Schema!C591&Schema!D591&Schema!E591&Schema!F591","v":"NRHNDRG"},{"$f":"IF(LEN(A579)=2,A579,IF(A579=\"\",\"Leeg\",B578))","v":"OG"},{"$f":"IF(A579=\"\",\"\",IF(LEN(Schema!A591)=2,1,IF(LEN(Schema!B591)=2,10,IF(LEN(Schema!C591)=2,100,IF(LEN(Schema!D591)=2,1000,IF(LEN(Schema!E591)=2,10000,0))))))","v":0},{"$f":"IF(C579=0,D578,C579)","v":10},{"$f":"IF(A579=\"\",\"\",SUM(Tabel2[[#This Row],[I1]:[I2]]))","v":10},{"$f":"IF(A579=\"\",\"\",IF(C579=1,B579,F578))","v":"PP"},{"$f":"IF(C579=10,A579,IF(OR(C579=0,C579=100,C579=1000,C579=10000),G578,\"\"))","v":"OG"},{"$f":"IF(E579=200,B579,IF(OR(C579=0,C579=100,C579=1000,C579=10000),H578,\"\"))","v":""},{"$f":"IF(E579=2000,B579,IF(OR(C579=0,C579=10000),I578,\"\"))","v":""},{"$f":"IF(E579=20000,B579,IF(OR(C579=0,,C579=10000),J578,\"\"))","v":""},{"$f":"IF(C579=\"\",\"\",IF(OR(E579=1,E579=10,E579=100,E579=1000,E579=10000),K578,IF(E579=2,F579,IF(E579=20,F579&\"/\"&G579,IF(E579=200,F579&\"/\"&G579&\"/\"&H579,IF(E579=2000,F579&\"/\"&G579&\"/\"&H579&\"/\"&I579,IF(E579=20000,F579&\"/\"&G579&\"/\"&H579&\"/\"&I579&\"/\"&J579)))))))","v":"PP/OG"},{"$f":"IF(C579=\"\",\"\",IF(LEN(Tabel2[[#This Row],[Entiteit of attribuut]])=2,\"\",Tabel2[[#This Row],[Entiteit]]&\"_\"&Tabel2[[#This Row],[Entiteit of attribuut]]))","v":"OG_NRHNDRG"},{"$f":"IF(Schema!K591=\"\",\"\",Schema!K591)","v":""},{"$f":"IF(Schema!L591=\"\",\"\",Schema!L591)","v":""},{"$f":"IF(Schema!M591=\"\",\"\",Schema!M591)","v":""},{"$f":"IF(Schema!N591=\"\",\"\",Schema!N591)","v":""},{"$f":"IF(Schema!P591=\"\",\"\",Schema!P591)","v":"LEEG"}]
[{"$f":"Schema!A592&Schema!B592&Schema!C592&Schema!D592&Schema!E592&Schema!F592","v":"OMEXBTW"},"OG",{"$f":"IF(A580=\"\",\"\",IF(LEN(Schema!A592)=2,1,IF(LEN(Schema!B592)=2,10,IF(LEN(Schema!C592)=2,100,IF(LEN(Schema!D592)=2,1000,IF(LEN(Schema!E592)=2,10000,0))))))","v":0},10,{"$f":"IF(A580=\"\",\"\",SUM(Tabel2[[#This Row],[I1]:[I2]]))","v":10},"PP","OG","","","","PP/OG",{"$f":"IF(C580=\"\",\"\",IF(LEN(Tabel2[[#This Row],[Entiteit of attribuut]])=2,\"\",Tabel2[[#This Row],[Entiteit]]&\"_\"&Tabel2[[#This Row],[Entiteit of attribuut]]))","v":"OG_OMEXBTW"},{"$f":"IF(Schema!K592=\"\",\"\",Schema!K592)","v":""},{"$f":"IF(Schema!L592=\"\",\"\",Schema!L592)","v":""},{"$f":"IF(Schema!M592=\"\",\"\",Schema!M592)","v":""},{"$f":"IF(Schema!N592=\"\",\"\",Schema!N592)","v":""},{"$f":"IF(Schema!P592=\"\",\"\",Schema!P592)","v":"LEEG"}]
[{"$f":"Schema!A593&Schema!B593&Schema!C593&Schema!D593&Schema!E593&Schema!F593","v":"OMZET"},"OG",{"$f":"IF(A581=\"\",\"\",IF(LEN(Schema!A593)=2,1,IF(LEN(Schema!B593)=2,10,IF(LEN(Schema!C593)=2,100,IF(LEN(Schema!D593)=2,1000,IF(LEN(Schema!E593)=2,10000,0))))))","v":0},10,{"$f":"IF(A581=\"\",\"\",SUM(Tabel2[[#This Row],[I1]:[I2]]))","v":10},"PP","OG","","","","PP/OG",{"$f":"IF(C581=\"\",\"\",IF(LEN(Tabel2[[#This Row],[Entiteit of attribuut]])=2,\"\",Tabel2[[#This Row],[Entiteit]]&\"_\"&Tabel2[[#This Row],[Entiteit of attribuut]]))","v":"OG_OMZET"},{"$f":"IF(Schema!K593=\"\",\"\",Schema!K593)","v":""},{"$f":"IF(Schema!L593=\"\",\"\",Schema!L593)","v":""},{"$f":"IF(Schema!M593=\"\",\"\",Schema!M593)","v":""},{"$f":"IF(Schema!N593=\"\",\"\",Schema!N593)","v":""},{"$f":"IF(Schema!P593=\"\",\"\",Schema!P593)","v":"LEEG"}]
[{"$f":"Schema!A594&Schema!B594&Schema!C594&Schema!D594&Schema!E594&Schema!F594","v":"ORENNHE"},"OG",{"$f":"IF(A582=\"\",\"\",IF(LEN(Schema!A594)=2,1,IF(LEN(Schema!B594)=2,10,IF(LEN(Schema!C594)=2,100,IF(LEN(Schema!D594)=2,1000,IF(LEN(Schema!E594)=2,10000,0))))))","v":0},10,{"$f":"IF(A582=\"\",\"\",SUM(Tabel2[[#This Row],[I1]:[I2]]))","v":10},"PP","OG","","","","PP/OG",{"$f":"IF(C582=\"\",\"\",IF(LEN(Tabel2[[#This Row],[Entiteit of attribuut]])=2,\"\",Tabel2[[#This Row],[Entiteit]]&\"_\"&Tabel2[[#This Row],[Entiteit of attribuut]]))","v":"OG_ORENNHE"},{"$f":"IF(Schema!K594=\"\",\"\",Schema!K594)","v":""},{"$f":"IF(Schema!L594=\"\",\"\",Schema!L594)","v":""},{"$f":"IF(Schema!M594=\"\",\"\",Schema!M594)","v":""},{"$f":"IF(Schema!N594=\"\",\"\",Schema!N594)","v":""},{"$f":"IF(Schema!P594=\"\",\"\",Schema!P594)","v":"LEEG"}]
[{"$f":"Schema!A595&Schema!B595&Schema!C595&Schema!D595&Schema!E595&Schema!F595","v":"PCODE"},"OG",{"$f":"IF(A583=\"\",\"\",IF(LEN(Schema!A595)=2,1,IF(LEN(Schema!B595)=2,10,IF(LEN(Schema!C595)=2,100,IF(LEN(Schema!D595)=2,1000,IF(LEN(Schema!E595)=2,10000,0))))))","v":0},10,{"$f":"IF(A583=\"\",\"\",SUM(Tabel2[[#This Row],[I1]:[I2]]))","v":10},"PP","OG","","","","PP/OG",{"$f":"IF(C583=\"\",\"\",IF(LEN(Tabel2[[#This Row],[Entiteit of attribuut]])=2,\"\",Tabel2[[#This Row],[Entiteit]]&\"_\"&Tabel2[[#This Row],[Entiteit of attribuut]]))","v":"OG_PCODE"},{"$f":"IF(Schema!K595=\"\",\"\",Schema!K595)","v":""},{"$f":"IF(Schema!L595=\"\",\"\",Schema!L595)","v":""},{"$f":"IF(Schema!M595=\"\",\"\",Schema!M595)","v":""},{"$f":"IF(Schema!N595=\"\",\"\",Schema!N595)","v":""},{"$f":"IF(Schema!P595=\"\",\"\",Schema!P595)","v":"LEEG"}]
[{"$f":"Schema!A596&Schema!B596&Schema!C596&Schema!D596&Schema!E596&Schema!F596","v":"SBINVSC"},"OG",{"$f":"IF(A584=\"\",\"\",IF(LEN(Schema!A596)=2,1,IF(LEN(Schema!B596)=2,10,IF(LEN(Schema!C596)=2,100,IF(LEN(Schema!D596)=2,1000,IF(LEN(Schema!E596)=2,10000,0))))))","v":0},10,{"$f":"IF(A584=\"\",\"\",SUM(Tabel2[[#This Row],[I1]:[I2]]))","v":10},"PP","OG","","","","PP/OG",{"$f":"IF(C584=\"\",\"\",IF(LEN(Tabel2[[#This Row],[Entiteit of attribuut]])=2,\"\",Tabel2[[#This Row],[Entiteit]]&\"_\"&Tabel2[[#This Row],[Entiteit of attribuut]]))","v":"OG_SBINVSC"},{"$f":"IF(Schema!K596=\"\",\"\",Schema!K596)","v":""},{"$f":"IF(Schema!L596=\"\",\"\",Schema!L596)","v":""},{"$f":"IF(Schema!M596=\"\",\"\",Schema!M596)","v":""},{"$f":"IF(Schema!N596=\"\",\"\",Schema!N596)","v":""},{"$f":"IF(Schema!P596=\"\",\"\",Schema!P596)","v":"O"}]
[{"$f":"Schema!A597&Schema!B597&Schema!C597&Schema!D597&Schema!E597&Schema!F597","v":"SBISPCC"},"OG",{"$f":"IF(A585=\"\",\"\",IF(LEN(Schema!A597)=2,1,IF(LEN(Schema!B597)=2,10,IF(LEN(Schema!C597)=2,100,IF(LEN(Schema!D597)=2,1000,IF(LEN(Schema!E597)=2,10000,0))))))","v":0},10,{"$f":"IF(A585=\"\",\"\",SUM(Tabel2[[#This Row],[I1]:[I2]]))","v":10},"PP","OG","","","","PP/OG",{"$f":"IF(C585=\"\",\"\",IF(LEN(Tabel2[[#This Row],[Entiteit of attribuut]])=2,\"\",Tabel2[[#This Row],[Entiteit]]&\"_\"&Tabel2[[#This Row],[Entiteit of attribuut]]))","v":"OG_SBISPCC"},{"$f":"IF(Schema!K597=\"\",\"\",Schema!K597)","v":""},{"$f":"IF(Schema!L597=\"\",\"\",Schema!L597)","v":""},{"$f":"IF(Schema!M597=\"\",\"\",Schema!M597)","v":""},{"$f":"IF(Schema!N597=\"\",\"\",Schema!N597)","v":""},{"$f":"IF(Schema!P597=\"\",\"\",Schema!P597)","v":"O"}]
[{"$f":"Schema!A598&Schema!B598&Schema!C598&Schema!D598&Schema!E598&Schema!F598","v":"TERMAFV"},"OG",{"$f":"IF(A586=\"\",\"\",IF(LEN(Schema!A598)=2,1,IF(LEN(Schema!B598)=2,10,IF(LEN(Schema!C598)=2,100,IF(LEN(Schema!D598)=2,1000,IF(LEN(Schema!E598)=2,10000,0))))))","v":0},10,{"$f":"IF(A586=\"\",\"\",SUM(Tabel2[[#This Row],[I1]:[I2]]))","v":10},"PP","OG","","","","PP/OG",{"$f":"IF(C586=\"\",\"\",IF(LEN(Tabel2[[#This Row],[Entiteit of attribuut]])=2,\"\",Tabel2[[#This Row],[Entiteit]]&\"_\"&Tabel2[[#This Row],[Entiteit of attribuut]]))","v":"OG_TERMAFV"},{"$f":"IF(Schema!K598=\"\",\"\",Schema!K598)","v":""},{"$f":"IF(Schema!L598=\"\",\"\",Schema!L598)","v":""},{"$f":"IF(Schema!M598=\"\",\"\",Schema!M598)","v":""},{"$f":"IF(Schema!N598=\"\",\"\",Schema!N598)","v":""},{"$f":"IF(Schema!P598=\"\",\"\",Schema!P598)","v":"LEEG"}]
[{"$f":"Schema!A599&Schema!B599&Schema!C599&Schema!D599&Schema!E599&Schema!F599","v":"TERMBRD"},"OG",{"$f":"IF(A587=\"\",\"\",IF(LEN(Schema!A599)=2,1,IF(LEN(Schema!B599)=2,10,IF(LEN(Schema!C599)=2,100,IF(LEN(Schema!D599)=2,1000,IF(LEN(Schema!E599)=2,10000,0))))))","v":0},10,{"$f":"IF(A587=\"\",\"\",SUM(Tabel2[[#This Row],[I1]:[I2]]))","v":10},"PP","OG","","","","PP/OG",{"$f":"IF(C587=\"\",\"\",IF(LEN(Tabel2[[#This Row],[Entiteit of attribuut]])=2,\"\",Tabel2[[#This Row],[Entiteit]]&\"_\"&Tabel2[[#This Row],[Entiteit of attribuut]]))","v":"OG_TERMBRD"},{"$f":"IF(Schema!K599=\"\",\"\",Schema!K599)","v":""},{"$f":"IF(Schema!L599=\"\",\"\",Schema!L599)","v":""},{"$f":"IF(Schema!M599=\"\",\"\",Schema!M599)","v":""},{"$f":"IF(Schema!N599=\"\",\"\",Schema!N599)","v":""},{"$f":"IF(Schema!P599=\"\",\"\",Schema!P599)","v":"LEEG"}]
[{"$f":"Schema!A600&Schema!B600&Schema!C600&Schema!D600&Schema!E600&Schema!F600","v":"TERMELE"},"OG",{"$f":"IF(A588=\"\",\"\",IF(LEN(Schema!A600)=2,1,IF(LEN(Schema!B600)=2,10,IF(LEN(Schema!C600)=2,100,IF(LEN(Schema!D600)=2,1000,IF(LEN(Schema!E600)=2,10000,0))))))","v":0},10,{"$f":"IF(A588=\"\",\"\",SUM(Tabel2[[#This Row],[I1]:[I2]]))","v":10},"PP","OG","","","","PP/OG",{"$f":"IF(C588=\"\",\"\",IF(LEN(Tabel2[[#This Row],[Entiteit of attribuut]])=2,\"\",Tabel2[[#This Row],[Entiteit]]&\"_\"&Tabel2[[#This Row],[Entiteit of attribuut]]))","v":"OG_TERMELE"},{"$f":"IF(Schema!K600=\"\",\"\",Schema!K600)","v":""},{"$f":"IF(Schema!L600=\"\",\"\",Schema!L600)","v":""},{"$f":"IF(Schema!M600=\"\",\"\",Schema!M600)","v":""},{"$f":"IF(Schema!N600=\"\",\"\",Schema!N600)","v":""},{"$f":"IF(Schema!P600=\"\",\"\",Schema!P600)","v":"LEEG"}]
[{"$f":"Schema!A601&Schema!B601&Schema!C601&Schema!D601&Schema!E601&Schema!F601","v":"TERMORD"},"OG",{"$f":"IF(A589=\"\",\"\",IF(LEN(Schema!A601)=2,1,IF(LEN(Schema!B601)=2,10,IF(LEN(Schema!C601)=2,100,IF(LEN(Schema!D601)=2,1000,IF(LEN(Schema!E601)=2,10000,0))))))","v":0},10,{"$f":"IF(A589=\"\",\"\",SUM(Tabel2[[#This Row],[I1]:[I2]]))","v":10},"PP","OG","","","","PP/OG",{"$f":"IF(C589=\"\",\"\",IF(LEN(Tabel2[[#This Row],[Entiteit of attribuut]])=2,\"\",Tabel2[[#This Row],[Entiteit]]&\"_\"&Tabel2[[#This Row],[Entiteit of attribuut]]))","v":"OG_TERMORD"},{"$f":"IF(Schema!K601=\"\",\"\",Schema!K601)","v":""},{"$f":"IF(Schema!L601=\"\",\"\",Schema!L601)","v":""},{"$f":"IF(Schema!M601=\"\",\"\",Schema!M601)","v":""},{"$f":"IF(Schema!N601=\"\",\"\",Schema!N601)","v":""},{"$f":"IF(Schema!P601=\"\",\"\",Schema!P601)","v":"LEEG"}]
[{"$f":"Schema!A602&Schema!B602&Schema!C602&Schema!D602&Schema!E602&Schema!F602","v":"VOLGNUM"},"OG",{"$f":"IF(A590=\"\",\"\",IF(LEN(Schema!A602)=2,1,IF(LEN(Schema!B602)=2,10,IF(LEN(Schema!C602)=2,100,IF(LEN(Schema!D602)=2,1000,IF(LEN(Schema!E602)=2,10000,0))))))","v":0},10,{"$f":"IF(A590=\"\",\"\",SUM(Tabel2[[#This Row],[I1]:[I2]]))","v":10},"PP","OG","","","","PP/OG",{"$f":"IF(C590=\"\",\"\",IF(LEN(Tabel2[[#This Row],[Entiteit of attribuut]])=2,\"\",Tabel2[[#This Row],[Entiteit]]&\"_\"&Tabel2[[#This Row],[Entiteit of attribuut]]))","v":"OG_VOLGNUM"},{"$f":"IF(Schema!K602=\"\",\"\",Schema!K602)","v":""},{"$f":"IF(Schema!L602=\"\",\"\",Schema!L602)","v":""},{"$f":"IF(Schema!M602=\"\",\"\",Schema!M602)","v":""},{"$f":"IF(Schema!N602=\"\",\"\",Schema!N602)","v":""},{"$f":"IF(Schema!P602=\"\",\"\",Schema!P602)","v":"LEEG"}]
[{"$f":"Schema!A603&Schema!B603&Schema!C603&Schema!D603&Schema!E603&Schema!F603","v":"VRWRKCD"},"OG",{"$f":"IF(A591=\"\",\"\",IF(LEN(Schema!A603)=2,1,IF(LEN(Schema!B603)=2,10,IF(LEN(Schema!C603)=2,100,IF(LEN(Schema!D603)=2,1000,IF(LEN(Schema!E603)=2,10000,0))))))","v":0},10,{"$f":"IF(A591=\"\",\"\",SUM(Tabel2[[#This Row],[I1]:[I2]]))","v":10},"PP","OG","","","","PP/OG",{"$f":"IF(C591=\"\",\"\",IF(LEN(Tabel2[[#This Row],[Entiteit of attribuut]])=2,\"\",Tabel2[[#This Row],[Entiteit]]&\"_\"&Tabel2[[#This Row],[Entiteit of attribuut]]))","v":"OG_VRWRKCD"},{"$f":"IF(Schema!K603=\"\",\"\",Schema!K603)","v":""},{"$f":"IF(Schema!L603=\"\",\"\",Schema!L603)","v":""},{"$f":"IF(Schema!M603=\"\",\"\",Schema!M603)","v":""},{"$f":"IF(Schema!N603=\"\",\"\",Schema!N603)","v":""},{"$f":"IF(Schema!P603=\"\",\"\",Schema!P603)","v":"LEEG"}]
[{"$f":"Schema!A604&Schema!B604&Schema!C604&Schema!D604&Schema!E604&Schema!F604","v":"WRKBRG"},"OG",{"$f":"IF(A592=\"\",\"\",IF(LEN(Schema!A604)=2,1,IF(LEN(Schema!B604)=2,10,IF(LEN(Schema!C604)=2,100,IF(LEN(Schema!D604)=2,1000,IF(LEN(Schema!E604)=2,10000,0))))))","v":0},10,{"$f":"IF(A592=\"\",\"\",SUM(Tabel2[[#This Row],[I1]:[I2]]))","v":10},"PP","OG","","","","PP/OG",{"$f":"IF(C592=\"\",\"\",IF(LEN(Tabel2[[#This Row],[Entiteit of attribuut]])=2,\"\",Tabel2[[#This Row],[Entiteit]]&\"_\"&Tabel2[[#This Row],[Entiteit of attribuut]]))","v":"OG_WRKBRG"},{"$f":"IF(Schema!K604=\"\",\"\",Schema!K604)","v":""},{"$f":"IF(Schema!L604=\"\",\"\",Schema!L604)","v":""},{"$f":"IF(Schema!M604=\"\",\"\",Schema!M604)","v":""},{"$f":"IF(Schema!N604=\"\",\"\",Schema!N604)","v":""},{"$f":"IF(Schema!P604=\"\",\"\",Schema!P604)","v":"LEEG"}]
[{"$f":"Schema!A605&Schema!B605&Schema!C605&Schema!D605&Schema!E605&Schema!F605","v":"WH"},"WH",{"$f":"IF(A593=\"\",\"\",IF(LEN(Schema!A605)=2,1,IF(LEN(Schema!B605)=2,10,IF(LEN(Schema!C605)=2,100,IF(LEN(Schema!D605)=2,1000,IF(LEN(Schema!E605)=2,10000,0))))))","v":100},100,{"$f":"IF(A593=\"\",\"\",SUM(Tabel2[[#This Row],[I1]:[I2]]))","v":200},"PP","OG","WH","","","PP/OG/WH",{"$f":"IF(C593=\"\",\"\",IF(LEN(Tabel2[[#This Row],[Entiteit of attribuut]])=2,\"\",Tabel2[[#This Row],[Entiteit]]&\"_\"&Tabel2[[#This Row],[Entiteit of attribuut]]))","v":""},{"$f":"IF(Schema!K605=\"\",\"\",Schema!K605)","v":""},{"$f":"IF(Schema!L605=\"\",\"\",Schema!L605)","v":""},{"$f":"IF(Schema!M605=\"\",\"\",Schema!M605)","v":""},{"$f":"IF(Schema!N605=\"\",\"\",Schema!N605)","v":""},{"$f":"IF(Schema!P605=\"\",\"\",Schema!P605)","v":"O"}]
[{"$f":"Schema!A606&Schema!B606&Schema!C606&Schema!D606&Schema!E606&Schema!F606","v":"BIKCOD"},"WH",{"$f":"IF(A594=\"\",\"\",IF(LEN(Schema!A606)=2,1,IF(LEN(Schema!B606)=2,10,IF(LEN(Schema!C606)=2,100,IF(LEN(Schema!D606)=2,1000,IF(LEN(Schema!E606)=2,10000,0))))))","v":0},100,{"$f":"IF(A594=\"\",\"\",SUM(Tabel2[[#This Row],[I1]:[I2]]))","v":100},"PP","OG","WH","","","PP/OG/WH",{"$f":"IF(C594=\"\",\"\",IF(LEN(Tabel2[[#This Row],[Entiteit of attribuut]])=2,\"\",Tabel2[[#This Row],[Entiteit]]&\"_\"&Tabel2[[#This Row],[Entiteit of attribuut]]))","v":"WH_BIKCOD"},{"$f":"IF(Schema!K606=\"\",\"\",Schema!K606)","v":""},{"$f":"IF(Schema!L606=\"\",\"\",Schema!L606)","v":""},{"$f":"IF(Schema!M606=\"\",\"\",Schema!M606)","v":""},{"$f":"IF(Schema!N606=\"\",\"\",Schema!N606)","v":""},{"$f":"IF(Schema!P606=\"\",\"\",Schema!P606)","v":"O"}]
[{"$f":"Schema!A607&Schema!B607&Schema!C607&Schema!D607&Schema!E607&Schema!F607","v":"GHOMAX"},"WH",{"$f":"IF(A595=\"\",\"\",IF(LEN(Schema!A607)=2,1,IF(LEN(Schema!B607)=2,10,IF(LEN(Schema!C607)=2,100,IF(LEN(Schema!D607)=2,1000,IF(LEN(Schema!E607)=2,10000,0))))))","v":0},100,{"$f":"IF(A595=\"\",\"\",SUM(Tabel2[[#This Row],[I1]:[I2]]))","v":100},"PP","OG","WH","","","PP/OG/WH",{"$f":"IF(C595=\"\",\"\",IF(LEN(Tabel2[[#This Row],[Entiteit of attribuut]])=2,\"\",Tabel2[[#This Row],[Entiteit]]&\"_\"&Tabel2[[#This Row],[Entiteit of attribuut]]))","v":"WH_GHOMAX"},{"$f":"IF(Schema!K607=\"\",\"\",Schema!K607)","v":""},{"$f":"IF(Schema!L607=\"\",\"\",Schema!L607)","v":""},{"$f":"IF(Schema!M607=\"\",\"\",Schema!M607)","v":""},{"$f":"IF(Schema!N607=\"\",\"\",Schema!N607)","v":""},{"$f":"IF(Schema!P607=\"\",\"\",Schema!P607)","v":"LEEG"}]
[{"$f":"Schema!A608&Schema!B608&Schema!C608&Schema!D608&Schema!E608&Schema!F608","v":"KRIMPVE"},"WH",{"$f":"IF(A596=\"\",\"\",IF(LEN(Schema!A608)=2,1,IF(LEN(Schema!B608)=2,10,IF(LEN(Schema!C608)=2,100,IF(LEN(Schema!D608)=2,1000,IF(LEN(Schema!E608)=2,10000,0))))))","v":0},100,{"$f":"IF(A596=\"\",\"\",SUM(Tabel2[[#This Row],[I1]:[I2]]))","v":100},"PP","OG","WH","","","PP/OG/WH",{"$f":"IF(C596=\"\",\"\",IF(LEN(Tabel2[[#This Row],[Entiteit of attribuut]])=2,\"\",Tabel2[[#This Row],[Entiteit]]&\"_\"&Tabel2[[#This Row],[Entiteit of attribuut]]))","v":"WH_KRIMPVE"},{"$f":"IF(Schema!K608=\"\",\"\",Schema!K608)","v":""},{"$f":"IF(Schema!L608=\"\",\"\",Schema!L608)","v":""},{"$f":"IF(Schema!M608=\"\",\"\",Schema!M608)","v":""},{"$f":"IF(Schema!N608=\"\",\"\",Schema!N608)","v":""},{"$f":"IF(Schema!P608=\"\",\"\",Schema!P608)","v":"LEEG"}]
[{"$f":"Schema!A609&Schema!B609&Schema!C609&Schema!D609&Schema!E609&Schema!F609","v":"MACHINA"},"WH",{"$f":"IF(A597=\"\",\"\",IF(LEN(Schema!A609)=2,1,IF(LEN(Schema!B609)=2,10,IF(LEN(Schema!C609)=2,100,IF(LEN(Schema!D609)=2,1000,IF(LEN(Schema!E609)=2,10000,0))))))","v":0},100,{"$f":"IF(A597=\"\",\"\",SUM(Tabel2[[#This Row],[I1]:[I2]]))","v":100},"PP","OG","WH","","","PP/OG/WH",{"$f":"IF(C597=\"\",\"\",IF(LEN(Tabel2[[#This Row],[Entiteit of attribuut]])=2,\"\",Tabel2[[#This Row],[Entiteit]]&\"_\"&Tabel2[[#This Row],[Entiteit of attribuut]]))","v":"WH_MACHINA"},{"$f":"IF(Schema!K609=\"\",\"\",Schema!K609)","v":""},{"$f":"IF(Schema!L609=\"\",\"\",Schema!L609)","v":""},{"$f":"IF(Schema!M609=\"\",\"\",Schema!M609)","v":""},{"$f":"IF(Schema!N609=\"\",\"\",Schema!N609)","v":""},{"$f":"IF(Schema!P609=\"\",\"\",Schema!P609)","v":"LEEG"}]
[{"$f":"Schema!A610&Schema!B610&Schema!C610&Schema!D610&Schema!E610&Schema!F610","v":"OMZNVS"},"WH",{"$f":"IF(A598=\"\",\"\",IF(LEN(Schema!A610)=2,1,IF(LEN(Schema!B610)=2,10,IF(LEN(Schema!C610)=2,100,IF(LEN(Schema!D610)=2,1000,IF(LEN(Schema!E610)=2,10000,0))))))","v":0},100,{"$f":"IF(A598=\"\",\"\",SUM(Tabel2[[#This Row],[I1]:[I2]]))","v":100},"PP","OG","WH","","","PP/OG/WH",{"$f":"IF(C598=\"\",\"\",IF(LEN(Tabel2[[#This Row],[Entiteit of attribuut]])=2,\"\",Tabel2[[#This Row],[Entiteit]]&\"_\"&Tabel2[[#This Row],[Entiteit of attribuut]]))","v":"WH_OMZNVS"},{"$f":"IF(Schema!K610=\"\",\"\",Schema!K610)","v":""},{"$f":"IF(Schema!L610=\"\",\"\",Schema!L610)","v":""},{"$f":"IF(Schema!M610=\"\",\"\",Schema!M610)","v":""},{"$f":"IF(Schema!N610=\"\",\"\",Schema!N610)","v":""},{"$f":"IF(Schema!P610=\"\",\"\",Schema!P610)","v":"LEEG"}]
[{"$f":"Schema!A611&Schema!B611&Schema!C611&Schema!D611&Schema!E611&Schema!F611","v":"OMZNVS2"},"WH",{"$f":"IF(A599=\"\",\"\",IF(LEN(Schema!A611)=2,1,IF(LEN(Schema!B611)=2,10,IF(LEN(Schema!C611)=2,100,IF(LEN(Schema!D611)=2,1000,IF(LEN(Schema!E611)=2,10000,0))))))","v":0},100,{"$f":"IF(A599=\"\",\"\",SUM(Tabel2[[#This Row],[I1]:[I2]]))","v":100},"PP","OG","WH","","","PP/OG/WH",{"$f":"IF(C599=\"\",\"\",IF(LEN(Tabel2[[#This Row],[Entiteit of attribuut]])=2,\"\",Tabel2[[#This Row],[Entiteit]]&\"_\"&Tabel2[[#This Row],[Entiteit of attribuut]]))","v":"WH_OMZNVS2"},{"$f":"IF(Schema!K611=\"\",\"\",Schema!K611)","v":""},{"$f":"IF(Schema!L611=\"\",\"\",Schema!L611)","v":""},{"$f":"IF(Schema!M611=\"\",\"\",Schema!M611)","v":""},{"$f":"IF(Schema!N611=\"\",\"\",Schema!N611)","v":""},{"$f":"IF(Schema!P611=\"\",\"\",Schema!P611)","v":"LEEG"}]
[{"$f":"Schema!A612&Schema!B612&Schema!C612&Schema!D612&Schema!E612&Schema!F612","v":"OMZWRKZ"},"WH",{"$f":"IF(A600=\"\",\"\",IF(LEN(Schema!A612)=2,1,IF(LEN(Schema!B612)=2,10,IF(LEN(Schema!C612)=2,100,IF(LEN(Schema!D612)=2,1000,IF(LEN(Schema!E612)=2,10000,0))))))","v":0},100,{"$f":"IF(A600=\"\",\"\",SUM(Tabel2[[#This Row],[I1]:[I2]]))","v":100},"PP","OG","WH","","","PP/OG/WH",{"$f":"IF(C600=\"\",\"\",IF(LEN(Tabel2[[#This Row],[Entiteit of attribuut]])=2,\"\",Tabel2[[#This Row],[Entiteit]]&\"_\"&Tabel2[[#This Row],[Entiteit of attribuut]]))","v":"WH_OMZWRKZ"},{"$f":"IF(Schema!K612=\"\",\"\",Schema!K612)","v":""},{"$f":"IF(Schema!L612=\"\",\"\",Schema!L612)","v":""},{"$f":"IF(Schema!M612=\"\",\"\",Schema!M612)","v":""},{"$f":"IF(Schema!N612=\"\",\"\",Schema!N612)","v":""},{"$f":"IF(Schema!P612=\"\",\"\",Schema!P612)","v":"LEEG"}]
[{"$f":"Schema!A613&Schema!B613&Schema!C613&Schema!D613&Schema!E613&Schema!F613","v":"PERCNV2"},"WH",{"$f":"IF(A601=\"\",\"\",IF(LEN(Schema!A613)=2,1,IF(LEN(Schema!B613)=2,10,IF(LEN(Schema!C613)=2,100,IF(LEN(Schema!D613)=2,1000,IF(LEN(Schema!E613)=2,10000,0))))))","v":0},100,{"$f":"IF(A601=\"\",\"\",SUM(Tabel2[[#This Row],[I1]:[I2]]))","v":100},"PP","OG","WH","","","PP/OG/WH",{"$f":"IF(C601=\"\",\"\",IF(LEN(Tabel2[[#This Row],[Entiteit of attribuut]])=2,\"\",Tabel2[[#This Row],[Entiteit]]&\"_\"&Tabel2[[#This Row],[Entiteit of attribuut]]))","v":"WH_PERCNV2"},{"$f":"IF(Schema!K613=\"\",\"\",Schema!K613)","v":""},{"$f":"IF(Schema!L613=\"\",\"\",Schema!L613)","v":""},{"$f":"IF(Schema!M613=\"\",\"\",Schema!M613)","v":""},{"$f":"IF(Schema!N613=\"\",\"\",Schema!N613)","v":""},{"$f":"IF(Schema!P613=\"\",\"\",Schema!P613)","v":"LEEG"}]
[{"$f":"Schema!A614&Schema!B614&Schema!C614&Schema!D614&Schema!E614&Schema!F614","v":"PERCNVA"},"WH",{"$f":"IF(A602=\"\",\"\",IF(LEN(Schema!A614)=2,1,IF(LEN(Schema!B614)=2,10,IF(LEN(Schema!C614)=2,100,IF(LEN(Schema!D614)=2,1000,IF(LEN(Schema!E614)=2,10000,0))))))","v":0},100,{"$f":"IF(A602=\"\",\"\",SUM(Tabel2[[#This Row],[I1]:[I2]]))","v":100},"PP","OG","WH","","","PP/OG/WH",{"$f":"IF(C602=\"\",\"\",IF(LEN(Tabel2[[#This Row],[Entiteit of attribuut]])=2,\"\",Tabel2[[#This Row],[Entiteit]]&\"_\"&Tabel2[[#This Row],[Entiteit of attribuut]]))","v":"WH_PERCNVA"},{"$f":"IF(Schema!K614=\"\",\"\",Schema!K614)","v":""},{"$f":"IF(Schema!L614=\"\",\"\",Schema!L614)","v":""},{"$f":"IF(Schema!M614=\"\",\"\",Schema!M614)","v":""},{"$f":"IF(Schema!N614=\"\",\"\",Schema!N614)","v":""},{"$f":"IF(Schema!P614=\"\",\"\",Schema!P614)","v":"LEEG"}]
[{"$f":"Schema!A615&Schema!B615&Schema!C615&Schema!D615&Schema!E615&Schema!F615","v":"PRODBEW"},"WH",{"$f":"IF(A603=\"\",\"\",IF(LEN(Schema!A615)=2,1,IF(LEN(Schema!B615)=2,10,IF(LEN(Schema!C615)=2,100,IF(LEN(Schema!D615)=2,1000,IF(LEN(Schema!E615)=2,10000,0))))))","v":0},100,{"$f":"IF(A603=\"\",\"\",SUM(Tabel2[[#This Row],[I1]:[I2]]))","v":100},"PP","OG","WH","","","PP/OG/WH",{"$f":"IF(C603=\"\",\"\",IF(LEN(Tabel2[[#This Row],[Entiteit of attribuut]])=2,\"\",Tabel2[[#This Row],[Entiteit]]&\"_\"&Tabel2[[#This Row],[Entiteit of attribuut]]))","v":"WH_PRODBEW"},{"$f":"IF(Schema!K615=\"\",\"\",Schema!K615)","v":""},{"$f":"IF(Schema!L615=\"\",\"\",Schema!L615)","v":""},{"$f":"IF(Schema!M615=\"\",\"\",Schema!M615)","v":""},{"$f":"IF(Schema!N615=\"\",\"\",Schema!N615)","v":""},{"$f":"IF(Schema!P615=\"\",\"\",Schema!P615)","v":"LEEG"}]
[{"$f":"Schema!A616&Schema!B616&Schema!C616&Schema!D616&Schema!E616&Schema!F616","v":"SBIBEDR"},"WH",{"$f":"IF(A604=\"\",\"\",IF(LEN(Schema!A616)=2,1,IF(LEN(Schema!B616)=2,10,IF(LEN(Schema!C616)=2,100,IF(LEN(Schema!D616)=2,1000,IF(LEN(Schema!E616)=2,10000,0))))))","v":0},100,{"$f":"IF(A604=\"\",\"\",SUM(Tabel2[[#This Row],[I1]:[I2]]))","v":100},"PP","OG","WH","","","PP/OG/WH",{"$f":"IF(C604=\"\",\"\",IF(LEN(Tabel2[[#This Row],[Entiteit of attribuut]])=2,\"\",Tabel2[[#This Row],[Entiteit]]&\"_\"&Tabel2[[#This Row],[Entiteit of attribuut]]))","v":"WH_SBIBEDR"},{"$f":"IF(Schema!K616=\"\",\"\",Schema!K616)","v":""},{"$f":"IF(Schema!L616=\"\",\"\",Schema!L616)","v":""},{"$f":"IF(Schema!M616=\"\",\"\",Schema!M616)","v":""},{"$f":"IF(Schema!N616=\"\",\"\",Schema!N616)","v":""},{"$f":"IF(Schema!P616=\"\",\"\",Schema!P616)","v":"O"}]
[{"$f":"Schema!A617&Schema!B617&Schema!C617&Schema!D617&Schema!E617&Schema!F617","v":"SBINVSC"},"WH",{"$f":"IF(A605=\"\",\"\",IF(LEN(Schema!A617)=2,1,IF(LEN(Schema!B617)=2,10,IF(LEN(Schema!C617)=2,100,IF(LEN(Schema!D617)=2,1000,IF(LEN(Schema!E617)=2,10000,0))))))","v":0},100,{"$f":"IF(A605=\"\",\"\",SUM(Tabel2[[#This Row],[I1]:[I2]]))","v":100},"PP","OG","WH","","","PP/OG/WH",{"$f":"IF(C605=\"\",\"\",IF(LEN(Tabel2[[#This Row],[Entiteit of attribuut]])=2,\"\",Tabel2[[#This Row],[Entiteit]]&\"_\"&Tabel2[[#This Row],[Entiteit of attribuut]]))","v":"WH_SBINVSC"},{"$f":"IF(Schema!K617=\"\",\"\",Schema!K617)","v":""},{"$f":"IF(Schema!L617=\"\",\"\",Schema!L617)","v":""},{"$f":"IF(Schema!M617=\"\",\"\",Schema!M617)","v":""},{"$f":"IF(Schema!N617=\"\",\"\",Schema!N617)","v":""},{"$f":"IF(Schema!P617=\"\",\"\",Schema!P617)","v":"O"}]
[{"$f":"Schema!A618&Schema!B618&Schema!C618&Schema!D618&Schema!E618&Schema!F618","v":"SBISPCC"},"WH",{"$f":"IF(A606=\"\",\"\",IF(LEN(Schema!A618)=2,1,IF(LEN(Schema!B618)=2,10,IF(LEN(Schema!C618)=2,100,IF(LEN(Schema!D618)=2,1000,IF(LEN(Schema!E618)=2,10000,0))))))","v":0},100,{"$f":"IF(A606=\"\",\"\",SUM(Tabel2[[#This Row],[I1]:[I2]]))","v":100},"PP","OG","WH","","","PP/OG/WH",{"$f":"IF(C606=\"\",\"\",IF(LEN(Tabel2[[#This Row],[Entiteit of attribuut]])=2,\"\",Tabel2[[#This Row],[Entiteit]]&\"_\"&Tabel2[[#This Row],[Entiteit of attribuut]]))","v":"WH_SBISPCC"},{"$f":"IF(Schema!K618=\"\",\"\",Schema!K618)","v":""},{"$f":"IF(Schema!L618=\"\",\"\",Schema!L618)","v":""},{"$f":"IF(Schema!M618=\"\",\"\",Schema!M618)","v":""},{"$f":"IF(Schema!N618=\"\",\"\",Schema!N618)","v":""},{"$f":"IF(Schema!P618=\"\",\"\",Schema!P618)","v":"O"}]
[{"$f":"Schema!A619&Schema!B619&Schema!C619&Schema!D619&Schema!E619&Schema!F619","v":"SRTHBW"},"WH",{"$f":"IF(A607=\"\",\"\",IF(LEN(Schema!A619)=2,1,IF(LEN(Schema!B619)=2,10,IF(LEN(Schema!C619)=2,100,IF(LEN(Schema!D619)=2,1000,IF(LEN(Schema!E619)=2,10000,0))))))","v":0},100,{"$f":"IF(A607=\"\",\"\",SUM(Tabel2[[#This Row],[I1]:[I2]]))","v":100},"PP","OG","WH","","","PP/OG/WH",{"$f":"IF(C607=\"\",\"\",IF(LEN(Tabel2[[#This Row],[Entiteit of attribuut]])=2,\"\",Tabel2[[#This Row],[Entiteit]]&\"_\"&Tabel2[[#This Row],[Entiteit of attribuut]]))","v":"WH_SRTHBW"},{"$f":"IF(Schema!K619=\"\",\"\",Schema!K619)","v":""},{"$f":"IF(Schema!L619=\"\",\"\",Schema!L619)","v":""},{"$f":"IF(Schema!M619=\"\",\"\",Schema!M619)","v":""},{"$f":"IF(Schema!N619=\"\",\"\",Schema!N619)","v":""},{"$f":"IF(Schema!P619=\"\",\"\",Schema!P619)","v":"LEEG"}]
[{"$f":"Schema!A620&Schema!B620&Schema!C620&Schema!D620&Schema!E620&Schema!F620","v":"SRTSPW"},"WH",{"$f":"IF(A608=\"\",\"\",IF(LEN(Schema!A620)=2,1,IF(LEN(Schema!B620)=2,10,IF(LEN(Schema!C620)=2,100,IF(LEN(Schema!D620)=2,1000,IF(LEN(Schema!E620)=2,10000,0))))))","v":0},100,{"$f":"IF(A608=\"\",\"\",SUM(Tabel2[[#This Row],[I1]:[I2]]))","v":100},"PP","OG","WH","","","PP/OG/WH",{"$f":"IF(C608=\"\",\"\",IF(LEN(Tabel2[[#This Row],[Entiteit of attribuut]])=2,\"\",Tabel2[[#This Row],[Entiteit]]&\"_\"&Tabel2[[#This Row],[Entiteit of attribuut]]))","v":"WH_SRTSPW"},{"$f":"IF(Schema!K620=\"\",\"\",Schema!K620)","v":""},{"$f":"IF(Schema!L620=\"\",\"\",Schema!L620)","v":""},{"$f":"IF(Schema!M620=\"\",\"\",Schema!M620)","v":""},{"$f":"IF(Schema!N620=\"\",\"\",Schema!N620)","v":""},{"$f":"IF(Schema!P620=\"\",\"\",Schema!P620)","v":"LEEG"}]
[{"$f":"Schema!A621&Schema!B621&Schema!C621&Schema!D621&Schema!E621&Schema!F621","v":"SRTVPK"},"WH",{"$f":"IF(A609=\"\",\"\",IF(LEN(Schema!A621)=2,1,IF(LEN(Schema!B621)=2,10,IF(LEN(Schema!C621)=2,100,IF(LEN(Schema!D621)=2,1000,IF(LEN(Schema!E621)=2,10000,0))))))","v":0},100,{"$f":"IF(A609=\"\",\"\",SUM(Tabel2[[#This Row],[I1]:[I2]]))","v":100},"PP","OG","WH","","","PP/OG/WH",{"$f":"IF(C609=\"\",\"\",IF(LEN(Tabel2[[#This Row],[Entiteit of attribuut]])=2,\"\",Tabel2[[#This Row],[Entiteit]]&\"_\"&Tabel2[[#This Row],[Entiteit of attribuut]]))","v":"WH_SRTVPK"},{"$f":"IF(Schema!K621=\"\",\"\",Schema!K621)","v":""},{"$f":"IF(Schema!L621=\"\",\"\",Schema!L621)","v":""},{"$f":"IF(Schema!M621=\"\",\"\",Schema!M621)","v":""},{"$f":"IF(Schema!N621=\"\",\"\",Schema!N621)","v":""},{"$f":"IF(Schema!P621=\"\",\"\",Schema!P621)","v":"LEEG"}]
[{"$f":"Schema!A622&Schema!B622&Schema!C622&Schema!D622&Schema!E622&Schema!F622","v":"VOLGNUM"},"WH",{"$f":"IF(A610=\"\",\"\",IF(LEN(Schema!A622)=2,1,IF(LEN(Schema!B622)=2,10,IF(LEN(Schema!C622)=2,100,IF(LEN(Schema!D622)=2,1000,IF(LEN(Schema!E622)=2,10000,0))))))","v":0},100,{"$f":"IF(A610=\"\",\"\",SUM(Tabel2[[#This Row],[I1]:[I2]]))","v":100},"PP","OG","WH","","","PP/OG/WH",{"$f":"IF(C610=\"\",\"\",IF(LEN(Tabel2[[#This Row],[Entiteit of attribuut]])=2,\"\",Tabel2[[#This Row],[Entiteit]]&\"_\"&Tabel2[[#This Row],[Entiteit of attribuut]]))","v":"WH_VOLGNUM"},{"$f":"IF(Schema!K622=\"\",\"\",Schema!K622)","v":""},{"$f":"IF(Schema!L622=\"\",\"\",Schema!L622)","v":""},{"$f":"IF(Schema!M622=\"\",\"\",Schema!M622)","v":""},{"$f":"IF(Schema!N622=\"\",\"\",Schema!N622)","v":""},{"$f":"IF(Schema!P622=\"\",\"\",Schema!P622)","v":"LEEG"}]
[{"$f":"Schema!A623&Schema!B623&Schema!C623&Schema!D623&Schema!E623&Schema!F623","v":"VRWRKCD"},"WH",{"$f":"IF(A611=\"\",\"\",IF(LEN(Schema!A623)=2,1,IF(LEN(Schema!B623)=2,10,IF(LEN(Schema!C623)=2,100,IF(LEN(Schema!D623)=2,1000,IF(LEN(Schema!E623)=2,10000,0))))))","v":0},100,{"$f":"IF(A611=\"\",\"\",SUM(Tabel2[[#This Row],[I1]:[I2]]))","v":100},"PP","OG","WH","","","PP/OG/WH",{"$f":"IF(C611=\"\",\"\",IF(LEN(Tabel2[[#This Row],[Entiteit of attribuut]])=2,\"\",Tabel2[[#This Row],[Entiteit]]&\"_\"&Tabel2[[#This Row],[Entiteit of attribuut]]))","v":"WH_VRWRKCD"},{"$f":"IF(Schema!K623=\"\",\"\",Schema!K623)","v":""},{"$f":"IF(Schema!L623=\"\",\"\",Schema!L623)","v":""},{"$f":"IF(Schema!M623=\"\",\"\",Schema!M623)","v":""},{"$f":"IF(Schema!N623=\"\",\"\",Schema!N623)","v":""},{"$f":"IF(Schema!P623=\"\",\"\",Schema!P623)","v":"LEEG"}]
[{"$f":"Schema!A624&Schema!B624&Schema!C624&Schema!D624&Schema!E624&Schema!F624","v":"WRKSPSP"},"WH",{"$f":"IF(A612=\"\",\"\",IF(LEN(Schema!A624)=2,1,IF(LEN(Schema!B624)=2,10,IF(LEN(Schema!C624)=2,100,IF(LEN(Schema!D624)=2,1000,IF(LEN(Schema!E624)=2,10000,0))))))","v":0},100,{"$f":"IF(A612=\"\",\"\",SUM(Tabel2[[#This Row],[I1]:[I2]]))","v":100},"PP","OG","WH","","","PP/OG/WH",{"$f":"IF(C612=\"\",\"\",IF(LEN(Tabel2[[#This Row],[Entiteit of attribuut]])=2,\"\",Tabel2[[#This Row],[Entiteit]]&\"_\"&Tabel2[[#This Row],[Entiteit of attribuut]]))","v":"WH_WRKSPSP"},{"$f":"IF(Schema!K624=\"\",\"\",Schema!K624)","v":""},{"$f":"IF(Schema!L624=\"\",\"\",Schema!L624)","v":""},{"$f":"IF(Schema!M624=\"\",\"\",Schema!M624)","v":""},{"$f":"IF(Schema!N624=\"\",\"\",Schema!N624)","v":""},{"$f":"IF(Schema!P624=\"\",\"\",Schema!P624)","v":"LEEG"}]
[{"$f":"Schema!A625&Schema!B625&Schema!C625&Schema!D625&Schema!E625&Schema!F625","v":"EB"},"EB",{"$f":"IF(A613=\"\",\"\",IF(LEN(Schema!A625)=2,1,IF(LEN(Schema!B625)=2,10,IF(LEN(Schema!C625)=2,100,IF(LEN(Schema!D625)=2,1000,IF(LEN(Schema!E625)=2,10000,0))))))","v":10},10,{"$f":"IF(A613=\"\",\"\",SUM(Tabel2[[#This Row],[I1]:[I2]]))","v":20},"PP","EB","","","","PP/EB",{"$f":"IF(C613=\"\",\"\",IF(LEN(Tabel2[[#This Row],[Entiteit of attribuut]])=2,\"\",Tabel2[[#This Row],[Entiteit]]&\"_\"&Tabel2[[#This Row],[Entiteit of attribuut]]))","v":""},{"$f":"IF(Schema!K625=\"\",\"\",Schema!K625)","v":""},{"$f":"IF(Schema!L625=\"\",\"\",Schema!L625)","v":""},{"$f":"IF(Schema!M625=\"\",\"\",Schema!M625)","v":""},{"$f":"IF(Schema!N625=\"\",\"\",Schema!N625)","v":""},{"$f":"IF(Schema!P625=\"\",\"\",Schema!P625)","v":"LEEG"}]
[{"$f":"Schema!A626&Schema!B626&Schema!C626&Schema!D626&Schema!E626&Schema!F626","v":"HUISNR"},"EB",{"$f":"IF(A614=\"\",\"\",IF(LEN(Schema!A626)=2,1,IF(LEN(Schema!B626)=2,10,IF(LEN(Schema!C626)=2,100,IF(LEN(Schema!D626)=2,1000,IF(LEN(Schema!E626)=2,10000,0))))))","v":0},10,{"$f":"IF(A614=\"\",\"\",SUM(Tabel2[[#This Row],[I1]:[I2]]))","v":10},"PP","EB","","","","PP/EB",{"$f":"IF(C614=\"\",\"\",IF(LEN(Tabel2[[#This Row],[Entiteit of attribuut]])=2,\"\",Tabel2[[#This Row],[Entiteit]]&\"_\"&Tabel2[[#This Row],[Entiteit of attribuut]]))","v":"EB_HUISNR"},{"$f":"IF(Schema!K626=\"\",\"\",Schema!K626)","v":""},{"$f":"IF(Schema!L626=\"\",\"\",Schema!L626)","v":""},{"$f":"IF(Schema!M626=\"\",\"\",Schema!M626)","v":""},{"$f":"IF(Schema!N626=\"\",\"\",Schema!N626)","v":""},{"$f":"IF(Schema!P626=\"\",\"\",Schema!P626)","v":"LEEG"}]
[{"$f":"Schema!A627&Schema!B627&Schema!C627&Schema!D627&Schema!E627&Schema!F627","v":"PCODE"},"EB",{"$f":"IF(A615=\"\",\"\",IF(LEN(Schema!A627)=2,1,IF(LEN(Schema!B627)=2,10,IF(LEN(Schema!C627)=2,100,IF(LEN(Schema!D627)=2,1000,IF(LEN(Schema!E627)=2,10000,0))))))","v":0},10,{"$f":"IF(A615=\"\",\"\",SUM(Tabel2[[#This Row],[I1]:[I2]]))","v":10},"PP","EB","","","","PP/EB",{"$f":"IF(C615=\"\",\"\",IF(LEN(Tabel2[[#This Row],[Entiteit of attribuut]])=2,\"\",Tabel2[[#This Row],[Entiteit]]&\"_\"&Tabel2[[#This Row],[Entiteit of attribuut]]))","v":"EB_PCODE"},{"$f":"IF(Schema!K627=\"\",\"\",Schema!K627)","v":""},{"$f":"IF(Schema!L627=\"\",\"\",Schema!L627)","v":""},{"$f":"IF(Schema!M627=\"\",\"\",Schema!M627)","v":""},{"$f":"IF(Schema!N627=\"\",\"\",Schema!N627)","v":""},{"$f":"IF(Schema!P627=\"\",\"\",Schema!P627)","v":"LEEG"}]
[{"$f":"Schema!A628&Schema!B628&Schema!C628&Schema!D628&Schema!E628&Schema!F628","v":"TOEVOEG"},"EB",{"$f":"IF(A616=\"\",\"\",IF(LEN(Schema!A628)=2,1,IF(LEN(Schema!B628)=2,10,IF(LEN(Schema!C628)=2,100,IF(LEN(Schema!D628)=2,1000,IF(LEN(Schema!E628)=2,10000,0))))))","v":0},10,{"$f":"IF(A616=\"\",\"\",SUM(Tabel2[[#This Row],[I1]:[I2]]))","v":10},"PP","EB","","","","PP/EB",{"$f":"IF(C616=\"\",\"\",IF(LEN(Tabel2[[#This Row],[Entiteit of attribuut]])=2,\"\",Tabel2[[#This Row],[Entiteit]]&\"_\"&Tabel2[[#This Row],[Entiteit of attribuut]]))","v":"EB_TOEVOEG"},{"$f":"IF(Schema!K628=\"\",\"\",Schema!K628)","v":""},{"$f":"IF(Schema!L628=\"\",\"\",Schema!L628)","v":""},{"$f":"IF(Schema!M628=\"\",\"\",Schema!M628)","v":""},{"$f":"IF(Schema!N628=\"\",\"\",Schema!N628)","v":""},{"$f":"IF(Schema!P628=\"\",\"\",Schema!P628)","v":"LEEG"}]
[{"$f":"Schema!A629&Schema!B629&Schema!C629&Schema!D629&Schema!E629&Schema!F629","v":"VOLGNUM"},"EB",{"$f":"IF(A617=\"\",\"\",IF(LEN(Schema!A629)=2,1,IF(LEN(Schema!B629)=2,10,IF(LEN(Schema!C629)=2,100,IF(LEN(Schema!D629)=2,1000,IF(LEN(Schema!E629)=2,10000,0))))))","v":0},10,{"$f":"IF(A617=\"\",\"\",SUM(Tabel2[[#This Row],[I1]:[I2]]))","v":10},"PP","EB","","","","PP/EB",{"$f":"IF(C617=\"\",\"\",IF(LEN(Tabel2[[#This Row],[Entiteit of attribuut]])=2,\"\",Tabel2[[#This Row],[Entiteit]]&\"_\"&Tabel2[[#This Row],[Entiteit of attribuut]]))","v":"EB_VOLGNUM"},{"$f":"IF(Schema!K629=\"\",\"\",Schema!K629)","v":""},{"$f":"IF(Schema!L629=\"\",\"\",Schema!L629)","v":""},{"$f":"IF(Schema!M629=\"\",\"\",Schema!M629)","v":""},{"$f":"IF(Schema!N629=\"\",\"\",Schema!N629)","v":""},{"$f":"IF(Schema!P629=\"\",\"\",Schema!P629)","v":"LEEG"}]
[{"$f":"Schema!A630&Schema!B630&Schema!C630&Schema!D630&Schema!E630&Schema!F630","v":"VRWRKCD"},"EB",{"$f":"IF(A618=\"\",\"\",IF(LEN(Schema!A630)=2,1,IF(LEN(Schema!B630)=2,10,IF(LEN(Schema!C630)=2,100,IF(LEN(Schema!D630)=2,1000,IF(LEN(Schema!E630)=2,10000,0))))))","v":0},10,{"$f":"IF(A618=\"\",\"\",SUM(Tabel2[[#This Row],[I1]:[I2]]))","v":10},"PP","EB","","","","PP/EB",{"$f":"IF(C618=\"\",\"\",IF(LEN(Tabel2[[#This Row],[Entiteit of attribuut]])=2,\"\",Tabel2[[#This Row],[Entiteit]]&\"_\"&Tabel2[[#This Row],[Entiteit of attribuut]]))","v":"EB_VRWRKCD"},{"$f":"IF(Schema!K630=\"\",\"\",Schema!K630)","v":""},{"$f":"IF(Schema!L630=\"\",\"\",Schema!L630)","v":""},{"$f":"IF(Schema!M630=\"\",\"\",Schema!M630)","v":""},{"$f":"IF(Schema!N630=\"\",\"\",Schema!N630)","v":""},{"$f":"IF(Schema!P630=\"\",\"\",Schema!P630)","v":"LEEG"}]
[{"$f":"Schema!A631&Schema!B631&Schema!C631&Schema!D631&Schema!E631&Schema!F631","v":"ZZP"},"EB",{"$f":"IF(A619=\"\",\"\",IF(LEN(Schema!A631)=2,1,IF(LEN(Schema!B631)=2,10,IF(LEN(Schema!C631)=2,100,IF(LEN(Schema!D631)=2,1000,IF(LEN(Schema!E631)=2,10000,0))))))","v":0},10,{"$f":"IF(A619=\"\",\"\",SUM(Tabel2[[#This Row],[I1]:[I2]]))","v":10},"PP","EB","","","","PP/EB",{"$f":"IF(C619=\"\",\"\",IF(LEN(Tabel2[[#This Row],[Entiteit of attribuut]])=2,\"\",Tabel2[[#This Row],[Entiteit]]&\"_\"&Tabel2[[#This Row],[Entiteit of attribuut]]))","v":"EB_ZZP"},{"$f":"IF(Schema!K631=\"\",\"\",Schema!K631)","v":""},{"$f":"IF(Schema!L631=\"\",\"\",Schema!L631)","v":""},{"$f":"IF(Schema!M631=\"\",\"\",Schema!M631)","v":""},{"$f":"IF(Schema!N631=\"\",\"\",Schema!N631)","v":""},{"$f":"IF(Schema!P631=\"\",\"\",Schema!P631)","v":"LEEG"}]
[{"$f":"Schema!A632&Schema!B632&Schema!C632&Schema!D632&Schema!E632&Schema!F632","v":"IK"},"IK",{"$f":"IF(A620=\"\",\"\",IF(LEN(Schema!A632)=2,1,IF(LEN(Schema!B632)=2,10,IF(LEN(Schema!C632)=2,100,IF(LEN(Schema!D632)=2,1000,IF(LEN(Schema!E632)=2,10000,0))))))","v":100},100,{"$f":"IF(A620=\"\",\"\",SUM(Tabel2[[#This Row],[I1]:[I2]]))","v":200},"PP","EB","IK","","","PP/EB/IK",{"$f":"IF(C620=\"\",\"\",IF(LEN(Tabel2[[#This Row],[Entiteit of attribuut]])=2,\"\",Tabel2[[#This Row],[Entiteit]]&\"_\"&Tabel2[[#This Row],[Entiteit of attribuut]]))","v":""},{"$f":"IF(Schema!K632=\"\",\"\",Schema!K632)","v":""},{"$f":"IF(Schema!L632=\"\",\"\",Schema!L632)","v":""},{"$f":"IF(Schema!M632=\"\",\"\",Schema!M632)","v":""},{"$f":"IF(Schema!N632=\"\",\"\",Schema!N632)","v":""},{"$f":"IF(Schema!P632=\"\",\"\",Schema!P632)","v":"LEEG"}]
[{"$f":"Schema!A633&Schema!B633&Schema!C633&Schema!D633&Schema!E633&Schema!F633","v":"MACHINA"},"IK",{"$f":"IF(A621=\"\",\"\",IF(LEN(Schema!A633)=2,1,IF(LEN(Schema!B633)=2,10,IF(LEN(Schema!C633)=2,100,IF(LEN(Schema!D633)=2,1000,IF(LEN(Schema!E633)=2,10000,0))))))","v":0},100,{"$f":"IF(A621=\"\",\"\",SUM(Tabel2[[#This Row],[I1]:[I2]]))","v":100},"PP","EB","IK","","","PP/EB/IK",{"$f":"IF(C621=\"\",\"\",IF(LEN(Tabel2[[#This Row],[Entiteit of attribuut]])=2,\"\",Tabel2[[#This Row],[Entiteit]]&\"_\"&Tabel2[[#This Row],[Entiteit of attribuut]]))","v":"IK_MACHINA"},{"$f":"IF(Schema!K633=\"\",\"\",Schema!K633)","v":""},{"$f":"IF(Schema!L633=\"\",\"\",Schema!L633)","v":""},{"$f":"IF(Schema!M633=\"\",\"\",Schema!M633)","v":""},{"$f":"IF(Schema!N633=\"\",\"\",Schema!N633)","v":""},{"$f":"IF(Schema!P633=\"\",\"\",Schema!P633)","v":"LEEG"}]
[{"$f":"Schema!A634&Schema!B634&Schema!C634&Schema!D634&Schema!E634&Schema!F634","v":"URENHB"},"IK",{"$f":"IF(A622=\"\",\"\",IF(LEN(Schema!A634)=2,1,IF(LEN(Schema!B634)=2,10,IF(LEN(Schema!C634)=2,100,IF(LEN(Schema!D634)=2,1000,IF(LEN(Schema!E634)=2,10000,0))))))","v":0},100,{"$f":"IF(A622=\"\",\"\",SUM(Tabel2[[#This Row],[I1]:[I2]]))","v":100},"PP","EB","IK","","","PP/EB/IK",{"$f":"IF(C622=\"\",\"\",IF(LEN(Tabel2[[#This Row],[Entiteit of attribuut]])=2,\"\",Tabel2[[#This Row],[Entiteit]]&\"_\"&Tabel2[[#This Row],[Entiteit of attribuut]]))","v":"IK_URENHB"},{"$f":"IF(Schema!K634=\"\",\"\",Schema!K634)","v":""},{"$f":"IF(Schema!L634=\"\",\"\",Schema!L634)","v":""},{"$f":"IF(Schema!M634=\"\",\"\",Schema!M634)","v":""},{"$f":"IF(Schema!N634=\"\",\"\",Schema!N634)","v":""},{"$f":"IF(Schema!P634=\"\",\"\",Schema!P634)","v":"LEEG"}]
[{"$f":"Schema!A635&Schema!B635&Schema!C635&Schema!D635&Schema!E635&Schema!F635","v":"VOLGNUM"},"IK",{"$f":"IF(A623=\"\",\"\",IF(LEN(Schema!A635)=2,1,IF(LEN(Schema!B635)=2,10,IF(LEN(Schema!C635)=2,100,IF(LEN(Schema!D635)=2,1000,IF(LEN(Schema!E635)=2,10000,0))))))","v":0},100,{"$f":"IF(A623=\"\",\"\",SUM(Tabel2[[#This Row],[I1]:[I2]]))","v":100},"PP","EB","IK","","","PP/EB/IK",{"$f":"IF(C623=\"\",\"\",IF(LEN(Tabel2[[#This Row],[Entiteit of attribuut]])=2,\"\",Tabel2[[#This Row],[Entiteit]]&\"_\"&Tabel2[[#This Row],[Entiteit of attribuut]]))","v":"IK_VOLGNUM"},{"$f":"IF(Schema!K635=\"\",\"\",Schema!K635)","v":""},{"$f":"IF(Schema!L635=\"\",\"\",Schema!L635)","v":""},{"$f":"IF(Schema!M635=\"\",\"\",Schema!M635)","v":""},{"$f":"IF(Schema!N635=\"\",\"\",Schema!N635)","v":""},{"$f":"IF(Schema!P635=\"\",\"\",Schema!P635)","v":"LEEG"}]
[{"$f":"Schema!A636&Schema!B636&Schema!C636&Schema!D636&Schema!E636&Schema!F636","v":"VRWRKCD"},"IK",{"$f":"IF(A624=\"\",\"\",IF(LEN(Schema!A636)=2,1,IF(LEN(Schema!B636)=2,10,IF(LEN(Schema!C636)=2,100,IF(LEN(Schema!D636)=2,1000,IF(LEN(Schema!E636)=2,10000,0))))))","v":0},100,{"$f":"IF(A624=\"\",\"\",SUM(Tabel2[[#This Row],[I1]:[I2]]))","v":100},"PP","EB","IK","","","PP/EB/IK",{"$f":"IF(C624=\"\",\"\",IF(LEN(Tabel2[[#This Row],[Entiteit of attribuut]])=2,\"\",Tabel2[[#This Row],[Entiteit]]&\"_\"&Tabel2[[#This Row],[Entiteit of attribuut]]))","v":"IK_VRWRKCD"},{"$f":"IF(Schema!K636=\"\",\"\",Schema!K636)","v":""},{"$f":"IF(Schema!L636=\"\",\"\",Schema!L636)","v":""},{"$f":"IF(Schema!M636=\"\",\"\",Schema!M636)","v":""},{"$f":"IF(Schema!N636=\"\",\"\",Schema!N636)","v":""},{"$f":"IF(Schema!P636=\"\",\"\",Schema!P636)","v":"LEEG"}]
[{"$f":"Schema!A637&Schema!B637&Schema!C637&Schema!D637&Schema!E637&Schema!F637","v":"HR"},"HR",{"$f":"IF(A625=\"\",\"\",IF(LEN(Schema!A637)=2,1,IF(LEN(Schema!B637)=2,10,IF(LEN(Schema!C637)=2,100,IF(LEN(Schema!D637)=2,1000,IF(LEN(Schema!E637)=2,10000,0))))))","v":10},10,{"$f":"IF(A625=\"\",\"\",SUM(Tabel2[[#This Row],[I1]:[I2]]))","v":20},"PP","HR","","","","PP/HR",{"$f":"IF(C625=\"\",\"\",IF(LEN(Tabel2[[#This Row],[Entiteit of attribuut]])=2,\"\",Tabel2[[#This Row],[Entiteit]]&\"_\"&Tabel2[[#This Row],[Entiteit of attribuut]]))","v":""},{"$f":"IF(Schema!K637=\"\",\"\",Schema!K637)","v":""},{"$f":"IF(Schema!L637=\"\",\"\",Schema!L637)","v":""},{"$f":"IF(Schema!M637=\"\",\"\",Schema!M637)","v":""},{"$f":"IF(Schema!N637=\"\",\"\",Schema!N637)","v":""},{"$f":"IF(Schema!P637=\"\",\"\",Schema!P637)","v":"LEEG"}]
[{"$f":"Schema!A638&Schema!B638&Schema!C638&Schema!D638&Schema!E638&Schema!F638","v":"LIDHUAC"},"HR",{"$f":"IF(A626=\"\",\"\",IF(LEN(Schema!A638)=2,1,IF(LEN(Schema!B638)=2,10,IF(LEN(Schema!C638)=2,100,IF(LEN(Schema!D638)=2,1000,IF(LEN(Schema!E638)=2,10000,0))))))","v":0},10,{"$f":"IF(A626=\"\",\"\",SUM(Tabel2[[#This Row],[I1]:[I2]]))","v":10},"PP","HR","","","","PP/HR",{"$f":"IF(C626=\"\",\"\",IF(LEN(Tabel2[[#This Row],[Entiteit of attribuut]])=2,\"\",Tabel2[[#This Row],[Entiteit]]&\"_\"&Tabel2[[#This Row],[Entiteit of attribuut]]))","v":"HR_LIDHUAC"},{"$f":"IF(Schema!K638=\"\",\"\",Schema!K638)","v":""},{"$f":"IF(Schema!L638=\"\",\"\",Schema!L638)","v":""},{"$f":"IF(Schema!M638=\"\",\"\",Schema!M638)","v":""},{"$f":"IF(Schema!N638=\"\",\"\",Schema!N638)","v":""},{"$f":"IF(Schema!P638=\"\",\"\",Schema!P638)","v":"LEEG"}]
[{"$f":"Schema!A639&Schema!B639&Schema!C639&Schema!D639&Schema!E639&Schema!F639","v":"SBISPCC"},"HR",{"$f":"IF(A627=\"\",\"\",IF(LEN(Schema!A639)=2,1,IF(LEN(Schema!B639)=2,10,IF(LEN(Schema!C639)=2,100,IF(LEN(Schema!D639)=2,1000,IF(LEN(Schema!E639)=2,10000,0))))))","v":0},10,{"$f":"IF(A627=\"\",\"\",SUM(Tabel2[[#This Row],[I1]:[I2]]))","v":10},"PP","HR","","","","PP/HR",{"$f":"IF(C627=\"\",\"\",IF(LEN(Tabel2[[#This Row],[Entiteit of attribuut]])=2,\"\",Tabel2[[#This Row],[Entiteit]]&\"_\"&Tabel2[[#This Row],[Entiteit of attribuut]]))","v":"HR_SBISPCC"},{"$f":"IF(Schema!K639=\"\",\"\",Schema!K639)","v":""},{"$f":"IF(Schema!L639=\"\",\"\",Schema!L639)","v":""},{"$f":"IF(Schema!M639=\"\",\"\",Schema!M639)","v":""},{"$f":"IF(Schema!N639=\"\",\"\",Schema!N639)","v":""},{"$f":"IF(Schema!P639=\"\",\"\",Schema!P639)","v":"LEEG"}]
[{"$f":"Schema!A640&Schema!B640&Schema!C640&Schema!D640&Schema!E640&Schema!F640","v":"VOLGNUM"},"HR",{"$f":"IF(A628=\"\",\"\",IF(LEN(Schema!A640)=2,1,IF(LEN(Schema!B640)=2,10,IF(LEN(Schema!C640)=2,100,IF(LEN(Schema!D640)=2,1000,IF(LEN(Schema!E640)=2,10000,0))))))","v":0},10,{"$f":"IF(A628=\"\",\"\",SUM(Tabel2[[#This Row],[I1]:[I2]]))","v":10},"PP","HR","","","","PP/HR",{"$f":"IF(C628=\"\",\"\",IF(LEN(Tabel2[[#This Row],[Entiteit of attribuut]])=2,\"\",Tabel2[[#This Row],[Entiteit]]&\"_\"&Tabel2[[#This Row],[Entiteit of attribuut]]))","v":"HR_VOLGNUM"},{"$f":"IF(Schema!K640=\"\",\"\",Schema!K640)","v":""},{"$f":"IF(Schema!L640=\"\",\"\",Schema!L640)","v":""},{"$f":"IF(Schema!M640=\"\",\"\",Schema!M640)","v":""},{"$f":"IF(Schema!N640=\"\",\"\",Schema!N640)","v":""},{"$f":"IF(Schema!P640=\"\",\"\",Schema!P640)","v":"LEEG"}]
[{"$f":"Schema!A641&Schema!B641&Schema!C641&Schema!D641&Schema!E641&Schema!F641","v":"VRWRKCD"},"HR",{"$f":"IF(A629=\"\",\"\",IF(LEN(Schema!A641)=2,1,IF(LEN(Schema!B641)=2,10,IF(LEN(Schema!C641)=2,100,IF(LEN(Schema!D641)=2,1000,IF(LEN(Schema!E641)=2,10000,0))))))","v":0},10,{"$f":"IF(A629=\"\",\"\",SUM(Tabel2[[#This Row],[I1]:[I2]]))","v":10},"PP","HR","","","","PP/HR",{"$f":"IF(C629=\"\",\"\",IF(LEN(Tabel2[[#This Row],[Entiteit of attribuut]])=2,\"\",Tabel2[[#This Row],[Entiteit]]&\"_\"&Tabel2[[#This Row],[Entiteit of attribuut]]))","v":"HR_VRWRKCD"},{"$f":"IF(Schema!K641=\"\",\"\",Schema!K641)","v":""},{"$f":"IF(Schema!L641=\"\",\"\",Schema!L641)","v":""},{"$f":"IF(Schema!M641=\"\",\"\",Schema!M641)","v":""},{"$f":"IF(Schema!N641=\"\",\"\",Schema!N641)","v":""},{"$f":"IF(Schema!P641=\"\",\"\",Schema!P641)","v":"LEEG"}]
[{"$f":"Schema!A642&Schema!B642&Schema!C642&Schema!D642&Schema!E642&Schema!F642","v":"TP"},"TP",{"$f":"IF(A630=\"\",\"\",IF(LEN(Schema!A642)=2,1,IF(LEN(Schema!B642)=2,10,IF(LEN(Schema!C642)=2,100,IF(LEN(Schema!D642)=2,1000,IF(LEN(Schema!E642)=2,10000,0))))))","v":10},10,{"$f":"IF(A630=\"\",\"\",SUM(Tabel2[[#This Row],[I1]:[I2]]))","v":20},"PP","TP","","","","PP/TP",{"$f":"IF(C630=\"\",\"\",IF(LEN(Tabel2[[#This Row],[Entiteit of attribuut]])=2,\"\",Tabel2[[#This Row],[Entiteit]]&\"_\"&Tabel2[[#This Row],[Entiteit of attribuut]]))","v":""},{"$f":"IF(Schema!K642=\"\",\"\",Schema!K642)","v":""},{"$f":"IF(Schema!L642=\"\",\"\",Schema!L642)","v":""},{"$f":"IF(Schema!M642=\"\",\"\",Schema!M642)","v":""},{"$f":"IF(Schema!N642=\"\",\"\",Schema!N642)","v":""},{"$f":"IF(Schema!P642=\"\",\"\",Schema!P642)","v":"O"}]
[{"$f":"Schema!A643&Schema!B643&Schema!C643&Schema!D643&Schema!E643&Schema!F643","v":"AFMVRGN"},"TP",{"$f":"IF(A631=\"\",\"\",IF(LEN(Schema!A643)=2,1,IF(LEN(Schema!B643)=2,10,IF(LEN(Schema!C643)=2,100,IF(LEN(Schema!D643)=2,1000,IF(LEN(Schema!E643)=2,10000,0))))))","v":0},10,{"$f":"IF(A631=\"\",\"\",SUM(Tabel2[[#This Row],[I1]:[I2]]))","v":10},"PP","TP","","","","PP/TP",{"$f":"IF(C631=\"\",\"\",IF(LEN(Tabel2[[#This Row],[Entiteit of attribuut]])=2,\"\",Tabel2[[#This Row],[Entiteit]]&\"_\"&Tabel2[[#This Row],[Entiteit of attribuut]]))","v":"TP_AFMVRGN"},{"$f":"IF(Schema!K643=\"\",\"\",Schema!K643)","v":""},{"$f":"IF(Schema!L643=\"\",\"\",Schema!L643)","v":""},{"$f":"IF(Schema!M643=\"\",\"\",Schema!M643)","v":""},{"$f":"IF(Schema!N643=\"\",\"\",Schema!N643)","v":""},{"$f":"IF(Schema!P643=\"\",\"\",Schema!P643)","v":"O"}]
[{"$f":"Schema!A644&Schema!B644&Schema!C644&Schema!D644&Schema!E644&Schema!F644","v":"ANAAM"},"TP",{"$f":"IF(A632=\"\",\"\",IF(LEN(Schema!A644)=2,1,IF(LEN(Schema!B644)=2,10,IF(LEN(Schema!C644)=2,100,IF(LEN(Schema!D644)=2,1000,IF(LEN(Schema!E644)=2,10000,0))))))","v":0},10,{"$f":"IF(A632=\"\",\"\",SUM(Tabel2[[#This Row],[I1]:[I2]]))","v":10},"PP","TP","","","","PP/TP",{"$f":"IF(C632=\"\",\"\",IF(LEN(Tabel2[[#This Row],[Entiteit of attribuut]])=2,\"\",Tabel2[[#This Row],[Entiteit]]&\"_\"&Tabel2[[#This Row],[Entiteit of attribuut]]))","v":"TP_ANAAM"},{"$f":"IF(Schema!K644=\"\",\"\",Schema!K644)","v":""},{"$f":"IF(Schema!L644=\"\",\"\",Schema!L644)","v":""},{"$f":"IF(Schema!M644=\"\",\"\",Schema!M644)","v":""},{"$f":"IF(Schema!N644=\"\",\"\",Schema!N644)","v":""},{"$f":"IF(Schema!P644=\"\",\"\",Schema!P644)","v":"LEEG"}]
[{"$f":"Schema!A645&Schema!B645&Schema!C645&Schema!D645&Schema!E645&Schema!F645","v":"ENTITEI"},"TP",{"$f":"IF(A633=\"\",\"\",IF(LEN(Schema!A645)=2,1,IF(LEN(Schema!B645)=2,10,IF(LEN(Schema!C645)=2,100,IF(LEN(Schema!D645)=2,1000,IF(LEN(Schema!E645)=2,10000,0))))))","v":0},10,{"$f":"IF(A633=\"\",\"\",SUM(Tabel2[[#This Row],[I1]:[I2]]))","v":10},"PP","TP","","","","PP/TP",{"$f":"IF(C633=\"\",\"\",IF(LEN(Tabel2[[#This Row],[Entiteit of attribuut]])=2,\"\",Tabel2[[#This Row],[Entiteit]]&\"_\"&Tabel2[[#This Row],[Entiteit of attribuut]]))","v":"TP_ENTITEI"},{"$f":"IF(Schema!K645=\"\",\"\",Schema!K645)","v":""},{"$f":"IF(Schema!L645=\"\",\"\",Schema!L645)","v":""},{"$f":"IF(Schema!M645=\"\",\"\",Schema!M645)","v":""},{"$f":"IF(Schema!N645=\"\",\"\",Schema!N645)","v":""},{"$f":"IF(Schema!P645=\"\",\"\",Schema!P645)","v":"LEEG"}]
[{"$f":"Schema!A646&Schema!B646&Schema!C646&Schema!D646&Schema!E646&Schema!F646","v":"IDNR"},"TP",{"$f":"IF(A634=\"\",\"\",IF(LEN(Schema!A646)=2,1,IF(LEN(Schema!B646)=2,10,IF(LEN(Schema!C646)=2,100,IF(LEN(Schema!D646)=2,1000,IF(LEN(Schema!E646)=2,10000,0))))))","v":0},10,{"$f":"IF(A634=\"\",\"\",SUM(Tabel2[[#This Row],[I1]:[I2]]))","v":10},"PP","TP","","","","PP/TP",{"$f":"IF(C634=\"\",\"\",IF(LEN(Tabel2[[#This Row],[Entiteit of attribuut]])=2,\"\",Tabel2[[#This Row],[Entiteit]]&\"_\"&Tabel2[[#This Row],[Entiteit of attribuut]]))","v":"TP_IDNR"},{"$f":"IF(Schema!K646=\"\",\"\",Schema!K646)","v":""},{"$f":"IF(Schema!L646=\"\",\"\",Schema!L646)","v":""},{"$f":"IF(Schema!M646=\"\",\"\",Schema!M646)","v":""},{"$f":"IF(Schema!N646=\"\",\"\",Schema!N646)","v":""},{"$f":"IF(Schema!P646=\"\",\"\",Schema!P646)","v":"O"}]
[{"$f":"Schema!A647&Schema!B647&Schema!C647&Schema!D647&Schema!E647&Schema!F647","v":"VRWRKCD"},"TP",{"$f":"IF(A635=\"\",\"\",IF(LEN(Schema!A647)=2,1,IF(LEN(Schema!B647)=2,10,IF(LEN(Schema!C647)=2,100,IF(LEN(Schema!D647)=2,1000,IF(LEN(Schema!E647)=2,10000,0))))))","v":0},10,{"$f":"IF(A635=\"\",\"\",SUM(Tabel2[[#This Row],[I1]:[I2]]))","v":10},"PP","TP","","","","PP/TP",{"$f":"IF(C635=\"\",\"\",IF(LEN(Tabel2[[#This Row],[Entiteit of attribuut]])=2,\"\",Tabel2[[#This Row],[Entiteit]]&\"_\"&Tabel2[[#This Row],[Entiteit of attribuut]]))","v":"TP_VRWRKCD"},{"$f":"IF(Schema!K647=\"\",\"\",Schema!K647)","v":""},{"$f":"IF(Schema!L647=\"\",\"\",Schema!L647)","v":""},{"$f":"IF(Schema!M647=\"\",\"\",Schema!M647)","v":""},{"$f":"IF(Schema!N647=\"\",\"\",Schema!N647)","v":""},{"$f":"IF(Schema!P647=\"\",\"\",Schema!P647)","v":"LEEG"}]
[{"$f":"Schema!A648&Schema!B648&Schema!C648&Schema!D648&Schema!E648&Schema!F648","v":"VE"},"VE",{"$f":"IF(A636=\"\",\"\",IF(LEN(Schema!A648)=2,1,IF(LEN(Schema!B648)=2,10,IF(LEN(Schema!C648)=2,100,IF(LEN(Schema!D648)=2,1000,IF(LEN(Schema!E648)=2,10000,0))))))","v":10},10,{"$f":"IF(A636=\"\",\"\",SUM(Tabel2[[#This Row],[I1]:[I2]]))","v":20},"PP","VE","","","","PP/VE",{"$f":"IF(C636=\"\",\"\",IF(LEN(Tabel2[[#This Row],[Entiteit of attribuut]])=2,\"\",Tabel2[[#This Row],[Entiteit]]&\"_\"&Tabel2[[#This Row],[Entiteit of attribuut]]))","v":""},{"$f":"IF(Schema!K648=\"\",\"\",Schema!K648)","v":""},{"$f":"IF(Schema!L648=\"\",\"\",Schema!L648)","v":""},{"$f":"IF(Schema!M648=\"\",\"\",Schema!M648)","v":""},{"$f":"IF(Schema!N648=\"\",\"\",Schema!N648)","v":""},{"$f":"IF(Schema!P648=\"\",\"\",Schema!P648)","v":"V"}]
[{"$f":"Schema!A649&Schema!B649&Schema!C649&Schema!D649&Schema!E649&Schema!F649","v":"ANAAM"},"VE",{"$f":"IF(A637=\"\",\"\",IF(LEN(Schema!A649)=2,1,IF(LEN(Schema!B649)=2,10,IF(LEN(Schema!C649)=2,100,IF(LEN(Schema!D649)=2,1000,IF(LEN(Schema!E649)=2,10000,0))))))","v":0},10,{"$f":"IF(A637=\"\",\"\",SUM(Tabel2[[#This Row],[I1]:[I2]]))","v":10},"PP","VE","","","","PP/VE",{"$f":"IF(C637=\"\",\"\",IF(LEN(Tabel2[[#This Row],[Entiteit of attribuut]])=2,\"\",Tabel2[[#This Row],[Entiteit]]&\"_\"&Tabel2[[#This Row],[Entiteit of attribuut]]))","v":"VE_ANAAM"},{"$f":"IF(Schema!K649=\"\",\"\",Schema!K649)","v":""},{"$f":"IF(Schema!L649=\"\",\"\",Schema!L649)","v":""},{"$f":"IF(Schema!M649=\"\",\"\",Schema!M649)","v":""},{"$f":"IF(Schema!N649=\"\",\"\",Schema!N649)","v":""},{"$f":"IF(Schema!P649=\"\",\"\",Schema!P649)","v":"V"}]
[{"$f":"Schema!A650&Schema!B650&Schema!C650&Schema!D650&Schema!E650&Schema!F650","v":"ENTITEI"},"VE",{"$f":"IF(A638=\"\",\"\",IF(LEN(Schema!A650)=2,1,IF(LEN(Schema!B650)=2,10,IF(LEN(Schema!C650)=2,100,IF(LEN(Schema!D650)=2,1000,IF(LEN(Schema!E650)=2,10000,0))))))","v":0},10,{"$f":"IF(A638=\"\",\"\",SUM(Tabel2[[#This Row],[I1]:[I2]]))","v":10},"PP","VE","","","","PP/VE",{"$f":"IF(C638=\"\",\"\",IF(LEN(Tabel2[[#This Row],[Entiteit of attribuut]])=2,\"\",Tabel2[[#This Row],[Entiteit]]&\"_\"&Tabel2[[#This Row],[Entiteit of attribuut]]))","v":"VE_ENTITEI"},{"$f":"IF(Schema!K650=\"\",\"\",Schema!K650)","v":""},{"$f":"IF(Schema!L650=\"\",\"\",Schema!L650)","v":""},{"$f":"IF(Schema!M650=\"\",\"\",Schema!M650)","v":""},{"$f":"IF(Schema!N650=\"\",\"\",Schema!N650)","v":""},{"$f":"IF(Schema!P650=\"\",\"\",Schema!P650)","v":"LEEG"}]
[{"$f":"Schema!A651&Schema!B651&Schema!C651&Schema!D651&Schema!E651&Schema!F651","v":"IDNR"},"VE",{"$f":"IF(A639=\"\",\"\",IF(LEN(Schema!A651)=2,1,IF(LEN(Schema!B651)=2,10,IF(LEN(Schema!C651)=2,100,IF(LEN(Schema!D651)=2,1000,IF(LEN(Schema!E651)=2,10000,0))))))","v":0},10,{"$f":"IF(A639=\"\",\"\",SUM(Tabel2[[#This Row],[I1]:[I2]]))","v":10},"PP","VE","","","","PP/VE",{"$f":"IF(C639=\"\",\"\",IF(LEN(Tabel2[[#This Row],[Entiteit of attribuut]])=2,\"\",Tabel2[[#This Row],[Entiteit]]&\"_\"&Tabel2[[#This Row],[Entiteit of attribuut]]))","v":"VE_IDNR"},{"$f":"IF(Schema!K651=\"\",\"\",Schema!K651)","v":""},{"$f":"IF(Schema!L651=\"\",\"\",Schema!L651)","v":""},{"$f":"IF(Schema!M651=\"\",\"\",Schema!M651)","v":""},{"$f":"IF(Schema!N651=\"\",\"\",Schema!N651)","v":""},{"$f":"IF(Schema!P651=\"\",\"\",Schema!P651)","v":"O"}]
[{"$f":"Schema!A652&Schema!B652&Schema!C652&Schema!D652&Schema!E652&Schema!F652","v":"MYAAND"},"VE",{"$f":"IF(A640=\"\",\"\",IF(LEN(Schema!A652)=2,1,IF(LEN(Schema!B652)=2,10,IF(LEN(Schema!C652)=2,100,IF(LEN(Schema!D652)=2,1000,IF(LEN(Schema!E652)=2,10000,0))))))","v":0},10,{"$f":"IF(A640=\"\",\"\",SUM(Tabel2[[#This Row],[I1]:[I2]]))","v":10},"PP","VE","","","","PP/VE",{"$f":"IF(C640=\"\",\"\",IF(LEN(Tabel2[[#This Row],[Entiteit of attribuut]])=2,\"\",Tabel2[[#This Row],[Entiteit]]&\"_\"&Tabel2[[#This Row],[Entiteit of attribuut]]))","v":"VE_MYAAND"},{"$f":"IF(Schema!K652=\"\",\"\",Schema!K652)","v":""},{"$f":"IF(Schema!L652=\"\",\"\",Schema!L652)","v":""},{"$f":"IF(Schema!M652=\"\",\"\",Schema!M652)","v":""},{"$f":"IF(Schema!N652=\"\",\"\",Schema!N652)","v":""},{"$f":"IF(Schema!P652=\"\",\"\",Schema!P652)","v":"O"}]
[{"$f":"Schema!A653&Schema!B653&Schema!C653&Schema!D653&Schema!E653&Schema!F653","v":"TELNUM"},"VE",{"$f":"IF(A641=\"\",\"\",IF(LEN(Schema!A653)=2,1,IF(LEN(Schema!B653)=2,10,IF(LEN(Schema!C653)=2,100,IF(LEN(Schema!D653)=2,1000,IF(LEN(Schema!E653)=2,10000,0))))))","v":0},10,{"$f":"IF(A641=\"\",\"\",SUM(Tabel2[[#This Row],[I1]:[I2]]))","v":10},"PP","VE","","","","PP/VE",{"$f":"IF(C641=\"\",\"\",IF(LEN(Tabel2[[#This Row],[Entiteit of attribuut]])=2,\"\",Tabel2[[#This Row],[Entiteit]]&\"_\"&Tabel2[[#This Row],[Entiteit of attribuut]]))","v":"VE_TELNUM"},{"$f":"IF(Schema!K653=\"\",\"\",Schema!K653)","v":""},{"$f":"IF(Schema!L653=\"\",\"\",Schema!L653)","v":""},{"$f":"IF(Schema!M653=\"\",\"\",Schema!M653)","v":""},{"$f":"IF(Schema!N653=\"\",\"\",Schema!N653)","v":""},{"$f":"IF(Schema!P653=\"\",\"\",Schema!P653)","v":"V"}]
[{"$f":"Schema!A654&Schema!B654&Schema!C654&Schema!D654&Schema!E654&Schema!F654","v":"TWEEDED"},"VE",{"$f":"IF(A642=\"\",\"\",IF(LEN(Schema!A654)=2,1,IF(LEN(Schema!B654)=2,10,IF(LEN(Schema!C654)=2,100,IF(LEN(Schema!D654)=2,1000,IF(LEN(Schema!E654)=2,10000,0))))))","v":0},10,{"$f":"IF(A642=\"\",\"\",SUM(Tabel2[[#This Row],[I1]:[I2]]))","v":10},"PP","VE","","","","PP/VE",{"$f":"IF(C642=\"\",\"\",IF(LEN(Tabel2[[#This Row],[Entiteit of attribuut]])=2,\"\",Tabel2[[#This Row],[Entiteit]]&\"_\"&Tabel2[[#This Row],[Entiteit of attribuut]]))","v":"VE_TWEEDED"},{"$f":"IF(Schema!K654=\"\",\"\",Schema!K654)","v":""},{"$f":"IF(Schema!L654=\"\",\"\",Schema!L654)","v":""},{"$f":"IF(Schema!M654=\"\",\"\",Schema!M654)","v":""},{"$f":"IF(Schema!N654=\"\",\"\",Schema!N654)","v":""},{"$f":"IF(Schema!P654=\"\",\"\",Schema!P654)","v":"O"}]
[{"$f":"Schema!A655&Schema!B655&Schema!C655&Schema!D655&Schema!E655&Schema!F655","v":"VOLGNUM"},{"$f":"IF(LEN(A643)=2,A643,IF(A643=\"\",\"Leeg\",B642))","v":"VE"},{"$f":"IF(A643=\"\",\"\",IF(LEN(Schema!A655)=2,1,IF(LEN(Schema!B655)=2,10,IF(LEN(Schema!C655)=2,100,IF(LEN(Schema!D655)=2,1000,IF(LEN(Schema!E655)=2,10000,0))))))","v":0},{"$f":"IF(C643=0,D642,C643)","v":10},{"$f":"IF(A643=\"\",\"\",SUM(Tabel2[[#This Row],[I1]:[I2]]))","v":10},{"$f":"IF(A643=\"\",\"\",IF(C643=1,B643,F642))","v":"PP"},{"$f":"IF(C643=10,A643,IF(OR(C643=0,C643=100,C643=1000,C643=10000),G642,\"\"))","v":"VE"},{"$f":"IF(E643=200,B643,IF(OR(C643=0,C643=100,C643=1000,C643=10000),H642,\"\"))","v":""},{"$f":"IF(E643=2000,B643,IF(OR(C643=0,C643=10000),I642,\"\"))","v":""},{"$f":"IF(E643=20000,B643,IF(OR(C643=0,,C643=10000),J642,\"\"))","v":""},{"$f":"IF(C643=\"\",\"\",IF(OR(E643=1,E643=10,E643=100,E643=1000,E643=10000),K642,IF(E643=2,F643,IF(E643=20,F643&\"/\"&G643,IF(E643=200,F643&\"/\"&G643&\"/\"&H643,IF(E643=2000,F643&\"/\"&G643&\"/\"&H643&\"/\"&I643,IF(E643=20000,F643&\"/\"&G643&\"/\"&H643&\"/\"&I643&\"/\"&J643)))))))","v":"PP/VE"},{"$f":"IF(C643=\"\",\"\",IF(LEN(Tabel2[[#This Row],[Entiteit of attribuut]])=2,\"\",Tabel2[[#This Row],[Entiteit]]&\"_\"&Tabel2[[#This Row],[Entiteit of attribuut]]))","v":"VE_VOLGNUM"},{"$f":"IF(Schema!K655=\"\",\"\",Schema!K655)","v":""},{"$f":"IF(Schema!L655=\"\",\"\",Schema!L655)","v":""},{"$f":"IF(Schema!M655=\"\",\"\",Schema!M655)","v":""},{"$f":"IF(Schema!N655=\"\",\"\",Schema!N655)","v":""},{"$f":"IF(Schema!P655=\"\",\"\",Schema!P655)","v":"LEEG"}]
[{"$f":"Schema!A656&Schema!B656&Schema!C656&Schema!D656&Schema!E656&Schema!F656","v":"VRWRKCD"},"VE",{"$f":"IF(A644=\"\",\"\",IF(LEN(Schema!A656)=2,1,IF(LEN(Schema!B656)=2,10,IF(LEN(Schema!C656)=2,100,IF(LEN(Schema!D656)=2,1000,IF(LEN(Schema!E656)=2,10000,0))))))","v":0},10,{"$f":"IF(A644=\"\",\"\",SUM(Tabel2[[#This Row],[I1]:[I2]]))","v":10},"PP","VE","","","","PP/VE",{"$f":"IF(C644=\"\",\"\",IF(LEN(Tabel2[[#This Row],[Entiteit of attribuut]])=2,\"\",Tabel2[[#This Row],[Entiteit]]&\"_\"&Tabel2[[#This Row],[Entiteit of attribuut]]))","v":"VE_VRWRKCD"},{"$f":"IF(Schema!K656=\"\",\"\",Schema!K656)","v":""},{"$f":"IF(Schema!L656=\"\",\"\",Schema!L656)","v":""},{"$f":"IF(Schema!M656=\"\",\"\",Schema!M656)","v":""},{"$f":"IF(Schema!N656=\"\",\"\",Schema!N656)","v":""},{"$f":"IF(Schema!P656=\"\",\"\",Schema!P656)","v":"LEEG"}]
[{"$f":"Schema!A657&Schema!B657&Schema!C657&Schema!D657&Schema!E657&Schema!F657","v":"KP"},"KP",{"$f":"IF(A645=\"\",\"\",IF(LEN(Schema!A657)=2,1,IF(LEN(Schema!B657)=2,10,IF(LEN(Schema!C657)=2,100,IF(LEN(Schema!D657)=2,1000,IF(LEN(Schema!E657)=2,10000,0))))))","v":100},100,{"$f":"IF(A645=\"\",\"\",SUM(Tabel2[[#This Row],[I1]:[I2]]))","v":200},"PP","VE","KP","","","PP/VE/KP",{"$f":"IF(C645=\"\",\"\",IF(LEN(Tabel2[[#This Row],[Entiteit of attribuut]])=2,\"\",Tabel2[[#This Row],[Entiteit]]&\"_\"&Tabel2[[#This Row],[Entiteit of attribuut]]))","v":""},{"$f":"IF(Schema!K657=\"\",\"\",Schema!K657)","v":""},{"$f":"IF(Schema!L657=\"\",\"\",Schema!L657)","v":""},{"$f":"IF(Schema!M657=\"\",\"\",Schema!M657)","v":""},{"$f":"IF(Schema!N657=\"\",\"\",Schema!N657)","v":""},{"$f":"IF(Schema!P657=\"\",\"\",Schema!P657)","v":"LEEG"}]
[{"$f":"Schema!A658&Schema!B658&Schema!C658&Schema!D658&Schema!E658&Schema!F658","v":"ANAAM"},"KP",{"$f":"IF(A646=\"\",\"\",IF(LEN(Schema!A658)=2,1,IF(LEN(Schema!B658)=2,10,IF(LEN(Schema!C658)=2,100,IF(LEN(Schema!D658)=2,1000,IF(LEN(Schema!E658)=2,10000,0))))))","v":0},100,{"$f":"IF(A646=\"\",\"\",SUM(Tabel2[[#This Row],[I1]:[I2]]))","v":100},"PP","VE","KP","","","PP/VE/KP",{"$f":"IF(C646=\"\",\"\",IF(LEN(Tabel2[[#This Row],[Entiteit of attribuut]])=2,\"\",Tabel2[[#This Row],[Entiteit]]&\"_\"&Tabel2[[#This Row],[Entiteit of attribuut]]))","v":"KP_ANAAM"},{"$f":"IF(Schema!K658=\"\",\"\",Schema!K658)","v":""},{"$f":"IF(Schema!L658=\"\",\"\",Schema!L658)","v":""},{"$f":"IF(Schema!M658=\"\",\"\",Schema!M658)","v":""},{"$f":"IF(Schema!N658=\"\",\"\",Schema!N658)","v":""},{"$f":"IF(Schema!P658=\"\",\"\",Schema!P658)","v":"LEEG"}]
[{"$f":"Schema!A659&Schema!B659&Schema!C659&Schema!D659&Schema!E659&Schema!F659","v":"ENTITEI"},"KP",{"$f":"IF(A647=\"\",\"\",IF(LEN(Schema!A659)=2,1,IF(LEN(Schema!B659)=2,10,IF(LEN(Schema!C659)=2,100,IF(LEN(Schema!D659)=2,1000,IF(LEN(Schema!E659)=2,10000,0))))))","v":0},100,{"$f":"IF(A647=\"\",\"\",SUM(Tabel2[[#This Row],[I1]:[I2]]))","v":100},"PP","VE","KP","","","PP/VE/KP",{"$f":"IF(C647=\"\",\"\",IF(LEN(Tabel2[[#This Row],[Entiteit of attribuut]])=2,\"\",Tabel2[[#This Row],[Entiteit]]&\"_\"&Tabel2[[#This Row],[Entiteit of attribuut]]))","v":"KP_ENTITEI"},{"$f":"IF(Schema!K659=\"\",\"\",Schema!K659)","v":""},{"$f":"IF(Schema!L659=\"\",\"\",Schema!L659)","v":""},{"$f":"IF(Schema!M659=\"\",\"\",Schema!M659)","v":""},{"$f":"IF(Schema!N659=\"\",\"\",Schema!N659)","v":""},{"$f":"IF(Schema!P659=\"\",\"\",Schema!P659)","v":"LEEG"}]
[{"$f":"Schema!A660&Schema!B660&Schema!C660&Schema!D660&Schema!E660&Schema!F660","v":"EMAIL"},"KP",{"$f":"IF(A648=\"\",\"\",IF(LEN(Schema!A660)=2,1,IF(LEN(Schema!B660)=2,10,IF(LEN(Schema!C660)=2,100,IF(LEN(Schema!D660)=2,1000,IF(LEN(Schema!E660)=2,10000,0))))))","v":0},100,{"$f":"IF(A648=\"\",\"\",SUM(Tabel2[[#This Row],[I1]:[I2]]))","v":100},"PP","VE","KP","","","PP/VE/KP",{"$f":"IF(C648=\"\",\"\",IF(LEN(Tabel2[[#This Row],[Entiteit of attribuut]])=2,\"\",Tabel2[[#This Row],[Entiteit]]&\"_\"&Tabel2[[#This Row],[Entiteit of attribuut]]))","v":"KP_EMAIL"},{"$f":"IF(Schema!K660=\"\",\"\",Schema!K660)","v":""},{"$f":"IF(Schema!L660=\"\",\"\",Schema!L660)","v":""},{"$f":"IF(Schema!M660=\"\",\"\",Schema!M660)","v":""},{"$f":"IF(Schema!N660=\"\",\"\",Schema!N660)","v":""},{"$f":"IF(Schema!P660=\"\",\"\",Schema!P660)","v":"LEEG"}]
[{"$f":"Schema!A661&Schema!B661&Schema!C661&Schema!D661&Schema!E661&Schema!F661","v":"VRWRKCD"},"KP",{"$f":"IF(A649=\"\",\"\",IF(LEN(Schema!A661)=2,1,IF(LEN(Schema!B661)=2,10,IF(LEN(Schema!C661)=2,100,IF(LEN(Schema!D661)=2,1000,IF(LEN(Schema!E661)=2,10000,0))))))","v":0},100,{"$f":"IF(A649=\"\",\"\",SUM(Tabel2[[#This Row],[I1]:[I2]]))","v":100},"PP","VE","KP","","","PP/VE/KP",{"$f":"IF(C649=\"\",\"\",IF(LEN(Tabel2[[#This Row],[Entiteit of attribuut]])=2,\"\",Tabel2[[#This Row],[Entiteit]]&\"_\"&Tabel2[[#This Row],[Entiteit of attribuut]]))","v":"KP_VRWRKCD"},{"$f":"IF(Schema!K661=\"\",\"\",Schema!K661)","v":""},{"$f":"IF(Schema!L661=\"\",\"\",Schema!L661)","v":""},{"$f":"IF(Schema!M661=\"\",\"\",Schema!M661)","v":""},{"$f":"IF(Schema!N661=\"\",\"\",Schema!N661)","v":""},{"$f":"IF(Schema!P661=\"\",\"\",Schema!P661)","v":"LEEG"}]
[{"$f":"Schema!A662&Schema!B662&Schema!C662&Schema!D662&Schema!E662&Schema!F662","v":"VL"},"VL",{"$f":"IF(A650=\"\",\"\",IF(LEN(Schema!A662)=2,1,IF(LEN(Schema!B662)=2,10,IF(LEN(Schema!C662)=2,100,IF(LEN(Schema!D662)=2,1000,IF(LEN(Schema!E662)=2,10000,0))))))","v":10},10,{"$f":"IF(A650=\"\",\"\",SUM(Tabel2[[#This Row],[I1]:[I2]]))","v":20},"PP","VL","","","","PP/VL",{"$f":"IF(C650=\"\",\"\",IF(LEN(Tabel2[[#This Row],[Entiteit of attribuut]])=2,\"\",Tabel2[[#This Row],[Entiteit]]&\"_\"&Tabel2[[#This Row],[Entiteit of attribuut]]))","v":""},{"$f":"IF(Schema!K662=\"\",\"\",Schema!K662)","v":""},{"$f":"IF(Schema!L662=\"\",\"\",Schema!L662)","v":""},{"$f":"IF(Schema!M662=\"\",\"\",Schema!M662)","v":""},{"$f":"IF(Schema!N662=\"\",\"\",Schema!N662)","v":""},{"$f":"IF(Schema!P662=\"\",\"\",Schema!P662)","v":"V"}]
[{"$f":"Schema!A663&Schema!B663&Schema!C663&Schema!D663&Schema!E663&Schema!F663","v":"ANAAM"},"VL",{"$f":"IF(A651=\"\",\"\",IF(LEN(Schema!A663)=2,1,IF(LEN(Schema!B663)=2,10,IF(LEN(Schema!C663)=2,100,IF(LEN(Schema!D663)=2,1000,IF(LEN(Schema!E663)=2,10000,0))))))","v":0},10,{"$f":"IF(A651=\"\",\"\",SUM(Tabel2[[#This Row],[I1]:[I2]]))","v":10},"PP","VL","","","","PP/VL",{"$f":"IF(C651=\"\",\"\",IF(LEN(Tabel2[[#This Row],[Entiteit of attribuut]])=2,\"\",Tabel2[[#This Row],[Entiteit]]&\"_\"&Tabel2[[#This Row],[Entiteit of attribuut]]))","v":"VL_ANAAM"},{"$f":"IF(Schema!K663=\"\",\"\",Schema!K663)","v":""},{"$f":"IF(Schema!L663=\"\",\"\",Schema!L663)","v":""},{"$f":"IF(Schema!M663=\"\",\"\",Schema!M663)","v":""},{"$f":"IF(Schema!N663=\"\",\"\",Schema!N663)","v":""},{"$f":"IF(Schema!P663=\"\",\"\",Schema!P663)","v":"V"}]
[{"$f":"Schema!A664&Schema!B664&Schema!C664&Schema!D664&Schema!E664&Schema!F664","v":"EMAIL"},"VL",{"$f":"IF(A652=\"\",\"\",IF(LEN(Schema!A664)=2,1,IF(LEN(Schema!B664)=2,10,IF(LEN(Schema!C664)=2,100,IF(LEN(Schema!D664)=2,1000,IF(LEN(Schema!E664)=2,10000,0))))))","v":0},10,{"$f":"IF(A652=\"\",\"\",SUM(Tabel2[[#This Row],[I1]:[I2]]))","v":10},"PP","VL","","","","PP/VL",{"$f":"IF(C652=\"\",\"\",IF(LEN(Tabel2[[#This Row],[Entiteit of attribuut]])=2,\"\",Tabel2[[#This Row],[Entiteit]]&\"_\"&Tabel2[[#This Row],[Entiteit of attribuut]]))","v":"VL_EMAIL"},{"$f":"IF(Schema!K664=\"\",\"\",Schema!K664)","v":""},{"$f":"IF(Schema!L664=\"\",\"\",Schema!L664)","v":""},{"$f":"IF(Schema!M664=\"\",\"\",Schema!M664)","v":""},{"$f":"IF(Schema!N664=\"\",\"\",Schema!N664)","v":""},{"$f":"IF(Schema!P664=\"\",\"\",Schema!P664)","v":"O"}]
[{"$f":"Schema!A665&Schema!B665&Schema!C665&Schema!D665&Schema!E665&Schema!F665","v":"MYAAND"},"VL",{"$f":"IF(A653=\"\",\"\",IF(LEN(Schema!A665)=2,1,IF(LEN(Schema!B665)=2,10,IF(LEN(Schema!C665)=2,100,IF(LEN(Schema!D665)=2,1000,IF(LEN(Schema!E665)=2,10000,0))))))","v":0},10,{"$f":"IF(A653=\"\",\"\",SUM(Tabel2[[#This Row],[I1]:[I2]]))","v":10},"PP","VL","","","","PP/VL",{"$f":"IF(C653=\"\",\"\",IF(LEN(Tabel2[[#This Row],[Entiteit of attribuut]])=2,\"\",Tabel2[[#This Row],[Entiteit]]&\"_\"&Tabel2[[#This Row],[Entiteit of attribuut]]))","v":"VL_MYAAND"},{"$f":"IF(Schema!K665=\"\",\"\",Schema!K665)","v":""},{"$f":"IF(Schema!L665=\"\",\"\",Schema!L665)","v":""},{"$f":"IF(Schema!M665=\"\",\"\",Schema!M665)","v":""},{"$f":"IF(Schema!N665=\"\",\"\",Schema!N665)","v":""},{"$f":"IF(Schema!P665=\"\",\"\",Schema!P665)","v":"V"}]
[{"$f":"Schema!A666&Schema!B666&Schema!C666&Schema!D666&Schema!E666&Schema!F666","v":"TELNUM"},"VL",{"$f":"IF(A654=\"\",\"\",IF(LEN(Schema!A666)=2,1,IF(LEN(Schema!B666)=2,10,IF(LEN(Schema!C666)=2,100,IF(LEN(Schema!D666)=2,1000,IF(LEN(Schema!E666)=2,10000,0))))))","v":0},10,{"$f":"IF(A654=\"\",\"\",SUM(Tabel2[[#This Row],[I1]:[I2]]))","v":10},"PP","VL","","","","PP/VL",{"$f":"IF(C654=\"\",\"\",IF(LEN(Tabel2[[#This Row],[Entiteit of attribuut]])=2,\"\",Tabel2[[#This Row],[Entiteit]]&\"_\"&Tabel2[[#This Row],[Entiteit of attribuut]]))","v":"VL_TELNUM"},{"$f":"IF(Schema!K666=\"\",\"\",Schema!K666)","v":""},{"$f":"IF(Schema!L666=\"\",\"\",Schema!L666)","v":""},{"$f":"IF(Schema!M666=\"\",\"\",Schema!M666)","v":""},{"$f":"IF(Schema!N666=\"\",\"\",Schema!N666)","v":""},{"$f":"IF(Schema!P666=\"\",\"\",Schema!P666)","v":"O"}]
[{"$f":"Schema!A667&Schema!B667&Schema!C667&Schema!D667&Schema!E667&Schema!F667","v":"TWEEDED"},"VL",{"$f":"IF(A655=\"\",\"\",IF(LEN(Schema!A667)=2,1,IF(LEN(Schema!B667)=2,10,IF(LEN(Schema!C667)=2,100,IF(LEN(Schema!D667)=2,1000,IF(LEN(Schema!E667)=2,10000,0))))))","v":0},10,{"$f":"IF(A655=\"\",\"\",SUM(Tabel2[[#This Row],[I1]:[I2]]))","v":10},"PP","VL","","","","PP/VL",{"$f":"IF(C655=\"\",\"\",IF(LEN(Tabel2[[#This Row],[Entiteit of attribuut]])=2,\"\",Tabel2[[#This Row],[Entiteit]]&\"_\"&Tabel2[[#This Row],[Entiteit of attribuut]]))","v":"VL_TWEEDED"},{"$f":"IF(Schema!K667=\"\",\"\",Schema!K667)","v":""},{"$f":"IF(Schema!L667=\"\",\"\",Schema!L667)","v":""},{"$f":"IF(Schema!M667=\"\",\"\",Schema!M667)","v":""},{"$f":"IF(Schema!N667=\"\",\"\",Schema!N667)","v":""},{"$f":"IF(Schema!P667=\"\",\"\",Schema!P667)","v":"O"}]
[{"$f":"Schema!A668&Schema!B668&Schema!C668&Schema!D668&Schema!E668&Schema!F668","v":"VEIDNR"},"VL",{"$f":"IF(A656=\"\",\"\",IF(LEN(Schema!A668)=2,1,IF(LEN(Schema!B668)=2,10,IF(LEN(Schema!C668)=2,100,IF(LEN(Schema!D668)=2,1000,IF(LEN(Schema!E668)=2,10000,0))))))","v":0},10,{"$f":"IF(A656=\"\",\"\",SUM(Tabel2[[#This Row],[I1]:[I2]]))","v":10},"PP","VL","","","","PP/VL",{"$f":"IF(C656=\"\",\"\",IF(LEN(Tabel2[[#This Row],[Entiteit of attribuut]])=2,\"\",Tabel2[[#This Row],[Entiteit]]&\"_\"&Tabel2[[#This Row],[Entiteit of attribuut]]))","v":"VL_VEIDNR"},{"$f":"IF(Schema!K668=\"\",\"\",Schema!K668)","v":""},{"$f":"IF(Schema!L668=\"\",\"\",Schema!L668)","v":""},{"$f":"IF(Schema!M668=\"\",\"\",Schema!M668)","v":""},{"$f":"IF(Schema!N668=\"\",\"\",Schema!N668)","v":""},{"$f":"IF(Schema!P668=\"\",\"\",Schema!P668)","v":"O"}]
[{"$f":"Schema!A669&Schema!B669&Schema!C669&Schema!D669&Schema!E669&Schema!F669","v":"VOLGNUM"},"VL",{"$f":"IF(A657=\"\",\"\",IF(LEN(Schema!A669)=2,1,IF(LEN(Schema!B669)=2,10,IF(LEN(Schema!C669)=2,100,IF(LEN(Schema!D669)=2,1000,IF(LEN(Schema!E669)=2,10000,0))))))","v":0},10,{"$f":"IF(A657=\"\",\"\",SUM(Tabel2[[#This Row],[I1]:[I2]]))","v":10},"PP","VL","","","","PP/VL",{"$f":"IF(C657=\"\",\"\",IF(LEN(Tabel2[[#This Row],[Entiteit of attribuut]])=2,\"\",Tabel2[[#This Row],[Entiteit]]&\"_\"&Tabel2[[#This Row],[Entiteit of attribuut]]))","v":"VL_VOLGNUM"},{"$f":"IF(Schema!K669=\"\",\"\",Schema!K669)","v":""},{"$f":"IF(Schema!L669=\"\",\"\",Schema!L669)","v":""},{"$f":"IF(Schema!M669=\"\",\"\",Schema!M669)","v":""},{"$f":"IF(Schema!N669=\"\",\"\",Schema!N669)","v":""},{"$f":"IF(Schema!P669=\"\",\"\",Schema!P669)","v":"LEEG"}]
[{"$f":"Schema!A670&Schema!B670&Schema!C670&Schema!D670&Schema!E670&Schema!F670","v":"VRWRKCD"},"VL",{"$f":"IF(A658=\"\",\"\",IF(LEN(Schema!A670)=2,1,IF(LEN(Schema!B670)=2,10,IF(LEN(Schema!C670)=2,100,IF(LEN(Schema!D670)=2,1000,IF(LEN(Schema!E670)=2,10000,0))))))","v":0},10,{"$f":"IF(A658=\"\",\"\",SUM(Tabel2[[#This Row],[I1]:[I2]]))","v":10},"PP","VL","","","","PP/VL",{"$f":"IF(C658=\"\",\"\",IF(LEN(Tabel2[[#This Row],[Entiteit of attribuut]])=2,\"\",Tabel2[[#This Row],[Entiteit]]&\"_\"&Tabel2[[#This Row],[Entiteit of attribuut]]))","v":"VL_VRWRKCD"},{"$f":"IF(Schema!K670=\"\",\"\",Schema!K670)","v":""},{"$f":"IF(Schema!L670=\"\",\"\",Schema!L670)","v":""},{"$f":"IF(Schema!M670=\"\",\"\",Schema!M670)","v":""},{"$f":"IF(Schema!N670=\"\",\"\",Schema!N670)","v":""},{"$f":"IF(Schema!P670=\"\",\"\",Schema!P670)","v":"LEEG"}]
[{"$f":"Schema!A671&Schema!B671&Schema!C671&Schema!D671&Schema!E671&Schema!F671","v":"VS"},"VS",{"$f":"IF(A659=\"\",\"\",IF(LEN(Schema!A671)=2,1,IF(LEN(Schema!B671)=2,10,IF(LEN(Schema!C671)=2,100,IF(LEN(Schema!D671)=2,1000,IF(LEN(Schema!E671)=2,10000,0))))))","v":10},10,{"$f":"IF(A659=\"\",\"\",SUM(Tabel2[[#This Row],[I1]:[I2]]))","v":20},"PP","VS","","","","PP/VS",{"$f":"IF(C659=\"\",\"\",IF(LEN(Tabel2[[#This Row],[Entiteit of attribuut]])=2,\"\",Tabel2[[#This Row],[Entiteit]]&\"_\"&Tabel2[[#This Row],[Entiteit of attribuut]]))","v":""},{"$f":"IF(Schema!K671=\"\",\"\",Schema!K671)","v":""},{"$f":"IF(Schema!L671=\"\",\"\",Schema!L671)","v":""},{"$f":"IF(Schema!M671=\"\",\"\",Schema!M671)","v":""},{"$f":"IF(Schema!N671=\"\",\"\",Schema!N671)","v":""},{"$f":"IF(Schema!P671=\"\",\"\",Schema!P671)","v":"LEEG"}]
[{"$f":"Schema!A672&Schema!B672&Schema!C672&Schema!D672&Schema!E672&Schema!F672","v":"BYZVVE"},"VS",{"$f":"IF(A660=\"\",\"\",IF(LEN(Schema!A672)=2,1,IF(LEN(Schema!B672)=2,10,IF(LEN(Schema!C672)=2,100,IF(LEN(Schema!D672)=2,1000,IF(LEN(Schema!E672)=2,10000,0))))))","v":0},10,{"$f":"IF(A660=\"\",\"\",SUM(Tabel2[[#This Row],[I1]:[I2]]))","v":10},"PP","VS","","","","PP/VS",{"$f":"IF(C660=\"\",\"\",IF(LEN(Tabel2[[#This Row],[Entiteit of attribuut]])=2,\"\",Tabel2[[#This Row],[Entiteit]]&\"_\"&Tabel2[[#This Row],[Entiteit of attribuut]]))","v":"VS_BYZVVE"},{"$f":"IF(Schema!K672=\"\",\"\",Schema!K672)","v":""},{"$f":"IF(Schema!L672=\"\",\"\",Schema!L672)","v":""},{"$f":"IF(Schema!M672=\"\",\"\",Schema!M672)","v":""},{"$f":"IF(Schema!N672=\"\",\"\",Schema!N672)","v":""},{"$f":"IF(Schema!P672=\"\",\"\",Schema!P672)","v":"LEEG"}]
[{"$f":"Schema!A673&Schema!B673&Schema!C673&Schema!D673&Schema!E673&Schema!F673","v":"BYZVVET"},"VS",{"$f":"IF(A661=\"\",\"\",IF(LEN(Schema!A673)=2,1,IF(LEN(Schema!B673)=2,10,IF(LEN(Schema!C673)=2,100,IF(LEN(Schema!D673)=2,1000,IF(LEN(Schema!E673)=2,10000,0))))))","v":0},10,{"$f":"IF(A661=\"\",\"\",SUM(Tabel2[[#This Row],[I1]:[I2]]))","v":10},"PP","VS","","","","PP/VS",{"$f":"IF(C661=\"\",\"\",IF(LEN(Tabel2[[#This Row],[Entiteit of attribuut]])=2,\"\",Tabel2[[#This Row],[Entiteit]]&\"_\"&Tabel2[[#This Row],[Entiteit of attribuut]]))","v":"VS_BYZVVET"},{"$f":"IF(Schema!K673=\"\",\"\",Schema!K673)","v":""},{"$f":"IF(Schema!L673=\"\",\"\",Schema!L673)","v":""},{"$f":"IF(Schema!M673=\"\",\"\",Schema!M673)","v":""},{"$f":"IF(Schema!N673=\"\",\"\",Schema!N673)","v":""},{"$f":"IF(Schema!P673=\"\",\"\",Schema!P673)","v":"LEEG"}]
[{"$f":"Schema!A674&Schema!B674&Schema!C674&Schema!D674&Schema!E674&Schema!F674","v":"EIMAVVE"},"VS",{"$f":"IF(A662=\"\",\"\",IF(LEN(Schema!A674)=2,1,IF(LEN(Schema!B674)=2,10,IF(LEN(Schema!C674)=2,100,IF(LEN(Schema!D674)=2,1000,IF(LEN(Schema!E674)=2,10000,0))))))","v":0},10,{"$f":"IF(A662=\"\",\"\",SUM(Tabel2[[#This Row],[I1]:[I2]]))","v":10},"PP","VS","","","","PP/VS",{"$f":"IF(C662=\"\",\"\",IF(LEN(Tabel2[[#This Row],[Entiteit of attribuut]])=2,\"\",Tabel2[[#This Row],[Entiteit]]&\"_\"&Tabel2[[#This Row],[Entiteit of attribuut]]))","v":"VS_EIMAVVE"},{"$f":"IF(Schema!K674=\"\",\"\",Schema!K674)","v":""},{"$f":"IF(Schema!L674=\"\",\"\",Schema!L674)","v":""},{"$f":"IF(Schema!M674=\"\",\"\",Schema!M674)","v":""},{"$f":"IF(Schema!N674=\"\",\"\",Schema!N674)","v":""},{"$f":"IF(Schema!P674=\"\",\"\",Schema!P674)","v":"LEEG"}]
[{"$f":"Schema!A675&Schema!B675&Schema!C675&Schema!D675&Schema!E675&Schema!F675","v":"ENTITEI"},"VS",{"$f":"IF(A663=\"\",\"\",IF(LEN(Schema!A675)=2,1,IF(LEN(Schema!B675)=2,10,IF(LEN(Schema!C675)=2,100,IF(LEN(Schema!D675)=2,1000,IF(LEN(Schema!E675)=2,10000,0))))))","v":0},10,{"$f":"IF(A663=\"\",\"\",SUM(Tabel2[[#This Row],[I1]:[I2]]))","v":10},"PP","VS","","","","PP/VS",{"$f":"IF(C663=\"\",\"\",IF(LEN(Tabel2[[#This Row],[Entiteit of attribuut]])=2,\"\",Tabel2[[#This Row],[Entiteit]]&\"_\"&Tabel2[[#This Row],[Entiteit of attribuut]]))","v":"VS_ENTITEI"},{"$f":"IF(Schema!K675=\"\",\"\",Schema!K675)","v":""},{"$f":"IF(Schema!L675=\"\",\"\",Schema!L675)","v":""},{"$f":"IF(Schema!M675=\"\",\"\",Schema!M675)","v":""},{"$f":"IF(Schema!N675=\"\",\"\",Schema!N675)","v":""},{"$f":"IF(Schema!P675=\"\",\"\",Schema!P675)","v":"LEEG"}]
[{"$f":"Schema!A676&Schema!B676&Schema!C676&Schema!D676&Schema!E676&Schema!F676","v":"ENTREF"},"VS",{"$f":"IF(A664=\"\",\"\",IF(LEN(Schema!A676)=2,1,IF(LEN(Schema!B676)=2,10,IF(LEN(Schema!C676)=2,100,IF(LEN(Schema!D676)=2,1000,IF(LEN(Schema!E676)=2,10000,0))))))","v":0},10,{"$f":"IF(A664=\"\",\"\",SUM(Tabel2[[#This Row],[I1]:[I2]]))","v":10},"PP","VS","","","","PP/VS",{"$f":"IF(C664=\"\",\"\",IF(LEN(Tabel2[[#This Row],[Entiteit of attribuut]])=2,\"\",Tabel2[[#This Row],[Entiteit]]&\"_\"&Tabel2[[#This Row],[Entiteit of attribuut]]))","v":"VS_ENTREF"},{"$f":"IF(Schema!K676=\"\",\"\",Schema!K676)","v":""},{"$f":"IF(Schema!L676=\"\",\"\",Schema!L676)","v":""},{"$f":"IF(Schema!M676=\"\",\"\",Schema!M676)","v":""},{"$f":"IF(Schema!N676=\"\",\"\",Schema!N676)","v":""},{"$f":"IF(Schema!P676=\"\",\"\",Schema!P676)","v":"LEEG"}]
[{"$f":"Schema!A677&Schema!B677&Schema!C677&Schema!D677&Schema!E677&Schema!F677","v":"HFDVVE"},"VS",{"$f":"IF(A665=\"\",\"\",IF(LEN(Schema!A677)=2,1,IF(LEN(Schema!B677)=2,10,IF(LEN(Schema!C677)=2,100,IF(LEN(Schema!D677)=2,1000,IF(LEN(Schema!E677)=2,10000,0))))))","v":0},10,{"$f":"IF(A665=\"\",\"\",SUM(Tabel2[[#This Row],[I1]:[I2]]))","v":10},"PP","VS","","","","PP/VS",{"$f":"IF(C665=\"\",\"\",IF(LEN(Tabel2[[#This Row],[Entiteit of attribuut]])=2,\"\",Tabel2[[#This Row],[Entiteit]]&\"_\"&Tabel2[[#This Row],[Entiteit of attribuut]]))","v":"VS_HFDVVE"},{"$f":"IF(Schema!K677=\"\",\"\",Schema!K677)","v":""},{"$f":"IF(Schema!L677=\"\",\"\",Schema!L677)","v":""},{"$f":"IF(Schema!M677=\"\",\"\",Schema!M677)","v":""},{"$f":"IF(Schema!N677=\"\",\"\",Schema!N677)","v":""},{"$f":"IF(Schema!P677=\"\",\"\",Schema!P677)","v":"LEEG"}]
[{"$f":"Schema!A678&Schema!B678&Schema!C678&Schema!D678&Schema!E678&Schema!F678","v":"HNDORG"},"VS",{"$f":"IF(A666=\"\",\"\",IF(LEN(Schema!A678)=2,1,IF(LEN(Schema!B678)=2,10,IF(LEN(Schema!C678)=2,100,IF(LEN(Schema!D678)=2,1000,IF(LEN(Schema!E678)=2,10000,0))))))","v":0},10,{"$f":"IF(A666=\"\",\"\",SUM(Tabel2[[#This Row],[I1]:[I2]]))","v":10},"PP","VS","","","","PP/VS",{"$f":"IF(C666=\"\",\"\",IF(LEN(Tabel2[[#This Row],[Entiteit of attribuut]])=2,\"\",Tabel2[[#This Row],[Entiteit]]&\"_\"&Tabel2[[#This Row],[Entiteit of attribuut]]))","v":"VS_HNDORG"},{"$f":"IF(Schema!K678=\"\",\"\",Schema!K678)","v":""},{"$f":"IF(Schema!L678=\"\",\"\",Schema!L678)","v":""},{"$f":"IF(Schema!M678=\"\",\"\",Schema!M678)","v":""},{"$f":"IF(Schema!N678=\"\",\"\",Schema!N678)","v":""},{"$f":"IF(Schema!P678=\"\",\"\",Schema!P678)","v":"V"}]
[{"$f":"Schema!A679&Schema!B679&Schema!C679&Schema!D679&Schema!E679&Schema!F679","v":"KADAAND"},"VS",{"$f":"IF(A667=\"\",\"\",IF(LEN(Schema!A679)=2,1,IF(LEN(Schema!B679)=2,10,IF(LEN(Schema!C679)=2,100,IF(LEN(Schema!D679)=2,1000,IF(LEN(Schema!E679)=2,10000,0))))))","v":0},10,{"$f":"IF(A667=\"\",\"\",SUM(Tabel2[[#This Row],[I1]:[I2]]))","v":10},"PP","VS","","","","PP/VS",{"$f":"IF(C667=\"\",\"\",IF(LEN(Tabel2[[#This Row],[Entiteit of attribuut]])=2,\"\",Tabel2[[#This Row],[Entiteit]]&\"_\"&Tabel2[[#This Row],[Entiteit of attribuut]]))","v":"VS_KADAAND"},{"$f":"IF(Schema!K679=\"\",\"\",Schema!K679)","v":""},{"$f":"IF(Schema!L679=\"\",\"\",Schema!L679)","v":""},{"$f":"IF(Schema!M679=\"\",\"\",Schema!M679)","v":""},{"$f":"IF(Schema!N679=\"\",\"\",Schema!N679)","v":""},{"$f":"IF(Schema!P679=\"\",\"\",Schema!P679)","v":"LEEG"}]
[{"$f":"Schema!A680&Schema!B680&Schema!C680&Schema!D680&Schema!E680&Schema!F680","v":"NRHNDRG"},"VS",{"$f":"IF(A668=\"\",\"\",IF(LEN(Schema!A680)=2,1,IF(LEN(Schema!B680)=2,10,IF(LEN(Schema!C680)=2,100,IF(LEN(Schema!D680)=2,1000,IF(LEN(Schema!E680)=2,10000,0))))))","v":0},10,{"$f":"IF(A668=\"\",\"\",SUM(Tabel2[[#This Row],[I1]:[I2]]))","v":10},"PP","VS","","","","PP/VS",{"$f":"IF(C668=\"\",\"\",IF(LEN(Tabel2[[#This Row],[Entiteit of attribuut]])=2,\"\",Tabel2[[#This Row],[Entiteit]]&\"_\"&Tabel2[[#This Row],[Entiteit of attribuut]]))","v":"VS_NRHNDRG"},{"$f":"IF(Schema!K680=\"\",\"\",Schema!K680)","v":""},{"$f":"IF(Schema!L680=\"\",\"\",Schema!L680)","v":""},{"$f":"IF(Schema!M680=\"\",\"\",Schema!M680)","v":""},{"$f":"IF(Schema!N680=\"\",\"\",Schema!N680)","v":""},{"$f":"IF(Schema!P680=\"\",\"\",Schema!P680)","v":"O"}]
[{"$f":"Schema!A681&Schema!B681&Schema!C681&Schema!D681&Schema!E681&Schema!F681","v":"VRWRKCD"},"VS",{"$f":"IF(A669=\"\",\"\",IF(LEN(Schema!A681)=2,1,IF(LEN(Schema!B681)=2,10,IF(LEN(Schema!C681)=2,100,IF(LEN(Schema!D681)=2,1000,IF(LEN(Schema!E681)=2,10000,0))))))","v":0},10,{"$f":"IF(A669=\"\",\"\",SUM(Tabel2[[#This Row],[I1]:[I2]]))","v":10},"PP","VS","","","","PP/VS",{"$f":"IF(C669=\"\",\"\",IF(LEN(Tabel2[[#This Row],[Entiteit of attribuut]])=2,\"\",Tabel2[[#This Row],[Entiteit]]&\"_\"&Tabel2[[#This Row],[Entiteit of attribuut]]))","v":"VS_VRWRKCD"},{"$f":"IF(Schema!K681=\"\",\"\",Schema!K681)","v":""},{"$f":"IF(Schema!L681=\"\",\"\",Schema!L681)","v":""},{"$f":"IF(Schema!M681=\"\",\"\",Schema!M681)","v":""},{"$f":"IF(Schema!N681=\"\",\"\",Schema!N681)","v":""},{"$f":"IF(Schema!P681=\"\",\"\",Schema!P681)","v":"LEEG"}]
[{"$f":"Schema!A682&Schema!B682&Schema!C682&Schema!D682&Schema!E682&Schema!F682","v":"VVEBEST"},"VS",{"$f":"IF(A670=\"\",\"\",IF(LEN(Schema!A682)=2,1,IF(LEN(Schema!B682)=2,10,IF(LEN(Schema!C682)=2,100,IF(LEN(Schema!D682)=2,1000,IF(LEN(Schema!E682)=2,10000,0))))))","v":0},10,{"$f":"IF(A670=\"\",\"\",SUM(Tabel2[[#This Row],[I1]:[I2]]))","v":10},"PP","VS","","","","PP/VS",{"$f":"IF(C670=\"\",\"\",IF(LEN(Tabel2[[#This Row],[Entiteit of attribuut]])=2,\"\",Tabel2[[#This Row],[Entiteit]]&\"_\"&Tabel2[[#This Row],[Entiteit of attribuut]]))","v":"VS_VVEBEST"},{"$f":"IF(Schema!K682=\"\",\"\",Schema!K682)","v":""},{"$f":"IF(Schema!L682=\"\",\"\",Schema!L682)","v":""},{"$f":"IF(Schema!M682=\"\",\"\",Schema!M682)","v":""},{"$f":"IF(Schema!N682=\"\",\"\",Schema!N682)","v":""},{"$f":"IF(Schema!P682=\"\",\"\",Schema!P682)","v":"LEEG"}]
[{"$f":"Schema!A683&Schema!B683&Schema!C683&Schema!D683&Schema!E683&Schema!F683","v":"VVECVF"},"VS",{"$f":"IF(A671=\"\",\"\",IF(LEN(Schema!A683)=2,1,IF(LEN(Schema!B683)=2,10,IF(LEN(Schema!C683)=2,100,IF(LEN(Schema!D683)=2,1000,IF(LEN(Schema!E683)=2,10000,0))))))","v":0},10,{"$f":"IF(A671=\"\",\"\",SUM(Tabel2[[#This Row],[I1]:[I2]]))","v":10},"PP","VS","","","","PP/VS",{"$f":"IF(C671=\"\",\"\",IF(LEN(Tabel2[[#This Row],[Entiteit of attribuut]])=2,\"\",Tabel2[[#This Row],[Entiteit]]&\"_\"&Tabel2[[#This Row],[Entiteit of attribuut]]))","v":"VS_VVECVF"},{"$f":"IF(Schema!K683=\"\",\"\",Schema!K683)","v":""},{"$f":"IF(Schema!L683=\"\",\"\",Schema!L683)","v":""},{"$f":"IF(Schema!M683=\"\",\"\",Schema!M683)","v":""},{"$f":"IF(Schema!N683=\"\",\"\",Schema!N683)","v":""},{"$f":"IF(Schema!P683=\"\",\"\",Schema!P683)","v":"LEEG"}]
[{"$f":"Schema!A684&Schema!B684&Schema!C684&Schema!D684&Schema!E684&Schema!F684","v":"VVEFON"},"VS",{"$f":"IF(A672=\"\",\"\",IF(LEN(Schema!A684)=2,1,IF(LEN(Schema!B684)=2,10,IF(LEN(Schema!C684)=2,100,IF(LEN(Schema!D684)=2,1000,IF(LEN(Schema!E684)=2,10000,0))))))","v":0},10,{"$f":"IF(A672=\"\",\"\",SUM(Tabel2[[#This Row],[I1]:[I2]]))","v":10},"PP","VS","","","","PP/VS",{"$f":"IF(C672=\"\",\"\",IF(LEN(Tabel2[[#This Row],[Entiteit of attribuut]])=2,\"\",Tabel2[[#This Row],[Entiteit]]&\"_\"&Tabel2[[#This Row],[Entiteit of attribuut]]))","v":"VS_VVEFON"},{"$f":"IF(Schema!K684=\"\",\"\",Schema!K684)","v":""},{"$f":"IF(Schema!L684=\"\",\"\",Schema!L684)","v":""},{"$f":"IF(Schema!M684=\"\",\"\",Schema!M684)","v":""},{"$f":"IF(Schema!N684=\"\",\"\",Schema!N684)","v":""},{"$f":"IF(Schema!P684=\"\",\"\",Schema!P684)","v":"LEEG"}]
[{"$f":"Schema!A685&Schema!B685&Schema!C685&Schema!D685&Schema!E685&Schema!F685","v":"VVEIDEN"},"VS",{"$f":"IF(A673=\"\",\"\",IF(LEN(Schema!A685)=2,1,IF(LEN(Schema!B685)=2,10,IF(LEN(Schema!C685)=2,100,IF(LEN(Schema!D685)=2,1000,IF(LEN(Schema!E685)=2,10000,0))))))","v":0},10,{"$f":"IF(A673=\"\",\"\",SUM(Tabel2[[#This Row],[I1]:[I2]]))","v":10},"PP","VS","","","","PP/VS",{"$f":"IF(C673=\"\",\"\",IF(LEN(Tabel2[[#This Row],[Entiteit of attribuut]])=2,\"\",Tabel2[[#This Row],[Entiteit]]&\"_\"&Tabel2[[#This Row],[Entiteit of attribuut]]))","v":"VS_VVEIDEN"},{"$f":"IF(Schema!K685=\"\",\"\",Schema!K685)","v":""},{"$f":"IF(Schema!L685=\"\",\"\",Schema!L685)","v":""},{"$f":"IF(Schema!M685=\"\",\"\",Schema!M685)","v":""},{"$f":"IF(Schema!N685=\"\",\"\",Schema!N685)","v":""},{"$f":"IF(Schema!P685=\"\",\"\",Schema!P685)","v":"V"}]
[{"$f":"Schema!A686&Schema!B686&Schema!C686&Schema!D686&Schema!E686&Schema!F686","v":"VVETYP"},"VS",{"$f":"IF(A674=\"\",\"\",IF(LEN(Schema!A686)=2,1,IF(LEN(Schema!B686)=2,10,IF(LEN(Schema!C686)=2,100,IF(LEN(Schema!D686)=2,1000,IF(LEN(Schema!E686)=2,10000,0))))))","v":0},10,{"$f":"IF(A674=\"\",\"\",SUM(Tabel2[[#This Row],[I1]:[I2]]))","v":10},"PP","VS","","","","PP/VS",{"$f":"IF(C674=\"\",\"\",IF(LEN(Tabel2[[#This Row],[Entiteit of attribuut]])=2,\"\",Tabel2[[#This Row],[Entiteit]]&\"_\"&Tabel2[[#This Row],[Entiteit of attribuut]]))","v":"VS_VVETYP"},{"$f":"IF(Schema!K686=\"\",\"\",Schema!K686)","v":""},{"$f":"IF(Schema!L686=\"\",\"\",Schema!L686)","v":""},{"$f":"IF(Schema!M686=\"\",\"\",Schema!M686)","v":""},{"$f":"IF(Schema!N686=\"\",\"\",Schema!N686)","v":""},{"$f":"IF(Schema!P686=\"\",\"\",Schema!P686)","v":"O"}]
[{"$f":"Schema!A687&Schema!B687&Schema!C687&Schema!D687&Schema!E687&Schema!F687","v":"XG"},"XG",{"$f":"IF(A675=\"\",\"\",IF(LEN(Schema!A687)=2,1,IF(LEN(Schema!B687)=2,10,IF(LEN(Schema!C687)=2,100,IF(LEN(Schema!D687)=2,1000,IF(LEN(Schema!E687)=2,10000,0))))))","v":1},1,{"$f":"IF(A675=\"\",\"\",SUM(Tabel2[[#This Row],[I1]:[I2]]))","v":2},"XG","","","","","XG",{"$f":"IF(C675=\"\",\"\",IF(LEN(Tabel2[[#This Row],[Entiteit of attribuut]])=2,\"\",Tabel2[[#This Row],[Entiteit]]&\"_\"&Tabel2[[#This Row],[Entiteit of attribuut]]))","v":""},{"$f":"IF(Schema!K687=\"\",\"\",Schema!K687)","v":""},{"$f":"IF(Schema!L687=\"\",\"\",Schema!L687)","v":""},{"$f":"IF(Schema!M687=\"\",\"\",Schema!M687)","v":""},{"$f":"IF(Schema!N687=\"\",\"\",Schema!N687)","v":""},{"$f":"IF(Schema!P687=\"\",\"\",Schema!P687)","v":"LEEG"}]
[{"$f":"Schema!A688&Schema!B688&Schema!C688&Schema!D688&Schema!E688&Schema!F688","v":"STATUS"},"XG",{"$f":"IF(A676=\"\",\"\",IF(LEN(Schema!A688)=2,1,IF(LEN(Schema!B688)=2,10,IF(LEN(Schema!C688)=2,100,IF(LEN(Schema!D688)=2,1000,IF(LEN(Schema!E688)=2,10000,0))))))","v":0},1,{"$f":"IF(A676=\"\",\"\",SUM(Tabel2[[#This Row],[I1]:[I2]]))","v":1},"XG","","","","","XG",{"$f":"IF(C676=\"\",\"\",IF(LEN(Tabel2[[#This Row],[Entiteit of attribuut]])=2,\"\",Tabel2[[#This Row],[Entiteit]]&\"_\"&Tabel2[[#This Row],[Entiteit of attribuut]]))","v":"XG_STATUS"},{"$f":"IF(Schema!K688=\"\",\"\",Schema!K688)","v":""},{"$f":"IF(Schema!L688=\"\",\"\",Schema!L688)","v":""},{"$f":"IF(Schema!M688=\"\",\"\",Schema!M688)","v":""},{"$f":"IF(Schema!N688=\"\",\"\",Schema!N688)","v":""},{"$f":"IF(Schema!P688=\"\",\"\",Schema!P688)","v":"LEEG"}]
[{"$f":"Schema!A689&Schema!B689&Schema!C689&Schema!D689&Schema!E689&Schema!F689","v":"STATUST"},"XG",{"$f":"IF(A677=\"\",\"\",IF(LEN(Schema!A689)=2,1,IF(LEN(Schema!B689)=2,10,IF(LEN(Schema!C689)=2,100,IF(LEN(Schema!D689)=2,1000,IF(LEN(Schema!E689)=2,10000,0))))))","v":0},1,{"$f":"IF(A677=\"\",\"\",SUM(Tabel2[[#This Row],[I1]:[I2]]))","v":1},"XG","","","","","XG",{"$f":"IF(C677=\"\",\"\",IF(LEN(Tabel2[[#This Row],[Entiteit of attribuut]])=2,\"\",Tabel2[[#This Row],[Entiteit]]&\"_\"&Tabel2[[#This Row],[Entiteit of attribuut]]))","v":"XG_STATUST"},{"$f":"IF(Schema!K689=\"\",\"\",Schema!K689)","v":""},{"$f":"IF(Schema!L689=\"\",\"\",Schema!L689)","v":""},{"$f":"IF(Schema!M689=\"\",\"\",Schema!M689)","v":""},{"$f":"IF(Schema!N689=\"\",\"\",Schema!N689)","v":""},{"$f":"IF(Schema!P689=\"\",\"\",Schema!P689)","v":"LEEG"}]
[{"$f":"Schema!A690&Schema!B690&Schema!C690&Schema!D690&Schema!E690&Schema!F690","v":"VRWRKCD"},"XG",{"$f":"IF(A678=\"\",\"\",IF(LEN(Schema!A690)=2,1,IF(LEN(Schema!B690)=2,10,IF(LEN(Schema!C690)=2,100,IF(LEN(Schema!D690)=2,1000,IF(LEN(Schema!E690)=2,10000,0))))))","v":0},1,{"$f":"IF(A678=\"\",\"\",SUM(Tabel2[[#This Row],[I1]:[I2]]))","v":1},"XG","","","","","XG",{"$f":"IF(C678=\"\",\"\",IF(LEN(Tabel2[[#This Row],[Entiteit of attribuut]])=2,\"\",Tabel2[[#This Row],[Entiteit]]&\"_\"&Tabel2[[#This Row],[Entiteit of attribuut]]))","v":"XG_VRWRKCD"},{"$f":"IF(Schema!K690=\"\",\"\",Schema!K690)","v":""},{"$f":"IF(Schema!L690=\"\",\"\",Schema!L690)","v":""},{"$f":"IF(Schema!M690=\"\",\"\",Schema!M690)","v":""},{"$f":"IF(Schema!N690=\"\",\"\",Schema!N690)","v":""},{"$f":"IF(Schema!P690=\"\",\"\",Schema!P690)","v":"LEEG"}]
[{"$f":"Schema!A691&Schema!B691&Schema!C691&Schema!D691&Schema!E691&Schema!F691","v":"XM"},"XM",{"$f":"IF(A679=\"\",\"\",IF(LEN(Schema!A691)=2,1,IF(LEN(Schema!B691)=2,10,IF(LEN(Schema!C691)=2,100,IF(LEN(Schema!D691)=2,1000,IF(LEN(Schema!E691)=2,10000,0))))))","v":10},10,{"$f":"IF(A679=\"\",\"\",SUM(Tabel2[[#This Row],[I1]:[I2]]))","v":20},"XG","XM","","","","XG/XM",{"$f":"IF(C679=\"\",\"\",IF(LEN(Tabel2[[#This Row],[Entiteit of attribuut]])=2,\"\",Tabel2[[#This Row],[Entiteit]]&\"_\"&Tabel2[[#This Row],[Entiteit of attribuut]]))","v":""},{"$f":"IF(Schema!K691=\"\",\"\",Schema!K691)","v":""},{"$f":"IF(Schema!L691=\"\",\"\",Schema!L691)","v":""},{"$f":"IF(Schema!M691=\"\",\"\",Schema!M691)","v":""},{"$f":"IF(Schema!N691=\"\",\"\",Schema!N691)","v":""},{"$f":"IF(Schema!P691=\"\",\"\",Schema!P691)","v":"LEEG"}]
[{"$f":"Schema!A692&Schema!B692&Schema!C692&Schema!D692&Schema!E692&Schema!F692","v":"STATTXT"},"XM",{"$f":"IF(A680=\"\",\"\",IF(LEN(Schema!A692)=2,1,IF(LEN(Schema!B692)=2,10,IF(LEN(Schema!C692)=2,100,IF(LEN(Schema!D692)=2,1000,IF(LEN(Schema!E692)=2,10000,0))))))","v":0},10,{"$f":"IF(A680=\"\",\"\",SUM(Tabel2[[#This Row],[I1]:[I2]]))","v":10},"XG","XM","","","","XG/XM",{"$f":"IF(C680=\"\",\"\",IF(LEN(Tabel2[[#This Row],[Entiteit of attribuut]])=2,\"\",Tabel2[[#This Row],[Entiteit]]&\"_\"&Tabel2[[#This Row],[Entiteit of attribuut]]))","v":"XM_STATTXT"},{"$f":"IF(Schema!K692=\"\",\"\",Schema!K692)","v":""},{"$f":"IF(Schema!L692=\"\",\"\",Schema!L692)","v":""},{"$f":"IF(Schema!M692=\"\",\"\",Schema!M692)","v":""},{"$f":"IF(Schema!N692=\"\",\"\",Schema!N692)","v":""},{"$f":"IF(Schema!P692=\"\",\"\",Schema!P692)","v":"LEEG"}]
[{"$f":"Schema!A693&Schema!B693&Schema!C693&Schema!D693&Schema!E693&Schema!F693","v":"VOLGNUM"},"XM",{"$f":"IF(A681=\"\",\"\",IF(LEN(Schema!A693)=2,1,IF(LEN(Schema!B693)=2,10,IF(LEN(Schema!C693)=2,100,IF(LEN(Schema!D693)=2,1000,IF(LEN(Schema!E693)=2,10000,0))))))","v":0},10,{"$f":"IF(A681=\"\",\"\",SUM(Tabel2[[#This Row],[I1]:[I2]]))","v":10},"XG","XM","","","","XG/XM",{"$f":"IF(C681=\"\",\"\",IF(LEN(Tabel2[[#This Row],[Entiteit of attribuut]])=2,\"\",Tabel2[[#This Row],[Entiteit]]&\"_\"&Tabel2[[#This Row],[Entiteit of attribuut]]))","v":"XM_VOLGNUM"},{"$f":"IF(Schema!K693=\"\",\"\",Schema!K693)","v":""},{"$f":"IF(Schema!L693=\"\",\"\",Schema!L693)","v":""},{"$f":"IF(Schema!M693=\"\",\"\",Schema!M693)","v":""},{"$f":"IF(Schema!N693=\"\",\"\",Schema!N693)","v":""},{"$f":"IF(Schema!P693=\"\",\"\",Schema!P693)","v":"LEEG"}]
[{"$f":"Schema!A694&Schema!B694&Schema!C694&Schema!D694&Schema!E694&Schema!F694","v":"VRWRKCD"},"XM",{"$f":"IF(A682=\"\",\"\",IF(LEN(Schema!A694)=2,1,IF(LEN(Schema!B694)=2,10,IF(LEN(Schema!C694)=2,100,IF(LEN(Schema!D694)=2,1000,IF(LEN(Schema!E694)=2,10000,0))))))","v":0},10,{"$f":"IF(A682=\"\",\"\",SUM(Tabel2[[#This Row],[I1]:[I2]]))","v":10},"XG","XM","","","","XG/XM",{"$f":"IF(C682=\"\",\"\",IF(LEN(Tabel2[[#This Row],[Entiteit of attribuut]])=2,\"\",Tabel2[[#This Row],[Entiteit]]&\"_\"&Tabel2[[#This Row],[Entiteit of attribuut]]))","v":"XM_VRWRKCD"},{"$f":"IF(Schema!K694=\"\",\"\",Schema!K694)","v":""},{"$f":"IF(Schema!L694=\"\",\"\",Schema!L694)","v":""},{"$f":"IF(Schema!M694=\"\",\"\",Schema!M694)","v":""},{"$f":"IF(Schema!N694=\"\",\"\",Schema!N694)","v":""},{"$f":"IF(Schema!P694=\"\",\"\",Schema!P694)","v":"LEEG"}]

{"sheet":" Verbandscontrole","index":3,"n_rows":28,"n_cols":7,"rows_kept":28,"cut":false,"hidden":false,"merged":[[14,6,15,6],[18,6,19,6],[22,6,23,6],[26,2,27,2],[26,5,27,5],[26,6,27,6],[18,2,19,2],[22,2,23,2],[14,2,15,2],[18,5,19,5],[14,5,15,5],[22,5,23,5]]}
["Inventarisatie noodzakelijke attributen "]
["Verzekeraar:",{"$f":"Schema!C2","v":0}]
["Branche:",{"$f":"Schema!C3","v":0}]
["POR maatschappij aanduiding:",{"$f":"Schema!C4","v":0}]
["AFD Definitie naam:",{"$f":"Schema!C5","v":0}]
["AFD Definitie versie nummer:",{"$f":"Schema!C6","v":0}]
["Commerciele productnaam:",{"$f":"Schema!C7","v":0}]
["Bronnen:",{"$f":"Schema!C8","v":0}]
["Contactpersoon:",{"$f":"Schema!C9","v":0}]
["E-mail / Telefoon:",{"$f":"Schema!C10","v":0}]
["Datum:",{"$f":"Schema!C11","v":"24-8-2021"}]
[]
[]
["Conditie","Voorbeeld verbandscontrole",null,"Conditie","Voorbeeld Pseudo-code ","Voorbeeld foutmelding","Bron"]
["If","Dekkingscode is 2002","Aanroep Acceptatie\nAanroep Premieberekening\nKunnen aanleveren","If","CA_CODE = 2002","Bij dekking Casco moet het bedrag oorspronkelijek cataloguswaarde groter zijn dan '0'. ","Rekenbox"]
["Then","moet bedrag oorspronkelijke cataloguswaarde groter zijn dan '0'",null,"Then","OB_VWACA > 0"]
[]
["Conditie","Verbandscontrole 1",null,"Conditie","XPath Verbandscontrole 1","Foutmelding","Bron"]
["If","<Vul hier de conditie waaraan voldaan moet worden> ","Aanroep Acceptatie\nAanroep Premieberekening\nKunnen aanleveren","If","<Vul hier de pseudocode in waaraan voldaan moet worden>","<Vermeld hier welke foutmelding de volmacht krijgt bij een onjuiste validatie> "]
["Then","<Vul hier de validatie die moet worden uitgevoerd als de conditie waar is>",null,"Then","<Vul hier de pseudocode in die bij validatie uitgevoerd moet worden>"]
[]
["Conditie","Verbandscontrole 2",null,"Conditie","XPath Verbandscontrole 2","Foutmelding","Bron"]
["If","<Vul hier de conditie waaraan voldaan moet worden> ","Aanroep Acceptatie\nAanroep Premieberekening\nKunnen aanleveren","If","<Vul hier de pseudocode in waaraan voldaan moet worden>","<Vermeld hier welke foutmelding de volmacht krijgt bij een onjuiste validatie> "]
["Then","<Vul hier de validatie die moet worden uitgevoerd als de conditie waar is>",null,"Then","<Vul hier de pseudocode in waaraan voldaan moet worden>"]
[]
["Conditie","Verbandscontrole 3",null,"Conditie","XPath Verbandscontrole 3","Foutmelding","Bron"]
["If","<Vul hier de conditie waaraan voldaan moet worden> ","Aanroep Acceptatie\nAanroep Premieberekening\nKunnen aanleveren","If","<Vul hier de pseudocode in waaraan voldaan moet worden>","<Vermeld hier welke foutmelding de volmacht krijgt bij een onjuiste validatie> "]
["Then","<Vul hier de validatie die moet worden uitgevoerd als de conditie waar is>",null,"Then","<Vul hier de pseudocode in waaraan voldaan moet worden>"]

{"sheet":"Openstaande punten","index":4,"n_rows":9,"n_cols":3,"rows_kept":9,"cut":false,"hidden":false,"merged":[]}
[]
[null,"Openstaande punten"]
[null,1,"Controleer tab \"Schema\" (zie instructies)"]
[null,2,"Controleer tab \"Verbandscontrole\" (zie instructies)"]
[null,3]
[null,4]
[null,5]
[null,6]
[null,7]

{"sheet":"Updates","index":5,"n_rows":2,"n_cols":4,"rows_kept":2,"cut":false,"hidden":false,"merged":[]}
[]
[null,"Versie","Datum","Omschrijving aanpassing"]

{"sheet":"Functielijst","index":6,"n_rows":7,"n_cols":1,"rows_kept":7,"cut":false,"hidden":true,"merged":[]}
["Kolom1"]
["Functielijst"]
["premieBerekening_aanroep"]
["premieBerekening_resultaat"]
["Acceptatie_aanroep"]
["Acceptatie_resultaat"]
["kunnenAanleveren"]